{"text_format":"1","workbook":"xlsx","n_sheets":6,"sheets":["Pricelist","Selection","Offer","Group","Zestawienie","Zbaza"],"not_rendered":{"charts":0,"images":2,"macros":1,"external_links":0,"defined_names":7,"comments":0,"pivot_tables":0},"unopened":[],"bounds":{"document_bytes":16777216,"sheet_cells":100000,"rows_first":2000,"rows_last":500,"rows_between":2000,"halvings":0,"cell_chars":16384,"cell_head_chars":4096},"cells_cut":0,"cells_raw":0,"read":"whole","date_system":"1900"}

{"sheet":"Pricelist","index":0,"n_rows":7372,"n_cols":12,"rows_kept":7372,"cut":false,"hidden":false,"merged":[]}
["Nr. katalogowy","                                                                                                                                                                                                                                                                                                                                                                                                                                        Opis","Cena netto","Grupa rabatu","Dostępność","Pakowane po"]
[null,"Cennik wygenerowany 15.02.2022"]
[]
["Symbol","Polish Description","Pricelist PLN","Group","Product date","Unit"]
["00006","ZENERGY ON/PT - DWA WSPORNIKI SZYN DIN OBUDOWY H400 6M - H300MM",34,"1-ZE-03","2018-10-22","SZT"]
["00009","ZENERGY ON/PT - DWA WSPORNIKI SZYN DIN OBUDOWY H550 9M - H450mm",36.299999999999997,"1-ZE-03","2018-10-22","SZT"]
["00012","ZENERGY ON/PT - DWA WSPORNIKI SZYN DIN OBUDOWY H700 12M - H600MM",37.4,"1-ZE-03","2018-10-22","SZT"]
["00015","ZENERGY ON/PT - DWA WSPORNIKI SZYN DIN OBUDOWY H850 15M - H750MM",45.3,"1-ZE-03","2018-10-22","SZT"]
["00018","ZENERGY ON/PT - DWA WSPORNIKI SZYN DIN OBUDOWY H1000 18M - H900MM",53.3,"1-ZE-03","2018-10-22","SZT"]
["00021","ZENERGY ON/PT - DWA WSPORNIKI SZYN DIN OBUDOWY H1150 21M - H1050MM",61.2,"1-ZE-03","2018-10-22","SZT"]
["00024","ZENERGY ON/PT - DWA WSPORNIKI SZYN DIN OBUDOWY H1300 24M - H1200MM",68,"1-ZE-03","2018-10-22","SZT"]
["00027","ZENERGY ON/PT - DWA WSPORNIKI SZYN DIN OBUDOWY H1450 27M - H1350MM",73.599999999999994,"1-ZE-03","2018-10-22","SZT"]
["00030","ZENERGY ON/PT - DWA WSPORNIKI SZYN DIN OBUDOWY H1600 30M - H1500MM",111,"1-ZE-03","2018-10-22","SZT"]
["00100","ZENERGY ON/PT - SZYNA DIN / TS-35D APARATURY MODUŁOWEJ 24MOD, W600",17,"1-ZE-03","2018-10-22","SZT"]
["00101","ZENERGY ON/PT - POKRYWA TYLNA W600, 3M, OCYNK",13.6,"1-ZE-03","2018-10-22","SZT"]
["00103","ZENERGY ON/PT - POKRYWA TYLNA W800, 3M, OCYNK",16.3,"1-ZE-03","2021-12-01","SZT"]
["00106","ZENERGY ON - DWIE POKRYWY PIONOWE H400 6M IP-30",90.6,"1-ZE-03","2018-10-22","SZT"]
["00107","ZENERGY ON - DWA PROFILE TYLNE H400 6M IP-30",44.2,"1-ZE-03","2018-10-22","SZT"]
["00108","ZENERGY ON - POKRYWA PIONOWA ROZSZERZENIA - PRZEPUST H400 6M IP-30",99.7,"1-ZE-03","2018-10-22","SZT"]
["00109","ZENERGY ON - DWIE POKRYWY PIONOWE H550 9M IP-30",92.9,"1-ZE-03","2018-10-22","SZT"]
["00110","ZENERGY ON - DWA PROFILE TYLNE H550 9M IP-30",46.5,"1-ZE-03","2018-10-22","SZT"]
["00111","ZENERGY ON - POKRYWA PIONOWA ROZSZERZENIA - PRZEPUST H550 9M IP-30",104.2,"1-ZE-03","2018-10-22","SZT"]
["00112","ZENERGY ON - DWIE POKRYWY PIONOWE H700 12M IP-30",95.2,"1-ZE-03","2018-10-22","SZT"]
["00113","ZENERGY ON - DWA PROFILE TYLNE H700 12M IP-30",47.6,"1-ZE-03","2018-10-22","SZT"]
["00114","ZENERGY ON - POKRYWA PIONOWA ROZSZERZENIA - PRZEPUST H700 12M IP-30",109.9,"1-ZE-03","2018-10-22","SZT"]
["00115","ZENERGY ON - DWIE POKRYWY PIONOWE H850 15M IP-30",115.6,"1-ZE-03","2018-10-22","SZT"]
["00116","ZENERGY ON - DWA PROFILE TYLNE H850 15M IP-30",57.8,"1-ZE-03","2018-10-22","SZT"]
["00117","ZENERGY ON - POKRYWA PIONOWA ROZSZERZENIA - PRZEPUST H850 15M IP-30",133.4,"1-ZE-03","2018-10-22","SZT"]
["00118","ZENERGY ON - DWIE POKRYWY PIONOWE H1000 18M IP-30",133.69999999999999,"1-ZE-03","2018-10-22","SZT"]
["00119","ZENERGY ON - DWA PROFILE TYLNE H1000 18M IP-30",66.8,"1-ZE-03","2018-10-22","SZT"]
["00120","ZENERGY ON - POKRYWA PIONOWA ROZSZERZENIA - PRZEPUST H1000 18M IP-30",156.80000000000001,"1-ZE-03","2018-10-22","SZT"]
["00121","ZENERGY ON - DWIE POKRYWY PIONOWE H1150 21M IP-30",154.1,"1-ZE-03","2018-10-22","SZT"]
["00122","ZENERGY ON - DWA PROFILE TYLNE H1150 21M IP-30",77,"1-ZE-03","2018-10-22","SZT"]
["00123","ZENERGY ON - POKRYWA PIONOWA ROZSZERZENIA - PRZEPUST H1150 21M IP-30",179.2,"1-ZE-03","2018-10-22","SZT"]
["00124","ZENERGY ON - DWIE POKRYWY PIONOWE H1300 24M IP-30",170,"1-ZE-03","2018-10-22","SZT"]
["00125","ZENERGY ON - DWA PROFILE TYLNE H1300 24M IP-30",85,"1-ZE-03","2018-10-22","SZT"]
["00126","ZENERGY ON - POKRYWA PIONOWA ROZSZERZENIA - PRZEPUST H1300 24M IP-30",197.5,"1-ZE-03","2018-10-22","SZT"]
["00127","ZENERGY ON - DWIE POKRYWY PIONOWE H1450 27M IP-30",183.5,"1-ZE-03","2018-10-22","SZT"]
["00128","ZENERGY ON - DWA PROFILE TYLNE H1450 27M IP-30",91.8,"1-ZE-03","2018-10-22","SZT"]
["00129","ZENERGY ON - POKRYWA PIONOWA ROZSZERZENIA - PRZEPUST H1450 27M IP-30",216.6,"1-ZE-03","2018-10-22","SZT"]
["00130","ZENERGY ON - DWIE POKRYWY PIONOWE H1600 30M IP-30",276.5,"1-ZE-03","2018-10-22","SZT"]
["00131","ZENERGY ON - DWA PROFILE TYLNE H1600 30M IP-30",138.19999999999999,"1-ZE-03","2018-10-22","SZT"]
["00132","ZENERGY ON - POKRYWA PIONOWA ROZSZERZENIA - PRZEPUST H1600 30M IP-30",277.7,"1-ZE-03","2018-10-22","SZT"]
["00160","ZENERGY ON - DWIE POKRYWY POZIOME W600 IP-30",94.8,"1-ZE-03","2018-10-22","SZT"]
["00161","ZENERGY ON - COKÓŁ W600 IP-30",215.9,"1-ZE-03","2018-10-22","SZT"]
["00163","ZENERGY ON - DWIE POKRYWY POZIOME W600 IP-30, GÓRNA Z OTWOREM 81X222 POD PRZEPUST IP-55",94.8,"1-ZE-03","2018-10-22","SZT"]
["00164","ZENERGY ON - DWIE POKRYWY POZIOME W600 IP-30, Z DWOMA OTWORAMI 81X222 POD PRZEPUST IP-55",94.8,"1-ZE-03","2018-10-22","SZT"]
["00165","ZENERGY ON - DWIE POKRYWY POZIOME W600 IP-30, Z OTWOREM 81X222 POD PRZEPUST IP-55",94.8,"1-ZE-03","2018-10-22","SZT"]
["00166","ZENERGY ON - POKRYWA POZIOMA ROZSZERZENIA - PRZEPUST W600 IP-30",88.4,"1-ZE-03","2018-10-22","SZT"]
["00170","ZENERGY ON - DWIE POKRYWY POZIOME W600 D205 IP-30",104.2,"1-ZE-03","2021-12-01","SZT"]
["00171","ZENERGY ON - COKÓŁ W600 D205 IP-30",237.4,"1-ZE-03","2021-12-01","SZT"]
["00173","ZENERGY ON - DWIE POKRYWY POZIOME W600 D205 IP-30, GÓRNA Z OTWOREM 81X222 POD PRZEPUST IP-55",104.2,"1-ZE-03","2021-12-01","SZT"]
["00174","ZENERGY ON - DWIE POKRYWY POZIOME W600 D205 IP-30, GÓRNA Z DWOMA OTWORAMI 81X222 POD PRZEPUST IP-55",104.2,"1-ZE-03","2021-12-01","SZT"]
["00175","ZENERGY ON - DWIE POKRYWY POZIOME W600 D205 IP-30, GÓRNA I DOLNA Z OTWOREM 81X222 POD PRZEPUST IP-55",104.2,"1-ZE-03","2021-12-01","SZT"]
["00176","ZENERGY ON - POKRYWA POZIOMA ROZSZERZENIA - PRZEPUST W600 D205 IP-30",97.2,"1-ZE-03","2021-12-01","SZT"]
["00180","ZENERGY ON - DWIE POKRYWY POZIOME W800 D205 IP-30",113.7,"1-ZE-03","2021-12-01","SZT"]
["00181","ZENERGY ON - COKÓŁ W800 D205 IP-30",259,"1-ZE-03","2021-12-01","SZT"]
["00183","ZENERGY ON - DWIE POKRYWY POZIOME W800 D205 IP-30, GÓRNA Z OTWOREM 81X222 POD PRZEPUST IP-55",113.7,"1-ZE-03","2021-12-01","SZT"]
["00184","ZENERGY ON - DWIE POKRYWY POZIOME W800 D205 IP-30, Z DWOMA OTWORAMI 81X222 POD PRZEPUST IP-55",113.7,"1-ZE-03","2021-12-01","SZT"]
["00185","ZENERGY ON - DWIE POKRYWY POZIOME W800 D205 IP-30, Z OTWOREM 81X222 POD PRZEPUST IP-55",113.7,"1-ZE-03","2021-12-01","SZT"]
["00186","ZENERGY ON - POKRYWA POZIOMA ROZSZERZENIA - PRZEPUST W800 D205 IP-30",106.1,"1-ZE-03","2021-12-01","SZT"]
["00209","ZENERGY OM - DWIE POKRYWY PIONOWE H550 9M IP-30",88.2,"1-ZE-09","2018-10-29","SZT"]
["00212","ZENERGY OM - DWIE POKRYWY PIONOWE H700 12M IP-30",98.2,"1-ZE-09","2018-10-29","SZT"]
["00215","ZENERGY OM - DWIE POKRYWY PIONOWE H850 15M IP-30",118.6,"1-ZE-09","2018-10-29","SZT"]
["00218","ZENERGY OM - DWIE POKRYWY PIONOWE H1000 18M IP-30",138.6,"1-ZE-09","2018-10-29","SZT"]
["00221","ZENERGY OM - DWIE POKRYWY PIONOWE H1150 21M IP-30",158.19999999999999,"1-ZE-09","2018-10-29","SZT"]
["00224","ZENERGY OM - DWIE POKRYWY PIONOWE H1300 24M IP-30",173.6,"1-ZE-09","2018-10-29","SZT"]
["00227","ZENERGY OM - DWIE POKRYWY PIONOWE H1450 27M IP-30",189.7,"1-ZE-09","2018-10-29","SZT"]
["00228","ZENERGY OM - DWIE POKRYWY PIONOWE H1600 28M IP-30",210.4,"1-ZE-09","2018-10-29","SZT"]
["00229","ZENERGY OM - DWIE POKRYWY PIONOWE H1550 29M IP-30",232.3,"1-ZE-09","2018-10-29","SZT"]
["00230","ZENERGY OM - DWIE POKRYWY PIONOWE H1700 30M IP-30",284.10000000000002,"1-ZE-09","2018-10-29","SZT"]
["00233","ZENERGY OM - DWIE POKRYWY PIONOWE H1850 33M IP-30",360,"1-ZE-09","2018-10-29","SZT"]
["00234","ZENERGY OM - DWIE POKRYWY PIONOWE H1850 D300 33M IP-30",417.6,"1-ZE-09","2001-01-01","SZT"]
["00236","ZENERGY OM - DWIE POKRYWY PIONOWE H2000 36M IP-30",403.8,"1-ZE-09","2018-10-29","SZT"]
["00237","ZENERGY OM - DWIE POKRYWY PIONOWE H2000 D300 36M IP-30",468.4,"1-ZE-09","2001-01-01","SZT"]
["00239","ZENERGY OM - DWIE POKRYWY PIONOWE H2150 39M IP-30",492.3,"1-ZE-09","2018-10-29","SZT"]
["00240","ZENERGY OM - DWIE POKRYWY PIONOWE H2150 D300 39M IP-30",571.20000000000005,"1-ZE-09","2001-01-01","SZT"]
["00309","ZENERGY OM - DWIE POKRYWY PIONOWE H550 9M IP-55",110.6,"1-ZE-09","2018-10-29","SZT"]
["00312","ZENERGY OM - DWIE POKRYWY PIONOWE H700 12M IP-55",117.2,"1-ZE-09","2018-10-29","SZT"]
["00315","ZENERGY OM - DWIE POKRYWY PIONOWE H850 15M IP-55",139.69999999999999,"1-ZE-09","2018-10-29","SZT"]
["00318","ZENERGY OM - DWIE POKRYWY PIONOWE H1000 18M IP-55",157.69999999999999,"1-ZE-09","2018-10-29","SZT"]
["00321","ZENERGY OM - DWIE POKRYWY PIONOWE H1150 21M IP-55",180.3,"1-ZE-09","2018-10-29","SZT"]
["00324","ZENERGY OM - DWIE POKRYWY PIONOWE H1300 24M IP-55",198.9,"1-ZE-09","2018-10-29","SZT"]
["00327","ZENERGY OM - DWIE POKRYWY PIONOWE H1450 27M IP-55",218.3,"1-ZE-09","2018-10-29","SZT"]
["00328","ZENERGY OM - DWIE POKRYWY PIONOWE H1600 28M IP-55",241.8,"1-ZE-09","2018-10-29","SZT"]
["00329","ZENERGY OM - DWIE POKRYWY PIONOWE H1550 29M IP-55",262,"1-ZE-09","2018-10-29","SZT"]
["00330","ZENERGY OM - DWIE POKRYWY PIONOWE H1700 30M IP-55",313.7,"1-ZE-09","2018-10-29","SZT"]
["00333","ZENERGY OM - DWIE POKRYWY PIONOWE H1850 33M IP-55",388,"1-ZE-09","2018-10-29","SZT"]
["00334","ZENERGY OM - DWIE POKRYWY PIONOWE H1850 D300 33M IP-55",450.2,"1-ZE-09","2001-01-01","SZT"]
["00336","ZENERGY OM - DWIE POKRYWY PIONOWE H2000 36M IP-55",434.5,"1-ZE-09","2018-10-29","SZT"]
["00337","ZENERGY OM - DWIE POKRYWY PIONOWE H2000 D300 36M IP-55",504,"1-ZE-09","2001-01-01","SZT"]
["00339","ZENERGY OM - DWIE POKRYWY PIONOWE H2150 39M IP-55",522.20000000000005,"1-ZE-09","2018-10-29","SZT"]
["00340","ZENERGY OM - DWIE POKRYWY PIONOWE H2150 D300 39M IP-55",605.79999999999995,"1-ZE-09","2001-01-01","SZT"]
["00409","ZENERGY OM - POKRYWA ROZSZERZENIA - PRZEPUST H550 9M IP-30",107.4,"1-ZE-09","2018-10-22","SZT"]
["00412","ZENERGY OM - POKRYWA ROZSZERZENIA - PRZEPUST H700 12M IP-30",113.4,"1-ZE-09","2018-10-22","SZT"]
["00415","ZENERGY OM - POKRYWA ROZSZERZENIA - PRZEPUST H850 15M IP-30",137.5,"1-ZE-09","2018-10-22","SZT",null,84.5]
["00418","ZENERGY OM - POKRYWA ROZSZERZENIA - PRZEPUST H1000 18M IP-30",161.6,"1-ZE-09","2018-10-22","SZT"]
["00421","ZENERGY OM - POKRYWA ROZSZERZENIA - PRZEPUST H1150 21M IP-30",184.8,"1-ZE-09","2018-10-22","SZT"]
["00424","ZENERGY OM - POKRYWA ROZSZERZENIA - PRZEPUST H1300 24M IP-30",203.5,"1-ZE-09","2018-10-22","SZT"]
["00427","ZENERGY OM - POKRYWA ROZSZERZENIA - PRZEPUST H1450 27M IP-30",223.4,"1-ZE-09","2018-10-22","SZT"]
["00428","ZENERGY OM - POKRYWA ROZSZERZENIA - PRZEPUST H1600 28M IP-30",226.2,"1-ZE-09","2018-10-22","SZT"]
["00429","ZENERGY OM - POKRYWA ROZSZERZENIA - PRZEPUST H1550 29M IP-30",255.9,"1-ZE-09","2018-10-22","SZT"]
["00430","ZENERGY OM - POKRYWA ROZSZERZENIA - PRZEPUST H1700 30M IP-30",286.3,"1-ZE-09","2018-10-22","SZT"]
["00433","ZENERGY OM - POKRYWA ROZSZERZENIA - PRZEPUST H1850 33M IP-30",340.3,"1-ZE-09","2018-10-22","SZT"]
["00434","ZENERGY OM - POKRYWA ROZSZERZENIA - PRZEPUST H1850 D300 33M IP-30",394.8,"1-ZE-09","2001-01-01","SZT"]
["00436","ZENERGY OM - POKRYWA ROZSZERZENIA - PRZEPUST H2000 36M IP-30",386.7,"1-ZE-09","2018-10-22","SZT"]
["00437","ZENERGY OM - POKRYWA ROZSZERZENIA - PRZEPUST H2000 D300 36M IP-30",448.7,"1-ZE-09","2001-01-01","SZT",null,82.8]
["00439","ZENERGY OM - POKRYWA ROZSZERZENIA - PRZEPUST H2150 39M IP-30",499.7,"1-ZE-09","2018-10-22","SZT"]
["00440","ZENERGY OM - POKRYWA ROZSZERZENIA - PRZEPUST H2150 D300 39M IP-30",579.70000000000005,"1-ZE-09","2001-01-01","SZT"]
["00509","ZENERGY OM - POKRYWA ROZSZERZENIA - PRZEPUST H550 9M IP-55",122.4,"1-ZE-09","2018-10-22","SZT"]
["00512","ZENERGY OM - POKRYWA ROZSZERZENIA - PRZEPUST H700 12M IP-55",132.4,"1-ZE-09","2018-10-22","SZT"]
["00515","ZENERGY OM - POKRYWA ROZSZERZENIA - PRZEPUST H850 15M IP-55",158.1,"1-ZE-09","2018-10-22","SZT"]
["00518","ZENERGY OM - POKRYWA ROZSZERZENIA - PRZEPUST H1000 18M IP-55",179.4,"1-ZE-09","2018-10-22","SZT"]
["00521","ZENERGY OM - POKRYWA ROZSZERZENIA - PRZEPUST H1150 21M IP-55",205.4,"1-ZE-09","2018-10-22","SZT"]
["00524","ZENERGY OM - POKRYWA ROZSZERZENIA - PRZEPUST H1300 24M IP-55",227,"1-ZE-09","2018-10-22","SZT"]
["00527","ZENERGY OM - POKRYWA ROZSZERZENIA - PRZEPUST H1450 27M IP-55",249.8,"1-ZE-09","2018-10-22","SZT"]
["00528","ZENERGY OM - POKRYWA ROZSZERZENIA - PRZEPUST H1600 28M IP-55",251.3,"1-ZE-09","2018-10-22","SZT"]
["00529","ZENERGY OM - POKRYWA ROZSZERZENIA - PRZEPUST H1550 29M IP-55",284.2,"1-ZE-09","2018-10-22","SZT"]
["00530","ZENERGY OM - POKRYWA ROZSZERZENIA - PRZEPUST H1700 30M IP-55",318.10000000000002,"1-ZE-09","2018-10-22","SZT"]
["00533","ZENERGY OM - POKRYWA ROZSZERZENIA - PRZEPUST H1850 33M IP-55",378,"1-ZE-09","2018-10-22","SZT"]
["00534","ZENERGY OM - POKRYWA ROZSZERZENIA - PRZEPUST H1850 D300 33M IP-55",438.5,"1-ZE-09","2001-01-01","SZT"]
["00536","ZENERGY OM - POKRYWA ROZSZERZENIA - PRZEPUST H2000 36M IP-55",429.3,"1-ZE-09","2018-10-22","SZT"]
["00537","ZENERGY OM - POKRYWA ROZSZERZENIA - PRZEPUST H2000 D300 36M IP-55",498,"1-ZE-09","2001-01-01","SZT"]
["00539","ZENERGY OM - POKRYWA ROZSZERZENIA - PRZEPUST H2150 39M IP-55",555.20000000000005,"1-ZE-09","2018-10-22","SZT"]
["00540","ZENERGY OM - POKRYWA ROZSZERZENIA - PRZEPUST H2150 D300 39M IP-55",644.1,"1-ZE-09","2001-01-01","SZT"]
["00609","ZENERGY OM - SŁUPEK ŚRODKOWY H550 9M IP-30",23.8,"1-ZE-09","2018-10-22","SZT"]
["00612","ZENERGY OM - SŁUPEK ŚRODKOWY H700 12M IP-30",24.6,"1-ZE-09","2018-10-22","SZT"]
["00615","ZENERGY OM - SŁUPEK ŚRODKOWY H850 15M IP-30",29.7,"1-ZE-09","2018-10-22","SZT"]
["00618","ZENERGY OM - SŁUPEK ŚRODKOWY H1000 18M IP-30",34.6,"1-ZE-09","2018-10-22","SZT"]
["00621","ZENERGY OM - SŁUPEK ŚRODKOWY H1150 21M IP-30",39.6,"1-ZE-09","2018-10-22","SZT"]
["00624","ZENERGY OM - SŁUPEK ŚRODKOWY H1300 24M IP-30",43.4,"1-ZE-09","2018-10-22","SZT"]
["00627","ZENERGY OM - SŁUPEK ŚRODKOWY H1450 27M IP-30",47.4,"1-ZE-09","2018-10-22","SZT"]
["00628","ZENERGY OM - SŁUPEK ŚRODKOWY H1600 28M IP-30",52.7,"1-ZE-09","2018-10-22","SZT"]
["00629","ZENERGY OM - SŁUPEK ŚRODKOWY H1550 29M IP-30",55.5,"1-ZE-09","2018-10-22","SZT"]
["00630","ZENERGY OM - SŁUPEK ŚRODKOWY H1700 30M IP-30",71,"1-ZE-09","2018-10-22","SZT"]
["00633","ZENERGY OM - SŁUPEK ŚRODKOWY H1850 33M IP-30",90.1,"1-ZE-09","2018-10-22","SZT"]
["00636","ZENERGY OM - SŁUPEK ŚRODKOWY H2000 36M IP-30",100.9,"1-ZE-09","2018-10-22","SZT"]
["00639","ZENERGY OM - SŁUPEK ŚRODKOWY H2150 39M IP-30",123.2,"1-ZE-09","2018-10-22","SZT"]
["00709","ZENERGY OM - SŁUPEK ŚRODKOWY H550 9M IP-55",39.299999999999997,"1-ZE-09","2018-10-22","SZT"]
["00712","ZENERGY OM - SŁUPEK ŚRODKOWY H700 12M IP-55",41.8,"1-ZE-09","2018-10-22","SZT"]
["00715","ZENERGY OM - SŁUPEK ŚRODKOWY H850 15M IP-55",49.7,"1-ZE-09","2018-10-22","SZT"]
["00718","ZENERGY OM - SŁUPEK ŚRODKOWY H1000 18M IP-55",56.2,"1-ZE-09","2018-10-22","SZT"]
["00721","ZENERGY OM - SŁUPEK ŚRODKOWY H1150 21M IP-55",64.400000000000006,"1-ZE-09","2018-10-22","SZT"]
["00724","ZENERGY OM - SŁUPEK ŚRODKOWY H1300 24M IP-55",70.900000000000006,"1-ZE-09","2018-10-22","SZT"]
["00727","ZENERGY OM - SŁUPEK ŚRODKOWY H1450 27M IP-55",77.900000000000006,"1-ZE-09","2018-10-22","SZT"]
["00728","ZENERGY OM - SŁUPEK ŚRODKOWY H1600 28M IP-55",86.3,"1-ZE-09","2018-10-22","SZT"]
["00729","ZENERGY OM - SŁUPEK ŚRODKOWY H1550 29M IP-55",90.1,"1-ZE-09","2018-10-22","SZT"]
["00730","ZENERGY OM - SŁUPEK ŚRODKOWY H1700 30M IP-55",112.1,"1-ZE-09","2018-10-22","SZT"]
["00733","ZENERGY OM - SŁUPEK ŚRODKOWY H1850 33M IP-55",138.5,"1-ZE-09","2018-10-22","SZT"]
["00736","ZENERGY OM - SŁUPEK ŚRODKOWY H2000 36M IP-55",155.19999999999999,"1-ZE-09","2018-10-22","SZT"]
["00739","ZENERGY OM - SŁUPEK ŚRODKOWY H2150 39M IP-55",186.3,"1-ZE-09","2018-10-22","SZT"]
["00806","ZENERGY ON - DWIE POKRYWY PIONOWE D205 H400 6M IP-30",103.3,"1-ZE-03","2021-12-01","SZT"]
["00808","ZENERGY ON - POKRYWA PIONOWA ROZSZERZENIA - PRZEPUST D205 H400 6M IP-30",119.7,"1-ZE-03","2021-12-01","SZT"]
["00809","ZENERGY ON - DWIE POKRYWY PIONOWE D205 H550 9M IP-30",108.8,"1-ZE-03","2021-12-01","SZT"]
["00811","ZENERGY ON - POKRYWA PIONOWA ROZSZERZENIA - PRZEPUST D205 H550 9M IP-30",125,"1-ZE-03","2021-12-01","SZT"]
["00812","ZENERGY ON - DWIE POKRYWY PIONOWE D205 H700 12M IP-30",112.9,"1-ZE-03","2021-12-01","SZT"]
["00814","ZENERGY ON - POKRYWA PIONOWA ROZSZERZENIA - PRZEPUST D205 H700 12M IP-30",131.80000000000001,"1-ZE-03","2021-12-01","SZT"]
["00815","ZENERGY ON - DWIE POKRYWY PIONOWE D205 H850 15M IP-30",119.7,"1-ZE-03","2021-12-01","SZT"]
["00817","ZENERGY ON - POKRYWA PIONOWA ROZSZERZENIA - PRZEPUST D205 H850 15M IP-30",160.1,"1-ZE-03","2021-12-01","SZT"]
["00818","ZENERGY ON - DWIE POKRYWY PIONOWE D205 H1000 18M IP-30",122.7,"1-ZE-03","2021-12-01","SZT"]
["00820","ZENERGY ON - POKRYWA PIONOWA ROZSZERZENIA - PRZEPUST D205 H1000 18M IP-30",188.2,"1-ZE-03","2021-12-01","SZT"]
["00821","ZENERGY ON - DWIE POKRYWY PIONOWE D205 H1150 21M IP-30",126.5,"1-ZE-03","2021-12-01","SZT"]
["00823","ZENERGY ON - POKRYWA PIONOWA ROZSZERZENIA - PRZEPUST D205 H1150 21M IP-30",215.1,"1-ZE-03","2021-12-01","SZT"]
["00824","ZENERGY ON - DWIE POKRYWY PIONOWE D205 H1300 24M IP-30",185.2,"1-ZE-03","2021-12-01","SZT"]
["00826","ZENERGY ON - POKRYWA PIONOWA ROZSZERZENIA - PRZEPUST D205 H1300 24M IP-30",237,"1-ZE-03","2021-12-01","SZT"]
["00827","ZENERGY ON - DWIE POKRYWY PIONOWE D205 H1450 27M IP-30",190.3,"1-ZE-03","2021-12-01","SZT"]
["00829","ZENERGY ON - POKRYWA PIONOWA ROZSZERZENIA - PRZEPUST D205 H1450 27M IP-30",260,"1-ZE-03","2021-12-01","SZT"]
["00830","ZENERGY ON - DWIE POKRYWY PIONOWE D205 H1600 30M IP-30",316,"1-ZE-03","2021-12-01","SZT"]
["00832","ZENERGY ON - POKRYWA PIONOWA ROZSZERZENIA - PRZEPUST D205 H1600 30M IP-30",333.2,"1-ZE-03","2021-12-01","SZT"]
["01000","ZENERGY - BATERIA WTYKOWA, PANEL PRAWY, D600, W650 - PODSTAWA",65.8,"1-ZE-10","2019-10-02","SZT"]
["01001","ZENERGY - BATERIA WTYKOWA, PANEL PRAWY, D600,W650, PRZEGRODA DŁUGA PRAWA",17.2,"1-ZE-10","2019-10-02","SZT"]
["01002","ZENERGY - BATERIA WTYKOWA, PANEL PRAWY, D600, MOCOWANIE UCHWYTU ZŁĄCZEK - PUSZKA",63.9,"1-ZE-10","2019-10-02","SZT"]
["01003","ZENERGY - BATERIA WTYKOWA, PANEL PRAWY, D600, PROWADNICA PRAWA WYSOKA",24.5,"1-ZE-10","2019-10-02","SZT"]
["01004","ZENERGY - BATERIA WTYKOWA, PANEL PRAWY, D600, PROWADNICA LEWA NISKA",14.5,"1-ZE-10","2019-10-02","SZT"]
["01005","ZENERGY - BATERIA WTYKOWA, PANEL LEWY, D600,W650 - PODSTAWA",65.8,"1-ZE-10","2019-10-02","SZT"]
["01006","ZENERGY - BATERIA WTYKOWA, PANEL LEWY, D600,W650, PRZEGRODA DŁUGA LEWA",17.2,"1-ZE-10","2019-10-02","SZT"]
["01007","ZENERGY - BATERIA WTYKOWA, PANEL LEWY, D600, MOCOWANIE UCHWYTU ZŁĄCZEK - PUSZKA",63.9,"1-ZE-10","2019-10-02","SZT"]
["01008","ZENERGY - BATERIA WTYKOWA, PANEL LEWY, D600, PROWADNICA LEWA WYSOKA",24.5,"1-ZE-10","2019-10-02","SZT"]
["01009","ZENERGY - BATERIA WTYKOWA, PANEL LEWY, D600, PROWADNICA PRAWA NISKA",14.5,"1-ZE-10","2019-10-02","SZT"]
["01010","ZENERGY - BATERIA WTYKOWA, WSPORNIK DO SZYNY ALU TS-35 (170MM), PRAWY",2.9,"1-ZE-10","2019-10-02","SZT"]
["01011","ZENERGY - BATERIA WTYKOWA,OSŁONA WENTYLATORA",7.2,"1-ZE-10","2019-10-02","SZT"]
["01013","ZENERGY - BATERIA WTYKOWA,WSPORNIK DO SZYNY ALU TS-35 (170MM), LEWY",2.9,"1-ZE-10","2019-10-02","SZT"]
["01014","ZENERGY - BATERIA WTYKOWA, PANEL PRAWY, D600, PŁYTA EFEN 160 + WSPORNIK",9.4,"1-ZE-10","2019-10-02","SZT"]
["01015","ZENERGY - BATERIA WTYKOWA, PANEL PRAWY, D600, OSŁONA CZOŁOWA FUPACT 00, 5M / 500",50.7,"1-ZE-10","2019-10-02","SZT"]
["01019","ZENERGY - BATERIA WTYKOWA, UCHWYT ZŁĄCZEK 25-50A - GRZEBIEŃ MAŁY -  OBUDOWA",2.9,"1-ZE-10","2019-10-02","SZT"]
["01020","ZENERGY - BATERIA WTYKOWA, UCHWYT ZŁĄCZEK 3X82A - GRZEBIEŃ DUŻY - OBUDOWA",3.4,"1-ZE-10","2019-10-02","SZT"]
["01021","ZENERGY - BATERIA WTYKOWA, UCHWYT ZŁĄCZEK 3X82A - GRZEBIEŃ DUŻY - PANEL",3.4,"1-ZE-10","2019-10-02","SZT"]
["01022","ZENERGY - BATERIA WTYKOWA, UCHWYT ZŁĄCZEK 25-50A - GRZEBIEŃ MAŁY - PANEL",2.9,"1-ZE-10","2019-10-02","SZT"]
["01024","ZENERGY - BATERIA WTYKOWA, PANEL LEWY, D600, PŁYTA EFEN 160 + WSPORNIK",9.4,"1-ZE-10","2019-10-02","SZT"]
["01025","ZENERGY - BATERIA WTYKOWA, PANEL LEWY, D600, OSŁONA CZOŁOWA FUPACT 00, 5M / 500",50.7,"1-ZE-10","2019-10-02","SZT"]
["01030","ZENERGY - BATERIA WTYKOWA, PUSZKA MOCOWANIA ZŁĄCZEK - OBUDOWA",12.8,"1-ZE-10","2019-10-02","SZT"]
["01031","ZENERGY - BATERIA WTYKOWA, PANEL PRAWY, D600, OSŁONA CZOŁOWA FH125, 5M / 500",50.7,"1-ZE-10","2019-10-02","SZT"]
["01032","ZENERGY - BATERIA WTYKOWA, PANEL PRAWY, D600, OSŁONA CZOŁOWA FH63, 5M / 500",50.7,"1-ZE-10","2019-10-02","SZT"]
["01033","ZENERGY - BATERIA WTYKOWA, PANEL PRAWY, D600, OSŁONA CZOŁOWA 2XFH63, 5M / 500",50.7,"1-ZE-10","2019-10-02","SZT"]
["01034","ZENERGY - BATERIA WTYKOWA, PANEL PRAWY, D600, OSŁONA CZOŁOWA FH32, 5M / 500",50.7,"1-ZE-10","2019-10-02","SZT"]
["01035","ZENERGY - BATERIA WTYKOWA, PANEL PRAWY, D600, OSŁONA CZOŁOWA 2XFH32, 5M / 500",50.7,"1-ZE-10","2019-10-02","SZT"]
["01041","ZENERGY - BATERIA WTYKOWA, PANEL LEWY, D600, OSŁONA CZOŁOWA FH125, 5M / 500",50.7,"1-ZE-10","2019-10-02","SZT"]
["01042","ZENERGY - BATERIA WTYKOWA, PANEL LEWY, D600, OSŁONA CZOŁOWA FH63, 5M / 500",50.7,"1-ZE-10","2019-10-02","SZT"]
["01043","ZENERGY - BATERIA WTYKOWA, PANEL LEWY, D600, OSŁONA CZOŁOWA 2XFH63, 5M / 500",50.7,"1-ZE-10","2019-10-02","SZT"]
["01044","ZENERGY - BATERIA WTYKOWA, PANEL LEWY, D600, OSŁONA CZOŁOWA FH32, 5M / 500",50.7,"1-ZE-10","2019-10-02","SZT"]
["01045","ZENERGY - BATERIA WTYKOWA, PANEL LEWY, D600, OSŁONA CZOŁOWA 2XFH32, 5M / 500",50.7,"1-ZE-10","2019-10-02","SZT"]
["01051","ZENERGY - BATERIA WTYKOWA, OSŁONA CZOŁOWA STEROWANIA 2XFH32, 4M / 500",46.4,"1-ZE-10","2019-10-02","SZT"]
["01052","ZENERGY - BATERIA WTYKOWA, OSŁONA CZOŁOWA STEROWANIA 2XFH32, 5M / 500",50.7,"1-ZE-10","2019-10-02","SZT"]
["01053","ZENERGY - BATERIA WTYKOWA, OSŁONA CZOŁOWA STEROWANIA 2XFH32, 6M / 500",53.6,"1-ZE-10","2019-10-02","SZT"]
["01054","ZENERGY - BATERIA WTYKOWA, OSŁONA CZOŁOWA REGULATORA, 5M / 500",50.7,"1-ZE-10","2019-10-02","SZT"]
["01055","ZENERGY - BATERIA WTYKOWA, OSŁONA CZOŁOWA PERFOROWANA, W650, 4M / 500",53.3,"1-ZE-10","2019-10-02","SZT"]
["01056","ZENERGY - BATERIA WTYKOWA, OSŁONA CZOŁOWA PERFOROWANA, W650, 5M / 500",57.8,"1-ZE-10","2019-10-02","SZT"]
["01057","ZENERGY - BATERIA WTYKOWA, OSŁONA CZOŁOWA PERFOROWANA, W650, 6M / 500",60.8,"1-ZE-10","2019-10-02","SZT"]
["01059","ZENERGY - BATERIA WTYKOWA, OSŁONA CZOŁOWA STEROWANIA, PEŁNA 2XFH32, 6M / 500",53.6,"1-ZE-10","2019-10-02","SZT"]
["01060","ZENERGY - BATERIA WTYKOWA, UCHWYT GÓRNY KORYTKA",2,"1-ZE-10","2019-10-02","SZT"]
["01061","ZENERGY - BATERIA WTYKOWA, PŁYTA STEROWANIA W650, 4M 2XFH32",62.4,"1-ZE-10","2019-10-02","SZT"]
["01064","ZENERGY - BATERIA WTYKOWA, PŁYTA STEROWANIA W650, 5M 2XFH32",71.3,"1-ZE-10","2019-10-02","SZT"]
["01070","ZENERGY - BATERIA WTYKOWA,WSPORNIK UNIWERSALNY, KORYTKO, PE",5.9,"1-ZE-10","2019-10-02","SZT"]
["01071","ZENERGY - BATERIA WTYKOWA,D600, W650, PRZEGRODA KRÓTKA PRAWA",10.1,"1-ZE-10","2019-10-02","SZT"]
["01072","ZENERGY - BATERIA WTYKOWA,D600, W650, PRZEGRODA KRÓTKA LEWA",10.1,"1-ZE-10","2019-10-02","SZT"]
["01073","ZENERGY - BATERIA WTYKOWA,D600, 2XWSPORNIK POD DŁAWIKI",16.100000000000001,"1-ZE-10","2019-10-02","SZT"]
["01075","ZENERGY - BATERIA WTYKOWA, WSPORNIK KORYTKA DŁUGI",5.8,"1-ZE-10","2019-10-02","SZT"]
["01077","ZENERGY - BATERIA WTYKOWA, IZOLATOR 630A 3P, W650, MOST PIONOWY NA PLECACH WGŁĘBIONY",108.3,"1-ZE-10","2021-12-01","SZT"]
["01078","ZENERGY - BATERIA WTYKOWA, IZOLATOR 630A 3P, W800, MOST PIONOWY NA PLECACH WGŁĘBIONY",112.3,"1-ZE-10","2021-12-01","SZT"]
["01084","ZENERGY - BATERIA WTYKOWA, PANEL PRAWY,  ZAPADKA - BLOKADA NA SPRĘŻYNIE",1.9,"1-ZE-10","2019-10-02","SZT"]
["01085","ZENERGY - BATERIA WTYKOWA PANEL LEWY,  ZAPADKA - BLOKADA NA SPRĘŻYNIE",1.9,"1-ZE-10","2019-10-02","SZT"]
["01087","ZENERGY - BATERIA WTYKOWA, IZOLATOR 630A 4P, W650, MOST PIONOWY NA PLECACH WGŁĘBIONY",140,"1-ZE-10","2021-12-01","SZT"]
["01088","ZENERGY - BATERIA WTYKOWA, IZOLATOR 630A 4P, W800, MOST PIONOWY NA PLECACH WGŁĘBIONY",145.5,"1-ZE-10","2021-12-01","SZT"]
["01090","ZENERGY - METALOWA KRATKA WENTYLACYJNA NA DRZWI FRONT IP54:230x270mm; głebokość:50mm",95.3,"1-ZE-10","2021-12-01","SZT"]
["01091","ZENERGY - METALOWA KRATKA WENTYLACYJNA NA DRZWI FRONT IP54:230x430mm; głębokość:50mm",121.5,"1-ZE-10","2021-12-01","SZT"]
["01094","ZENERGY - BATERIA WTYKOWA, BLOKADA MECHANICZNA PANELI",2.2000000000000002,"1-ZE-10","2019-10-02","SZT"]
["01100","ZENERGY PT - ŁĄCZNIK OBUDÓW PODTYNKOWYCH - 1 SZT.",5.7,"1-ZE-03","2018-10-22","SZT"]
["01102","ZENERGY PT - DWIE POKRYWY POZIOME W600",79.3,"1-ZE-03","2019-01-21","SZT"]
["01103","ZENERGY PT - DWIE POKRYWY POZIOME W600 D180",87.2,"1-ZE-03","2021-12-01","SZT"]
["01106","ZENERGY PT - RAMKA DO DRZWI 6H MOD, H400 X W600",51.2,"1-ZE-03","2019-01-11","SZT"]
["01107","ZENERGY ON - POKRYWA TYLNA W600 H400 6M IP-30",78.2,"1-ZE-03","2001-01-01","SZT"]
["01109","ZENERGY PT - RAMKA DO DRZWI 9H MOD, H550 X W600",57.1,"1-ZE-03","2019-01-11","SZT"]
["01110","ZENERGY ON - POKRYWA TYLNA W600 H550 9M IP-30",92.9,"1-ZE-03","2001-01-01","SZT"]
["01112","ZENERGY PT - RAMKA DO DRZWI 12H MOD, H700 X W600",61,"1-ZE-03","2019-01-11","SZT"]
["01113","ZENERGY ON - POKRYWA TYLNA W600 H700 12M IP-30",107.6,"1-ZE-03","2001-01-01","SZT"]
["01115","ZENERGY PT - RAMKA DO DRZWI 15H MOD, H850 X W600",65.5,"1-ZE-03","2019-01-11","SZT"]
["01116","ZENERGY ON - POKRYWA TYLNA W600 H850 15M IP-30",124.6,"1-ZE-03","2001-01-01","SZT"]
["01118","ZENERGY PT - RAMKA DO DRZWI 18H MOD, H1000 X W600",71.599999999999994,"1-ZE-03","2019-01-11","SZT"]
["01119","ZENERGY ON - POKRYWA TYLNA W600 H1000 18M IP-30",148.4,"1-ZE-03","2001-01-01","SZT"]
["01121","ZENERGY PT - RAMKA DO DRZWI 21H MOD, H1150 X W600",79.599999999999994,"1-ZE-03","2019-01-11","SZT"]
["01122","ZENERGY ON - POKRYWA TYLNA W600 H1150 21M IP-30",172.2,"1-ZE-03","2001-01-01","SZT"]
["01124","ZENERGY PT - RAMKA DO DRZWI 24H MOD, H1300 X W600",87,"1-ZE-03","2019-01-11","SZT"]
["01125","ZENERGY ON - POKRYWA TYLNA W600 H1300 24M IP-30",205.1,"1-ZE-03","2001-01-01","SZT"]
["01127","ZENERGY PT - RAMKA DO DRZWI 27H MOD, H1450 X W600",92.5,"1-ZE-03","2019-01-11","SZT"]
["01128","ZENERGY ON - POKRYWA TYLNA W600 H1450 27M IP-30",225.5,"1-ZE-03","2001-01-01","SZT"]
["01130","ZENERGY PT - RAMKA DO DRZWI 30H MOD, H1600 X W600",119.7,"1-ZE-03","2019-01-11","SZT"]
["01131","ZENERGY ON - POKRYWA TYLNA W600 H1600 30M IP-30",245.9,"1-ZE-03","2001-01-01","SZT"]
["01206","ZENERGY PT - DWIE POKRYWY PIONOWE H400 6M",78.2,"1-ZE-03","2019-01-21","SZT"]
["01207","ZENERGY PT - POKRYWA TYLNA H400 W600, 6M IP30",22.7,"1-ZE-03","2019-01-21","SZT"]
["01209","ZENERGY PT - DWIE POKRYWY PIONOWE H550 9M",80.2,"1-ZE-03","2019-01-21","SZT"]
["01210","ZENERGY PT - POKRYWA TYLNA H550 W600, 9M IP30",34,"1-ZE-03","2019-01-21","SZT"]
["01212","ZENERGY PT - DWIE POKRYWY PIONOWE H700 12M",82.3,"1-ZE-03","2019-01-21","SZT"]
["01213","ZENERGY PT - POKRYWA TYLNA H700 W600, 12M IP30",45.3,"1-ZE-03","2019-01-21","SZT"]
["01215","ZENERGY PT - DWIE POKRYWY PIONOWE H850 15M",99.8,"1-ZE-03","2019-01-21","SZT"]
["01216","ZENERGY PT - POKRYWA TYLNA H850 W600, 15M IP30",56.7,"1-ZE-03","2019-01-21","SZT"]
["01218","ZENERGY PT - DWIE POKRYWY PIONOWE H1000 18M",115.6,"1-ZE-03","2019-01-21","SZT"]
["01219","ZENERGY PT - POKRYWA TYLNA H1000 W600, 18M IP30",68,"1-ZE-03","2019-01-21","SZT"]
["01221","ZENERGY PT - DWIE POKRYWY PIONOWE H1150 21M",133.19999999999999,"1-ZE-03","2019-01-21","SZT"]
["01222","ZENERGY PT - POKRYWA TYLNA H1150 W600, 21M IP30",79.3,"1-ZE-03","2019-01-21","SZT"]
["01224","ZENERGY PT - DWIE POKRYWY PIONOWE H1300 24M",146.9,"1-ZE-03","2019-01-21","SZT"]
["01225","ZENERGY PT - POKRYWA TYLNA H1300 W600, 24M IP30",90.6,"1-ZE-03","2019-01-21","SZT"]
["01227","ZENERGY PT - DWIE POKRYWY PIONOWE H1450 27M",158.6,"1-ZE-03","2019-01-21","SZT"]
["01228","ZENERGY PT - POKRYWA TYLNA H1450 W600, 27M IP30",102,"1-ZE-03","2019-01-21","SZT"]
["01230","ZENERGY PT - DWIE POKRYWY PIONOWE H1600 30M",238.9,"1-ZE-03","2019-01-21","SZT"]
["01231","ZENERGY PT - POKRYWA TYLNA H1600 W600, 30M IP30",113.3,"1-ZE-03","2019-01-21","SZT"]
["01306","ZENERGY ON/PT - DRZWI PEŁNE IP40, 6 MOD, H400 X W600",92.5,"1-ZE-03","2019-01-18","SZT"]
["01306","ZENERGY ON/PT - DRZWI PEŁNE IP40, 6 MOD, H400 X W600",92.5,"1-ZE-09","2019-01-18","SZT"]
["01307","ZENERGY ON/PT - DRZWI TRANSPARENTNE IP40, 6H MOD, H400 X W600",153,"1-ZE-03","2019-01-17","SZT"]
["01309","ZENERGY ON/PT - DRZWI PEŁNE IP40, 9 MOD, H550 X W600",102.8,"1-ZE-03","2019-01-18","SZT"]
["01310","ZENERGY ON/PT - DRZWI TRANSPARENTNE IP40, 9H MOD, H550 X W600",170,"1-ZE-03","2019-01-17","SZT"]
["01312","ZENERGY ON/PT - DRZWI PEŁNE IP40, 12 MOD, H700 X W600",109.9,"1-ZE-03","2019-01-18","SZT"]
["01313","ZENERGY ON/PT - DRZWI TRANSPARENTNE IP40, 12H MOD, H700 X W600",181.3,"1-ZE-03","2019-01-17","SZT"]
["01315","ZENERGY ON/PT - DRZWI PEŁNE IP40, 15 MOD, H850 X W600",136,"1-ZE-03","2019-01-18","SZT"]
["01316","ZENERGY ON/PT - DRZWI TRANSPARENTNE IP40, 15H MOD, H850 X W600",217.5,"1-ZE-03","2019-01-17","SZT"]
["01318","ZENERGY ON/PT - DRZWI PEŁNE IP40, 18 MOD, H1000 X W600",170,"1-ZE-03","2019-01-18","SZT"]
["01319","ZENERGY ON/PT - DRZWI TRANSPARENTNE IP40, 18H MOD, H1000 X W600",257.2,"1-ZE-03","2019-01-17","SZT"]
["01321","ZENERGY ON/PT - DRZWI PEŁNE IP40, 21 MOD, H1150 X W600",203.9,"1-ZE-03","2019-01-18","SZT"]
["01322","ZENERGY ON/PT - DRZWI TRANSPARENTNE IP40, 21H MOD, H1150 X W600",299.10000000000002,"1-ZE-03","2019-01-17","SZT"]
["01324","ZENERGY ON/PT - DRZWI PEŁNE IP40, 24 MOD, H1300 X W600",237.9,"1-ZE-03","2019-01-18","SZT"]
["01325","ZENERGY ON/PT - DRZWI TRANSPARENTNE IP40, 24H MOD, H1300 X W600",329.7,"1-ZE-03","2019-01-17","SZT"]
["01327","ZENERGY ON/PT - DRZWI PEŁNE IP40, 27 MOD, H1450 X W600",271.89999999999998,"1-ZE-03","2019-01-18","SZT"]
["01328","ZENERGY ON/PT - DRZWI TRANSPARENTNE IP40, 27H MOD, H1450 X W600",359.2,"1-ZE-03","2019-01-17","SZT"]
["01330","ZENERGY ON/PT - DRZWI PEŁNE IP40, 30 MOD, H1600 X W600",305.89999999999998,"1-ZE-03","2019-01-18","SZT"]
["01331","ZENERGY ON/PT - DRZWI TRANSPARENTNE IP40, 30H MOD, H1600 X W600",466.8,"1-ZE-03","2019-01-17","SZT"]
["01402","ZENERGY PT - DWIE POKRYWY POZIOME W800",90.6,"1-ZE-03","2021-12-01","SZT"]
["01403","ZENERGY PT - DWIE POKRYWY POZIOME W800 D180",95.2,"1-ZE-03","2021-12-01","SZT"]
["01406","ZENERGY PT - RAMKA DO DRZWI 6H MOD, H400 X W800",61.5,"1-ZE-03","2021-12-01","SZT"]
["01407","ZENERGY ON - POKRYWA TYLNA W800 H400 6M IP-30",93.8,"1-ZE-03","2021-12-01","SZT"]
["01409","ZENERGY PT - RAMKA DO DRZWI 9H MOD, H550 X W800",68.5,"1-ZE-03","2021-12-01","SZT"]
["01410","ZENERGY ON - POKRYWA TYLNA W800 H550 9M IP-30",111.4,"1-ZE-03","2021-12-01","SZT"]
["01412","ZENERGY PT - RAMKA DO DRZWI 12H MOD, H700 X W800",73.099999999999994,"1-ZE-03","2021-12-01","SZT"]
["01413","ZENERGY ON - POKRYWA TYLNA W800 H700 12M IP-30",129.19999999999999,"1-ZE-03","2021-12-01","SZT"]
["01415","ZENERGY PT - RAMKA DO DRZWI 15H MOD, H850 X W800",78.599999999999994,"1-ZE-03","2021-12-01","SZT"]
["01416","ZENERGY ON - POKRYWA TYLNA W800 H850 15M IP-30",149.6,"1-ZE-03","2021-12-01","SZT"]
["01418","ZENERGY PT - RAMKA DO DRZWI 18H MOD, H1000 X W800",85.9,"1-ZE-03","2021-12-01","SZT"]
["01419","ZENERGY ON - POKRYWA TYLNA W800 H1000 18M IP-30",178.1,"1-ZE-03","2021-12-01","SZT"]
["01421","ZENERGY PT - RAMKA DO DRZWI 21H MOD, H1150 X W800",95.6,"1-ZE-03","2021-12-01","SZT"]
["01422","ZENERGY ON - POKRYWA TYLNA W800 H1150 21M IP-30",206.6,"1-ZE-03","2021-12-01","SZT"]
["01424","ZENERGY PT - RAMKA DO DRZWI 24H MOD, H1300 X W800",104.4,"1-ZE-03","2021-12-01","SZT"]
["01425","ZENERGY ON - POKRYWA TYLNA W800 H1300 24M IP-30",246.1,"1-ZE-03","2021-12-01","SZT"]
["01427","ZENERGY PT - RAMKA DO DRZWI 27H MOD, H1450 X W800",110.9,"1-ZE-03","2021-12-01","SZT"]
["01428","ZENERGY ON - POKRYWA TYLNA W800 H1450 27M IP-30",270.60000000000002,"1-ZE-03","2021-12-01","SZT"]
["01430","ZENERGY PT - RAMKA DO DRZWI 30H MOD, H1600 X W800",179.4,"1-ZE-03","2021-12-01","SZT"]
["01431","ZENERGY ON - POKRYWA TYLNA W800 H1600 30M IP-30",295,"1-ZE-03","2021-12-01","SZT"]
["01506","ZENERGY PT - DWIE POKRYWY PIONOWE D180 H400 6M",93.8,"1-ZE-03","2021-12-01","SZT"]
["01507","ZENERGY PT - POKRYWA TYLNA H400 W800, 6M IP30",27.2,"1-ZE-03","2021-12-01","SZT"]
["01509","ZENERGY PT - DWIE POKRYWY PIONOWE D180 H550 9M",96.3,"1-ZE-03","2021-12-01","SZT"]
["01510","ZENERGY PT - POKRYWA TYLNA H550 W800, 9M IP30",40.799999999999997,"1-ZE-03","2021-12-01","SZT"]
["01512","ZENERGY PT - DWIE POKRYWY PIONOWE D180 H700 12M",98.7,"1-ZE-03","2021-12-01","SZT"]
["01513","ZENERGY PT - POKRYWA TYLNA H700 W800, 12M IP30",54.4,"1-ZE-03","2021-12-01","SZT"]
["01515","ZENERGY PT - DWIE POKRYWY PIONOWE D180 H850 15M",119.8,"1-ZE-03","2021-12-01","SZT"]
["01516","ZENERGY PT - POKRYWA TYLNA H850 W800, 15M IP30",68,"1-ZE-03","2021-12-01","SZT"]
["01518","ZENERGY PT - DWIE POKRYWY PIONOWE D180 H1000 18M",138.6,"1-ZE-03","2021-12-01","SZT"]
["01519","ZENERGY PT - POKRYWA TYLNA H1000 W800, 18M IP30",81.599999999999994,"1-ZE-03","2021-12-01","SZT"]
["01521","ZENERGY PT - DWIE POKRYWY PIONOWE D180 H1150 21M",159.80000000000001,"1-ZE-03","2021-12-01","SZT"]
["01522","ZENERGY PT - POKRYWA TYLNA H1150 W800, 21M IP30",95.2,"1-ZE-03","2021-12-01","SZT"]
["01524","ZENERGY PT - DWIE POKRYWY PIONOWE D180 H1300 24M",176.2,"1-ZE-03","2021-12-01","SZT"]
["01525","ZENERGY PT - POKRYWA TYLNA H1300 W800, 24M IP30",108.8,"1-ZE-03","2021-12-01","SZT"]
["01527","ZENERGY PT - DWIE POKRYWY PIONOWE D180 H1450 27M",190.3,"1-ZE-03","2021-12-01","SZT"]
["01528","ZENERGY PT - POKRYWA TYLNA H1450 W800, 27M IP30",122.4,"1-ZE-03","2021-12-01","SZT",null,85.3]
["01530","ZENERGY PT - DWIE POKRYWY PIONOWE D180 H1600 30M",238.9,"1-ZE-03","2021-12-01","SZT"]
["01531","ZENERGY PT - POKRYWA TYLNA H1600 W800, 30M IP30",136,"1-ZE-03","2021-12-01","SZT"]
["01606","ZENERGY ON/PT - DRZWI PEŁNE IP40, 6 MOD, H400 X W800",110.9,"1-ZE-03","2021-12-01","SZT",null,85.3]
["01607","ZENERGY ON/PT - DRZWI TRANSPARENTNE IP40, 6H MOD, H400 X W800",183.5,"1-ZE-03","2021-12-01","SZT"]
["01609","ZENERGY ON/PT - DRZWI PEŁNE IP40, 9 MOD, H550 X W800",123.3,"1-ZE-03","2021-12-01","SZT"]
["01610","ZENERGY ON/PT - DRZWI TRANSPARENTNE IP40, 9H MOD, H550 X W800",203.9,"1-ZE-03","2021-12-01","SZT",null,85.3]
["01612","ZENERGY ON/PT - DRZWI PEŁNE IP40, 12 MOD, H700 X W800",131.80000000000001,"1-ZE-03","2021-12-01","SZT"]
["01613","ZENERGY ON/PT - DRZWI TRANSPARENTNE IP40, 12H MOD, H700 X W800",217.5,"1-ZE-03","2021-12-01","SZT"]
["01615","ZENERGY ON/PT - DRZWI PEŁNE IP40, 15 MOD, H850 X W800",163.19999999999999,"1-ZE-03","2021-12-01","SZT",null,90.5]
["01616","ZENERGY ON/PT - DRZWI TRANSPARENTNE IP40, 15H MOD, H850 X W800",261,"1-ZE-03","2021-12-01","SZT"]
["01618","ZENERGY ON/PT - DRZWI PEŁNE IP40, 18 MOD, H1000 X W800",203.9,"1-ZE-03","2021-12-01","SZT"]
["01619","ZENERGY ON/PT - DRZWI TRANSPARENTNE IP40, 18H MOD, H1000 X W800",308.60000000000002,"1-ZE-03","2021-12-01","SZT"]
["01621","ZENERGY ON/PT - DRZWI PEŁNE IP40, 21 MOD, H1150 X W800",244.7,"1-ZE-03","2021-12-01","SZT"]
["01622","ZENERGY ON/PT - DRZWI TRANSPARENTNE IP40, 21H MOD, H1150 X W800",359,"1-ZE-03","2021-12-01","SZT"]
["01624","ZENERGY ON/PT - DRZWI PEŁNE IP40, 24 MOD, H1300 X W800",285.5,"1-ZE-03","2021-12-01","SZT"]
["01625","ZENERGY ON/PT - DRZWI TRANSPARENTNE IP40, 24H MOD, H1300 X W800",395.6,"1-ZE-03","2021-12-01","SZT"]
["01627","ZENERGY ON/PT - DRZWI PEŁNE IP40, 27 MOD, H1450 X W800",326.3,"1-ZE-03","2021-12-01","SZT"]
["01628","ZENERGY ON/PT - DRZWI TRANSPARENTNE IP40, 27H MOD, H1450 X W800",431,"1-ZE-03","2021-12-01","SZT"]
["01630","ZENERGY ON/PT - DRZWI PEŁNE IP40, 30 MOD, H1600 X W800",367.1,"1-ZE-03","2021-12-01","SZT"]
["01631","ZENERGY ON/PT - DRZWI TRANSPARENTNE IP40, 30H MOD, H1600 X W800",560.1,"1-ZE-03","2021-12-01","SZT"]
["02036","ZENERGY - BATERIA WTYKOWA, PANEL PRAWY, D600, W800, PODSTAWA",82.9,"1-ZE-10","2019-10-02","SZT"]
["02046","ZENERGY - BATERIA WTYKOWA, PANEL LEWY, D600, W800, PODSTAWA",82.9,"1-ZE-10","2019-10-02","SZT"]
["02200","ZENERGY OM - DWIE POKRYWY POZIOME W1200 IP-30",185.8,"1-ZE-09","2018-10-29","SZT"]
["02201","ZENERGY OM - COKÓŁ W1200 IP-30",320,"1-ZE-09","2018-10-22","SZT"]
["02203","ZENERGY OM - DWIE POKRYWY POZIOME W1200 IP-30 Z OTWOREM 81X222 POD PRZEPUST IP-55",185.8,"1-ZE-09","2018-10-29","SZT"]
["02204","ZENERGY OM - DWIE POKRYWY POZIOME W1200 IP-30 Z DWOMA OTWORAMI 81X222 POD PRZEPUST IP-55",185.8,"1-ZE-09","2018-10-29","SZT"]
["02205","ZENERGY OM - DWIE POKRYWY POZIOME W1200 IP-30 Z TRZEMA OTWORAMI 81X222 POD PRZEPUST IP-55",185.8,"1-ZE-09","2018-10-29","SZT"]
["02206","ZENERGY OM - DWIE POKRYWY POZIOME W1200 IP-30 Z CZTEREMA OTWORAMI 81X222 POD PRZEPUST IP-55",185.8,"1-ZE-09","2018-10-29","SZT"]
["02207","ZENERGY OM - DWIE POKRYWY POZIOME COKOŁU W1200 D230 IP-30",185.8,"1-ZE-09","2021-12-01","SZT"]
["02209","ZENERGY OM - POKRYWA TYLNA W1200 H550 9M IP-30",235.5,"1-ZE-09","2018-10-22","SZT"]
["02212","ZENERGY OM - POKRYWA TYLNA W1200 H700 12M IP-30",237.3,"1-ZE-09","2018-10-22","SZT"]
["02215","ZENERGY OM - POKRYWA TYLNA W1200 H850 15M IP-30",266.89999999999998,"1-ZE-09","2018-10-22","SZT"]
["02218","ZENERGY OM - POKRYWA TYLNA W1200 H1000 18M IP-30",297.7,"1-ZE-09","2018-10-22","SZT"]
["02221","ZENERGY OM - POKRYWA TYLNA W1200 H1150 21M IP-30",313,"1-ZE-09","2018-10-22","SZT"]
["02224","ZENERGY OM - POKRYWA TYLNA W1200 H1300 24M IP-30",329.9,"1-ZE-09","2018-10-22","SZT"]
["02227","ZENERGY OM - POKRYWA TYLNA W1200 H1450 27M IP-30",343.7,"1-ZE-09","2018-10-22","SZT"]
["02228","ZENERGY OM - POKRYWA TYLNA W1200 H1600 28M IP-30",561.9,"1-ZE-09","2018-10-22","SZT"]
["02229","ZENERGY OM - POKRYWA TYLNA W1200 H1550 29M IP-30",383,"1-ZE-09","2018-10-22","SZT"]
["02230","ZENERGY OM - POKRYWA TYLNA W1200 H1700 30M IP-30",592,"1-ZE-09","2018-10-22","SZT"]
["02233","ZENERGY OM - POKRYWA TYLNA W1200 H1850 33M IP-30",763.6,"1-ZE-09","2018-10-22","SZT"]
["02236","ZENERGY OM - POKRYWA TYLNA W1200 H2000 36M IP-30",826.5,"1-ZE-09","2018-10-22","SZT"]
["02239","ZENERGY OM - POKRYWA TYLNA W1200 H2150 39M IP-30",912.5,"1-ZE-09","2018-10-22","SZT"]
["02240","ZENERGY OM - DWIE POKRYWY POZIOME W1200 D300 IP-30",215.6,"1-ZE-09","2001-01-01","SZT"]
["02241","ZENERGY OM - COKÓŁ W1200 D300 IP-30",371.3,"1-ZE-09","2001-01-01","SZT"]
["02243","ZENERGY OM - DWIE POKRYWY POZIOME W1200 D300 IP-30 Z OTWOREM 81X222 POD PRZEPUST IP-55",215.6,"1-ZE-09","2001-01-01","SZT"]
["02244","ZENERGY OM - DWIE POKRYWY POZIOME W1200 D300 IP-30 Z DWOMA OTWORAMI 81X222 POD PRZEPUST IP-55",215.6,"1-ZE-09","2001-01-01","SZT"]
["02245","ZENERGY OM - DWIE POKRYWY POZIOME W1200 D300 IP-30 Z TRZEMA OTWORAMI 81X222 POD PRZEPUST IP-55",215.6,"1-ZE-09","2001-01-01","SZT"]
["02246","ZENERGY OM - DWIE POKRYWY POZIOME W1200 D300 IP-30 Z CZTEREMA OTWORAMI 81X222 POD PRZEPUST IP-55",215.6,"1-ZE-09","2001-01-01","SZT"]
["02247","ZENERGY OM - DWIE POKRYWY POZIOME COKOŁU W1200 D300 IP-30",215.6,"1-ZE-09","2021-12-01","SZT"]
["02300","ZENERGY OM - DWIE POKRYWY POZIOME W1200 IP-55",224,"1-ZE-09","2018-10-29","SZT"]
["02301","ZENERGY OM - COKÓŁ W1200 IP-55",325.7,"1-ZE-09","2018-10-22","SZT"]
["02303","ZENERGY OM - DWIE POKRYWY POZIOME W1200 IP-55 Z OTWOREM 81X222 POD PRZEPUST IP-55",224,"1-ZE-09","2018-10-29","SZT"]
["02304","ZENERGY OM - DWIE POKRYWY POZIOME W1200 IP-55 Z DWOMA OTWORAMI 81X222 POD PRZEPUST IP-55",224,"1-ZE-09","2018-10-29","SZT"]
["02305","ZENERGY OM - DWIE POKRYWY POZIOME W1200 IP-55 Z TRZEMA OTWORAMI 81X222 POD PRZEPUST IP-55",224,"1-ZE-09","2018-10-29","SZT"]
["02307","ZENERGY OM - DWIE POKRYWY POZIOME COKOŁU W1200 D230 IP-55",224,"1-ZE-09","2021-12-01","SZT"]
["02309","ZENERGY OM - POKRYWA TYLNA W1200 H550 9M IP-55",396,"1-ZE-09","2018-10-22","SZT"]
["02312","ZENERGY OM - POKRYWA TYLNA W1200 H700 12M IP-55",404.2,"1-ZE-09","2018-10-22","SZT"]
["02315","ZENERGY OM - POKRYWA TYLNA W1200 H850 15M IP-55",445.6,"1-ZE-09","2018-10-22","SZT"]
["02318","ZENERGY OM - POKRYWA TYLNA W1200 H1000 18M IP-55",469.2,"1-ZE-09","2018-10-22","SZT"]
["02321","ZENERGY OM - POKRYWA TYLNA W1200 H1150 21M IP-55",506.8,"1-ZE-09","2018-10-22","SZT"]
["02324","ZENERGY OM - POKRYWA TYLNA W1200 H1300 24M IP-55",540,"1-ZE-09","2018-10-22","SZT"]
["02327","ZENERGY OM - POKRYWA TYLNA W1200 H1450 27M IP-55",570.4,"1-ZE-09","2018-10-22","SZT"]
["02328","ZENERGY OM - POKRYWA TYLNA W1200 H1600 28M IP-55",779.3,"1-ZE-09","2018-10-22","SZT"]
["02329","ZENERGY OM - POKRYWA TYLNA W1200 H1550 29M IP-55",627.5,"1-ZE-09","2018-10-22","SZT"]
["02330","ZENERGY OM - POKRYWA TYLNA W1200 H1700 30M IP-55",786.5,"1-ZE-09","2018-10-22","SZT"]
["02333","ZENERGY OM - POKRYWA TYLNA W1200 H1850 33M IP-55",940.9,"1-ZE-09","2018-10-22","SZT"]
["02336","ZENERGY OM - POKRYWA TYLNA W1200 H2000 36M IP-55",1001.2,"1-ZE-09","2018-10-22","SZT"]
["02339","ZENERGY OM - POKRYWA TYLNA W1200 H2150 39M IP-55",1067.5,"1-ZE-09","2018-10-22","SZT"]
["02340","ZENERGY OM - DWIE POKRYWY POZIOME W1200 D300 IP-55",260,"1-ZE-09","2001-01-01","SZT"]
["02341","ZENERGY OM - COKÓŁ W1200 D300 IP-55",377.9,"1-ZE-09","2001-01-01","SZT"]
["02343","ZENERGY OM - DWIE POKRYWY POZIOME W1200 D300 IP-55 Z OTWOREM 81X222 POD PRZEPUST IP-55",260,"1-ZE-09","2001-01-01","SZT"]
["02344","ZENERGY OM - DWIE POKRYWY POZIOME W1200 D300 IP-55 Z DWOMA OTWORAMI 81X222 POD PRZEPUST IP-55",260,"1-ZE-09","2001-01-01","SZT"]
["02345","ZENERGY OM - DWIE POKRYWY POZIOME W1200 D300 IP-55 Z TRZEMA OTWORAMI 81X222 POD PRZEPUST IP-55",260,"1-ZE-09","2001-01-01","SZT"]
["02347","ZENERGY OM - DWIE POKRYWY POZIOME COKOŁU W1200 D300 IP-55",260,"1-ZE-09","2021-12-01","SZT"]
["03030","ZENERGY - POPRZECZKA RAMY W300",49,"1-ZE-10","2019-10-02","SZT"]
["03040","ZENERGY - POPRZECZKA RAMY W400",57.5,"1-ZE-10","2019-10-02","SZT"]
["03045","ZENERGY - POPRZECZKA RAMY W450",62,"1-ZE-10","2019-10-02","SZT"]
["03050","ZENERGY - POPRZECZKA RAMY W500",74.8,"1-ZE-10","2019-10-02","SZT"]
["03051","ZENERGY - POPRZECZKI RAMY W500, DLA POLA NAROŻNEGO D400 - KPL. (4SZT.)",298.39999999999998,"1-ZE-10","2019-10-02","SZT"]
["03056L","ZENERGY - POPRZECZKA RAMY W550 150+400",65.599999999999994,"1-ZE-10","2019-10-02","SZT"]
["03056R","ZENERGY - POPRZECZKA RAMY W550 400+150",65.599999999999994,"1-ZE-10","2019-10-02","SZT"]
["03060","ZENERGY - POPRZECZKA RAMY W600",75.099999999999994,"1-ZE-10","2019-10-02","SZT"]
["03061L","ZENERGY - POPRZECZKA RAMY W600 150+450",68.900000000000006,"1-ZE-10","2019-10-02","SZT"]
["03061R","ZENERGY - POPRZECZKA RAMY W600 450+150",68.900000000000006,"1-ZE-10","2019-10-02","SZT"]
["03065","ZENERGY - POPRZECZKA RAMY W650",79.099999999999994,"1-ZE-10","2019-10-02","SZT"]
["03066L","ZENERGY - POPRZECZKA RAMY W650 150+500",71.3,"1-ZE-10","2019-10-02","SZT"]
["03066R","ZENERGY - POPRZECZKA RAMY W650 500+150",71.3,"1-ZE-10","2019-10-02","SZT",null,159,124,{"$f":"H407+I407","v":283},0.75,{"$f":"J407*(1*K407)","v":212.25}]
["03067L","ZENERGY - POPRZECZKA RAMY W650 200+450",71.3,"1-ZE-10","2019-10-02","SZT"]
["03067R","ZENERGY - POPRZECZKA RAMY W650 450+200",71.3,"1-ZE-10","2019-10-02","SZT"]
["03070","ZENERGY - POPRZECZKA RAMY W700",336.8,"1-ZE-10","2019-10-02","SZT"]
["03071","ZENERGY - POPRZECZKI RAMY W700, DLA POLA NAROŻNEGO D600 - KPL. (4SZT.)",311.89999999999998,"1-ZE-10","2021-12-01","SZT"]
["03080","ZENERGY - POPRZECZKA RAMY W800",91.8,"1-ZE-10","2019-10-02","SZT"]
["03081L","ZENERGY - POPRZECZKA RAMY W800 150+650",82.8,"1-ZE-10","2019-10-02","SZT"]
["03081R","ZENERGY - POPRZECZKA RAMY W800 650+150",82.8,"1-ZE-10","2019-10-02","SZT"]
["03083","ZENERGY - POPRZECZKA RAMY W800 400+400",91.8,"1-ZE-10","2019-10-02","SZT"]
["03085","ZENERGY - POPRZECZKA RAMY W850",96,"1-ZE-10","2019-10-02","SZT"]
["03086L","ZENERGY - POPRZECZKA RAMY W850 200+650",83.7,"1-ZE-10","2019-10-02","SZT"]
["03086R","ZENERGY - POPRZECZKA RAMY W850 650+200",83.7,"1-ZE-10","2019-10-02","SZT"]
["03087L","ZENERGY - POPRZECZKA RAMY W850, 400+450",94.7,"1-ZE-10","2019-10-02","SZT"]
["03087R","ZENERGY - POPRZECZKA RAMY W850, 450+400",94.7,"1-ZE-10","2019-10-02","SZT"]
["03090","ZENERGY - POPRZECZKA RAMY W900",104.8,"1-ZE-10","2019-10-02","SZT"]
["03091","ZENERGY - POPRZECZKI RAMY W900, DLA POLA NAROŻNEGO D800 - KPL. (4SZT.)",419.4,"1-ZE-10","2021-12-01","SZT"]
["03095L","ZENERGY - POPRZECZKA RAMY W950 300+650",102.7,"1-ZE-10","2019-10-02","SZT"]
["03095R","ZENERGY - POPRZECZKA RAMY W950 650+300",102.7,"1-ZE-10","2019-10-02","SZT"]
["03096L","ZENERGY - POPRZECZKA RAMY W950 150+400+400",102.7,"1-ZE-10","2019-10-02","SZT"]
["03096R","ZENERGY - POPRZECZKA RAMY W950 400+400+150",102.7,"1-ZE-10","2019-10-02","SZT"]
["03097L","ZENERGY - POPRZECZKA RAMY W950 150+800",97,"1-ZE-10","2021-12-01","SZT"]
["03097R","ZENERGY - POPRZECZKA RAMY W950 800+150",97,"1-ZE-10","2021-12-01","SZT"]
["03100L","ZENERGY - POPRZECZKA RAMY W1000, PODWÓJNE DRZWI, DOLNA",108.9,"1-ZE-10","2019-10-02","SZT"]
["03100R","ZENERGY - POPRZECZKA RAMY W1000, PODWÓJNE DRZWI, GÓRNA",108.9,"1-ZE-10","2019-10-02","SZT"]
["03101","ZENERGY - POPRZECZKA RAMY W1000",109.6,"1-ZE-10","2019-10-02","SZT"]
["03102L","ZENERGY - POPRZECZKA RAMY W1000 150+850",99.6,"1-ZE-10","2019-10-02","SZT"]
["03102R","ZENERGY - POPRZECZKA RAMY W1000 850+150",99.6,"1-ZE-10","2019-10-02","SZT"]
["03105L","ZENERGY - POPRZECZKA RAMY W1050 400+650",110.6,"1-ZE-10","2019-10-02","SZT"]
["03105R","ZENERGY - POPRZECZKA RAMY W1050 650+400",110.6,"1-ZE-10","2019-10-02","SZT"]
["03106","ZENERGY - POPRZECZKA RAMY W1050 200+650+200",88.7,"1-ZE-10","2019-10-02","SZT"]
["03107L","ZENERGY - POPRZECZKA RAMY W1050 200+850",101.7,"1-ZE-10","2019-10-02","SZT"]
["03107R","ZENERGY - POPRZECZKA RAMY W1050 850+200",101.7,"1-ZE-10","2019-10-02","SZT"]
["03110L","ZENERGY - POPRZECZKA RAMY W1100 300+650+150",106.8,"1-ZE-10","2019-10-02","SZT"]
["03110R","ZENERGY - POPRZECZKA RAMY W1100 150+650+300",106.8,"1-ZE-10","2019-10-02","SZT"]
["03111L","ZENERGY - POPRZECZKA RAMY W1100 450+650",114.6,"1-ZE-10","2019-10-02","SZT"]
["03111R","ZENERGY - POPRZECZKA RAMY W1100 650+450",114.6,"1-ZE-10","2019-10-02","SZT"]
["03114L","ZENERGY - POPRZECZKA RAMY W1100 450+(200+450)",103.7,"1-ZE-10","2019-10-02","SZT"]
["03114R","ZENERGY - POPRZECZKA RAMY W1100 (450+200)+450",103.7,"1-ZE-10","2019-10-02","SZT"]
["03115L","ZENERGY - POPRZECZKA RAMY W1150 300+850",118.7,"1-ZE-10","2019-10-02","SZT"]
["03115R","ZENERGY - POPRZECZKA RAMY W1150 850+300",118.7,"1-ZE-10","2019-10-02","SZT"]
["03117L","ZENERGY - POPRZECZKA RAMY W1150 300+650+200",111,"1-ZE-10","2019-10-02","SZT"]
["03117R","ZENERGY - POPRZECZKA RAMY W1150 200+650+300",111,"1-ZE-10","2019-10-02","SZT"]
["03120L","ZENERGY - POPRZECZKA RAMY W1200, PODWÓJNE DRZWI, DOLNA",126,"1-ZE-10","2019-10-02","SZT"]
["03120R","ZENERGY - POPRZECZKA RAMY W1200, PODWÓJNE DRZWI, GÓRNA",126,"1-ZE-10","2019-10-02","SZT"]
["03121","ZENERGY - POPRZECZKA RAMY W1200",125.1,"1-ZE-10","2019-10-02","SZT"]
["03121L","ZENERGY - POPRZECZKA RAMY W1200 400+650+150",114.8,"1-ZE-10","2019-10-02","SZT"]
["03121R","ZENERGY - POPRZECZKA RAMY W1200 150+650+400",114.8,"1-ZE-10","2019-10-02","SZT"]
["03122","ZENERGY - POPRZECZKA RAMY W1200 150+450+450+150",106.9,"1-ZE-10","2019-10-02","SZT"]
["03123L","ZENERGY - POPRZECZKA RAMY W1200 400+150+650",114.8,"1-ZE-10","2019-10-02","SZT"]
["03123R","ZENERGY - POPRZECZKA RAMY W1200 650+150+400",114.8,"1-ZE-10","2019-10-02","SZT"]
["03125L","ZENERGY - POPRZECZKA RAMY W1250 400+850",126.7,"1-ZE-10","2019-10-02","SZT"]
["03125R","ZENERGY - POPRZECZKA RAMY W1250 850+400",126.7,"1-ZE-10","2019-10-02","SZT"]
["03127L","ZENERGY - POPRZECZKA RAMY W1250 (400+650+200)",115.7,"1-ZE-10","2019-10-02","SZT"]
["03127R","ZENERGY - POPRZECZKA RAMY W1250 (200+650+400)",115.7,"1-ZE-10","2019-10-02","SZT"]
["03130L","ZENERGY - POPRZECZKA RAMY W1300, PODWÓJNE DRZWI, DOLNA",134.5,"1-ZE-10","2019-10-02","SZT"]
["03130R","ZENERGY - POPRZECZKA RAMY W1300, PODWÓJNE DRZWI, GÓRNA",134.5,"1-ZE-10","2019-10-02","SZT"]
["03131","ZENERGY - POPRZECZKA RAMY W1300 650+650",136.1,"1-ZE-10","2019-10-02","SZT"]
["03132L","ZENERGY - POPRZECZKA RAMY W1300 450+200+650",125,"1-ZE-10","2019-10-02","SZT"]
["03132R","ZENERGY - POPRZECZKA RAMY W1300 650+200+450",125,"1-ZE-10","2019-10-02","SZT"]
["03133L","ZENERGY - POPRZECZKA RAMY W1300 450+850",136.1,"1-ZE-10","2019-10-02","SZT"]
["03133R","ZENERGY - POPRZECZKA RAMY W1300 850+450",136.1,"1-ZE-10","2019-10-02","SZT"]
["03140L","ZENERGY - POPRZECZKA RAMY W1400 400+1000",134.5,"1-ZE-10","2019-10-02","SZT"]
["03140R","ZENERGY - POPRZECZKA RAMY W1400 1000+400",134.5,"1-ZE-10","2019-10-02","SZT"]
["03141L","ZENERGY - POPRZECZKA RAMY W1400 400+850+150",126.7,"1-ZE-10","2019-10-02","SZT"]
["03141R","ZENERGY - POPRZECZKA RAMY W1400 150+850+400",126.7,"1-ZE-10","2019-10-02","SZT"]
["03145L","ZENERGY - POPRZECZKA RAMY W1450 650+800 (650+150+650)",134.80000000000001,"1-ZE-10","2019-10-02","SZT"]
["03145R","ZENERGY - POPRZECZKA RAMY W1450 800+650 (650+150+650)",134.80000000000001,"1-ZE-10","2019-10-02","SZT"]
["03147L","ZENERGY - POPRZECZKA RAMY W1450 650+650+150",134.80000000000001,"1-ZE-10","2019-10-02","SZT"]
["03147R","ZENERGY - POPRZECZKA RAMY W1450 150+650+650",134.80000000000001,"1-ZE-10","2019-10-02","SZT"]
["03150L","ZENERGY - POPRZECZKA RAMY W1500 850+650",146.6,"1-ZE-10","2019-10-02","SZT"]
["03150R","ZENERGY - POPRZECZKA RAMY W1500 650+850",146.6,"1-ZE-10","2019-10-02","SZT"]
["03151L","ZENERGY - POPRZECZKA RAMY W1500 650+850 (650+200+650)",135.80000000000001,"1-ZE-10","2019-10-02","SZT"]
["03151R","ZENERGY - POPRZECZKA RAMY W1500 850+650 (650+200+650)",135.80000000000001,"1-ZE-10","2019-10-02","SZT"]
["03152L","ZENERGY - POPRZECZKA RAMY W1500 650+850 (650+650+200)",135.80000000000001,"1-ZE-10","2019-10-02","SZT"]
["03152R","ZENERGY - POPRZECZKA RAMY W1500 850+650 (200+650+650)",135.80000000000001,"1-ZE-10","2019-10-02","SZT"]
["03153L","ZENERGY - POPRZECZKA RAMY W1500 650+850 (450+200+850)",135.80000000000001,"1-ZE-10","2019-10-02","SZT"]
["03153R","ZENERGY - POPRZECZKA RAMY W1500 850+650 (850+200+450)",135.80000000000001,"1-ZE-10","2019-10-02","SZT"]
["03160","ZENERGY - POPRZECZKA RAMY W1600 800+800",140.80000000000001,"1-ZE-10","2019-10-02","SZT"]
["03161L","ZENERGY - POPRZECZKA RAMY W1600 400+1200",140.80000000000001,"1-ZE-10","2019-10-02","SZT"]
["03161R","ZENERGY - POPRZECZKA RAMY W1600 1200+400",140.80000000000001,"1-ZE-10","2019-10-02","SZT"]
["03162L","ZENERGY - POPRZECZKA RAMY W1600 800+650+150",146.9,"1-ZE-10","2019-10-02","SZT"]
["03162R","ZENERGY - POPRZECZKA RAMY W1600 150+650+800",146.9,"1-ZE-10","2019-10-02","SZT"]
["03163","ZENERGY - POPRZECZKA RAMY W1600 650+300+650",154.69999999999999,"1-ZE-10","2019-10-02","SZT"]
["03164L","ZENERGY - POPRZECZKA RAMY W1600 150+650+150+650",125.1,"1-ZE-10","2019-10-02","SZT"]
["03164R","ZENERGY - POPRZECZKA RAMY W1600 650+150+650+150",125.1,"1-ZE-10","2019-10-02","SZT"]
["03165L","ZENERGY - POPRZECZKA RAMY W1650 850+150+650",150.69999999999999,"1-ZE-10","2019-10-02","SZT"]
["03165R","ZENERGY - POPRZECZKA RAMY W1650 650+150+850",150.69999999999999,"1-ZE-10","2019-10-02","SZT"]
["03166L","ZENERGY - POPRZECZKA RAMY W1650 650+1000",158.6,"1-ZE-10","2019-10-02","SZT"]
["03166R","ZENERGY - POPRZECZKA RAMY W1650 1000+650",158.6,"1-ZE-10","2019-10-02","SZT"]
["03168L","ZENERGY - POPRZECZKA RAMY W1650 150+650+850",150.69999999999999,"1-ZE-10","2019-10-02","SZT"]
["03168R","ZENERGY - POPRZECZKA RAMY W1650 850+650+150",150.69999999999999,"1-ZE-10","2019-10-02","SZT"]
["03169L","ZENERGY - POPRZECZKA RAMY W1650 200+650+800",147.6,"1-ZE-10","2019-10-02","SZT"]
["03169R","ZENERGY - POPRZECZKA RAMY W1650 800+650+200",147.6,"1-ZE-10","2019-10-02","SZT",null,87.1]
["03170","ZENERGY - POPRZECZKA RAMY W1700 850+850",162.69999999999999,"1-ZE-10","2019-10-02","SZT"]
["03187L","ZENERGY - POPRZECZKA RAMY W1850 (850+1000)",171.3,"1-ZE-10","2019-10-02","SZT"]
["03187R","ZENERGY - POPRZECZKA RAMY W1850 (1000+850)",171.3,"1-ZE-10","2019-10-02","SZT"]
["03200","ZENERGY OM - DWIE POKRYWY POZIOME W300 IP-30",87,"1-ZE-09","2018-10-29","SZT"]
["03201","ZENERGY OM - COKÓŁ W300 IP-30",202.8,"1-ZE-09","2018-10-22","SZT"]
["03203","ZENERGY OM - DWIE POKRYWY POZIOME W300 IP-30 Z OTWOREM 81X222 POD PRZEPUST IP-55",87,"1-ZE-09","2018-10-29","SZT"]
["03206","ZENERGY OM - POKRYWA POZIOMA ROZSZERZENIA - PRZEPUST W300 IP-30",80.599999999999994,"1-ZE-09","2018-10-22","SZT"]
["03207","ZENERGY OM - DWIE POKRYWY POZIOME COKOŁU W300 D230 IP-30",87,"1-ZE-09","2021-12-01","SZT"]
["03209","ZENERGY OM - POKRYWA TYLNA W300 H550 9M IP-30",99.7,"1-ZE-09","2018-10-22","SZT"]
["03212","ZENERGY OM - POKRYWA TYLNA W300 H700 12M IP-30",102.3,"1-ZE-09","2018-10-22","SZT"]
["03215","ZENERGY OM - POKRYWA TYLNA W300 H850 15M IP-30",122.9,"1-ZE-09","2018-10-22","SZT"]
["03218","ZENERGY OM - POKRYWA TYLNA W300 H1000 18M IP-30",143,"1-ZE-09","2018-10-22","SZT"]
["03221","ZENERGY OM - POKRYWA TYLNA W300 H1150 21M IP-30",162.69999999999999,"1-ZE-09","2018-10-22","SZT"]
["03224","ZENERGY OM - POKRYWA TYLNA W300 H1300 24M IP-30",178,"1-ZE-09","2018-10-22","SZT"]
["03227","ZENERGY OM - POKRYWA TYLNA W300 H1450 27M IP-30",194.3,"1-ZE-09","2018-10-22","SZT"]
["03228","ZENERGY OM - POKRYWA TYLNA W300 H1600 28M IP-30",228.2,"1-ZE-09","2018-10-22","SZT"]
["03229","ZENERGY OM - POKRYWA TYLNA W300 H1550 29M IP-30",215.3,"1-ZE-09","2018-10-22","SZT"]
["03230","ZENERGY OM - POKRYWA TYLNA W300 H1700 30M IP-30",228.2,"1-ZE-09","2018-10-22","SZT"]
["03233","ZENERGY OM - POKRYWA TYLNA W300 H1850 33M IP-30",247.3,"1-ZE-09","2018-10-22","SZT"]
["03236","ZENERGY OM - POKRYWA TYLNA W300 H2000 36M IP-30",269.2,"1-ZE-09","2018-10-22","SZT"]
["03239","ZENERGY OM - POKRYWA TYLNA W300 H2150 39M IP-30",286.89999999999998,"1-ZE-09","2018-10-22","SZT"]
["03240","ZENERGY OM - DWIE POKRYWY POZIOME W300 D300 IP-30",101,"1-ZE-09","2001-01-01","SZT"]
["03241","ZENERGY OM - COKÓŁ W300 D300 IP-30",235.3,"1-ZE-09","2001-01-01","SZT"]
["03243","ZENERGY OM - DWIE POKRYWY POZIOME W300 D300 IP-30 Z OTWOREM 81X222 POD PRZEPUST IP-55",101,"1-ZE-09","2001-01-01","SZT"]
["03246","ZENERGY OM - POKRYWA POZIOMA ROZSZERZENIA - PRZEPUST W300 D300  IP-30",93.5,"1-ZE-09","2001-01-01","SZT"]
["03247","ZENERGY OM - DWIE POKRYWY POZIOME COKOŁU W300 D300 IP-30",101,"1-ZE-09","2021-12-01","SZT"]
["03300","ZENERGY OM - DWIE POKRYWY POZIOME W300 IP-55",89.9,"1-ZE-09","2018-10-29","SZT"]
["03301","ZENERGY OM - COKÓŁ W300 IP-55",207.1,"1-ZE-09","2018-10-22","SZT"]
["03303","ZENERGY OM - DWIE POKRYWY POZIOME W300 IP-55 Z OTWOREM 81X222 POD PRZEPUST IP-55",89.9,"1-ZE-09","2018-10-29","SZT"]
["03306","ZENERGY OM - POKRYWA POZIOMA ROZSZERZENIA - PRZEPUST W300 IP-55",86.4,"1-ZE-09","2018-10-22","SZT"]
["03307","ZENERGY OM - DWIE POKRYWY POZIOME COKOŁU W300 D230 IP-55",89.9,"1-ZE-09","2021-12-01","SZT"]
["03309","ZENERGY OM - POKRYWA TYLNA W300 H550 9M IP-55",180.7,"1-ZE-09","2018-10-22","SZT"]
["03312","ZENERGY OM - POKRYWA TYLNA W300 H700 12M IP-55",197.7,"1-ZE-09","2018-10-22","SZT"]
["03315","ZENERGY OM - POKRYWA TYLNA W300 H850 15M IP-55",230.3,"1-ZE-09","2018-10-22","SZT"]
["03318","ZENERGY OM - POKRYWA TYLNA W300 H1000 18M IP-55",337.4,"1-ZE-09","2018-10-22","SZT"]
["03321","ZENERGY OM - POKRYWA TYLNA W300 H1150 21M IP-55",291.5,"1-ZE-09","2018-10-22","SZT"]
["03324","ZENERGY OM - POKRYWA TYLNA W300 H1300 24M IP-55",320.10000000000002,"1-ZE-09","2018-10-22","SZT"]
["03327","ZENERGY OM - POKRYWA TYLNA W300 H1450 27M IP-55",349.9,"1-ZE-09","2018-10-22","SZT"]
["03328","ZENERGY OM - POKRYWA TYLNA W300 H1600 28M IP-55",356.6,"1-ZE-09","2018-10-22","SZT"]
["03329","ZENERGY OM - POKRYWA TYLNA W300 H1550 29M IP-55",379.9,"1-ZE-09","2018-10-22","SZT"]
["03330","ZENERGY OM - POKRYWA TYLNA W300 H1700 39M IP-55",396.1,"1-ZE-09","2018-10-22","SZT"]
["03333","ZENERGY OM - POKRYWA TYLNA W300 H1850 33M IP-55",398,"1-ZE-09","2018-10-22","SZT"]
["03336","ZENERGY OM - POKRYWA TYLNA W300 H2000 36M IP-55",411.5,"1-ZE-09","2018-10-22","SZT"]
["03339","ZENERGY OM - POKRYWA TYLNA W300 H2150 39M IP-55",423.8,"1-ZE-09","2018-10-22","SZT"]
["03340","ZENERGY OM - DWIE POKRYWY POZIOME W300 D300 IP-55",104.3,"1-ZE-09","2001-01-01","SZT"]
["03341","ZENERGY OM - COKÓŁ W300 D300 IP-55",240.3,"1-ZE-09","2001-01-01","SZT"]
["03343","ZENERGY OM - DWIE POKRYWY POZIOME W300 D300 IP-55 Z OTWOREM 81X222 POD PRZEPUST IP-55",104.3,"1-ZE-09","2001-01-01","SZT"]
["03346","ZENERGY OM - POKRYWA POZIOMA ROZSZERZENIA - PRZEPUST W300 D300 IP-55",100.3,"1-ZE-09","2001-01-01","SZT"]
["03347","ZENERGY OM - DWIE POKRYWY POZIOME COKOŁU W300 D300 IP-55",104.3,"1-ZE-09","2021-12-01","SZT"]
["04015","Zenergy",228.9,"1-ZE-09","2018-10-22","SZT"]
["04020","ZENERGY - RAMKA ZEWNĘTRZNA, D230, H1200",151.4,"1-ZE-10","2019-10-02","SZT"]
["04030","ZENERGY - RAMKA ZEWNĘTRZNA, D300, H1200",159.30000000000001,"1-ZE-10","2019-10-02","SZT"]
["04032","ZENERGY - RAMKA WEWNĘTRZNA, PODWÓJNA, D300, H1200",167.3,"1-ZE-10","2019-10-02","SZT"]
["04040","ZENERGY - RAMKA ZEWNĘTRZNA, D400, H1200",175.3,"1-ZE-10","2019-10-02","SZT"]
["04042","ZENERGY - RAMKA WEWNĘTRZNA, PODWÓJNA, D400, H1200",186.4,"1-ZE-10","2019-10-02","SZT"]
["04060","ZENERGY - RAMKA ZEWNĘTRZNA, D600, H1200",191.2,"1-ZE-10","2019-10-02","SZT"]
["04062","ZENERGY - RAMKA WEWNĘTRZNA, PODWÓJNA, D600, H1200",307.39999999999998,"1-ZE-10","2019-10-02","SZT"]
["04080","ZENERGY - RAMKA ZEWNĘTRZNA, D800, H1200",215.1,"1-ZE-10","2019-10-02","SZT"]
["04200","ZENERGY OM - DWIE POKRYWY POZIOME W400 IP-30",92.8,"1-ZE-09","2018-10-29","SZT"]
["04201","ZENERGY OM - COKÓŁ W400 IP-30",209.5,"1-ZE-09","2018-10-22","SZT"]
["04203","ZENERGY OM - DWIE POKRYWY POZIOME W400 IP-30 Z OTWOREM 81X222 POD PRZEPUST IP-55",92.8,"1-ZE-09","2018-10-29","SZT"]
["04206","ZENERGY OM - POKRYWA POZIOMA ROZSZERZENIA - PRZEPUST W400 IP-30",86.4,"1-ZE-09","2018-10-22","SZT"]
["04207","ZENERGY OM - DWIE POKRYWY POZIOME COKOŁU W400 D230 IP-30",92.8,"1-ZE-09","2021-12-01","SZT"]
["04209","ZENERGY OM - POKRYWA TYLNA W400 H550 9M IP-30",107.8,"1-ZE-09","2018-10-22","SZT"]
["04212","ZENERGY OM - POKRYWA TYLNA W400 H700 12M IP-30",111.1,"1-ZE-09","2018-10-22","SZT"]
["04215","ZENERGY OM - POKRYWA TYLNA W400 H850 15M IP-30",132.6,"1-ZE-09","2018-10-22","SZT"]
["04218","ZENERGY OM - POKRYWA TYLNA W400 H1000 18M IP-30",153.80000000000001,"1-ZE-09","2018-10-22","SZT"]
["04221","ZENERGY OM - POKRYWA TYLNA W400 H1150 21M IP-30",176,"1-ZE-09","2018-10-22","SZT"]
["04224","ZENERGY OM - POKRYWA TYLNA W400 H1300 24M IP-30",192.8,"1-ZE-09","2018-10-22","SZT"]
["04227","ZENERGY OM - POKRYWA TYLNA W400 H1450 27M IP-30",210.7,"1-ZE-09","2018-10-22","SZT"]
["04228","ZENERGY OM - POKRYWA TYLNA W400 H1600 28M IP-30",252.1,"1-ZE-09","2018-10-22","SZT"]
["04229","ZENERGY OM - POKRYWA TYLNA W400 H1550 29M IP-30",234.5,"1-ZE-09","2018-10-22","SZT"]
["04230","ZENERGY OM - POKRYWA TYLNA W400 H1700 30M IP-30",256.3,"1-ZE-09","2018-10-22","SZT"]
["04233","ZENERGY OM - POKRYWA TYLNA W400 H1850 33M IP-30",279.89999999999998,"1-ZE-09","2018-10-22","SZT"]
["04236","ZENERGY OM - POKRYWA TYLNA W400 H2000 36M IP-30",305.8,"1-ZE-09","2018-10-22","SZT"]
["04239","ZENERGY OM - POKRYWA TYLNA W400 H2150 39M IP-30",331.4,"1-ZE-09","2018-10-22","SZT"]
["04240","ZENERGY OM - DWIE POKRYWY POZIOME W400 D300 IP-30",107.6,"1-ZE-09","2001-01-01","SZT"]
["04241","ZENERGY OM - COKÓŁ W400 D300 IP-30",243.1,"1-ZE-09","2001-01-01","SZT"]
["04243","ZENERGY OM - DWIE POKRYWY POZIOME W400 D300 IP-30 Z OTWOREM 81X222 POD PRZEPUST IP-55",107.6,"1-ZE-09","2001-01-01","SZT"]
["04246","ZENERGY OM - POKRYWA POZIOMA ROZSZERZENIA - PRZEPUST W400 D300 IP-30",100.3,"1-ZE-09","2001-01-01","SZT"]
["04247","ZENERGY OM - DWIE POKRYWY POZIOME COKOŁU W400 D300 IP-30",107.6,"1-ZE-09","2021-12-01","SZT"]
["04300","ZENERGY OM - DWIE POKRYWY POZIOME W400 IP-55",100.1,"1-ZE-09","2018-10-29","SZT"]
["04301","ZENERGY OM - COKÓŁ W400 IP-55",216.5,"1-ZE-09","2018-10-22","SZT"]
["04303","ZENERGY OM - DWIE POKRYWY POZIOME W400 IP-55 Z OTWOREM 81X222 POD PRZEPUST IP-55",100.1,"1-ZE-09","2018-10-29","SZT"]
["04306","ZENERGY OM - POKRYWA POZIOMA ROZSZERZENIA - PRZEPUST W400 IP-55",97,"1-ZE-09","2018-10-22","SZT"]
["04307","ZENERGY OM - DWIE POKRYWY POZIOME COKOŁU W400 D230 IP-55",100.1,"1-ZE-09","2021-12-01","SZT"]
["04309","ZENERGY OM - POKRYWA TYLNA W400 H550 9M IP-55",196.2,"1-ZE-09","2018-10-22","SZT"]
["04312","ZENERGY OM - POKRYWA TYLNA W400 H700 12M IP-55",213.9,"1-ZE-09","2018-10-22","SZT"]
["04315","ZENERGY OM - POKRYWA TYLNA W400 H850 15M IP-55",247.2,"1-ZE-09","2018-10-22","SZT"]
["04318","ZENERGY OM - POKRYWA TYLNA W400 H1000 18M IP-55",354.9,"1-ZE-09","2018-10-22","SZT"]
["04321","ZENERGY OM - POKRYWA TYLNA W400 H1150 21M IP-55",311.3,"1-ZE-09","2018-10-22","SZT"]
["04324","ZENERGY OM - POKRYWA TYLNA W400 H1300 24M IP-55",341.4,"1-ZE-09","2018-10-22","SZT"]
["04327","ZENERGY OM - POKRYWA TYLNA W400 H1450 27M IP-55",372.8,"1-ZE-09","2018-10-22","SZT"]
["04328","ZENERGY OM - POKRYWA TYLNA W400 H1600 28M IP-55",387.8,"1-ZE-09","2018-10-22","SZT"]
["04329","ZENERGY OM - POKRYWA TYLNA W400 H1550 29M IP-55",405.4,"1-ZE-09","2018-10-22","SZT"]
["04330","ZENERGY OM - POKRYWA TYLNA W400 H1700 30M IP-55",425.9,"1-ZE-09","2018-10-22","SZT"]
["04333","ZENERGY OM - POKRYWA TYLNA W400 H1850 33M IP-55",434.4,"1-ZE-09","2018-10-22","SZT"]
["04336","ZENERGY OM - POKRYWA TYLNA W400 H2000 36M IP-55",449.1,"1-ZE-09","2018-10-22","SZT"]
["04339","ZENERGY OM - POKRYWA TYLNA W400 H2150 39M IP-55",462.6,"1-ZE-09","2018-10-22","SZT"]
["04340","ZENERGY OM - DWIE POKRYWY POZIOME W400 D300 IP-55",116.2,"1-ZE-09","2001-01-01","SZT"]
["04341","ZENERGY OM - COKÓŁ W400 D300 IP-55",251.2,"1-ZE-09","2001-01-01","SZT"]
["04343","ZENERGY OM - DWIE POKRYWY POZIOME W400 D300 IP-55 Z OTWOREM 81X222 POD PRZEPUST IP-55",116.2,"1-ZE-09","2001-01-01","SZT"]
["04346","ZENERGY OM - POKRYWA POZIOMA ROZSZERZENIA - PRZEPUST W400 D300 IP-55",112.6,"1-ZE-09","2001-01-01","SZT"]
["04347","ZENERGY OM - DWIE POKRYWY POZIOME COKOŁU W400 D300 IP-55",116.2,"1-ZE-09","2021-12-01","SZT"]
["04974","ZENERGY - PRZEGRODA POZIOMA DO SZYN W400 D400",397.4,"1-ZE-10","2019-10-02","SZT"]
["04976","ZENERGY - WYGRODZENIE SZYN POZIOMYCH W650 D400",462.8,"1-ZE-10","2019-10-02","SZT"]
["05020","ZENERGY - RAMKA ZEWNĘTRZNA, D230, H1400",160.6,"1-ZE-10","2019-10-02","SZT"]
["05021","ZENERGY - RAMKA ZEWNĘTRZNA, PODWÓJNA PERFORACJA, D230, H1400",160.6,"1-ZE-10","2019-10-02","SZT"]
["05022","ZENERGY - RAMKA WEWNĘTRZNA, PODWÓJNA, D230, H1400",175.7,"1-ZE-10","2019-10-02","SZT"]
["05030","ZENERGY - RAMKA ZEWNĘTRZNA, D300, H1400",177.2,"1-ZE-10","2019-10-02","SZT"]
["05031","ZENERGY - RAMKA ZEWNĘTRZNA, PODWÓJNA PERFORACJA, D300, H1400",177.2,"1-ZE-10","2019-10-02","SZT"]
["05032","ZENERGY - RAMKA WEWNĘTRZNA, PODWÓJNA, D300, H1400",199.2,"1-ZE-10","2019-10-02","SZT"]
["05040","ZENERGY - RAMKA ZEWNĘTRZNA, D400, H1400",194.4,"1-ZE-10","2019-10-02","SZT"]
["05041","ZENERGY - RAMKA ZEWNĘTRZNA, PODWÓJNA PERFORACJA, D400, H1400",194.4,"1-ZE-10","2019-10-02","SZT"]
["05042","ZENERGY - RAMKA WEWNĘTRZNA, PODWÓJNA, D400, H1400",203.5,"1-ZE-10","2019-10-02","SZT"]
["05060","ZENERGY - RAMKA ZEWNĘTRZNA, D600, H1400",324.2,"1-ZE-10","2019-10-02","SZT"]
["05061","ZENERGY - RAMKA ZEWNĘTRZNA, PODWÓJNA PERFORACJA, D600, H1400",324.2,"1-ZE-10","2019-10-02","SZT"]
["05062","ZENERGY - RAMKA WEWNĘTRZNA, PODWÓJNA, D600, H1400",332.4,"1-ZE-10","2019-10-02","SZT"]
["05080","ZENERGY - RAMKA ZEWNĘTRZNA, D800, H1400",357.3,"1-ZE-10","2019-10-02","SZT"]
["05081","ZENERGY - RAMKA ZEWNĘTRZNA, PODWÓJNA PERFORACJA, D800, H1400",357.3,"1-ZE-10","2019-10-02","SZT"]
["05082","ZENERGY - RAMKA WEWNĘTRZNA, PODWÓJNA, D800, H1400",364.4,"1-ZE-10","2019-10-02","SZT"]
["06020","ZENERGY - RAMKA ZEWNĘTRZNA, D230, H1600",172.1,"1-ZE-10","2019-10-02","SZT"]
["06021","ZENERGY - RAMKA ZEWNĘTRZNA, PODWÓJNA PERFORACJA, D230, H1600",172.1,"1-ZE-10","2019-10-02","SZT"]
["06022","ZENERGY - RAMKA WEWNĘTRZNA, PODWÓJNA, D230, H1600",188.4,"1-ZE-10","2019-10-02","SZT"]
["06030","ZENERGY - RAMKA ZEWNĘTRZNA, D300, H1600",190,"1-ZE-10","2019-10-02","SZT"]
["06031","ZENERGY - RAMKA ZEWNĘTRZNA, PODWÓJNA PERFORACJA, D300, H1600",190,"1-ZE-10","2019-10-02","SZT"]
["06032","ZENERGY - RAMKA WEWNĘTRZNA, PODWÓJNA, D300, H1600",213.8,"1-ZE-10","2019-10-02","SZT"]
["06040","ZENERGY - RAMKA ZEWNĘTRZNA, D400, H1600",208.4,"1-ZE-10","2019-10-02","SZT"]
["06041","ZENERGY - RAMKA ZEWNĘTRZNA, PODWÓJNA PERFORACJA, D400, H1600",208.4,"1-ZE-10","2019-10-02","SZT"]
["06042","ZENERGY - RAMKA WEWNĘTRZNA, PODWÓJNA, D400, H1600",218.4,"1-ZE-10","2019-10-02","SZT"]
["06060","ZENERGY - RAMKA ZEWNĘTRZNA, D600, H1600",347.8,"1-ZE-10","2019-10-02","SZT"]
["06061","ZENERGY - RAMKA ZEWNĘTRZNA, PODWÓJNA PERFORACJA, D600, H1600",347.8,"1-ZE-10","2019-10-02","SZT"]
["06062","ZENERGY - RAMKA WEWNĘTRZNA, PODWÓJNA, D600, H1600",356.5,"1-ZE-10","2019-10-02","SZT"]
["06080","ZENERGY - RAMKA ZEWNĘTRZNA, D800, H1600",383.3,"1-ZE-10","2019-10-02","SZT"]
["06081","ZENERGY - RAMKA ZEWNĘTRZNA, PODWÓJNA PERFORACJA, D800, H1600",383.3,"1-ZE-10","2019-10-02","SZT"]
["06082","ZENERGY - RAMKA WEWNĘTRZNA, PODWÓJNA, D800, H1600",390.6,"1-ZE-10","2019-10-02","SZT"]
["06200","ZENERGY OM - DWIE POKRYWY POZIOME W600 IP-30",97.6,"1-ZE-09","2018-10-29","SZT"]
["06201","ZENERGY OM - COKÓŁ W600 IP-30",222.5,"1-ZE-09","2018-10-22","SZT",null,85.3]
["06203","ZENERGY OM - DWIE POKRYWY POZIOME W600 IP-30 Z OTWOREM 81X222 POD PRZEPUST IP-55",97.6,"1-ZE-09","2018-10-29","SZT"]
["06204","ZENERGY OM - DWIE POKRYWY POZIOME W600 IP-30 Z DWOMA OTWORAMI 81X222 POD PRZEPUST IP-55",97.6,"1-ZE-09","2018-10-29","SZT"]
["06206","ZENERGY OM - POKRYWA POZIOMA ROZSZERZENIA - PRZEPUST W600 IP-30",91.2,"1-ZE-09","2018-10-22","SZT"]
["06207","ZENERGY OM - DWIE POKRYWY POZIOME COKOŁU W600 D230 IP-30",97.6,"1-ZE-09","2021-12-01","SZT"]
["06209","ZENERGY OM - POKRYWA TYLNA W600 H550 9M IP-30",114.8,"1-ZE-09","2018-10-22","SZT"]
["06212","ZENERGY OM - POKRYWA TYLNA W600 H700 12M IP-30",117.2,"1-ZE-09","2018-10-22","SZT"]
["06215","ZENERGY OM - POKRYWA TYLNA W600 H850 15M IP-30",135.4,"1-ZE-09","2018-10-22","SZT"]
["06218","ZENERGY OM - POKRYWA TYLNA W600 H1000 18M IP-30",150.69999999999999,"1-ZE-09","2018-10-22","SZT"]
["06221","ZENERGY OM - POKRYWA TYLNA W600 H1150 21M IP-30",179.8,"1-ZE-09","2018-10-22","SZT"]
["06224","ZENERGY OM - POKRYWA TYLNA W600 H1300 24M IP-30",191.5,"1-ZE-09","2018-10-22","SZT"]
["06227","ZENERGY OM - POKRYWA TYLNA W600 H1450 27M IP-30",200.4,"1-ZE-09","2018-10-22","SZT"]
["06228","ZENERGY OM - POKRYWA TYLNA W600 H1600 28M IP-30",301.7,"1-ZE-09","2018-10-22","SZT"]
["06229","ZENERGY OM - POKRYWA TYLNA W600 H1550 29M IP-30",219.9,"1-ZE-09","2018-10-22","SZT"]
["06230","ZENERGY OM - POKRYWA TYLNA W600 H1700 30M IP-30",304.2,"1-ZE-09","2018-10-22","SZT"]
["06233","ZENERGY OM - POKRYWA TYLNA W600 H1850 33M IP-30",328.5,"1-ZE-09","2018-10-22","SZT"]
["06236","ZENERGY OM - POKRYWA TYLNA W600 H2000 36M IP-30",388.1,"1-ZE-09","2018-10-22","SZT"]
["06239","ZENERGY OM - POKRYWA TYLNA W600 H2150 39M IP-30",457,"1-ZE-09","2018-10-22","SZT"]
["06240","ZENERGY OM - DWIE POKRYWY POZIOME W600 D300 IP-30",113.4,"1-ZE-09","2001-01-01","SZT"]
["06241","ZENERGY OM - COKÓŁ W600 D300 IP-30",258.10000000000002,"1-ZE-09","2001-01-01","SZT"]
["06243","ZENERGY OM - DWIE POKRYWY POZIOME W600 D300 IP-30 Z OTWOREM 81X222 POD PRZEPUST IP-55",113.4,"1-ZE-09","2001-01-01","SZT"]
["06244","ZENERGY OM - DWIE POKRYWY POZIOME W600 D300 IP-30 Z DWOMA OTWORAMI 81X222 POD PRZEPUST IP-55",113.4,"1-ZE-09","2001-01-01","SZT"]
["06246","ZENERGY OM - POKRYWA POZIOMA ROZSZERZENIA - PRZEPUST W600 D300 IP-30",105.8,"1-ZE-09","2001-01-01","SZT"]
["06247","ZENERGY OM - DWIE POKRYWY POZIOME COKOŁU W600 D300 IP-30",113.4,"1-ZE-09","2021-12-01","SZT"]
["06300","ZENERGY OM - DWIE POKRYWY POZIOME W600 IP-55",114.8,"1-ZE-09","2018-10-29","SZT"]
["06301","ZENERGY OM - COKÓŁ W600 IP-55",234.6,"1-ZE-09","2018-10-22","SZT"]
["06303","ZENERGY OM - DWIE POKRYWY POZIOME W600 IP-55 Z OTWOREM 81X222 POD PRZEPUST IP-55",114.8,"1-ZE-09","2018-10-29","SZT"]
["06304","ZENERGY OM - DWIE POKRYWY POZIOME W600 IP-55 Z DWOMA OTWORAMI 81X222 POD PRZEPUST IP-55",114.8,"1-ZE-09","2018-10-29","SZT"]
["06306","ZENERGY OM - POKRYWA POZIOMA ROZSZERZENIA - PRZEPUST W600 IP-55",111,"1-ZE-09","2018-10-22","SZT"]
["06307","ZENERGY OM - DWIE POKRYWY POZIOME COKOŁU W600 D230 IP-55",114.8,"1-ZE-09","2021-12-01","SZT"]
["06309","ZENERGY OM - POKRYWA TYLNA W600 H550 9M IP-55",217.9,"1-ZE-09","2018-10-22","SZT"]
["06312","ZENERGY OM - POKRYWA TYLNA W600 H700 12M IP-55",234.8,"1-ZE-09","2018-10-22","SZT"]
["06315","ZENERGY OM - POKRYWA TYLNA W600 H850 15M IP-55",264.60000000000002,"1-ZE-09","2018-10-22","SZT"]
["06318","ZENERGY OM - POKRYWA TYLNA W600 H1000 18M IP-55",366.7,"1-ZE-09","2018-10-22","SZT"]
["06321","ZENERGY OM - POKRYWA TYLNA W600 H1150 21M IP-55",329.8,"1-ZE-09","2018-10-22","SZT"]
["06324","ZENERGY OM - POKRYWA TYLNA W600 H1300 24M IP-55",354.9,"1-ZE-09","2018-10-22","SZT"]
["06327","ZENERGY OM - POKRYWA TYLNA W600 H1450 27M IP-55",377.8,"1-ZE-09","2018-10-22","SZT"]
["06328","ZENERGY OM - POKRYWA TYLNA W600 H1600 28M IP-55",442.7,"1-ZE-09","2018-10-22","SZT"]
["06329","ZENERGY OM - POKRYWA TYLNA W600 H1550 29M IP-55",406.2,"1-ZE-09","2018-10-22","SZT"]
["06330","ZENERGY OM - POKRYWA TYLNA W600 H1700 30M IP-55",487.3,"1-ZE-09","2018-10-22","SZT"]
["06333","ZENERGY OM - POKRYWA TYLNA W600 H1850 33M IP-55",485.7,"1-ZE-09","2018-10-22","SZT"]
["06336","ZENERGY OM - POKRYWA TYLNA W600 H2000 36M IP-55",533.1,"1-ZE-09","2018-10-22","SZT"]
["06339","ZENERGY OM - POKRYWA TYLNA W600 H2150 39M IP-55",549,"1-ZE-09","2018-10-22","SZT"]
["06340","ZENERGY OM - DWIE POKRYWY POZIOME W600 D300 IP-55",133.30000000000001,"1-ZE-09","2001-01-01","SZT"]
["06341","ZENERGY OM - COKÓŁ W600 D300 IP-55",272.2,"1-ZE-09","2001-01-01","SZT"]
["06343","ZENERGY OM - DWIE POKRYWY POZIOME W600 D300 IP-55 Z OTWOREM 81X222 POD PRZEPUST IP-55",133.30000000000001,"1-ZE-09","2001-01-01","SZT"]
["06344","ZENERGY OM - DWIE POKRYWY POZIOME W600 D300 IP-55 Z DWOMA OTWORAMI 81X222 POD PRZEPUST IP-55",133.30000000000001,"1-ZE-09","2001-01-01","SZT"]
["06346","ZENERGY OM - POKRYWA POZIOMA ROZSZERZENIA - PRZEPUST W600 D300 IP-55",128.9,"1-ZE-09","2001-01-01","SZT"]
["06347","ZENERGY OM - DWIE POKRYWY POZIOME COKOŁU W600 D300 IP-55",133.30000000000001,"1-ZE-09","2021-12-01","SZT"]
["07020","ZENERGY - RAMKA ZEWNĘTRZNA, D230, H1800",179.9,"1-ZE-10","2019-10-02","SZT"]
["07021","ZENERGY - RAMKA ZEWNĘTRZNA, PODWÓJNA PERFORACJA, D230, H1800",179.9,"1-ZE-10","2019-10-02","SZT"]
["07022","ZENERGY - RAMKA WEWNĘTRZNA, PODWÓJNA, D230, H1800",196.9,"1-ZE-10","2019-10-02","SZT"]
["07030","ZENERGY - RAMKA ZEWNĘTRZNA, D300, H1800",198.5,"1-ZE-10","2019-10-02","SZT"]
["07031","ZENERGY - RAMKA ZEWNĘTRZNA, PODWÓJNA PERFORACJA, D300, H1800",198.5,"1-ZE-10","2019-10-02","SZT"]
["07032","ZENERGY - RAMKA WEWNĘTRZNA, PODWÓJNA, D300, H1800",223.3,"1-ZE-10","2019-10-02","SZT"]
["07040","ZENERGY - RAMKA ZEWNĘTRZNA, D400, H1800",217.6,"1-ZE-10","2019-10-02","SZT"]
["07041","ZENERGY - RAMKA ZEWNĘTRZNA, PODWÓJNA PERFORACJA, D400, H1800",217.6,"1-ZE-10","2019-10-02","SZT"]
["07042","ZENERGY - RAMKA WEWNĘTRZNA, PODWÓJNA, D400, H1800",228.4,"1-ZE-10","2019-10-02","SZT"]
["07060","ZENERGY - RAMKA ZEWNĘTRZNA, D600, H1800",363.5,"1-ZE-10","2019-10-02","SZT"]
["07061","ZENERGY - RAMKA ZEWNĘTRZNA, PODWÓJNA PERFORACJA, D600, H1800",363.5,"1-ZE-10","2019-10-02","SZT"]
["07062","ZENERGY - RAMKA WEWNĘTRZNA, PODWÓJNA, D600, H1800",372.4,"1-ZE-10","2019-10-02","SZT"]
["07080","ZENERGY - RAMKA ZEWNĘTRZNA, D800, H1800",400.4,"1-ZE-10","2019-10-02","SZT"]
["07081","ZENERGY - RAMKA ZEWNĘTRZNA, PODWÓJNA PERFORACJA, D800, H1800",400.4,"1-ZE-10","2019-10-02","SZT"]
["07082","ZENERGY - RAMKA WEWNĘTRZNA, PODWÓJNA, D800, H1800",408.2,"1-ZE-10","2019-10-02","SZT"]
["08010","ZENERGY - RAMKA ZEWNĘTRZNA, D1000, H2000",501.8,"1-ZE-10","2021-12-01","SZT"]
["08011","ZENERGY - RAMKA ZEWNĘTRZNA, PODWÓJNA PERFORACJA, D1000, H2000",501.8,"1-ZE-10","2021-12-01","SZT"]
["08012","ZENERGY - RAMKA WEWNĘTRZNA, PODWÓJNA, D1000, H2000",531.5,"1-ZE-10","2021-12-01","SZT"]
["08020","ZENERGY - RAMKA ZEWNĘTRZNA, D230, H2000",190.1,"1-ZE-10","2019-10-02","SZT"]
["08021","ZENERGY - RAMKA ZEWNĘTRZNA, PODWÓJNA PERFORACJA, D230, H2000",190.1,"1-ZE-10","2019-10-02","SZT"]
["08022","ZENERGY - RAMKA WEWNĘTRZNA, PODWÓJNA, D230, H2000",207.8,"1-ZE-10","2019-10-02","SZT"]
["08030","ZENERGY - RAMKA ZEWNĘTRZNA, D300, H2000",209.5,"1-ZE-10","2019-10-02","SZT"]
["08031","ZENERGY - RAMKA ZEWNĘTRZNA, PODWÓJNA PERFORACJA, D300, H2000",209.5,"1-ZE-10","2019-10-02","SZT"]
["08032","ZENERGY - RAMKA WEWNĘTRZNA, PODWÓJNA, D300, H2000",235.8,"1-ZE-10","2019-10-02","SZT"]
["08040","ZENERGY - RAMKA ZEWNĘTRZNA, D400, H2000",229.8,"1-ZE-10","2019-10-02","SZT"]
["08041","ZENERGY - RAMKA ZEWNĘTRZNA, PODWÓJNA PERFORACJA, D400, H2000",229.8,"1-ZE-10","2019-10-02","SZT"]
["08042","ZENERGY - RAMKA WEWNĘTRZNA, PODWÓJNA, D400, H2000",240.8,"1-ZE-10","2019-10-02","SZT"]
["08060","ZENERGY - RAMKA ZEWNĘTRZNA, D600, H2000",324.3,"1-ZE-10","2019-10-02","SZT"]
["08061","ZENERGY - RAMKA ZEWNĘTRZNA, PODWÓJNA PERFORACJA, D600, H2000",324.3,"1-ZE-10","2019-10-02","SZT"]
["08062","ZENERGY - RAMKA WEWNĘTRZNA, PODWÓJNA, D600, H2000",344.8,"1-ZE-10","2019-10-02","SZT"]
["08080","ZENERGY - RAMKA ZEWNĘTRZNA, D800, H2000",363.3,"1-ZE-10","2019-10-02","SZT"]
["08081","ZENERGY - RAMKA ZEWNĘTRZNA, PODWÓJNA PERFORACJA, D800, H2000",363.3,"1-ZE-10","2019-10-02","SZT"]
["08082","ZENERGY - RAMKA WEWNĘTRZNA, PODWÓJNA, D800, H2000",386,"1-ZE-10","2019-10-02","SZT"]
["08200","ZENERGY OM - DWIE POKRYWY POZIOME W800 IP-30",135.19999999999999,"1-ZE-09","2018-10-29","SZT"]
["08201","ZENERGY OM - COKÓŁ W800 IP-30",249.3,"1-ZE-09","2018-10-22","SZT"]
["08203","ZENERGY OM - DWIE POKRYWY POZIOME W800 IP-30 Z OTWOREM 81X222 POD PRZEPUST IP-55",135.19999999999999,"1-ZE-09","2018-10-29","SZT"]
["08204","ZENERGY OM - DWIE POKRYWY POZIOME W800 IP-30 Z DWOMA OTWORAMI 81X222 POD PRZEPUST IP-55",135.19999999999999,"1-ZE-09","2018-10-29","SZT"]
["08205","ZENERGY OM - DWIE POKRYWY POZIOME W800 IP-30 Z TRZEMA OTWORAMI 81X222 POD PRZEPUST IP-55",135.19999999999999,"1-ZE-09","2018-10-29","SZT"]
["08206","ZENERGY OM - POKRYWA POZIOMA ROZSZERZENIA - PRZEPUST W800 IP-30",126.2,"1-ZE-09","2018-10-22","SZT"]
["08207","ZENERGY OM - DWIE POKRYWY POZIOME COKOŁU W800 D230 IP-30",135.19999999999999,"1-ZE-09","2021-12-01","SZT"]
["08209","ZENERGY OM - POKRYWA TYLNA W800 H550 9M IP-30",168,"1-ZE-09","2018-10-22","SZT"]
["08212","ZENERGY OM - POKRYWA TYLNA W800 H700 12M IP-30",168.6,"1-ZE-09","2018-10-22","SZT"]
["08215","ZENERGY OM - POKRYWA TYLNA W800 H850 15M IP-30",191.5,"1-ZE-09","2018-10-22","SZT"]
["08218","ZENERGY OM - POKRYWA TYLNA W800 H1000 18M IP-30",213.9,"1-ZE-09","2018-10-22","SZT"]
["08221","ZENERGY OM - POKRYWA TYLNA W800 H1150 21M IP-30",222.5,"1-ZE-09","2018-10-22","SZT"]
["08224","ZENERGY OM - POKRYWA TYLNA W800 H1300 24M IP-30",233.1,"1-ZE-09","2018-10-22","SZT"]
["08227","ZENERGY OM - POKRYWA TYLNA W800 H1450 27M IP-30",241.3,"1-ZE-09","2018-10-22","SZT"]
["08228","ZENERGY OM - POKRYWA TYLNA W800 H1600 28M IP-30",390.3,"1-ZE-09","2018-10-22","SZT"]
["08229","ZENERGY OM - POKRYWA TYLNA W800 H1550 29M IP-30",262.89999999999998,"1-ZE-09","2018-10-22","SZT"]
["08230","ZENERGY OM - POKRYWA TYLNA W800 H1700 30M IP-30",403.2,"1-ZE-09","2018-10-22","SZT"]
["08233","ZENERGY OM - POKRYWA TYLNA W800 H1850 33M IP-30",521.29999999999995,"1-ZE-09","2018-10-22","SZT"]
["08236","ZENERGY OM - POKRYWA TYLNA W800 H2000 36M IP-30",561.20000000000005,"1-ZE-09","2018-10-22","SZT"]
["08239","ZENERGY OM - POKRYWA TYLNA W800 H2150 39M IP-30",609.6,"1-ZE-09","2018-10-22","SZT"]
["08240","ZENERGY OM - DWIE POKRYWY POZIOME W800 D300 IP-30",157,"1-ZE-09","2001-01-01","SZT"]
["08241","ZENERGY OM - COKÓŁ W800 D300 IP-30",289.2,"1-ZE-09","2001-01-01","SZT"]
["08243","ZENERGY OM - DWIE POKRYWY POZIOME W800 D300 IP-30 Z OTWOREM 81X222 POD PRZEPUST IP-55",157,"1-ZE-09","2001-01-01","SZT"]
["08244","ZENERGY OM - DWIE POKRYWY POZIOME W800 D300 IP-30 Z DWOMA OTWORAMI 81X222 POD PRZEPUST IP-55",157,"1-ZE-09","2001-01-01","SZT"]
["08245","ZENERGY OM - DWIE POKRYWY POZIOME W800 D300 IP-30 Z TRZEMA OTWORAMI 81X222 POD PRZEPUST IP-55",157,"1-ZE-09","2001-01-01","SZT"]
["08246","ZENERGY OM - POKRYWA POZIOMA ROZSZERZENIA - PRZEPUST W800 D300 IP-30",146.4,"1-ZE-09","2001-01-01","SZT"]
["08247","ZENERGY OM - DWIE POKRYWY POZIOME COKOŁU W800 D300 IP-30",157,"1-ZE-09","2021-12-01","SZT"]
["08300","ZENERGY OM - DWIE POKRYWY POZIOME W800 IP-55",160,"1-ZE-09","2018-10-29","SZT"]
["08301","ZENERGY OM - COKÓŁ W800 IP-55",266.7,"1-ZE-09","2018-10-22","SZT"]
["08303","ZENERGY OM - DWIE POKRYWY POZIOME W800 IP-55 Z OTWOREM 81X222 POD PRZEPUST IP-55",160,"1-ZE-09","2018-10-29","SZT"]
["08304","ZENERGY OM - DWIE POKRYWY POZIOME W800 IP-55 Z DWOMA OTWORAMI 81X222 POD PRZEPUST IP-55",160,"1-ZE-09","2018-10-29","SZT"]
["08305","ZENERGY OM - DWIE POKRYWY POZIOME W800 IP-55 Z TRZEMA OTWORAMI 81X222 POD PRZEPUST IP-55",160,"1-ZE-09","2018-10-29","SZT"]
["08306","ZENERGY OM - POKRYWA POZIOMA ROZSZERZENIA - PRZEPUST W800 IP-55",155.4,"1-ZE-09","2018-10-22","SZT"]
["08307","ZENERGY OM - DWIE POKRYWY POZIOME COKOŁU W800 D230 IP-55",160,"1-ZE-09","2021-12-01","SZT"]
["08309","ZENERGY OM - POKRYWA TYLNA W800 H550 9M IP-55",285.8,"1-ZE-09","2018-10-22","SZT"]
["08312","ZENERGY OM - POKRYWA TYLNA W800 H700 12M IP-55",300.89999999999998,"1-ZE-09","2018-10-22","SZT"]
["08315","ZENERGY OM - POKRYWA TYLNA W800 H850 15M IP-55",334.1,"1-ZE-09","2018-10-22","SZT"]
["08318","ZENERGY OM - POKRYWA TYLNA W800 H1000 18M IP-55",440.9,"1-ZE-09","2018-10-22","SZT"]
["08321","ZENERGY OM - POKRYWA TYLNA W800 H1150 21M IP-55",384.6,"1-ZE-09","2018-10-22","SZT"]
["08324","ZENERGY OM - POKRYWA TYLNA W800 H1300 24M IP-55",408.8,"1-ZE-09","2018-10-22","SZT"]
["08327","ZENERGY OM - POKRYWA TYLNA W800 H1450 27M IP-55",430.8,"1-ZE-09","2018-10-22","SZT"]
["08328","ZENERGY OM - POKRYWA TYLNA W800 H1600 28M IP-55",545.9,"1-ZE-09","2018-10-22","SZT"]
["08329","ZENERGY OM - POKRYWA TYLNA W800 H1550 29M IP-55",461.4,"1-ZE-09","2018-10-22","SZT"]
["08330","ZENERGY OM - POKRYWA TYLNA W800 H1700 30M IP-55",585.29999999999995,"1-ZE-09","2018-10-22","SZT"]
["08333","ZENERGY OM - POKRYWA TYLNA W800 H1850 33M IP-55",674,"1-ZE-09","2018-10-22","SZT"]
["08336","ZENERGY OM - POKRYWA TYLNA W800 H2000 36M IP-55",695.7,"1-ZE-09","2018-10-22","SZT"]
["08339","ZENERGY OM - POKRYWA TYLNA W800 H2150 39M IP-55",723.7,"1-ZE-09","2018-10-22","SZT"]
["08340","ZENERGY OM - DWIE POKRYWY POZIOME W800 D300 IP-55",185.7,"1-ZE-09","2001-01-01","SZT"]
["08341","ZENERGY OM - COKÓŁ W800 D300 IP-55",309.3,"1-ZE-09","2001-01-01","SZT"]
["08343","ZENERGY OM - DWIE POKRYWY POZIOME W800 D300 IP-55 Z OTWOREM 81X222 POD PRZEPUST IP-55",185.7,"1-ZE-09","2001-01-01","SZT"]
["08344","ZENERGY OM - DWIE POKRYWY POZIOME W800 D300 IP-55 Z DWOMA OTWORAMI 81X222 POD PRZEPUST IP-55",185.7,"1-ZE-09","2001-01-01","SZT"]
["08345","ZENERGY OM - DWIE POKRYWY POZIOME W800 D300 IP-55 Z TRZEMA OTWORAMI 81X222 POD PRZEPUST IP-55",185.7,"1-ZE-09","2001-01-01","SZT"]
["08346","ZENERGY OM - POKRYWA POZIOMA ROZSZERZENIA - PRZEPUST W800 D300 IP-55",180.4,"1-ZE-09","2001-01-01","SZT"]
["08347","ZENERGY OM - DWIE POKRYWY POZIOME COKOŁU W800 D300 IP-55",185.7,"1-ZE-09","2021-12-01","SZT"]
["09010","ZENERGY - RAMKA ZEWNĘTRZNA, D1000, H2200",546.29999999999995,"1-ZE-10","2021-12-01","SZT"]
["09011","ZENERGY - RAMKA ZEWNĘTRZNA, PODWÓJNA PERFORACJA, D1000, H2200",556.20000000000005,"1-ZE-10","2021-12-01","SZT"]
["09012","ZENERGY - RAMKA WEWNĘTRZNA, PODWÓJNA, D1000, H2200",583.4,"1-ZE-10","2021-12-01","SZT"]
["09020","ZENERGY - RAMKA ZEWNĘTRZNA, D230, H2200",226,"1-ZE-10","2019-10-02","SZT"]
["09021","ZENERGY - RAMKA ZEWNĘTRZNA, PODWÓJNA PERFORACJA, D230, H2200",226,"1-ZE-10","2019-10-02","SZT"]
["09022","ZENERGY - RAMKA WEWNĘTRZNA, PODWÓJNA, D230, H2200",243.3,"1-ZE-10","2019-10-02","SZT"]
["09030","ZENERGY - RAMKA ZEWNĘTRZNA, D300, H2200",243.3,"1-ZE-10","2019-10-02","SZT"]
["09031","ZENERGY - RAMKA ZEWNĘTRZNA, PODWÓJNA PERFORACJA, D300, H2200",243.3,"1-ZE-10","2019-10-02","SZT"]
["09032","ZENERGY - RAMKA WEWNĘTRZNA, PODWÓJNA, D300, H2200",260.7,"1-ZE-10","2019-10-02","SZT"]
["09040","ZENERGY - RAMKA ZEWNĘTRZNA, D400, H2200",278.10000000000002,"1-ZE-10","2019-10-02","SZT"]
["09041","ZENERGY - RAMKA ZEWNĘTRZNA, PODWÓJNA PERFORACJA, D400, H2200",278.10000000000002,"1-ZE-10","2019-10-02","SZT"]
["09042","ZENERGY - RAMKA WEWNĘTRZNA, PODWÓJNA, D400, H2200",295.5,"1-ZE-10","2019-10-02","SZT"]
["09060","ZENERGY - RAMKA ZEWNĘTRZNA, D600, H2200",391,"1-ZE-10","2019-10-02","SZT"]
["09061","ZENERGY - RAMKA ZEWNĘTRZNA, PODWÓJNA PERFORACJA, D600, H2200",391,"1-ZE-10","2019-10-02","SZT"]
["09062","ZENERGY - RAMKA WEWNĘTRZNA, PODWÓJNA, D600, H2200",371.8,"1-ZE-10","2019-10-02","SZT"]
["09080","ZENERGY - RAMKA ZEWNĘTRZNA, D800, H2200",431,"1-ZE-10","2019-10-02","SZT"]
["09081","ZENERGY - RAMKA ZEWNĘTRZNA, PODWÓJNA PERFORACJA, D800, H2200",431,"1-ZE-10","2019-10-02","SZT"]
["09082","ZENERGY - RAMKA WEWNĘTRZNA, PODWÓJNA, D800, H2200",464.7,"1-ZE-10","2019-10-02","SZT"]
["09200","ZENERGY OM - DWIE POKRYWY POZIOME W1000 IP-30",160.19999999999999,"1-ZE-09","2018-10-29","SZT"]
["09201","ZENERGY OM - COKÓŁ W1000 IP-30",275.8,"1-ZE-09","2018-10-22","SZT"]
["09203","ZENERGY OM - DWIE POKRYWY POZIOME W1000 IP-30 Z OTWOREM 81X222 POD PRZEPUST IP-55",160.19999999999999,"1-ZE-09","2018-10-29","SZT"]
["09204","ZENERGY OM - DWIE POKRYWY POZIOME W1000 IP-30 Z DWOMA OTWORAMI 81X222 POD PRZEPUST IP-55",160.19999999999999,"1-ZE-09","2018-10-29","SZT"]
["09205","ZENERGY OM - DWIE POKRYWY POZIOME W1000 IP-30 Z TRZEMA OTWORAMI 81X222 POD PRZEPUST IP-55",160.19999999999999,"1-ZE-09","2018-10-29","SZT"]
["09206","ZENERGY OM - POKRYWA POZIOMA ROZSZERZENIA - PRZEPUST W1000 IP-30",149.6,"1-ZE-09","2018-10-22","SZT"]
["09207","ZENERGY OM - DWIE POKRYWY POZIOME COKOŁU W1000 D230 IP-30",160.19999999999999,"1-ZE-09","2021-12-01","SZT"]
["09209","ZENERGY OM - POKRYWA TYLNA W1000 H550 9M IP-30",203.1,"1-ZE-09","2018-10-22","SZT"]
["09212","ZENERGY OM - POKRYWA TYLNA W1000 H700 12M IP-30",204.7,"1-ZE-09","2018-10-22","SZT"]
["09215","ZENERGY OM - POKRYWA TYLNA W1000 H850 15M IP-30",229.9,"1-ZE-09","2018-10-22","SZT"]
["09218","ZENERGY OM - POKRYWA TYLNA W1000 H1000 18M IP-30",256.7,"1-ZE-09","2018-10-22","SZT"]
["09221","ZENERGY OM - POKRYWA TYLNA W1000 H1150 21M IP-30",269.89999999999998,"1-ZE-09","2018-10-22","SZT"]
["09224","ZENERGY OM - POKRYWA TYLNA W1000 H1300 24M IP-30",284.5,"1-ZE-09","2018-10-22","SZT"]
["09227","ZENERGY OM - POKRYWA TYLNA W1000 H1450 27M IP-30",296.3,"1-ZE-09","2018-10-22","SZT"]
["09228","ZENERGY OM - POKRYWA TYLNA W1000 H1600 28M IP-30",484.3,"1-ZE-09","2018-10-22","SZT"]
["09229","ZENERGY OM - POKRYWA TYLNA W1000 H1550 29M IP-30",322.3,"1-ZE-09","2018-10-22","SZT"]
["09230","ZENERGY OM - POKRYWA TYLNA W1000 H1700 30M IP-30",510.5,"1-ZE-09","2018-10-22","SZT"]
["09233","ZENERGY OM - POKRYWA TYLNA W1000 H1850 33M IP-30",658.3,"1-ZE-09","2018-10-22","SZT"]
["09236","ZENERGY OM - POKRYWA TYLNA W1000 H2000 36M IP-30",712.5,"1-ZE-09","2018-10-22","SZT"]
["09239","ZENERGY OM - POKRYWA TYLNA W1000 H2150 39M IP-30",786.6,"1-ZE-09","2018-10-22","SZT"]
["09240","ZENERGY OM - DWIE POKRYWY POZIOME W1000 D300 IP-30",185.9,"1-ZE-09","2001-01-01","SZT"]
["09241","ZENERGY OM - COKÓŁ W1000 D300 IP-30",320,"1-ZE-09","2001-01-01","SZT"]
["09243","ZENERGY OM - DWIE POKRYWY POZIOME W1000 D300 IP-30 Z OTWOREM 81X222 POD PRZEPUST IP-55",185.9,"1-ZE-09","2001-01-01","SZT"]
["09244","ZENERGY OM - DWIE POKRYWY POZIOME W1000 D300 IP-30 Z DWOMA OTWORAMI 81X222 POD PRZEPUST IP-55",185.9,"1-ZE-09","2001-01-01","SZT"]
["09245","ZENERGY OM - DWIE POKRYWY POZIOME W1000 D300 IP-30 Z TRZEMA OTWORAMI 81X222 POD PRZEPUST IP-55",185.9,"1-ZE-09","2001-01-01","SZT"]
["09246","ZENERGY OM - POKRYWA POZIOMA ROZSZERZENIA - PRZEPUST W1000 D300 IP-30",173.6,"1-ZE-09","2001-01-01","SZT"]
["09247","ZENERGY OM - DWIE POKRYWY POZIOME COKOŁU W1000 D300 IP-30",185.9,"1-ZE-09","2021-12-01","SZT"]
["09300","ZENERGY OM - DWIE POKRYWY POZIOME W1000 IP-55",193.1,"1-ZE-09","2018-10-29","SZT"]
["09301","ZENERGY OM - COKÓŁ W1000 IP-55",298.60000000000002,"1-ZE-09","2018-10-22","SZT"]
["09303","ZENERGY OM - DWIE POKRYWY POZIOME W1000 IP-55 Z OTWOREM 81X222 POD PRZEPUST IP-55",193.1,"1-ZE-09","2018-10-29","SZT"]
["09304","ZENERGY OM - DWIE POKRYWY POZIOME W1000 IP-55 Z DWOMA OTWORAMI 81X222 POD PRZEPUST IP-55",193.1,"1-ZE-09","2018-10-29","SZT"]
["09305","ZENERGY OM - DWIE POKRYWY POZIOME W1000 IP-55 Z TRZEMA OTWORAMI 81X222 POD PRZEPUST IP-55",193.1,"1-ZE-09","2018-10-29","SZT"]
["09306","ZENERGY OM - POKRYWA POZIOMA ROZSZERZENIA - PRZEPUST W1000 IP-55",186.8,"1-ZE-09","2018-10-22","SZT"]
["09307","ZENERGY OM - DWIE POKRYWY POZIOME COKOŁU W1000 D230 IP-55",193.1,"1-ZE-09","2021-12-01","SZT"]
["09309","ZENERGY OM - POKRYWA TYLNA W1000 H550 9M IP-55",335.7,"1-ZE-09","2018-10-22","SZT"]
["09312","ZENERGY OM - POKRYWA TYLNA W1000 H700 12M IP-55",351.6,"1-ZE-09","2018-10-22","SZT"]
["09315","ZENERGY OM - POKRYWA TYLNA W1000 H850 15M IP-55",386.9,"1-ZE-09","2018-10-22","SZT"]
["09318","ZENERGY OM - POKRYWA TYLNA W1000 H1000 18M IP-55",495.9,"1-ZE-09","2018-10-22","SZT"]
["09321","ZENERGY OM - POKRYWA TYLNA W1000 H1150 21M IP-55",443.8,"1-ZE-09","2018-10-22","SZT"]
["09324","ZENERGY OM - POKRYWA TYLNA W1000 H1300 24M IP-55",471.8,"1-ZE-09","2018-10-22","SZT"]
["09327","ZENERGY OM - POKRYWA TYLNA W1000 H1450 27M IP-55",497.4,"1-ZE-09","2018-10-22","SZT"]
["09328","ZENERGY OM - POKRYWA TYLNA W1000 H1600 28M IP-55",656.4,"1-ZE-09","2018-10-22","SZT"]
["09329","ZENERGY OM - POKRYWA TYLNA W1000 H1550 29M IP-55",532,"1-ZE-09","2018-10-22","SZT"]
["09330","ZENERGY OM - POKRYWA TYLNA W1000 H1700 39M IP-55",688.7,"1-ZE-09","2018-10-22","SZT"]
["09333","ZENERGY OM - POKRYWA TYLNA W1000 H1850 33M IP-55",810.4,"1-ZE-09","2018-10-22","SZT"]
["09336","ZENERGY OM - POKRYWA TYLNA W1000 H2000 36M IP-55",851.5,"1-ZE-09","2018-10-22","SZT"]
["09339","ZENERGY OM - POKRYWA TYLNA W1000 H2150 39M IP-55",877,"1-ZE-09","2018-10-22","SZT"]
["09340","ZENERGY OM - DWIE POKRYWY POZIOME W1000 D300 IP-55",224,"1-ZE-09","2001-01-01","SZT"]
["09341","ZENERGY OM - COKÓŁ W1000 D300 IP-55",346.4,"1-ZE-09","2001-01-01","SZT"]
["09343","ZENERGY OM - DWIE POKRYWY POZIOME W1000 D300 IP-55 Z OTWOREM 81X222 POD PRZEPUST IP-55",224,"1-ZE-09","2001-01-01","SZT"]
["09344","ZENERGY OM - DWIE POKRYWY POZIOME W1000 D300 IP-55 Z DWOMA OTWORAMI 81X222 POD PRZEPUST IP-55",224,"1-ZE-09","2001-01-01","SZT"]
["09345","ZENERGY OM - DWIE POKRYWY POZIOME W1000 D300 IP-55 Z TRZEMA OTWORAMI 81X222 POD PRZEPUST IP-55",224,"1-ZE-09","2001-01-01","SZT"]
["09346","ZENERGY OM - POKRYWA POZIOMA ROZSZERZENIA - PRZEPUST W1000 D300 IP-55",216.8,"1-ZE-09","2001-01-01","SZT"]
["09347","ZENERGY OM - DWIE POKRYWY POZIOME COKOŁU W1000 D300 IP-55",224,"1-ZE-09","2021-12-01","SZT"]
["10106","ZENERGY PT - ROZDZIELNICA PODTYNKOWA H400 X W600 2X24MOD IP30, 6H MOD, BEZ DRZWI",368.6,"1-ZE-03","2019-02-22","SZT"]
["10109","ZENERGY PT - ROZDZIELNICA PODTYNKOWA H550 X W600 3X24MOD IP30, 9H MOD, BEZ DRZWI",444.1,"1-ZE-03","2019-02-22","SZT"]
["10112","ZENERGY PT - ROZDZIELNICA PODTYNKOWA H700 X W600 4X24MOD IP30, 12H MOD, BEZ DRZWI",516.1,"1-ZE-03","2019-02-22","SZT"]
["10115","ZENERGY PT - ROZDZIELNICA PODTYNKOWA H850 X W600 5X24MOD IP30, 15H MOD, BEZ DRZWI",611.29999999999995,"1-ZE-03","2019-02-22","SZT"]
["10118","ZENERGY PT - ROZDZIELNICA PODTYNKOWA H1000 X W600 6X24MOD IP30, 18H MOD, BEZ DRZWI",705.9,"1-ZE-03","2019-02-22","SZT"]
["10121","ZENERGY PT - ROZDZIELNICA PODTYNKOWA H1150 X W600 7X24MOD IP30, 21H MOD, BEZ DRZWI",804.2,"1-ZE-03","2019-02-22","SZT"]
["10124","ZENERGY PT - ROZDZIELNICA PODTYNKOWA H1300 X W600 8X24MOD IP30, 24H MOD, BEZ DRZWI",896.8,"1-ZE-03","2019-02-22","SZT"]
["10127","ZENERGY PT - ROZDZIELNICA PODTYNKOWA H1450 X W600 9X24MOD IP30, 27H MOD, BEZ DRZWI",984.5,"1-ZE-03","2019-02-22","SZT"]
["10130","ZENERGY PT - ROZDZIELNICA PODTYNKOWA H1600 X W600 10X24MOD IP30, 30H MOD, BEZ DRZWI",1221.3,"1-ZE-03","2019-02-22","SZT"]
["10206","ZENERGY PT - ROZDZIELNICA PODTYNKOWA H400 X W800 x D180 2X35MOD IP30, 6H MOD, BEZ DRZWI",471.6,"1-ZE-03","2021-12-01","SZT"]
["10209","ZENERGY PT - ROZDZIELNICA PODTYNKOWA H550 X W800 x D180 3X35MOD IP30, 9H MOD, BEZ DRZWI",579.70000000000005,"1-ZE-03","2021-12-01","SZT"]
["10212","ZENERGY PT - ROZDZIELNICA PODTYNKOWA H700 X W800 x D180 4X35MOD IP30, 12H MOD, BEZ DRZWI",683.8,"1-ZE-03","2021-12-01","SZT"]
["10215","ZENERGY PT - ROZDZIELNICA PODTYNKOWA H850 X W800 x D180 5X35MOD IP30, 15H MOD, BEZ DRZWI",813.9,"1-ZE-03","2021-12-01","SZT"]
["10218","ZENERGY PT - ROZDZIELNICA PODTYNKOWA H1000 X W800 x D180 6X35MOD IP30, 18H MOD, BEZ DRZWI",943.7,"1-ZE-03","2021-12-01","SZT"]
["10221","ZENERGY PT - ROZDZIELNICA PODTYNKOWA H1150 X W800 x D180 7X35MOD IP30, 21H MOD, BEZ DRZWI",1077.8,"1-ZE-03","2021-12-01","SZT"]
["10224","ZENERGY PT - ROZDZIELNICA PODTYNKOWA H1300 X W800 x D180 8X35MOD IP30, 24H MOD, BEZ DRZWI",1205.4000000000001,"1-ZE-03","2021-12-01","SZT"]
["10227","ZENERGY PT - ROZDZIELNICA PODTYNKOWA H1450 X W800 x D180 9X35MOD IP30, 27H MOD, BEZ DRZWI",1333.2,"1-ZE-03","2021-12-01","SZT"]
["10230","ZENERGY PT - ROZDZIELNICA PODTYNKOWA H1600 X W800 x D180 10X35MOD IP30, 30H MOD, BEZ DRZWI",1544,"1-ZE-03","2021-12-01","SZT"]
["17065","Zenergy MCC - Poprzeczka ramy MCC W650",128.80000000000001,"1-ZE-01","2020-06-04","SZT"]
["17066","Zenergy MCC - Poprzeczka ramy do drzwi MCC W650",128.80000000000001,"1-ZE-01","2021-12-01","SZT"]
["17165","Zenergy MCC - Listwy maskujące zabudowe do osłon czołowych W650",41.2,"1-ZE-01","2021-12-01","SZT"]
["17204","Zenergy MCC - Drzwi pełne IP40, 4 mod, H200 x W650",103,"1-ZE-03","2019-01-18","SZT"]
["17205","Zenergy MCC - Drzwi pełne IP40, 5 mod, H250 x W650",118.5,"1-ZE-03","2021-12-01","SZT"]
["17208","Zenergy MCC - Drzwi pełne IP40, 8 mod, H450 x W650",122.6,"1-ZE-03","2021-12-01","SZT"]
["17209","Zenergy MCC - Drzwi pełne IP40, 9 mod, H450 x W650",123.6,"1-ZE-03","2019-01-18","SZT"]
["17210","Zenergy MCC - Drzwi pełne IP40, 10 mod, H500 x W650",133.9,"1-ZE-03","2021-12-01","SZT"]
["17212","Zenergy MCC - Drzwi pełne IP40, 12 mod, H600 x W650",144.19999999999999,"1-ZE-03","2021-12-01","SZT"]
["17213","Zenergy MCC - Drzwi pełne IP40, 13 mod, H650 x W650",149.4,"1-ZE-03","2021-12-01","SZT"]
["17215","Zenergy MCC - Drzwi pełne IP40, 15 mod, H750 x W650",164.8,"1-ZE-03","2021-12-01","SZT"]
["17218","Zenergy MCC - Drzwi pełne IP40, 18 mod, H900 x W650",185.4,"1-ZE-03","2021-12-01","SZT"]
["17220","Zenergy MCC - Drzwi pełne IP40, 20 mod, H1000 x W650",206,"1-ZE-03","2021-12-01","SZT"]
["17271","Zenergy MCC - Listwa zawiasów MCC H2200",92.7,"1-ZE-01","2021-12-01","SZT"]
["17272","Zenergy MCC - Listwa zawiasów MCC H2000",82.4,"1-ZE-01","2019-10-02","SZT"]
["17273","Zenergy MCC - Obudowa mostu pionowego 3P MCC H2000",824,"1-ZE-01","2019-10-02","SZT"]
["17274","Zenergy MCC - Obudowa mostu pionowego 4P MCC H2000",927,"1-ZE-01","2019-10-02","SZT"]
["17275","Zenergy MCC - 100MM KRATOWNICA IP20 - 3P ŻALUZJA SZYN TYLNYCH PIONOWYCH",10.8,"1-ZE-01","2019-10-02","SZT"]
["17362","Zenergy MCC - Część stała kasetowa 3P 3M W650",639.6,"1-ZE-01","2021-12-01","SZT"]
["17363","Zenergy MCC - Kaseta 3P 3M W650, napęd obrotowy MCCB 250A",1334.9,"1-ZE-01","2021-12-01","SZT"]
["17364","Zenergy MCC - Część stała kasetowa 3P 3M W650 125A EPIC",592.29999999999995,"1-ZE-01","2021-12-01","SZT"]
["17365","Zenergy MCC - Kaseta 3P 3M W650, napęd obrotowy MCCB 125A EPIC",1236,"1-ZE-01","2021-12-01","SZT"]
["17400","Zenergy MCC - Blacha dzieląca część stałą kasety 4M",166.9,"1-ZE-01","2021-12-01","SZT"]
["17401","Zenergy MCC - Moduł zasilania 2-wtyki 50A EPIC LAPP",100.1,"1-ZE-01","2021-12-01","SZT"]
["17402","Zenergy MCC - Moduł zasilania 3-wtyki 50A EPIC LAPP",127.9,"1-ZE-01","2021-12-01","SZT"]
["17408","Zenergy MCC - Drzwi transparentne IP40, 8 mod, H400 x W650",226.6,"1-ZE-03","2021-12-01","SZT"]
["17409","Zenergy MCC - Drzwi transparentne IP40, 9 mod, H450 x W650",231.8,"1-ZE-03","2021-12-01","SZT"]
["17412","Zenergy MCC - Drzwi transparentne IP40, 12 mod, H600 x W650",247.2,"1-ZE-03","2021-12-01","SZT"]
["17413","Zenergy MCC - Drzwi transparentne IP40, 13 mod, H650 x W650",255.9,"1-ZE-03","2021-12-01","SZT"]
["17450","Zenergy MCC - Część stała wtykowa 4P 4M W650",584,"1-ZE-01","2021-12-01","SZT"]
["17451","Zenergy MCC - Płyta wtykowa 100-250A 4P 4M W650",723.1,"1-ZE-01","2021-12-01","SZT"]
["17460","Zenergy MCC - Część stała wtykowa 3P 4M W650",584,"1-ZE-01","2020-06-04","SZT"]
["17461","Zenergy MCC - Płyta wtykowa 400-630A 3P 4M W650",723.1,"1-ZE-01","2020-06-04","SZT"]
["17462","Zenergy MCC - Część stała kasetowa 3P 4M W650",639.6,"1-ZE-01","2021-12-01","SZT"]
["17463","Zenergy MCC - Kaseta 3P 4M W650, napęd obrotowy MCCB 630A",1334.9,"1-ZE-01","2021-12-01","SZT"]
["17464","Zenergy MCC - Część stała kasetowa dzielona 4P 4M W650",639.6,"1-ZE-01","2021-12-01","SZT"]
["17474","Zenergy MCC - Kaseta 1/4 4M W650, napęd obrotowy GV2P 3P 50A",1334.9,"1-ZE-01","2021-12-01","SZT"]
["17550","Zenergy MCC - Część stała wtykowa 4P 5M W650",741.6,"1-ZE-01","2021-12-01","SZT"]
["17551","Zenergy MCC - Płyta wtykowa 400-630A 4P 5M W650",927,"1-ZE-01","2021-12-01","SZT"]
["17562","Zenergy MCC - Część stała kasetowa 3P 5M W650",661.9,"1-ZE-01","2021-12-01","SZT"]
["17563","Zenergy MCC - Kaseta 3P 5M W650, napęd obrotowy MCCB 630A",1357.1,"1-ZE-01","2021-12-01","SZT"]
["17662","Zenergy MCC - Część stała kasetowa 3P 6M W650",638.6,"1-ZE-01","2021-12-01","SZT"]
["17663","Zenergy MCC - Kaseta 3P 6M W650, napęd obrotowy MCCB 630A",1390.5,"1-ZE-01","2021-12-01","SZT"]
["17710","Zenergy MCC - Adaptery MCC-10M do zabudowy osłon czołowych 9M",122.4,"1-ZE-01","2021-12-01","SZT"]
["17711","Zenergy MCC - Adaptery MCC-11M do zabudowy osłon czołowych 10M",133.5,"1-ZE-01","2021-12-01","SZT"]
["17712","Zenergy MCC - Adaptery MCC-12M do zabudowy osłon czołowych 11M",144.6,"1-ZE-01","2021-12-01","SZT"]
["17713","Zenergy MCC - Adaptery MCC-13M do zabudowy osłon czołowych 12M",155.69999999999999,"1-ZE-01","2021-12-01","SZT"]
["17714","Zenergy MCC - Adaptery MCC-14M do zabudowy osłon czołowych 13M",166.9,"1-ZE-01","2021-12-01","SZT"]
["17715","Zenergy MCC - Adaptery MCC-15M do zabudowy osłon czołowych 14M",178,"1-ZE-01","2021-12-01","SZT"]
["17718","Zenergy MCC - Adaptery MCC-18M do zabudowy osłon czołowych 17M",211.4,"1-ZE-01","2021-12-01","SZT"]
["17730","Zenergy MCC - Adaptery MCC-3M do zabudowy osłon czołowych 2M",55.6,"1-ZE-01","2021-12-01","SZT"]
["17740","Zenergy MCC - Adaptery MCC-4M do zabudowy osłon czołowych 3M",55.6,"1-ZE-01","2021-12-01","SZT"]
["17750","Zenergy MCC - Adaptery MCC-5M do zabudowy osłon czołowych 4M",61.8,"1-ZE-01","2021-12-01","SZT"]
["17760","Zenergy MCC - Adaptery MCC-6M do zabudowy osłon czołowych 5M",77.900000000000006,"1-ZE-01","2021-12-01","SZT"]
["17764","Zenergy MCC - Kaseta 4P 7M W650, napęd obrotowy MCCB 800A-1000A",2575,"1-ZE-01","2021-12-01","SZT"]
["17770","Zenergy MCC - Adaptery MCC-7M do zabudowy osłon czołowych 6M",82.4,"1-ZE-01","2021-12-01","SZT"]
["17780","Zenergy MCC - Adaptery MCC-8M do zabudowy osłon czołowych 7M",100.1,"1-ZE-01","2021-12-01","SZT"]
["17790","Zenergy MCC - Adaptery MCC-9M do zabudowy osłon czołowych 8M",111.2,"1-ZE-01","2021-12-01","SZT"]
["180804CP","ZENERGY - OBUDOWA H1800, W800, D400, COKÓŁ H100,  PŁYTA MONTAŻOWA,  IP55",4163.7,"1-ZE-01","2021-12-01","SZT"]
["19000","ZENERGY IT - 12 WSPORNIKÓW PORZADKUJĄCYCH KABLE",94,"1-ZE-01","2019-10-02","SZT"]
["191065200","ZENERGY IT- OBUDOWA RAMOWA STOJĄCA 19-CALI, D=1000, W=650, H=2000, IP-30",3275,"1-ZE-01","2021-12-01","SZT"]
["191065660","PÓŁKA 19\" STAŁA GŁĘBOKOŚĆ 660MM",78.2,"1-ZE-01","2021-12-01","SZT"]
["191065661","PÓŁKA 19\" WYSUWNA GŁĘBOKOŚĆ 660MM",150.4,"1-ZE-01","2021-12-01","SZT"]
["19160","ZENERGY - WSPORNIKI BOCZNE RACK 19, 42U  ( 4 SZT ) SZAFA  D=1000 W=650",422.4,"1-ZE-01","2019-10-02","SZT"]
["19180","ZENERGY - WSPORNIKI BOCZNE RACK 19, 42U  ( 4 SZT ) SZAFA  D=1000 W=800",469.2,"1-ZE-01","2019-10-02","SZT"]
["19181","ZENERGY - WSPORNIKI BOCZNE RACK 19, 47U  ( 4 SZT ) SZAFA  D=1000 W=800 H=2250",500.5,"1-ZE-01","2019-10-02","SZT"]
["19191","ZENERGY - IT SZUFLADA BEZPIECZEŃSTWA COKOŁU PRZÓD + TYŁ, H=100, W=800",218.5,"1-ZE-01","2019-10-02","SZT"]
["19201","IZOLATOR WSPORCZY ROZSTAW 60MM SZYN 30X10MM 3P",12.4,"1-ZE-01","2019-10-02","SZT"]
["20000","ALCUBAR - Profil anodowany AlCubar H150R, 3 rowki Cu, 8mm i 12mm, 3200A dt 55C",661.5,"1-ZE-08","2022-02-10","SZT"]
["20011","ALCUBAR - PRZYŁĄCZE M10 x 3, M12 x 1, Cu 185x80x5mm",96.8,"1-ZE-08","2018-10-22","SZT"]
["20012","ALCUBAR - PRZYŁĄCZE M10 x 4, M12 x 2, Cu 275x80x5mm",145,"1-ZE-08","2018-10-22","SZT"]
["20013","ALCUBAR - PRZYŁĄCZE M10 x 5, M12 x 3, Cu 375x80x5mm",190.8,"1-ZE-08","2018-10-22","SZT"]
["20014","ALCUBAR - PRZYŁĄCZE M10 x 6, M12 x 4, Cu 455x80x5mm",228.6,"1-ZE-08","2018-10-22","SZT"]
["20021","ALCUBAR - PROFIL ANODOWANY ALCUBAR H27, 360 MM2, 1 ROWEK CU, 6 MM, 630A DT 39C, 800A DT 57C",102.9,"1-ZE-08","2018-10-22","M"]
["20021.0950","ALCUBAR - PROFIL ANODOWANY ALCUBAR H27, 360 MM2, 1 ROWEK CU, 6 MM, 630A DT 39C, 800A DT 57C 950MM",97.8,"1-ZE-08","2001-01-01","SZT"]
["20021.0980","ALCUBAR - PROFIL ANODOWANY ALCUBAR H27, 360 MM2, 1 ROWEK CU, 6 MM, 630A DT 39C, 800A DT 57C 980MM",100.9,"1-ZE-08","2001-01-01","SZT"]
["20021.1030","ALCUBAR - PROFIL ANODOWANY ALCUBAR H27, 360 MM2, 1 ROWEK CU, 6 MM, 630A DT 39C, 800A DT 57C 1030MM",106.1,"1-ZE-08","2001-01-01","SZT"]
["20021.1260","ALCUBAR - PROFIL ANODOWANY ALCUBAR H27, 360 MM2, 1 ROWEK CU, 6 MM, 630A DT 39C, 800A DT 57C 1260MM",129.69999999999999,"1-ZE-08","2001-01-01","SZT"]
["20021.1750","ALCUBAR - PROFIL ANODOWANY ALCUBAR H27, 360 MM2, 1 ROWEK CU, 6 MM, 630A DT 39C, 800A DT 57C 1750MM",180.1,"1-ZE-08","2001-01-01","SZT"]
["20021.2200","ALCUBAR - PROFIL ANODOWANY ALCUBAR H27, 360 MM2, 1 ROWEK CU, 6 MM, 630A DT 39C, 800A DT 57C 2200MM",226.4,"1-ZE-08","2018-10-22","SZT"]
["20022","ALCUBAR - PROFIL ANODOWANY ALCUBAR H27, 360 MM2, 1 ROWEK CU, 8 MM, 630A DT 39C, 800A DT 57C",102.9,"1-ZE-08","2018-10-22","M"]
["20022.0475","ALCUBAR - PROFIL ANODOWANY ALCUBAR H27, 360 MM2, 1 ROWEK CU, 8 MM, 630A DT 39C, 800A DT 57C 475MM",48.9,"1-ZE-08","2001-01-01","SZT"]
["20022.0660","ALCUBAR - PROFIL ANODOWANY ALCUBAR H27, 360 MM2, 1 ROWEK CU, 8 MM, 630A DT 39C, 800A DT 57C 660MM",67.900000000000006,"1-ZE-08","2021-12-01","SZT"]
["20022.0877","ALCUBAR - PROFIL ANODOWANY ALCUBAR H27, 360 MM2, 1 ROWEK CU, 8 MM, 630A DT 39C, 800A DT 57C 877MM",90.3,"1-ZE-08","2021-12-01","SZT"]
["20022.1000","ALCUBAR - PROFIL ANODOWANY ALCUBAR H27, 360 MM2, 1 ROWEK CU, 8 MM, 630A DT 39C, 800A DT 57C 1000MM",102.9,"1-ZE-08","2001-01-01","SZT"]
["20022.1048","ALCUBAR - PROFIL ANODOWANY ALCUBAR H27, 360 MM2, 1 ROWEK CU, 8 MM, 630A DT 39C, 800A DT 57C 1048MM",107.8,"1-ZE-08","2021-12-01","SZT"]
["20022.1200","ALCUBAR - PROFIL ANODOWANY ALCUBAR H27, 360 MM2, 1 ROWEK CU, 8 MM, 630A DT 39C, 800A DT 57C 1200MM",123.5,"1-ZE-08","2001-01-01","SZT"]
["20022.1400","ALCUBAR - PROFIL ANODOWANY ALCUBAR H27, 360 MM2, 1 ROWEK CU, 8 MM, 630A DT 39C, 800A DT 57C 1400MM",144.1,"1-ZE-08","2001-01-01","SZT"]
["20022.1470","ALCUBAR - PROFIL ANODOWANY ALCUBAR H27, 360 MM2, 1 ROWEK CU, 8 MM, 630A DT 39C, 800A DT 57C 1470MM",151.30000000000001,"1-ZE-08","2021-12-01","SZT"]
["20022.1498","ALCUBAR - PROFIL ANODOWANY ALCUBAR H27, 360 MM2, 1 ROWEK CU, 8 MM, 630A DT 39C, 800A DT 57C 1498MM",154.1,"1-ZE-08","2021-12-01","SZT"]
["20022.1500","ALCUBAR - PROFIL ANODOWANY ALCUBAR H27, 360 MM2, 1 ROWEK CU, 8 MM, 630A DT 39C, 800A DT 57C 1500MM",154.4,"1-ZE-08","2021-12-01","SZT"]
["20022.1550","ALCUBAR - PROFIL ANODOWANY ALCUBAR H27, 360 MM2, 1 ROWEK CU, 8 MM, 630A DT 39C, 800A DT 57C 1550MM",159.5,"1-ZE-08","2021-12-01","SZT"]
["20022.1750","ALCUBAR - PROFIL ANODOWANY ALCUBAR H27, 360 MM2, 1 ROWEK CU, 8 MM, 630A DT 39C, 800A DT 57C 1750MM",179.6,"1-ZE-08","2018-10-22","SZT"]
["20022.1777","ALCUBAR - PROFIL ANODOWANY ALCUBAR H27, 360 MM2, 1 ROWEK CU, 8 MM, 630A DT 39C, 800A DT 57C 1777MM",182.9,"1-ZE-08","2021-12-01","SZT"]
["20022.1927","ALCUBAR - PROFIL ANODOWANY ALCUBAR H27, 360 MM2, 1 ROWEK CU, 8 MM, 630A DT 39C, 800A DT 57C 1927MM",198.3,"1-ZE-08","2021-12-01","SZT"]
["20022.1948","ALCUBAR - PROFIL ANODOWANY ALCUBAR H27, 360 MM2, 1 ROWEK CU, 8 MM, 630A DT 39C, 800A DT 57C 1948MM",200.4,"1-ZE-08","2021-12-01","SZT"]
["20022.1950","ALCUBAR - PROFIL ANODOWANY ALCUBAR H27, 360 MM2, 1 ROWEK CU, 8 MM, 630A DT 39C, 800A DT 57C 1950MM",200.7,"1-ZE-08","2018-10-22","SZT"]
["20022.2000","ALCUBAR - PROFIL ANODOWANY ALCUBAR H27, 360 MM2, 1 ROWEK CU, 8 MM, 630A DT 39C, 800A DT 57C 2000MM",205.8,"1-ZE-08","2001-01-01","SZT"]
["20022.2077","ALCUBAR - PROFIL ANODOWANY ALCUBAR H27, 360 MM2, 1 ROWEK CU, 8 MM, 630A DT 39C, 800A DT 57C 2077MM",213.8,"1-ZE-08","2021-12-01","SZT"]
["20022.2125","ALCUBAR - PROFIL ANODOWANY ALCUBAR H27, 360 MM2, 1 ROWEK CU, 8 MM, 630A DT 39C, 800A DT 57C 2125MM",218.7,"1-ZE-08","2021-12-01","SZT"]
["20022.2200","ALCUBAR - PROFIL ANODOWANY ALCUBAR H27, 360 MM2, 1 ROWEK CU, 8 MM, 630A DT 39C, 800A DT 57C 2200MM",226.4,"1-ZE-08","2018-10-22","SZT"]
["20022.2398","ALCUBAR - PROFIL ANODOWANY ALCUBAR H27, 360 MM2, 1 ROWEK CU, 8 MM, 630A DT 39C, 800A DT 57C 2398MM",246.8,"1-ZE-08","2021-12-01","SZT"]
["20022.2500","ALCUBAR - PROFIL ANODOWANY ALCUBAR H27, 360 MM2, 1 ROWEK CU, 8 MM, 630A DT 39C, 800A DT 57C 2500MM",257.3,"1-ZE-08","2001-01-01","SZT"]
["20023","ALCUBAR - PROFIL ALUMINIOWY ALCUBAR H27 PE, 1 ROWEK, 8 MM, 630A",75.7,"1-ZE-08","2018-10-22","M"]
["20026","ALCUBAR - ODPOWIEDNIK REF. ZENE20028",32.4,"1-ZE-08","2019-11-12","SZT"]
["20028","ALCUBAR - ŁĄCZNIK CU 630 A, TYPU I / L1, 55X30X10MM",24,"1-ZE-08","2019-11-12","SZT"]
["20029","ALCUBAR - ŁĄCZNIK CU 630 A, TYPU T, 90X30X10MM",39.299999999999997,"1-ZE-08","2019-11-12","SZT"]
["20030","ALCUBAR - PROFIL ANODOWANY ALCUBAR H50R, 2 ROWKI CU, 8 MM I 12 MM, 1000A DT 39C, 1250A DT 58C",161.69999999999999,"1-ZE-08","2018-10-22","M"]
["20030.0645","ALCUBAR - PROFIL ANODOWANY ALCUBAR H50R, 2 ROWKI CU, 8 MM I 12 MM, 1000A DT 39C, 1250A DT 58C - 645MM",104.4,"1-ZE-08","2019-09-03","SZT"]
["20030.0750","ALCUBAR - PROFIL ANODOWANY ALCUBAR H50R, 2 ROWKI CU, 8 MM I 12 MM, 1000A DT 39C, 1250A DT 58C - 750MM",121.3,"1-ZE-08","2021-12-01","SZT"]
["20030.0845","ALCUBAR - PROFIL ANODOWANY ALCUBAR H50R, 2 ROWKI CU, 8 MM I 12 MM, 1000A DT 39C, 1250A DT 58C - 845MM",136.69999999999999,"1-ZE-08","2019-09-04","SZT"]
["20030.0894","ALCUBAR - PROFIL ANODOWANY ALCUBAR H50R, 2 ROWKI CU, 8 MM I 12 MM, 1000A DT 39C, 1250A DT 58C - 894MM",144.6,"1-ZE-08","2021-12-01","SZT"]
["20030.1048","ALCUBAR - PROFIL ANODOWANY ALCUBAR H50R, 2 ROWKI CU, 8 MM I 12 MM, 1000A DT 39C, 1250A DT 58C - 1048MM",169.5,"1-ZE-08","2021-12-01","SZT"]
["20030.1100","ALCUBAR - PROFIL ANODOWANY ALCUBAR H50R, 2 ROWKI CU, 8 MM I 12 MM, 1000A DT 39C, 1250A DT 58C - 1100MM",177.9,"1-ZE-08","2021-12-01","SZT"]
["20030.1175","ALCUBAR - PROFIL ANODOWANY ALCUBAR H50R, 2 ROWKI CU, 8 MM I 12 MM, 1000A DT 39C, 1250A DT 58C - 1175MM",190.1,"1-ZE-08","2021-12-01","SZT"]
["20030.1180","ALCUBAR - PROFIL ANODOWANY ALCUBAR H50R, 2 ROWKI CU, 8 MM I 12 MM, 1000A DT 39C, 1250A DT 58C - 1180MM",190.8,"1-ZE-08","2021-12-01","SZT"]
["20030.1200","ALCUBAR - PROFIL ANODOWANY ALCUBAR H50R, 2 ROWKI CU, 8 MM I 12 MM, 1000A DT 39C, 1250A DT 58C - 1200MM",194,"1-ZE-08","2021-12-01","SZT"]
["20030.1344","ALCUBAR - PROFIL ANODOWANY ALCUBAR H50R, 2 ROWKI CU, 8 MM I 12 MM, 1000A DT 39C, 1250A DT 58C - 1344MM",217.4,"1-ZE-08","2021-12-01","SZT"]
["20030.1380","ALCUBAR - PROFIL ANODOWANY ALCUBAR H50R, 2 ROWKI CU, 8 MM I 12 MM, 1000A DT 39C, 1250A DT 58C - 1380MM",223.1,"1-ZE-08","2021-12-01","SZT"]
["20030.1425","ALCUBAR - PROFIL ANODOWANY ALCUBAR H50R, 2 ROWKI CU, 8 MM I 12 MM, 1000A DT 39C, 1250A DT 58C - 1425MM",230.5,"1-ZE-08","2021-12-01","SZT"]
["20030.1470","ALCUBAR - PROFIL ANODOWANY ALCUBAR H50R, 2 ROWKI CU, 8 MM I 12 MM, 1000A DT 39C, 1250A DT 58C - 1470MM",237.7,"1-ZE-08","2019-02-12","SZT"]
["20030.1480","ALCUBAR - PROFIL ANODOWANY ALCUBAR H50R, 2 ROWKI CU, 8 MM I 12 MM, 1000A DT 39C, 1250A DT 58C - 1480MM",239.3,"1-ZE-08","2021-12-01","SZT"]
["20030.1494","ALCUBAR - PROFIL ANODOWANY ALCUBAR H50R, 2 ROWKI CU, 8 MM I 12 MM, 1000A DT 39C, 1250A DT 58C - 1494MM",241.6,"1-ZE-08","2021-12-01","SZT"]
["20030.1498","ALCUBAR - PROFIL ANODOWANY ALCUBAR H50R, 2 ROWKI CU, 8 MM I 12 MM, 1000A DT 39C, 1250A DT 58C - 1498MM",242.2,"1-ZE-08","2021-12-01","SZT"]
["20030.1600","ALCUBAR - PROFIL ANODOWANY ALCUBAR H50R, 2 ROWKI CU, 8 MM I 12 MM, 1000A DT 39C, 1250A DT 58C - 1600MM",258.7,"1-ZE-08","2021-12-01","SZT"]
["20030.1620","ALCUBAR - PROFIL ANODOWANY ALCUBAR H50R, 2 ROWKI CU, 8 MM I 12 MM, 1000A DT 39C, 1250A DT 58C - 1620MM",262,"1-ZE-08","2021-12-01","SZT"]
["20030.1648","ALCUBAR - PROFIL ANODOWANY ALCUBAR H50R, 2 ROWKI CU, 8 MM I 12 MM, 1000A DT 39C, 1250A DT 58C - 1648MM",266.5,"1-ZE-08","2021-12-01","SZT"]
["20030.1694","ALCUBAR - PROFIL ANODOWANY ALCUBAR H50R, 2 ROWKI CU, 8 MM I 12 MM, 1000A DT 39C, 1250A DT 58C - 1694MM",273.89999999999998,"1-ZE-08","2021-12-01","SZT"]
["20030.1700","ALCUBAR - PROFIL ANODOWANY ALCUBAR H50R, 2 ROWKI CU, 8 MM I 12 MM, 1000A DT 39C, 1250A DT 58C - 1700MM",274.89999999999998,"1-ZE-08","2001-01-01","SZT"]
["20030.1750","ALCUBAR - PROFIL ANODOWANY ALCUBAR H50R, 2 ROWKI CU, 8 MM I 12 MM, 1000A DT 39C, 1250A DT 58C - 1750MM",283,"1-ZE-08","2019-02-14","SZT"]
["20030.1770","ALCUBAR - PROFIL ANODOWANY ALCUBAR H50R, 2 ROWKI CU, 8 MM I 12 MM, 1000A DT 39C, 1250A DT 58C - 1770MM",286.2,"1-ZE-08","2021-12-01","SZT"]
["20030.1794","ALCUBAR - PROFIL ANODOWANY ALCUBAR H50R, 2 ROWKI CU, 8 MM I 12 MM, 1000A DT 39C, 1250A DT 58C - 1794MM",290.10000000000002,"1-ZE-08","2021-12-01","SZT"]
["20030.1825","ALCUBAR - PROFIL ANODOWANY ALCUBAR H50R, 2 ROWKI CU, 8 MM I 12 MM, 1000A DT 39C, 1250A DT 58C - 1825MM",295.2,"1-ZE-08","2021-12-01","SZT"]
["20030.1944","ALCUBAR - PROFIL ANODOWANY ALCUBAR H50R, 2 ROWKI CU, 8 MM I 12 MM, 1000A DT 39C, 1250A DT 58C - 1944MM",314.39999999999998,"1-ZE-08","2021-12-01","SZT"]
["20030.1948","ALCUBAR - PROFIL ANODOWANY ALCUBAR H50R, 2 ROWKI CU, 8 MM I 12 MM, 1000A DT 39C, 1250A DT 58C - 1948MM",315,"1-ZE-08","2021-12-01","SZT"]
["20030.1950","ALCUBAR - PROFIL ANODOWANY ALCUBAR H50R, 2 ROWKI CU, 8 MM I 12 MM, 1000A DT 39C, 1250A DT 58C - 1950MM",315.3,"1-ZE-08","2019-02-14","SZT"]
["20030.1975","ALCUBAR - PROFIL ANODOWANY ALCUBAR H50R, 2 ROWKI CU, 8 MM I 12 MM, 1000A DT 39C, 1250A DT 58C - 1975MM",319.39999999999998,"1-ZE-08","2021-12-01","SZT"]
["20030.2000","ALCUBAR - PROFIL ANODOWANY ALCUBAR H50R, 2 ROWKI CU, 8 MM I 12 MM, 1000A DT 39C, 1250A DT 58C - 2000MM",323.39999999999998,"1-ZE-08","2018-10-22","SZT"]
["20030.2094","ALCUBAR - PROFIL ANODOWANY ALCUBAR H50R, 2 ROWKI CU, 8 MM I 12 MM, 1000A DT 39C, 1250A DT 58C - 2094MM",338.6,"1-ZE-08","2021-12-01","SZT"]
["20030.2142","ALCUBAR - PROFIL ANODOWANY ALCUBAR H50R, 2 ROWKI CU, 8 MM I 12 MM, 1000A DT 39C, 1250A DT 58C - 2142MM",346.4,"1-ZE-08","2021-12-01","SZT"]
["20030.2200","ALCUBAR - PROFIL ANODOWANY ALCUBAR H50R, 2 ROWKI CU, 8 MM I 12 MM, 1000A DT 39C, 1250A DT 58C - 2200MM",355.7,"1-ZE-08","2018-10-22","SZT"]
["20030.2300","ALCUBAR - PROFIL ANODOWANY ALCUBAR H50R, 2 ROWKI CU, 8 MM I 12 MM, 1000A DT 39C, 1250A DT 58C - 2300MM",371.9,"1-ZE-08","2021-12-01","SZT"]
["20030.2398","ALCUBAR - PROFIL ANODOWANY ALCUBAR H50R, 2 ROWKI CU, 8 MM I 12 MM, 1000A DT 39C, 1250A DT 58C - 2398MM",387.8,"1-ZE-08","2021-12-01","SZT"]
["20030.2500","ALCUBAR - PROFIL ANODOWANY ALCUBAR H50R, 2 ROWKI CU, 8 MM I 12 MM, 1000A DT 39C, 1250A DT 58C - 2500MM",404.3,"1-ZE-08","2021-12-01","SZT"]
["20030.2525","ALCUBAR - PROFIL ANODOWANY ALCUBAR H50R, 2 ROWKI CU, 8 MM I 12 MM, 1000A DT 39C, 1250A DT 58C - 2525MM",408.3,"1-ZE-08","2021-12-01","SZT"]
["20030.2550","ALCUBAR - PROFIL ANODOWANY ALCUBAR H50R, 2 ROWKI CU, 8 MM I 12 MM, 1000A DT 39C, 1250A DT 58C - 2550MM",412.3,"1-ZE-08","2021-12-01","SZT"]
["20031","ALCUBAR - PROFIL ANODOWANY ALCUBAR H50, 670 MM2, 1 ROWEK CU, 1000A DT 40C, 1250A DT 58C",141.1,"1-ZE-08","2018-10-22","M"]
["20031.1750","ALCUBAR - PROFIL ANODOWANY ALCUBAR H50, 670 MM2, 1 ROWEK CU, 1000A DT 40C, 1250A DT 58C - 1750MM",266.5,"1-ZE-08","2018-10-22","SZT"]
["20031.1950","ALCUBAR - PROFIL ANODOWANY ALCUBAR H50, 670 MM2, 1 ROWEK CU, 1000A DT 40C, 1250A DT 58C - 1950MM",297.2,"1-ZE-08","2018-10-22","SZT"]
["20032","ALCUBAR - PROFIL ANODOWANY ALCUBAR H50, 670 MM2, 2 ROWKI CU, 1000A DT 40C, 1250A DT 58C",161.69999999999999,"1-ZE-08","2018-10-22","M"]
["20032.1750","ALCUBAR - PROFIL ANODOWANY ALCUBAR H50, 670 MM2, 2 ROWKI CU, 1000A DT 40C, 1250A DT 58C - 1750MM",305.7,"1-ZE-08","2018-10-22","SZT"]
["20032.2200","ALCUBAR - PROFIL ANODOWANY ALCUBAR H50, 670 MM2, 2 ROWKI CU, 1000A DT 40C, 1250A DT 58C - 2200MM",384.2,"1-ZE-08","2018-10-22","SZT"]
["20036","ALCUBAR - ŁĄCZNIK CU 1000 A, TYPU L1, 100X50X10MM",66.2,"1-ZE-08","2019-11-12","SZT"]
["20038","ALCUBAR - ŁĄCZNIK CU 1000 A, TYPU I, 105X50X10MM",68.5,"1-ZE-08","2019-11-12","SZT"]
["20039","ALCUBAR - ŁĄCZNIK CU 1000 A, TYPU T, 160X50X10MM",83.9,"1-ZE-08","2019-11-12","SZT"]
["20041","ALCUBAR - PROFIL ANODOWANY ALCUBAR H80, 1280 MM2, 1 ROWEK CU, 1600A DT 47C, 2000A DT 69C",198.5,"1-ZE-08","2018-10-22","M"]
["20042","ALCUBAR - PROFIL ANODOWANY ALCUBAR H80, 1280 MM2, 2 ROWKI CU, 1600A DT 47C, 2000A DT 69C",217.9,"1-ZE-08","2018-10-22","M"]
["20042.0540","ALCUBAR - PROFIL ANODOWANY ALCUBAR H80, 1280 MM2, 2 ROWKI CU, 1600A DT 47C, 2000A DT 69C - 540MM",117.7,"1-ZE-08","2021-12-01","SZT"]
["20042.0645","AlCubar - Profil anodowany AlCubar H80, 1280 mm2, 2 rowki Cu, 1600A dt 47C, 2000A dt 69C - 645mm",140.69999999999999,"1-ZE-08","2020-05-06","SZT"]
["20042.0958","ALCUBAR - PROFIL ANODOWANY ALCUBAR H80, 1280 MM2, 2 ROWKI CU, 1600A DT 47C, 2000A DT 69C - 958MM",208.7,"1-ZE-08","2018-10-22","SZT"]
["20042.1198","ALCUBAR - PROFIL ANODOWANY ALCUBAR H80, 1280 MM2, 2 ROWKI CU, 1600A DT 47C, 2000A DT 69C - 1198MM",261,"1-ZE-08","2021-12-01","SZT"]
["20042.1750","ALCUBAR - PROFIL ANODOWANY ALCUBAR H80, 1280 MM2, 2 ROWKI CU, 1600A DT 47C, 2000A DT 69C - 1750MM",381.3,"1-ZE-08","2018-10-22","SZT"]
["20042.1777","ALCUBAR - PROFIL ANODOWANY ALCUBAR H80, 1280 MM2, 2 ROWKI CU, 1600A DT 47C, 2000A DT 69C - 1777MM",387.1,"1-ZE-08","2021-12-01","SZT"]
["20042.1940","ALCUBAR - PROFIL ANODOWANY ALCUBAR H80, 1280 MM2, 2 ROWKI CU, 1600A DT 47C, 2000A DT 69C - 1940MM",422.7,"1-ZE-08","2021-12-01","SZT"]
["20042.1950","ALCUBAR - PROFIL ANODOWANY ALCUBAR H80, 1280 MM2, 2 ROWKI CU, 1600A DT 47C, 2000A DT 69C - 1950MM",424.8,"1-ZE-08","2018-10-22","SZT"]
["20042.2140","ALCUBAR - PROFIL ANODOWANY ALCUBAR H80, 1280 MM2, 2 ROWKI CU, 1600A DT 47C, 2000A DT 69C - 2140MM",466.3,"1-ZE-08","2021-12-01","SZT"]
["20042.2180","ALCUBAR - PROFIL ANODOWANY ALCUBAR H80, 1280 MM2, 2 ROWKI CU, 1600A DT 47C, 2000A DT 69C - 2180MM",475,"1-ZE-08","2019-02-14","SZT"]
["20042.2200","ALCUBAR - PROFIL ANODOWANY ALCUBAR H80, 1280 MM2, 2 ROWKI CU, 1600A DT 47C, 2000A DT 69C - 2200MM",479.3,"1-ZE-08","2018-10-22","SZT"]
["20042.2398","ALCUBAR - PROFIL ANODOWANY ALCUBAR H80, 1280 MM2, 2 ROWKI CU, 1600A DT 47C, 2000A DT 69C - 2398MM",522.9,"1-ZE-08","2021-12-01","SZT"]
["20042.2500","ALCUBAR - PROFIL ANODOWANY ALCUBAR H80, 1280 MM2, 2 ROWKI CU, 1600A DT 47C, 2000A DT 69C - 2500MM",544.70000000000005,"1-ZE-08","2019-02-12","SZT"]
["20042.2588","ALCUBAR - PROFIL ANODOWANY ALCUBAR H80, 1280 MM2, 2 ROWKI CU, 1600A DT 47C, 2000A DT 69C - 2588MM",563.9,"1-ZE-08","2021-12-01","SZT"]
["20043","ALCUBAR - ŁĄCZNIK CU 3200 A (2X1600A), TYPU L1, 2X(210X80X10MM)",378.4,"1-ZE-08","2019-11-12","SZT"]
["20044","ALCUBAR - ŁĄCZNIK CU 3200 A (2X1600A), TYPU L2, 2X(235X80X10MM)",417,"1-ZE-08","2019-11-12","SZT"]
["20045","ALCUBAR - ŁĄCZNIK CU 3200 A (2X1600A), TYPU T, 2X(330X80X10MM)",589.79999999999995,"1-ZE-08","2019-11-12","SZT"]
["20046","ALCUBAR - ŁĄCZNIK CU 1600 A, TYPU L1, 130X80X10MM",108.4,"1-ZE-08","2019-11-12","SZT"]
["20047","ALCUBAR - ŁĄCZNIK CU 1600 A, TYPU L2, 155X80X10MM",130.4,"1-ZE-08","2019-11-12","SZT"]
["20048","ALCUBAR - ŁĄCZNIK CU 1600 A, TYPU I, 165X80X10MM",139.69999999999999,"1-ZE-08","2019-11-12","SZT"]
["20049","ALCUBAR - ŁĄCZNIK CU 1600 A, TYPU T, 250X80X10MM",212.9,"1-ZE-08","2019-11-12","SZT"]
["20050","ALCUBAR - PROFIL ANODOWANY ALCUBAR H100R, 2 ROWKI CU, 8 MM I 12 MM, 2050A DT 50C, 2500A DT 67C",399,"1-ZE-08","2018-10-22","M"]
["20050.0645","ALCUBAR - PROFIL ANODOWANY ALCUBAR H100R, 2 ROWKI CU, 8 MM I 12 MM, 2050A DT 50C, 2500A DT 67C - 645MM",257.3,"1-ZE-08","2019-09-02","SZT"]
["20050.0730","ALCUBAR - PROFIL ANODOWANY ALCUBAR H100R, 2 ROWKI CU, 8 MM I 12 MM, 2050A DT 50C, 2500A DT 67C - 730MM",291.3,"1-ZE-08","2021-12-01","SZT"]
["20050.0780","ALCUBAR - PROFIL ANODOWANY ALCUBAR H100R, 2 ROWKI CU, 8 MM I 12 MM, 2050A DT 50C, 2500A DT 67C - 780MM",311.2,"1-ZE-08","2021-12-01","SZT"]
["20050.0845","ALCUBAR - PROFIL ANODOWANY ALCUBAR H100R, 2 ROWKI CU, 8 MM I 12 MM, 2050A DT 50C, 2500A DT 67C - 845MM",337.1,"1-ZE-08","2019-09-04","SZT"]
["20050.0980","ALCUBAR - PROFIL ANODOWANY ALCUBAR H100R, 2 ROWKI CU, 8 MM I 12 MM, 2050A DT 50C, 2500A DT 67C - 980MM",391,"1-ZE-08","2021-12-01","SZT"]
["20050.0990","ALCUBAR - PROFIL ANODOWANY ALCUBAR H100R, 2 ROWKI CU, 8 MM I 12 MM, 2050A DT 50C, 2500A DT 67C - 990MM",395,"1-ZE-08","2001-01-01","SZT"]
["20050.1005","ALCUBAR - PROFIL ANODOWANY ALCUBAR H100R, 2 ROWKI CU, 8 MM I 12 MM, 2050A DT 50C, 2500A DT 67C - 1005MM",401,"1-ZE-08","2021-12-01","SZT"]
["20050.1130","ALCUBAR - PROFIL ANODOWANY ALCUBAR H100R, 2 ROWKI CU, 8 MM I 12 MM, 2050A DT 50C, 2500A DT 67C - 1130MM",450.9,"1-ZE-08","2021-12-01","SZT"]
["20050.1280","ALCUBAR - PROFIL ANODOWANY ALCUBAR H100R, 2 ROWKI CU, 8 MM I 12 MM, 2050A DT 50C, 2500A DT 67C - 1280MM",510.7,"1-ZE-08","2021-12-01","SZT"]
["20050.1330","ALCUBAR - PROFIL ANODOWANY ALCUBAR H100R, 2 ROWKI CU, 8 MM I 12 MM, 2050A DT 50C, 2500A DT 67C - 1330MM",530.70000000000005,"1-ZE-08","2021-12-01","SZT"]
["20050.1388","ALCUBAR - PROFIL ANODOWANY ALCUBAR H100R, 2 ROWKI CU, 8 MM I 12 MM, 2050A DT 50C, 2500A DT 67C - 1388MM",553.79999999999995,"1-ZE-08","2021-12-01","SZT"]
["20050.1480","ALCUBAR - PROFIL ANODOWANY ALCUBAR H100R, 2 ROWKI CU, 8 MM I 12 MM, 2050A DT 50C, 2500A DT 67C - 1480MM",590.5,"1-ZE-08","2021-12-01","SZT"]
["20050.1530","ALCUBAR - PROFIL ANODOWANY ALCUBAR H100R, 2 ROWKI CU, 8 MM I 12 MM, 2050A DT 50C, 2500A DT 67C - 1530MM",610.5,"1-ZE-08","2021-12-01","SZT"]
["20050.1590","ALCUBAR - PROFIL ANODOWANY ALCUBAR H100R, 2 ROWKI CU, 8 MM I 12 MM, 2050A DT 50C, 2500A DT 67C - 1590MM",634.4,"1-ZE-08","2021-12-01","SZT"]
["20050.1600","ALCUBAR - PROFIL ANODOWANY ALCUBAR H100R, 2 ROWKI CU, 8 MM I 12 MM, 2050A DT 50C, 2500A DT 67C - 1600MM",638.4,"1-ZE-08","2021-12-01","SZT"]
["20050.1625","ALCUBAR - PROFIL ANODOWANY ALCUBAR H100R, 2 ROWKI CU, 8 MM I 12 MM, 2050A DT 50C, 2500A DT 67C - 1625MM",648.4,"1-ZE-08","2021-12-01","SZT"]
["20050.1648","ALCUBAR - PROFIL ANODOWANY ALCUBAR H100R, 2 ROWKI CU, 8 MM I 12 MM, 2050A DT 50C, 2500A DT 67C - 1648MM",657.5,"1-ZE-08","2021-12-01","SZT"]
["20050.1766","ALCUBAR - PROFIL ANODOWANY ALCUBAR H100R, 2 ROWKI CU, 8 MM I 12 MM, 2050A DT 50C, 2500A DT 67C - 1766MM",704.7,"1-ZE-08","2021-12-01","SZT"]
["20050.1980","ALCUBAR - PROFIL ANODOWANY ALCUBAR H100R, 2 ROWKI CU, 8 MM I 12 MM, 2050A DT 50C, 2500A DT 67C - 1980MM",790,"1-ZE-08","2021-12-01","SZT"]
["20050.2000","ALCUBAR - PROFIL ANODOWANY ALCUBAR H100R, 2 ROWKI CU, 8 MM I 12 MM, 2050A DT 50C, 2500A DT 67C - 2000MM",798,"1-ZE-08","2018-10-22","SZT"]
["20050.2040","ALCUBAR - PROFIL ANODOWANY ALCUBAR H100R, 2 ROWKI CU, 8 MM I 12 MM, 2050A DT 50C, 2500A DT 67C - 2040MM",814,"1-ZE-08","2018-10-22","SZT"]
["20050.2180","ALCUBAR - PROFIL ANODOWANY ALCUBAR H100R, 2 ROWKI CU, 8 MM I 12 MM, 2050A DT 50C, 2500A DT 67C - 2180MM",869.8,"1-ZE-08","2018-10-22","SZT"]
["20050.2200","ALCUBAR - PROFIL ANODOWANY ALCUBAR H100R, 2 ROWKI CU, 8 MM I 12 MM, 2050A DT 50C, 2500A DT 67C - 2200MM",877.8,"1-ZE-08","2018-10-22","SZT"]
["20050.2300","ALCUBAR - PROFIL ANODOWANY ALCUBAR H100R, 2 ROWKI CU, 8 MM I 12 MM, 2050A DT 50C, 2500A DT 67C - 2300MM",917.7,"1-ZE-08","2021-12-01","SZT"]
["20050.2500","ALCUBAR - PROFIL ANODOWANY ALCUBAR H100R, 2 ROWKI CU, 8 MM I 12 MM, 2050A DT 50C, 2500A DT 67C - 2500MM",997.5,"1-ZE-08","2001-01-01","SZT"]
["20051","ALCUBAR - PROFIL ANODOWANY ALCUBAR H100, 2500 MM2, 1 ROWEK CU, 2500A DT 55C",389.6,"1-ZE-08","2018-10-22","M"]
["20052","ALCUBAR - PROFIL ANODOWANY ALCUBAR H100, 2500 MM2, 2 ROWKI CU, 2500A DT 55C",419,"1-ZE-08","2018-10-22","M"]
["20052.0645","ALCUBAR - PROFIL ANODOWANY ALCUBAR H100, 2500 MM2, 2 ROWKI CU, 2500A DT 55C - DŁUGOŚĆ 645MM",270.3,"1-ZE-08","2001-01-01","M"]
["20052.1495","ALCUBAR - PROFIL ANODOWANY ALCUBAR H100, 2500 MM2, 2 ROWKI CU, 2500A DT 55C - DŁUGOŚĆ 1495MM",629,"1-ZE-08","2001-01-01","SZT"]
["20052.1750","ALCUBAR - PROFIL ANODOWANY ALCUBAR H100, 2500 MM2, 2 ROWKI CU, 2500A DT 55C - DŁUGOŚĆ 1750MM",733.2,"1-ZE-08","2018-10-22","SZT"]
["20052.1825","ALCUBAR - PROFIL ANODOWANY ALCUBAR H100, 2500 MM2, 2 ROWKI CU, 2500A DT 55C - DŁUGOŚĆ 1825MM",764.6,"1-ZE-08","2018-10-22","SZT"]
["20052.2200","ALCUBAR - PROFIL ANODOWANY ALCUBAR H100, 2500 MM2, 2 ROWKI CU, 2500A DT 55C - DŁUGOŚĆ 2200MM",921.7,"1-ZE-08","2018-10-22","SZT"]
["20052.2500","ALCUBAR - PROFIL ANODOWANY ALCUBAR H100, 2500 MM2, 2 ROWKI CU, 2500A DT 55C - DŁUGOŚĆ 2500MM",1047.4000000000001,"1-ZE-08","2021-12-01","SZT"]
["20053","ALCUBAR - ŁĄCZNIK CU 4000 A (2X2500A), TYPU L1, 2X(260X100X10MM)",535.1,"1-ZE-08","2019-11-12","SZT"]
["20054","ALCUBAR - ŁĄCZNIK CU 4000 A (2X2500A), TYPU L2, 2X(290X100X10MM)",546.9,"1-ZE-08","2019-11-12","KPL"]
["20055","ALCUBAR - ŁĄCZNIK CU 4000 A (2X2500A), TYPU T, 2X(410X100X10MM)",918.8,"1-ZE-08","2019-11-12","SZT"]
["20056","ALCUBAR - ŁĄCZNIK CU 2500 A, TYPU L1, 160X100X10MM",174.7,"1-ZE-08","2019-11-12","SZT"]
["20057","ALCUBAR - ŁĄCZNIK CU 2500 A, TYPU L2, 190X100X10MM",190.3,"1-ZE-08","2019-11-12","SZT"]
["20058","ALCUBAR - ŁĄCZNIK CU 2500 A, TYPU I,   200X100X10MM",225.4,"1-ZE-08","2019-11-12","SZT"]
["20059","ALCUBAR - ŁĄCZNIK CU 2500 A, TYPU T,   310X100X10MM",337.3,"1-ZE-08","2018-10-22","SZT"]
["20060","ALCUBAR - PODPORA SZYNY PIONOWEJ ALCUBAR H27, H50, KPL.100SZT",405.8,"1-ZE-08","2018-10-22","SZT"]
["20061","ALCUBAR - PRZYŁĄCZE M10 x 3, M12 x 1, Cu 185x100x5mm",139,"1-ZE-08","2018-10-22","SZT"]
["20062","ALCUBAR - PRZYŁĄCZE M10 x 4, M12 x 2, Cu 275x100x5mm",168.5,"1-ZE-08","2018-10-22","SZT"]
["20063","ALCUBAR - PRZYŁĄCZE M10 x 5, M12 x 3, Cu 365x100x5mm",196.9,"1-ZE-08","2018-10-22","SZT"]
["20064","ALCUBAR - PRZYŁĄCZE M10 x 6, M12 x 4, Cu 455x100x5MM",253.5,"1-ZE-08","2018-10-22","SZT"]
["20065","ALCUBAR 100R - ŁĄCZNIK CU 2500 A, TYPU I, M12mm, 200X100X10MM",212.1,"1-ZE-08","2001-01-01","SZT"]
["20067","AlCubar - Śruba zamkowa M8x20 dla AlCubarH27 (630A), kl 8.8  + podkładki, nakrętki,  kpl.100szt, wsuwane od końca profila",105.7,"1-ZE-08","2020-10-13","SZT"]
["20068","AlCubar - Śruba zamkowa M8x25 dla AlCubarH27 (630A), kl 8.8  + podkładki, nakrętki,  kpl.100szt, wsuwane od końca profila",105.7,"1-ZE-08","2020-10-13","SZT"]
["20069","AlCubar - Śruba zamkowa M8x30 dla AlCubarH27 (630A), kl 8.8  + podkładki, nakrętki,  kpl.100szt, wsuwane od końca profila",129.80000000000001,"1-ZE-08","2021-12-01","SZT"]
["20070","ALCUBAR - PODPORA SZYNY PIONOWEJ ALCUBAR H80, H100, KPL.100SZT",405.8,"1-ZE-08","2018-10-22","SZT"]
["20071","ALCUBAR - PODKŁADKA SPRĘŻYSTA, SŁONECZKOWA 6/14, KPL.1000SZT, PRZEBIJAJĄCA",264.60000000000002,"1-ZE-08","2018-10-22","KPL"]
["20072","ALCUBAR - PODKŁADKA SPRĘŻYSTA, SŁONECZKOWA 6/14, KPL.100SZT.",26.5,"1-ZE-08","2018-10-22","KPL"]
["20073","ALCUBAR - PODKŁADKA SPRĘŻYSTA, SŁONECZKOWA 8/18, KPL.100SZT.",45.8,"1-ZE-08","2018-10-22","KPL"]
["20074","ALCUBAR - PODKŁADKA SPRĘŻYSTA, SŁONECZKOWA 10/22, KPL.100SZT.",49.4,"1-ZE-08","2018-10-22","KPL"]
["20075","ALCUBAR - PODKŁADKA SPRĘŻYSTA, SŁONECZKOWA 12/27, KPL.100SZT.",60,"1-ZE-08","2018-10-22","KPL"]
["20076","ALCUBAR - PODKŁADKA SPRĘŻYSTA, SŁONECZKOWA 16/32, KPL.100SZT.",107.5,"1-ZE-08","2018-10-22","KPL"]
["20077","ALCUBAR - PODKŁADKA STALOWA-OCYNK, POWIĘKSZONA, 8/24, KPL.100SZT",56.5,"1-ZE-08","2018-10-22","KPL"]
["20078","ALCUBAR - PODKŁADKA STALOWA-OCYNK, POWIĘKSZONA, 8/28, KPL.100SZT",61.7,"1-ZE-08","2018-10-22","KPL"]
["20079","ALCUBAR - PODKŁADKA CU M8/20 POD KOŃCÓWKI KABLOWE <25MM2, KPL.100SZT",114.6,"1-ZE-08","2018-10-22","KPL"]
["20080","ALCUBAR - ZACISK U16/6, 16MM2, DO ROWKA 6MM ALCUBAR 630A, KPL.100SZT, MONTAŻ W DOWOLNYM MIEJSCU",229.4,"1-ZE-08","2018-10-22","KPL"]
["200804CP","ZENERGY - OBUDOWA H2000, W800, D400, COKÓŁ H100,  PŁYTA MONTAŻOWA,  IP55",4690.3,"1-ZE-01","2021-12-01","SZT"]
["200805CP","ZENERGY - OBUDOWA H2000, W800, D500, COKÓŁ H100,  PŁYTA MONTAŻOWA,  IP55",5071.2,"1-ZE-01","2021-12-01","SZT"]
["200806CP","ZENERGY - OBUDOWA H2000, W800, D600, COKÓŁ H100,  PŁYTA MONTAŻOWA,  IP55",5212.3999999999996,"1-ZE-01","2021-12-01","SZT"]
["20081","ALCUBAR - ZACISK U16/8, 16MM2, DO ROWKA 8MM ALCUBAR 630A, KPL.100SZT, MONTAŻ W DOWOLNYM MIEJSCU",229.4,"1-ZE-08","2018-10-22","KPL"]
["20082","ALCUBAR - ŚRUBY PRZESUWNE 2X M8X27 + PODKŁADKI, NAKRĘTKI, KPL.10SZT, WSUWANE OD KOŃCA PROFILA",70,"1-ZE-08","2019-11-12","KPL"]
["20083","ALCUBAR - ŚRUBY PRZESUWNE 3X M8X27 + PODKŁADKI, NAKRĘTKI, KPL.10SZT, WSUWANE OD KOŃCA PROFILA",86,"1-ZE-08","2019-11-12","KPL"]
["20084","ALCUBAR - ŚRUBY PRZESUWNE 4X M8X27 + PODKŁADKI, NAKRĘTKI, KPL.10SZT, WSUWANE OD KOŃCA PROFILA",102.8,"1-ZE-08","2019-11-12","KPL"]
["20085","ALCUBAR - ZACISK U16/8, 16MM2, DO ROWKA 8MM ALCUBAR 1000A+, KPL.100SZT, MONTAŻ W DOWOLNYM MIEJSCU",229.4,"1-ZE-08","2018-10-22","KPL"]
["20086","ALCUBAR - ŚRUBA ZAMKOWA M6X16, KL 8.8, + PODKŁADKI, NAKRĘTKI,  KPL.100SZT, WSUWANE OD KOŃCA PROFILA",81.5,"1-ZE-08","2018-10-22","KPL"]
["20088","ALCUBAR - ŚRUBA ZAMKOWA M8X30 DLA ALCUBAR 1000A+, KL 8.8  + PODKŁADKI, NAKRĘTKI,  KPL.100SZT, WSUWANE OD KOŃCA PROFILA",140.19999999999999,"1-ZE-08","2021-12-01","SZT"]
["20090","ALCUBAR - ŚRUBA ZAMKOWA M6X20, KL 8.8, + PODKŁADKI, NAKRĘTKI,  KPL.100SZT, WSUWANE OD KOŃCA PROFILA",83.8,"1-ZE-08","2018-10-22","SZT"]
["20091","ALCUBAR - ŚRUBA ZAMKOWA M8X20 DLA ALCUBAR 1000A+, KL 8.8, + PODKŁADKI, NAKRĘTKI,  KPL.100SZT, WSUWANE OD KOŃCA PROFILA",127.7,"1-ZE-08","2018-10-22","KPL"]
["20092","ALCUBAR - ŚRUBA ZAMKOWA M8X25 DLA ALCUBAR 1000A+, KL 8.8, + PODKŁADKI, NAKRĘTKI,  KPL.100SZT, WSUWANE OD KOŃCA PROFILA",134.6,"1-ZE-08","2018-10-22","SZT"]
["20093","ALCUBAR - ŚRUBA ZAMKOWA M8X35 DLA ALCUBAR 1000A+, KL 8.8, + PODKŁADKI, NAKRĘTKI,  KPL.100SZT, WSUWANE OD KOŃCA PROFILA",148.30000000000001,"1-ZE-08","2018-10-22","SZT"]
["20094","ALCUBAR - ŚRUBA ZAMKOWA M12X30, KL 8.8, + PODKŁADKI, NAKRĘTKI,  KPL.100SZT, WSUWANE OD KOŃCA PROFILA",213.1,"1-ZE-08","2018-10-22","SZT"]
["20095","ALCUBAR - ŚRUBA ZAMKOWA M12X35, KL 8.8, + PODKŁADKI, NAKRĘTKI,  KPL.100SZT, WSUWANE OD KOŃCA PROFILA",224,"1-ZE-08","2018-10-22","SZT"]
["20096","ALCUBAR - ŚRUBA PRZESUWNA, MŁOTKOWA Z KULKĄ M8X25 DO ROWKA 8MM, + PODKŁADKI, NAKRĘTKI, KPL.20SZT, MAX 630A",105.9,"1-ZE-08","2018-10-22","KPL"]
["20097","ALCUBAR - ŚRUBA PRZESUWNA, MŁOTKOWA Z KULKĄ M8X39 DO ROWKA 8MM, + PODKŁADKI, NAKRĘTKI, KPL.20SZT, MAX 630A",113,"1-ZE-08","2018-10-22","KPL"]
["20098","ALCUBAR - ŚRUBA PRZESUWNA, MŁOTKOWA Z KULKĄ M12X30 DO ROWKA 12MM, + PODKŁADKI, NAKRĘTKI, KPL.20SZT.",148.4,"1-ZE-08","2018-10-22","KPL"]
["20099","ALCUBAR - ŚRUBA PRZESUWNA, MŁOTKOWA Z KULKĄ M12X35 DO ROWKA 12MM, + PODKŁADKI, NAKRĘTKI, KPL.20SZT.",155.80000000000001,"1-ZE-08","2018-10-22","SZT"]
["20100","ALCUBAR / CU - IZOLATOR 1P, D200, MOST PIONOWY Z BOKU",92.9,"1-ZE-01","2019-10-02","SZT"]
["20101","ALCUBAR / CU - IZOLATOR 1P, D400, MOST PIONOWY Z BOKU",177,"1-ZE-01","2019-10-02","SZT"]
["20103","ALCUBAR / CU - IZOLATOR 3P, D400, MOST PIONOWY Z BOKU",198.7,"1-ZE-01","2019-10-02","SZT"]
["20103","ALCUBAR / CU - IZOLATOR 3P, D400, MOST PIONOWY Z BOKU",198.7,"1-ZE-08","2019-10-02","SZT"]
["20104","ALCUBAR / CU - IZOLATOR 4P, D400, MOST PIONOWY Z BOKU",222,"1-ZE-01","2019-10-02","SZT"]
["20104","ALCUBAR / CU - IZOLATOR 4P, D400, MOST PIONOWY Z BOKU",222,"1-ZE-08","2019-10-02","SZT"]
["20108","ALCUBAR / CU - IZOLATOR 3P, DOIZOLOWANIE SZYN PIONOWYCH",238.3,"1-ZE-01","2019-10-02","SZT"]
["20108","ALCUBAR / CU - IZOLATOR 3P, DOIZOLOWANIE SZYN PIONOWYCH",238.3,"1-ZE-08","2019-10-02","SZT"]
["20109","ALCUBAR / CU - IZOLATOR 4P, DOIZOLOWANIE SZYN PIONOWYCH",299.7,"1-ZE-01","2019-10-02","SZT"]
["20109","ALCUBAR / CU - IZOLATOR 4P, DOIZOLOWANIE SZYN PIONOWYCH",299.7,"1-ZE-08","2019-10-02","SZT"]
["20110","ALCUBAR / CU - IZOLATOR 1P, D200, MOST POZIOMY",92.9,"1-ZE-01","2019-10-02","SZT"]
["20111","ALCUBAR / CU - IZOLATOR 1P, D400, MOST POZIOMY",177,"1-ZE-01","2019-10-02","SZT"]
["20113","ALCUBAR / CU - IZOLATOR 3P, D400, MOST POZIOMY",238.3,"1-ZE-01","2019-10-02","SZT"]
["20113","ALCUBAR / CU - IZOLATOR 3P, D400, MOST POZIOMY",238.3,"1-ZE-08","2019-10-02","SZT"]
["20114","ALCUBAR / CU - IZOLATOR 4P, D400, MOST POZIOMY",299.7,"1-ZE-01","2019-10-02","SZT"]
["20114","ALCUBAR / CU - IZOLATOR 4P, D400, MOST POZIOMY",299.7,"1-ZE-08","2019-10-02","SZT"]
["20115","AlCubar / Cu - Izolator 3P inox, D1000, most poziomy",328.6,"1-ZE-01","2019-10-02","SZT"]
["20116","AlCubar / Cu - Izolator 1P inox, D1000, most poziomy",257.5,"1-ZE-01","2019-10-02","SZT"]
["20117","ALCUBAR / CU - IZOLATOR, DOIZOLOWANIE SZYN POZIOMYCH POLA NAROŻNEGO",185.8,"1-ZE-01","2021-12-01","SZT"]
["20118","ALCUBAR / CU - IZOLATOR 3P, DOIZOLOWANIE SZYN POZIOMYCH",238.3,"1-ZE-01","2019-10-02","SZT"]
["20118","ALCUBAR / CU - IZOLATOR 3P, DOIZOLOWANIE SZYN POZIOMYCH",238.3,"1-ZE-08","2019-10-02","SZT"]
["20119","ALCUBAR / CU - IZOLATOR 4P, DOIZOLOWANIE SZYN POZIOMYCH",299.7,"1-ZE-01","2019-10-02","SZT"]
["20119","ALCUBAR / CU - IZOLATOR 4P, DOIZOLOWANIE SZYN POZIOMYCH",299.7,"1-ZE-08","2019-10-02","SZT"]
["20120","ALCUBAR / CU - IZOLATOR 1P, D200, MOST POZIOMY, DLA ŁĄCZNIKA SZYN",92.9,"1-ZE-01","2019-10-02","SZT"]
["201206CP2D","ZENERGY - OBUDOWA H2000, W1200, D600, COKÓŁ H100,  PŁYTA MONTAŻOWA, DRZWI PODWÓJNE  IP55",6038.1,"1-ZE-01","2021-12-01","SZT"]
["20122","ALCUBAR / CU - IZOLATOR 1P, D400, MOST POZIOMY, DLA ŁĄCZNIKA SZYN",177,"1-ZE-01","2019-10-02","SZT"]
["20123","ALCUBAR - IZOLATOR 3P, D400, POZIOMO, DLA ŁĄCZNIKA SZYN",238.3,"1-ZE-01","2019-10-02","SZT"]
["20123","ALCUBAR - IZOLATOR 3P, D400, POZIOMO, DLA ŁĄCZNIKA SZYN",238.3,"1-ZE-08","2019-10-02","SZT"]
["20124","ALCUBAR - IZOLATOR 4P, D400, POZIOMO, DLA ŁĄCZNIKA SZYN",299.7,"1-ZE-01","2019-10-02","SZT"]
["20124","ALCUBAR - IZOLATOR 4P, D400, POZIOMO, DLA ŁĄCZNIKA SZYN",299.7,"1-ZE-08","2019-10-02","SZT"]
["20125","ALCUBAR / CU - IZOLATOR 3P INOX, D600, MOST POZIOMY",256,"1-ZE-01","2019-10-02","SZT"]
["20125","ALCUBAR / CU - IZOLATOR 3P INOX, D600, MOST POZIOMY",256,"1-ZE-08","2019-10-02","SZT"]
["20126","ALCUBAR / CU - IZOLATOR 4P INOX, D600, MOST POZIOMY",317.2,"1-ZE-01","2019-10-02","SZT"]
["20126","ALCUBAR / CU - IZOLATOR 4P INOX, D600, MOST POZIOMY",317.2,"1-ZE-08","2019-10-02","SZT"]
["20127","ALCUBAR / CU - IZOLATOR 3P INOX, D800, MOST POZIOMY",308.60000000000002,"1-ZE-01","2019-10-02","SZT"]
["20127","ALCUBAR / CU - IZOLATOR 3P INOX, D800, MOST POZIOMY",308.60000000000002,"1-ZE-08","2019-10-02","SZT"]
["20128","ALCUBAR / CU - IZOLATOR 4P INOX, D800, MOST POZIOMY",369.9,"1-ZE-01","2019-10-02","SZT"]
["20128","ALCUBAR / CU - IZOLATOR 4P INOX, D800, MOST POZIOMY",369.9,"1-ZE-08","2019-10-02","SZT"]
["20129","ALCUBAR - OSŁONA MOSTU ALCUBAR H27, ROZSTAW 50,61MM, POLIWĘGLAN 15X240X2000MM",253.6,"1-ZE-08","2019-01-28","SZT"]
["20129.0660","ALCUBAR - OSŁONA MOSTU ALCUBAR H27, ROZSTAW 50,61MM, POLIWĘGLAN 15X240X660MM",83.7,"1-ZE-08","2021-12-01","SZT"]
["20130","ALCUBAR / CU - WSPORNIK IZOLATORA MOST POZIOMY, INOX, 2M, ROZSTAW 100MM",192.8,"1-ZE-01","2019-10-02","SZT"]
["20131","ALCUBAR / CU - WSPORNIK IZOLATORA MOST PIONOWY, INOX, 2M, ROZSTAW 100MM",201.7,"1-ZE-01","2019-10-02","SZT"]
["20132","ALCUBAR / CU - ELEMENT GÓRNY IZOLATORA, INOX, 1P",45.6,"1-ZE-01","2019-10-02","SZT"]
["20133","ALCUBAR / CU - ELEMENT GÓRNY IZOLATORA, INOX, 3P, ROZSTAW 100MM",61.4,"1-ZE-01","2019-10-02","SZT"]
["20134","ALCUBAR / CU - ELEMENT GÓRNY IZOLATORA, INOX, 4P, ROZSTAW 100MM",68.400000000000006,"1-ZE-01","2019-10-02","SZT"]
["20135","ALCUBAR / CU - WSPORNIK IZOLATORA MOST POZIOMY, OCYNK, 2M, ROZSTAW 100MM",173.6,"1-ZE-01","2019-10-02","SZT"]
["20136","ALCUBAR / CU - WSPORNIK IZOLATORA MOST PIONOWY, OCYNK, 2M, ROZSTAW 100MM",182.3,"1-ZE-01","2019-10-02","SZT"]
["20137","ALCUBAR / CU - ELEMENT GÓRNY IZOLATORA, OCYNK, 1P",42,"1-ZE-01","2019-10-02","SZT"]
["20138","ALCUBAR / CU - ELEMENT GÓRNY IZOLATORA, OCYNK, 3P, ROZSTAW 100MM",56.1,"1-ZE-01","2019-10-02","SZT"]
["20139","ALCUBAR / CU - ELEMENT GÓRNY IZOLATORA, OCYNK, 4P, ROZSTAW 100MM",61.4,"1-ZE-01","2019-10-02","SZT"]
["20140","ALCUBAR - WSPORNIK IZOLATORA 630A, MOST POZIOMY, OCYNK, 2M, ROZSTAW 50MM",173.6,"1-ZE-01","2019-10-02","SZT"]
["20141","ALCUBAR - WSPORNIK IZOLATORA 630A, MOST PIONOWY, OCYNK, 2M, ROZSTAW 50MM",182.3,"1-ZE-01","2019-10-02","SZT"]
["20142","ALCUBAR - ELEMENT GÓRNY IZOLATORA 630A, OCYNK, 1P",42,"1-ZE-01","2019-10-02","SZT"]
["20143","ALCUBAR - ELEMENT GÓRNY IZOLATORA 630A, OCYNK, 3P, ROZSTAW 50MM",56.1,"1-ZE-01","2019-10-02","SZT"]
["20144","ALCUBAR - ELEMENT GÓRNY IZOLATORA 630A, OCYNK, 4P, ROZSTAW 50MM",61.4,"1-ZE-01","2019-10-02","SZT"]
["20145","ALCUBAR - ZAŚLEPKA ALCUBAR H27 1SZT",1.3,"1-ZE-01","2019-10-02","SZT"]
["20146","ALCUBAR / CU - IZOLATOR 1P, MOST POZIOMY NA PLECACH",92.9,"1-ZE-01","2019-10-02","SZT"]
["20147","ALCUBAR / CU - IZOLATOR 1P, MOST POZIOMY NA PLECACH, DLA ŁĄCZNIKA SZYN",92.9,"1-ZE-01","2019-10-02","SZT"]
["20148","ALCUBAR / CU - IZOLATOR 3P, MOST POZIOMY NA PLECACH",238.3,"1-ZE-01","2019-10-02","SZT"]
["20149","ALCUBAR / CU - IZOLATOR 4P, MOST POZIOMY NA PLECACH",299.7,"1-ZE-01","2019-10-02","SZT"]
["20150","ALCUBAR - IZOLATOR 630A 1P, D200, MOST PIONOWY Z BOKU",42,"1-ZE-01","2019-10-02","SZT"]
["20150","ALCUBAR - IZOLATOR 630A 1P, D200, MOST PIONOWY Z BOKU",42,"1-ZE-08","2019-10-02","SZT"]
["20152","ALCUBAR - IZOLATOR 630A 3P, D400, MOST PIONOWY Z BOKU, ROZSTAW 105MM",92.9,"1-ZE-01","2019-10-02","SZT"]
["20153","ALCUBAR - IZOLATOR 630A 3P, D400, MOST PIONOWY Z BOKU",98.9,"1-ZE-01","2019-10-02","SZT"]
["20153","ALCUBAR - IZOLATOR 630A 3P, D400, MOST PIONOWY Z BOKU",98.9,"1-ZE-08","2019-10-02","SZT"]
["20154","ALCUBAR - IZOLATOR 630A 4P, D400, MOST PIONOWY Z BOKU",122.7,"1-ZE-01","2019-10-02","SZT"]
["20154","ALCUBAR - IZOLATOR 630A 4P, D400, MOST PIONOWY Z BOKU",122.7,"1-ZE-08","2019-10-02","SZT"]
["20155","ALCUBAR - ŁĄCZNIK CU 4000 A (2X2500A) H100-H100, MOSTEK ŁĄCZĄCY (140X50X5MM)",40.1,"1-ZE-08","2001-01-01","SZT"]
["20156","ALCUBAR - ŁĄCZNIK CU 3200 A (2x1600A) H80-H80, (2x2500A) H100-H100R, MOSTEK ŁĄCZĄCY tył (110x50x5mm)",37.1,"1-ZE-08","2001-01-01","SZT"]
["20157","ALCUBAR - ŁĄCZNIK CU 1000A H50R (M12mm), TYPU I, 105X50X10MM",58.9,"1-ZE-08","2019-11-12","SZT"]
["20158","ALCUBAR - ŁĄCZNIK CU 2500 A, TYPU I ,ROZŁĄCZNIK LISTWOWY DLA ALCUBAR 100R, 340X100X10MM",363.4,"1-ZE-08","2019-01-14","SZT"]
["20159","ALCUBAR 100R - ŁĄCZNIK CU 2500 A, TYPU I DLA ALCUBAR H100-H100R, 200X100X10MM",212.9,"1-ZE-08","2001-01-01","SZT"]
["20160","ALCUBAR - ŁĄCZNIK CU 1000A H50-H50R (M8-M12mm), TYPU I, 105X50X10MM",42,"1-ZE-08","2019-10-02","SZT"]
["20161","ALCUBAR - IZOLATOR 630A 1P, MOST POZIOMY NA PLECACH",38.9,"1-ZE-01","2021-12-01","SZT"]
["20161","ALCUBAR - IZOLATOR 630A 1P, MOST POZIOMY NA PLECACH",38.9,"1-ZE-08","2021-12-01","SZT"]
["20163","ALCUBAR - IZOLATOR 630A 3P, D400, MOST POZIOMY",92.9,"1-ZE-01","2019-10-02","SZT"]
["20163","ALCUBAR - IZOLATOR 630A 3P, D400, MOST POZIOMY",92.9,"1-ZE-08","2019-10-02","SZT"]
["20164","ALCUBAR - IZOLATOR 630A 4P, D400, MOST POZIOMY",122.7,"1-ZE-01","2019-10-02","SZT"]
["20164","ALCUBAR - IZOLATOR 630A 4P, D400, MOST POZIOMY",122.7,"1-ZE-08","2019-10-02","SZT"]
["20165","ALCUBAR 100R - ŁĄCZNIK CU 2500A, TYPU L, 175X100X10MM",182.9,"1-ZE-08","2001-01-01","SZT"]
["20167","ALCUBAR - ŁĄCZNIK CU 4000 A (2X2500A) H100-H100R, MOSTEK ŁĄCZĄCY przód (155X50X5MM)",44.5,"1-ZE-08","2001-01-01","SZT"]
["20168","ALCUBAR - IZOLATOR 630A 3P, D400, DOIZOLOWANIE SZYN POZIOMYCH",98.9,"1-ZE-01","2019-10-02","SZT"]
["20169","ALCUBAR - IZOLATOR 630A 4P, D400, DOIZOLOWANIE SZYN POZIOMYCH",130.6,"1-ZE-01","2019-10-02","SZT"]
["20170","ALCUBAR - IZOLATOR 630A 3P, W1000, MOST PIONOWY NA PLECACH",119.4,"1-ZE-01","2019-10-02","SZT"]
["20171","ALCUBAR - IZOLATOR 630A 3P, W1200, MOST PIONOWY NA PLECACH",125,"1-ZE-01","2019-10-02","SZT"]
["20172","ALCUBAR - IZOLATOR 630A 3P, W1300, MOST PIONOWY NA PLECACH",128.9,"1-ZE-01","2019-10-02","SZT"]
["20174","ALCUBAR - IZOLATOR 630A 3P, W400, MOST PIONOWY NA PLECACH",98.9,"1-ZE-01","2019-10-02","SZT"]
["20175","ALCUBAR - IZOLATOR 630A 3P, W450, MOST PIONOWY NA PLECACH",100.8,"1-ZE-01","2019-10-02","SZT"]
["20176","ALCUBAR - IZOLATOR 630A 3P, W600, MOST PIONOWY NA PLECACH",106.4,"1-ZE-01","2019-10-02","SZT"]
["20177","ALCUBAR - IZOLATOR 630A 3P, W650, MOST PIONOWY NA PLECACH",108.3,"1-ZE-01","2019-10-02","SZT"]
["20178","ALCUBAR - IZOLATOR 630A 3P, W800, MOST PIONOWY NA PLECACH",112.1,"1-ZE-01","2019-10-02","SZT"]
["20179","ALCUBAR - IZOLATOR 630A 3P, W850, MOST PIONOWY NA PLECACH",115.8,"1-ZE-01","2019-10-02","SZT"]
["20180","ALCUBAR - IZOLATOR 630A 4P, W1000, MOST PIONOWY NA PLECACH",153.19999999999999,"1-ZE-01","2019-10-02","SZT"]
["20181","ALCUBAR - IZOLATOR 630A 4P, W1200, MOST PIONOWY NA PLECACH",158.69999999999999,"1-ZE-01","2019-10-02","SZT"]
["20182","ALCUBAR - IZOLATOR 630A 4P, W1300, MOST PIONOWY NA PLECACH",162.4,"1-ZE-01","2019-10-02","SZT"]
["20184","ALCUBAR - IZOLATOR 630A 4P, W400, MOST PIONOWY NA PLECACH",130.6,"1-ZE-01","2019-10-02","SZT"]
["20185","ALCUBAR - IZOLATOR 630A 4P, W450, MOST PIONOWY NA PLECACH",132.6,"1-ZE-01","2019-10-02","SZT"]
["20186","ALCUBAR - IZOLATOR 630A 4P, W600, MOST PIONOWY NA PLECACH",136.4,"1-ZE-01","2019-10-02","SZT"]
["20187","ALCUBAR - IZOLATOR 630A 4P, W650, MOST PIONOWY NA PLECACH",140,"1-ZE-01","2019-10-02","SZT"]
["20188","ALCUBAR - IZOLATOR 630A 4P, W800, MOST PIONOWY NA PLECACH",145.5,"1-ZE-01","2019-10-02","SZT"]
["20189","ALCUBAR - IZOLATOR 630A 4P, W850, MOST PIONOWY NA PLECACH",149.4,"1-ZE-01","2019-10-02","SZT"]
["20190","ALCUBAR - IZOLATOR 630A 3P, MOST POZIOMY NA PLECACH LUB PŁYCIE MONTAŻOWEJ, ROZSTAW 61MM",92.9,"1-ZE-08","2021-12-01","SZT"]
["20191","ALCUBAR - WPUST PRZESUWNY M5 DO ROWKA 5MM + ŚRUBA M5X16 + PODKŁADKI, NAKRĘTKI, KPL.10SZT",115.2,"1-ZE-08","2018-10-22","KPL"]
["20192","ALCUBAR - WPUST PRZESUWNY M5 DO ROWKA 8MM + ŚRUBA M5X16 + PODKŁADKI, NAKRĘTKI, KPL.10SZT",86.3,"1-ZE-08","2018-10-22","KPL"]
["20193","ALCUBAR - WPUST PRZESUWNY M6 DO ROWKA 8MM + ŚRUBA M6X16 + PODKŁADKI, NAKRĘTKI, KPL.10SZT",86.3,"1-ZE-08","2018-10-22","KPL"]
["20194","ALCUBAR - WPUST PRZESUWNY M8 DO ROWKA 8MM + ŚRUBA M8X25 + PODKŁADKI, NAKRĘTKI, KPL.10SZT",86.3,"1-ZE-08","2018-10-22","KPL"]
["20195","ALCUBAR - WPUST PRZESUWNY M8 DO ROWKA 10MM + ŚRUBA M8X30 + PODKŁADKI, NAKRĘTKI, KPL.10SZT",165.5,"1-ZE-08","2018-10-22","KPL"]
["20196","ALCUBAR - WPUST PRZESUWNY M10 DO ROWKA 10MM + ŚRUBA M10X30 + PODKŁADKI, NAKRĘTKI, KPL.10SZT",165.5,"1-ZE-08","2018-10-22","KPL"]
["20197","ALCUBAR - IZOLATOR 630A 4P, MOST POZIOMY NA PLECACH LUB PŁYCIE MONTAŻOWEJ, ROZSTAW 50MM",122.7,"1-ZE-08","2019-10-02","SZT"]
["20198","ALCUBAR - IZOLATOR 630A 3P, MOST POZIOMY NA PLECACH LUB PŁYCIE MONTAŻOWEJ, ROZSTAW 75MM",92.9,"1-ZE-01","2019-10-02","SZT"]
["20198","ALCUBAR - IZOLATOR 630A 3P, MOST POZIOMY NA PLECACH LUB PŁYCIE MONTAŻOWEJ, ROZSTAW 75MM",92.9,"1-ZE-08","2019-10-02","SZT"]
["20199","ALCUBAR - IZOLATOR 630A 4P, MOST POZIOMY NA PLECACH LUB PŁYCIE MONTAŻOWEJ, ROZSTAW 61MM",122.7,"1-ZE-01","2019-10-02","SZT"]
["20199","ALCUBAR - IZOLATOR 630A 4P, MOST POZIOMY NA PLECACH LUB PŁYCIE MONTAŻOWEJ, ROZSTAW 61MM",122.7,"1-ZE-08","2019-10-02","SZT"]
["20200","ALCUBAR / CU - IZOLATOR 3P, W1000, POZIOMO, REGULOWANA GŁĘBOKOŚĆ, ROZSTAW 115-125-115MM",238.1,"1-ZE-01","2019-10-02","SZT"]
["20201","ALCUBAR / CU - IZOLATOR 3P, W1200, POZIOMO, REGULOWANA GŁĘBOKOŚĆ, ROZSTAW 115-125-115MM",245.3,"1-ZE-01","2019-10-02","SZT"]
["20202","ALCUBAR / CU - IZOLATOR 3P, W1300, POZIOMO, REGULOWANA GŁĘBOKOŚĆ, ROZSTAW 115-125-115MM",252.7,"1-ZE-01","2019-10-02","SZT"]
["20206","ALCUBAR / CU - IZOLATOR 3P, W600, POZIOMO, REGULOWANA GŁĘBOKOŚĆ, ROZSTAW 115-125-115MM",210.3,"1-ZE-01","2019-10-02","SZT"]
["20207","ALCUBAR / CU - IZOLATOR 3P, W650, POZIOMO, REGULOWANA GŁĘBOKOŚĆ, ROZSTAW 115-125-115MM",214.7,"1-ZE-01","2019-10-02","SZT"]
["20208","ALCUBAR / CU - IZOLATOR 3P, W800, POZIOMO, REGULOWANA GŁĘBOKOŚĆ, ROZSTAW 115-125-115MM",225,"1-ZE-01","2019-10-02","SZT"]
["20209","ALCUBAR / CU - IZOLATOR 3P, W850, POZIOMO, REGULOWANA GŁĘBOKOŚĆ, ROZSTAW 115-125-115MM",230.8,"1-ZE-01","2019-10-02","SZT"]
["20210","ALCUBAR / CU - IZOLATOR 4P, W1000, POZIOMO, REGULOWANA GŁĘBOKOŚĆ, ROZSTAW 115-125-115MM",292.2,"1-ZE-01","2019-10-02","SZT"]
["20211","ALCUBAR / CU - IZOLATOR 4P, W1200, POZIOMO, REGULOWANA GŁĘBOKOŚĆ, ROZSTAW 115-125-115MM",299.5,"1-ZE-01","2019-10-02","SZT"]
["20212","ALCUBAR / CU - IZOLATOR 4P, W1300, POZIOMO, REGULOWANA GŁĘBOKOŚĆ, ROZSTAW 115-125-115MM",306.7,"1-ZE-01","2019-10-02","SZT"]
["20216","ALCUBAR / CU - IZOLATOR 4P, W600, POZIOMO, REGULOWANA GŁĘBOKOŚĆ, ROZSTAW 115-125-115MM",261.5,"1-ZE-01","2019-10-02","SZT"]
["20217","ALCUBAR / CU - IZOLATOR 4P, W650, POZIOMO, REGULOWANA GŁĘBOKOŚĆ, ROZSTAW 115-125-115MM",265.89999999999998,"1-ZE-01","2019-10-02","SZT"]
["20218","ALCUBAR / CU - IZOLATOR 4P, W800, POZIOMO, REGULOWANA GŁĘBOKOŚĆ, ROZSTAW 115-125-115MM",277.60000000000002,"1-ZE-01","2019-10-02","SZT"]
["20219","ALCUBAR / CU - IZOLATOR 4P, W850, POZIOMO, REGULOWANA GŁĘBOKOŚĆ, ROZSTAW 115-125-115MM",285,"1-ZE-01","2019-10-02","SZT"]
["20220","ALCUBAR / CU - IZOLATOR 3P, W1000, PIONOWO, REGULOWANA GŁĘBOKOŚĆ, ROZSTAW 115-125-115MM",268.7,"1-ZE-01","2019-10-02","SZT"]
["20221","ALCUBAR / CU - IZOLATOR 3P+N, W1200, PIONOWO, REGULOWANA GŁĘBOKOŚĆ, Rozstaw 230mm + N 240mm",276.10000000000002,"1-ZE-01","2019-10-02","SZT"]
["20222","ALCUBAR / CU - IZOLATOR 3P, W1200, PIONOWO, REGULOWANA GŁĘBOKOŚĆ, ROZSTAW 115-125-115MM",283.39999999999998,"1-ZE-01","2019-10-02","SZT"]
["20225","ALCUBAR / CU - IZOLATOR 3P, W450, PIONOWO, REGULOWANA GŁĘBOKOŚĆ, ROZSTAW 115-125-115MM",241.1,"1-ZE-01","2021-12-01","SZT"]
["20226","ALCUBAR / CU - IZOLATOR 3P, W600, PIONOWO, REGULOWANA GŁĘBOKOŚĆ, ROZSTAW 115-125-115MM",244,"1-ZE-01","2019-10-02","SZT"]
["20227","ALCUBAR / CU - IZOLATOR 3P, W650, PIONOWO, REGULOWANA GŁĘBOKOŚĆ, ROZSTAW 115-125-115MM",248.3,"1-ZE-01","2019-10-02","SZT"]
["20228","ALCUBAR / CU - IZOLATOR 3P, W800, PIONOWO, REGULOWANA GŁĘBOKOŚĆ, ROZSTAW 115-125-115MM",255.6,"1-ZE-01","2019-10-02","SZT"]
["20229","ALCUBAR / CU - IZOLATOR 3P, W850, PIONOWO, REGULOWANA GŁĘBOKOŚĆ, ROZSTAW 115-125-115MM",261.5,"1-ZE-01","2019-10-02","SZT"]
["20230","ALCUBAR / CU - IZOLATOR 4P, W1000, PIONOWO, REGULOWANA GŁĘBOKOŚĆ, ROZSTAW 115-125-115MM",321.39999999999998,"1-ZE-01","2019-10-02","SZT"]
["20231","ALCUBAR / CU - IZOLATOR 4P, W1200, PIONOWO, REGULOWANA GŁĘBOKOŚĆ, ROZSTAW 115-125-115MM",328.7,"1-ZE-01","2019-10-02","SZT"]
["20232","ALCUBAR / CU - IZOLATOR 4P, W1300, PIONOWO, REGULOWANA GŁĘBOKOŚĆ, ROZSTAW 115-125-115MM",336.1,"1-ZE-01","2019-10-02","SZT"]
["20236","ALCUBAR / CU - IZOLATOR 4P, W600, PIONOWO, REGULOWANA GŁĘBOKOŚĆ, ROZSTAW 115-125-115MM",296.5,"1-ZE-01","2019-10-02","SZT"]
["20237","ALCUBAR / CU - IZOLATOR 4P, W650, PIONOWO, REGULOWANA GŁĘBOKOŚĆ, ROZSTAW 115-125-115MM",299.5,"1-ZE-01","2019-10-02","SZT"]
["20238","ALCUBAR / CU - IZOLATOR 4P, W800, PIONOWO, REGULOWANA GŁĘBOKOŚĆ, ROZSTAW 115-125-115MM",308.3,"1-ZE-01","2019-10-02","SZT"]
["20239","ALCUBAR / CU - IZOLATOR 4P, W850, PIONOWO, REGULOWANA GŁĘBOKOŚĆ, ROZSTAW 115-125-115MM",314.2,"1-ZE-01","2019-10-02","SZT"]
["20240","ALCUBAR / CU - IZOLATOR 3P, W1000, PODPORA/PIONOWO NA PLECACH, REGULOWANA WYSOKOŚĆ, ROZSTAW 115-125-115MM",268.7,"1-ZE-01","2019-10-02","SZT"]
["20241","ALCUBAR / CU - IZOLATOR 3P, W1200, PODPORA/PIONOWO NA PLECACH, REGULOWANA WYSOKOŚĆ, ROZSTAW 115-125-115MM",276.10000000000002,"1-ZE-01","2019-10-02","SZT"]
["20242","ALCUBAR / CU - IZOLATOR 3P, W1300, PODPORA/PIONOWO NA PLECACH, REGULOWANA WYSOKOŚĆ, ROZSTAW 115-125-115MM",283.39999999999998,"1-ZE-01","2019-10-02","SZT"]
["20246","ALCUBAR / CU - IZOLATOR 3P, W600, PODPORA/PIONOWO NA PLECACH, REGULOWANA WYSOKOŚĆ, ROZSTAW 115-125-115MM",244,"1-ZE-01","2019-10-02","SZT"]
["20247","ALCUBAR / CU - IZOLATOR 3P, W650, PODPORA/PIONOWO NA PLECACH, REGULOWANA WYSOKOŚĆ, ROZSTAW 115-125-115MM",248.3,"1-ZE-01","2019-10-02","SZT"]
["20248","ALCUBAR / CU - IZOLATOR 3P, W800, PODPORA/PIONOWO NA PLECACH, REGULOWANA WYSOKOŚĆ, ROZSTAW 115-125-115MM",255.6,"1-ZE-01","2019-10-02","SZT"]
["20249","ALCUBAR / CU - IZOLATOR 3P, W850, PODPORA/PIONOWO NA PLECACH, REGULOWANA WYSOKOŚĆ, ROZSTAW 115-125-115MM",261.5,"1-ZE-01","2019-10-02","SZT"]
["20250","ALCUBAR / CU - IZOLATOR 4P, W1000, PODPORA/PIONOWO NA PLECACH, REGULOWANA WYSOKOŚĆ, ROZSTAW 115-125-115MM",321.39999999999998,"1-ZE-01","2019-10-02","SZT"]
["20251","ALCUBAR / CU - IZOLATOR 4P, W1200, PODPORA/PIONOWO NA PLECACH, REGULOWANA WYSOKOŚĆ, ROZSTAW 115-125-115MM",328.7,"1-ZE-01","2019-10-02","SZT"]
["20252","ALCUBAR / CU - IZOLATOR 4P, W1300, PODPORA/PIONOWO NA PLECACH, REGULOWANA WYSOKOŚĆ, ROZSTAW 115-125-115MM",336.1,"1-ZE-01","2019-10-02","SZT"]
["20256","ALCUBAR / CU - IZOLATOR 4P, W600, PODPORA/PIONOWO NA PLECACH, REGULOWANA WYSOKOŚĆ, ROZSTAW 115-125-115MM",296.5,"1-ZE-01","2019-10-02","SZT"]
["20257","ALCUBAR / CU - IZOLATOR 4P, W650, PODPORA/PIONOWO NA PLECACH, REGULOWANA WYSOKOŚĆ, ROZSTAW 115-125-115MM",299.5,"1-ZE-01","2019-10-02","SZT"]
["20258","ALCUBAR / CU - IZOLATOR 4P, W800, PODPORA/PIONOWO NA PLECACH, REGULOWANA WYSOKOŚĆ, ROZSTAW 115-125-115MM",308.3,"1-ZE-01","2019-10-02","SZT"]
["20259","ALCUBAR / CU - IZOLATOR 4P, W850, PODPORA/PIONOWO NA PLECACH, REGULOWANA WYSOKOŚĆ, ROZSTAW 115-125-115MM",314.2,"1-ZE-01","2019-10-02","SZT"]
["20261","AlCubar / Cu - Płyta montażowa / izolator 1P dla AlCubar H50R, most na płycie montażowej",160.69999999999999,"1-ZE-01","2021-12-01","SZT"]
["20264","AlCubar / Cu - Płyta montażowa / izolator 4P dla AlCubar H50R, most na płycie montażowej",496.5,"1-ZE-01","2021-12-01","SZT"]
["20267","ALCUBAR / CU - IZOLATOR SZYNOPRZEWODU 3P+PEN, ROZSTAW 105MM",200.5,"1-ZE-01","2019-10-02","SZT"]
["20269","ALCUBAR / CU - IZOLATOR SZYNOPRZEWODU 4P, ROZSTAW 105MM",249.8,"1-ZE-01","2019-10-02","SZT"]
["20270","ALCUBAR / CU - WSPORNIK IZOLATORA + ELEMENT GÓRNY 1P, D200, MOST POZIOMY",56.1,"1-ZE-01","2019-10-02","SZT"]
["20271","ALCUBAR / CU - WSPORNIK IZOLATORA + ELEMENT GÓRNY 1P, D400, MOST POZIOMY",121,"1-ZE-01","2019-10-02","SZT"]
["20272","ALCUBAR / CU - WSPORNIK IZOLATORA + ELEMENT GÓRNY 3P, D400, MOST POZIOMY",136.69999999999999,"1-ZE-01","2019-10-02","SZT"]
["20273","ALCUBAR / CU - WSPORNIK IZOLATORA + ELEMENT GÓRNY 4P, D400, MOST POZIOMY",164.7,"1-ZE-01","2019-10-02","SZT"]
["20280","ALCUBAR / CU - WSPORNIK IZOLATORA + ELEMENT GÓRNY 1P, D200, MOST PIONOWY Z BOKU",56.1,"1-ZE-01","2019-10-02","SZT"]
["20281","ALCUBAR / CU - WSPORNIK IZOLATORA + ELEMENT GÓRNY 1P, D400, MOST PIONOWY Z BOKU",121,"1-ZE-01","2019-10-02","SZT"]
["20282","ALCUBAR / CU - WSPORNIK IZOLATORA + ELEMENT GÓRNY 3P, D400, MOST PIONOWY Z BOKU",136.69999999999999,"1-ZE-01","2019-10-02","SZT"]
["20283","ALCUBAR / CU - WSPORNIK IZOLATORA + ELEMENT GÓRNY 4P, D400, MOST PIONOWY Z BOKU",164.7,"1-ZE-01","2019-10-02","SZT"]
["20296","ALCUBAR - ŚRUBY PRZESUWNE 2X M8X27 DLA ALCUBAR R I ROZŁĄCZNIKA LISTWOWEGO NH-00+ PODKŁADKI, NAKRĘTKI, KPL.10SZT, WSUWANE OD KOŃCA PROFILA",142.9,"1-ZE-08","2018-10-22","SZT"]
["20297","ALCUBAR - ŚRUBY PRZESUWNE 2X M8X27 DLA ALCUBAR H50R+ PODKŁADKI, NAKRĘTKI, KPL.10SZT, WSUWANE OD KOŃCA PROFILA",142.9,"1-ZE-08","2018-10-22","SZT"]
["20298","ALCUBAR - ŚRUBY PRZESUWNE 4X M8X27 DLA ALCUBAR R I ROZŁĄCZNIKA LISTWOWEGO NH-00+ PODKŁADKI, NAKRĘTKI, KPL.10SZT, WSUWANE OD KOŃCA PROFILA",285.60000000000002,"1-ZE-08","2018-10-22","SZT"]
["20299","ALCUBAR - ŚRUBY PRZESUWNE 4X M8X27 DLA ALCUBAR H100R+ PODKŁADKI, NAKRĘTKI, KPL.10SZT, WSUWANE OD KOŃCA PROFILA",285.60000000000002,"1-ZE-08","2018-10-22","SZT"]
["20303","ZENERGY - WSPORNIK PŁYTY MONTAŻOWEJ / IZOLATORÓW 3P, D600 WZMOCNIONY",68.7,"1-ZE-01","2019-10-02","SZT"]
["20304","ZENERGY - WSPORNIK PŁYTY MONTAŻOWEJ / IZOLATORÓW 4P, D600 WZMOCNIONY",68.7,"1-ZE-01","2019-10-02","SZT"]
["20310","ALCUBAR / CU - IZOLATOR 1P, W1000, MOST PIONOWY NA PLECACH",164.1,"1-ZE-01","2019-10-02","SZT"]
["20311","ALCUBAR / CU - IZOLATOR 1P, W1200, MOST PIONOWY NA PLECACH",167.3,"1-ZE-01","2019-10-02","SZT"]
["20312","ALCUBAR / CU - IZOLATOR 1P, W1300, MOST PIONOWY NA PLECACH",170.3,"1-ZE-01","2019-10-02","SZT"]
["20313","ALCUBAR / CU - IZOLATOR 1P, W300, MOST PIONOWY NA PLECACH",141.9,"1-ZE-01","2019-10-02","SZT"]
["20314","ALCUBAR / CU - IZOLATOR 1P, W400, MOST PIONOWY NA PLECACH",144.4,"1-ZE-01","2019-10-02","SZT"]
["20315","ALCUBAR / CU - IZOLATOR 1P, W450, MOST PIONOWY NA PLECACH",146.9,"1-ZE-01","2019-10-02","SZT"]
["20316","ALCUBAR / CU - IZOLATOR 1P, W600, MOST PIONOWY NA PLECACH",150.5,"1-ZE-01","2019-10-02","SZT"]
["20317","ALCUBAR / CU - IZOLATOR 1P, W650, MOST PIONOWY NA PLECACH",154.19999999999999,"1-ZE-01","2019-10-02","SZT"]
["20318","ALCUBAR / CU - IZOLATOR 1P, W800, MOST PIONOWY NA PLECACH",156.69999999999999,"1-ZE-01","2019-10-02","SZT"]
["20319","ALCUBAR / CU - IZOLATOR 1P, W850, MOST PIONOWY NA PLECACH",159.1,"1-ZE-01","2019-10-02","SZT"]
["20329","ALCUBAR - OSŁONA MOSTU ALCUBAR H27, ROZSTAW 80MM, POLIWĘGLAN 15X330X2000MM",269.2,"1-ZE-08","2018-11-15","SZT"]
["20350","ALCUBAR - OTWOROWANE SZYNY MIEDZIANE (15X5) 4 SZT. 160A - 500MM",197.8,"1-ZE-08","2019-01-31","SZT"]
["20351","ALCUBAR - OTWOROWANE SZYNY MIEDZIANE (20X5) 4 SZT. 250A - 500MM",239.6,"1-ZE-08","2019-01-31","SZT"]
["20352","ALCUBAR - OTWOROWANE SZYNY MIEDZIANE (30X5) 4 SZT. 400A - 500MM",350.2,"1-ZE-08","2019-02-01","SZT"]
["20353","ALCUBAR - OTWOROWANE SZYNY MIEDZIANE (30x10) 4 SZT. 630A - 500MM",699,"1-ZE-08","2019-02-04","SZT"]
["20360","ALCUBAR - OTWOROWANE SZYNY MIEDZIANE (15X5) 4 SZT. 160A - 1000MM",391.7,"1-ZE-08","2019-01-31","SZT"]
["20361","ALCUBAR - OTWOROWANE SZYNY MIEDZIANE (20X5) 4 SZT. 250A - 1000MM",467.7,"1-ZE-08","2018-11-30","SZT"]
["20362","ALCUBAR - OTWOROWANE SZYNY MIEDZIANE (30X5) 4 SZT. 400A - 1000MM",701.4,"1-ZE-08","2019-02-01","SZT"]
["20363","ALCUBAR - OTWOROWANE SZYNY MIEDZIANE (30x10) 4 SZT. 630A - 1000MM",1403.9,"1-ZE-08","2019-02-04","SZT"]
["20370","ALCUBAR - OTWOROWANE SZYNY MIEDZIANE (15X5) 4 SZT. 160A - 2000mm",804,"1-ZE-08","2021-12-01","SZT"]
["20371","ALCUBAR - OTWOROWANE SZYNY MIEDZIANE (20X5) 4 SZT. 250A - 2000mm",960,"1-ZE-08","2021-12-01","SZT"]
["20372","ALCUBAR - OTWOROWANE SZYNY MIEDZIANE (30X5) 4 SZT. 400A - 2000mm",1499.7,"1-ZE-08","2021-12-01","SZT"]
["20373","ALCUBAR - OTWOROWANE SZYNY MIEDZIANE (30x10) 4 SZT. 630A - 2000mm",2945.8,"1-ZE-08","2021-12-01","SZT"]
["20400","Zenergy - Wspornik płyt montażowych/izolatorów, D1000 Tył wzmocniony",88.9,"1-ZE-01","2019-10-02","SZT"]
["20401","ZENERGY - WSPORNIK PŁYT MONTAŻOWYCH, D1000 WZMOCNIONY",143.4,"1-ZE-01","2019-10-02","SZT"]
["20402","ZENERGY - WSPORNIK IZOLATORÓW TYŁ, D200 POLA D600",48.2,"1-ZE-01","2019-10-02","SZT"]
["20403","ZENERGY - WSPORNIK PŁYT MONTAŻOWYCH/IZOLATORÓW, D1000 WZMOCNIONY",92.7,"1-ZE-01","2019-10-02","SZT"]
["20404","ZENERGY - WSPORNIK PŁYT MONTAŻOWYCH/IZOLATORÓW, D400 TYŁ WZMOCNIONY",60.3,"1-ZE-01","2019-10-02","SZT"]
["20405","ZENERGY - WSPORNIK PŁYT MONTAŻOWYCH/IZOLATORÓW, D400 WZMOCNIONY, FORMA 4B - KRÓTSZY",60.3,"1-ZE-01","2019-10-02","SZT"]
["20406","ZENERGY - WSPORNIK PŁYT MONTAŻOWYCH/IZOLATORÓW, D600 WZMOCNIONY",67.900000000000006,"1-ZE-01","2019-10-02","SZT"]
["20408","ZENERGY - WSPORNIK PŁYT MONTAŻOWYCH/IZOLATORÓW, D800 WZMOCNIONY",75.400000000000006,"1-ZE-01","2019-10-02","SZT"]
["20409","ZENERGY - MOSTEK MIEDZIANY PEN ALCUBAR 100R DO PE ALCUBAR 50R",119.5,"1-ZE-01","2019-10-02","SZT"]
["20430","ALCUBAR - POŁĄCZENIE MIEDZIANE MOSTU PIONOWEGO ALCUBAR DO ROZŁĄCZNIKÓW LISTWOWYCH H50R 1000A",284.3,"1-ZE-01","2019-12-12","SZT"]
["20438","ZENERGY - POŁĄCZENIE MIEDZIANE 4X2X 80X10 WYŁĄCZNIKA UAN25B3S DO KABLI NAD DACH",3428.3,"1-ZE-01","2019-10-02","SZT"]
["20440","ALCUBAR - POŁĄCZENIE MIEDZIANE MOSTU PIONOWEGO ALCUBAR DO ROZŁĄCZNIKÓW LISTWOWYCH H50R 1400A",639.6,"1-ZE-01","2019-12-12","SZT"]
["20441","ZENERGY - POŁĄCZENIE MIEDZIANE 3X2X 80X10 WYŁĄCZNIKA UAN25B3S Z ALCUBAR H100R DO ROZŁĄCZNIKÓW LISTWOWYCH",3660.1,"1-ZE-01","2019-10-02","SZT"]
["20450","ALCUBAR - POŁĄCZENIE MIEDZIANE MOSTU PIONOWEGO ALCUBAR DO ROZŁĄCZNIKÓW LISTWOWYCH H100R 2500A",1320.8,"1-ZE-01","2019-12-12","SZT"]
["20463","ALCUBAR / 3XCU - IZOLATOR REGULOWANY 3200-4000A 3P, W650, WYŁĄCZNIK - MOST PIONOWY",249.8,"1-ZE-01","2019-10-02","SZT"]
["20464","ALCUBAR / 3XCU - IZOLATOR REGULOWANY 3200-4000A 4P, W650, WYŁĄCZNIK - MOST PIONOWY",292.2,"1-ZE-01","2019-10-02","SZT"]
["20483","ALCUBAR / 3XCU - IZOLATOR REGULOWANY 3200-4000A 3P, W850, WYŁĄCZNIK - MOST PIONOWY",263.60000000000002,"1-ZE-01","2019-10-02","SZT"]
["20484","ALCUBAR / 3XCU - IZOLATOR REGULOWANY 3200-4000A 4P, W850, WYŁĄCZNIK - MOST PIONOWY",305.89999999999998,"1-ZE-01","2019-10-02","SZT"]
["20493","ALCUBAR / 3XCU - IZOLATOR REGULOWANY 5000-6300A 3P, W1200, WYŁĄCZNIK - MOST PIONOWY",284.10000000000002,"1-ZE-01","2019-10-02","SZT"]
["20494","ALCUBAR / 3XCU - IZOLATOR REGULOWANY 5000-6300A 4P, W1200, WYŁĄCZNIK - MOST PIONOWY",326.60000000000002,"1-ZE-01","2019-10-02","SZT"]
["20500","ALCUBAR / CU - IZOLATOR 3P, W1000, POZIOMO, REGULOWANA GŁĘBOKOŚĆ, ROZSTAW 80MM",285.8,"1-ZE-01","2001-01-01","SZT"]
["20501","ALCUBAR / CU - IZOLATOR 3P, W1200, POZIOMO, REGULOWANA GŁĘBOKOŚĆ, ROZSTAW 80MM",294.5,"1-ZE-01","2019-10-10","SZT"]
["20502","ALCUBAR / CU - IZOLATOR 3P, W1300, POZIOMO, REGULOWANA GŁĘBOKOŚĆ, ROZSTAW 80MM",303.2,"1-ZE-01","2001-01-01","SZT"]
["20504","ALCUBAR / CU - IZOLATOR 3P, W400, POZIOMO, REGULOWANA GŁĘBOKOŚĆ, ROZSTAW 80MM",238.3,"1-ZE-01","2001-01-01","SZT"]
["20505","ALCUBAR / CU - IZOLATOR 3P, W450, POZIOMO, REGULOWANA GŁĘBOKOŚĆ, ROZSTAW 80MM",243.7,"1-ZE-01","2001-01-01","SZT"]
["20506","ALCUBAR / CU - IZOLATOR 3P, W600, POZIOMO, REGULOWANA GŁĘBOKOŚĆ, ROZSTAW 80MM",252.5,"1-ZE-01","2001-01-01","SZT"]
["20507","ALCUBAR / CU - IZOLATOR 3P, W650, POZIOMO, REGULOWANA GŁĘBOKOŚĆ, ROZSTAW 80MM",257.60000000000002,"1-ZE-01","2001-01-01","SZT"]
["20508","ALCUBAR / CU - IZOLATOR 3P, W800, POZIOMO, REGULOWANA GŁĘBOKOŚĆ, ROZSTAW 80MM",270,"1-ZE-01","2001-01-01","SZT"]
["20509","ALCUBAR / CU - IZOLATOR 3P, W850, POZIOMO, REGULOWANA GŁĘBOKOŚĆ, ROZSTAW 80MM",277,"1-ZE-01","2001-01-01","SZT"]
["20510","ALCUBAR / CU - IZOLATOR 4P, W1000, POZIOMO, REGULOWANA GŁĘBOKOŚĆ, ROZSTAW 80MM",350.6,"1-ZE-01","2001-01-01","SZT"]
["20511","ALCUBAR / CU - IZOLATOR 4P, W1200, POZIOMO, REGULOWANA GŁĘBOKOŚĆ, ROZSTAW 80MM",359.4,"1-ZE-01","2001-01-01","SZT"]
["20512","ALCUBAR / CU - IZOLATOR 4P, W1300, POZIOMO, REGULOWANA GŁĘBOKOŚĆ, ROZSTAW 80MM",368.1,"1-ZE-01","2001-01-01","SZT"]
["20515","ALCUBAR / CU - IZOLATOR 4P, W450, POZIOMO, REGULOWANA GŁĘBOKOŚĆ, ROZSTAW 80MM",305,"1-ZE-01","2001-01-01","SZT"]
["20516","ALCUBAR / CU - IZOLATOR 4P, W600, POZIOMO, REGULOWANA GŁĘBOKOŚĆ, ROZSTAW 80MM",313.8,"1-ZE-01","2001-01-01","SZT"]
["20517","ALCUBAR / CU - IZOLATOR 4P, W650, POZIOMO, REGULOWANA GŁĘBOKOŚĆ, ROZSTAW 80MM",319.2,"1-ZE-01","2001-01-01","SZT"]
["20518","ALCUBAR / CU - IZOLATOR 4P, W800, POZIOMO, REGULOWANA GŁĘBOKOŚĆ, ROZSTAW 80MM",333.1,"1-ZE-01","2001-01-01","SZT"]
["20519","ALCUBAR / CU - IZOLATOR 4P, W850, POZIOMO, REGULOWANA GŁĘBOKOŚĆ, ROZSTAW 80MM",342,"1-ZE-01","2001-01-01","SZT"]
["20520","ALCUBAR / CU - IZOLATOR 3P, W1000, PIONOWO, REGULOWANA GŁĘBOKOŚĆ, ROZSTAW 80MM",322.5,"1-ZE-01","2001-01-01","SZT"]
["20521","ALCUBAR / CU - IZOLATOR 3P, W1200, PIONOWO, REGULOWANA GŁĘBOKOŚĆ, ROZSTAW 80MM",331.4,"1-ZE-01","2001-01-01","SZT"]
["20522","ALCUBAR / CU - IZOLATOR 3P, W1300, PIONOWO, REGULOWANA GŁĘBOKOŚĆ, ROZSTAW 80MM",340.1,"1-ZE-01","2001-01-01","SZT"]
["20524","ALCUBAR / CU - IZOLATOR 3P, W400, PIONOWO, REGULOWANA GŁĘBOKOŚĆ, ROZSTAW 80MM",284,"1-ZE-01","2001-01-01","SZT"]
["20525","ALCUBAR / CU - IZOLATOR 3P, W450, PIONOWO, REGULOWANA GŁĘBOKOŚĆ, ROZSTAW 80MM",289.3,"1-ZE-01","2001-01-01","SZT"]
["20526","ALCUBAR / CU - IZOLATOR 3P, W600, PIONOWO, REGULOWANA GŁĘBOKOŚĆ, ROZSTAW 80MM",292.8,"1-ZE-01","2001-01-01","SZT"]
["20527","ALCUBAR / CU - IZOLATOR 3P, W650, PIONOWO, REGULOWANA GŁĘBOKOŚĆ, ROZSTAW 80MM",298,"1-ZE-01","2001-01-01","SZT"]
["20528","ALCUBAR / CU - IZOLATOR 3P, W800, PIONOWO, REGULOWANA GŁĘBOKOŚĆ, ROZSTAW 80MM",306.8,"1-ZE-01","2001-01-01","SZT"]
["20529","ALCUBAR / CU - IZOLATOR 3P, W850, PIONOWO, REGULOWANA GŁĘBOKOŚĆ, ROZSTAW 80MM",313.8,"1-ZE-01","2001-01-01","SZT"]
["20530","ALCUBAR / CU - IZOLATOR 4P, W1000, PIONOWO, REGULOWANA GŁĘBOKOŚĆ, ROZSTAW 80MM",385.6,"1-ZE-01","2001-01-01","SZT"]
["20531","ALCUBAR / CU - IZOLATOR 4P, W1200, PIONOWO, REGULOWANA GŁĘBOKOŚĆ, ROZSTAW 80MM",394.5,"1-ZE-01","2001-01-01","SZT"]
["20532","ALCUBAR / CU - IZOLATOR 4P, W1300, PIONOWO, REGULOWANA GŁĘBOKOŚĆ, ROZSTAW 80MM",403.2,"1-ZE-01","2001-01-01","SZT"]
["20535","ALCUBAR / CU - IZOLATOR 4P, W450, PIONOWO, REGULOWANA GŁĘBOKOŚĆ, ROZSTAW 80MM",350.6,"1-ZE-01","2001-01-01","SZT"]
["20536","ALCUBAR / CU - IZOLATOR 4P, W600, PIONOWO, REGULOWANA GŁĘBOKOŚĆ, ROZSTAW 80MM",355.9,"1-ZE-01","2001-01-01","SZT"]
["20537","ALCUBAR / CU - IZOLATOR 4P, W650, PIONOWO, REGULOWANA GŁĘBOKOŚĆ, ROZSTAW 80MM",359.4,"1-ZE-01","2001-01-01","SZT"]
["20538","ALCUBAR / CU - IZOLATOR 4P, W800, PIONOWO, REGULOWANA GŁĘBOKOŚĆ, ROZSTAW 80MM",369.9,"1-ZE-01","2001-01-01","SZT"]
["20539","ALCUBAR / CU - IZOLATOR 4P, W850, PIONOWO, REGULOWANA GŁĘBOKOŚĆ, ROZSTAW 80MM",377,"1-ZE-01","2001-01-01","SZT"]
["20540","ALCUBAR / CU - IZOLATOR 3P, W1000, PODPORA/PIONOWO NA PLECACH, REGULOWANA WYSOKOŚĆ, ROZSTAW 80MM",322.5,"1-ZE-01","2001-01-01","SZT"]
["20541","ALCUBAR / CU - IZOLATOR 3P, W1200, PODPORA/PIONOWO NA PLECACH, REGULOWANA WYSOKOŚĆ, ROZSTAW 80MM",331.4,"1-ZE-01","2001-01-01","SZT"]
["20542","ALCUBAR / CU - IZOLATOR 3P, W1300, PODPORA/PIONOWO NA PLECACH, REGULOWANA WYSOKOŚĆ, ROZSTAW 80MM",340.1,"1-ZE-01","2001-01-01","SZT"]
["20544","ALCUBAR / CU - IZOLATOR 3P, W400, PODPORA/PIONOWO NA PLECACH, REGULOWANA WYSOKOŚĆ, ROZSTAW 80MM",284,"1-ZE-01","2001-01-01","SZT"]
["20545","ALCUBAR / CU - IZOLATOR 3P, W450, PODPORA/PIONOWO NA PLECACH, REGULOWANA WYSOKOŚĆ, ROZSTAW 80MM",289.3,"1-ZE-01","2001-01-01","SZT"]
["20546","ALCUBAR / CU - IZOLATOR 3P, W600, PODPORA/PIONOWO NA PLECACH, REGULOWANA WYSOKOŚĆ, ROZSTAW 80MM",292.8,"1-ZE-01","2001-01-01","SZT"]
["20547","ALCUBAR / CU - IZOLATOR 3P, W650, PODPORA/PIONOWO NA PLECACH, REGULOWANA WYSOKOŚĆ, ROZSTAW 80MM",298,"1-ZE-01","2001-01-01","SZT"]
["20548","ALCUBAR / CU - IZOLATOR 3P, W800, PODPORA/PIONOWO NA PLECACH, REGULOWANA WYSOKOŚĆ, ROZSTAW 80MM",306.8,"1-ZE-01","2001-01-01","SZT"]
["20549","ALCUBAR / CU - IZOLATOR 3P, W850, PODPORA/PIONOWO NA PLECACH, REGULOWANA WYSOKOŚĆ, ROZSTAW 80MM",313.8,"1-ZE-01","2001-01-01","SZT"]
["20550","ALCUBAR / CU - IZOLATOR 4P, W1000, PODPORA/PIONOWO NA PLECACH, REGULOWANA WYSOKOŚĆ, ROZSTAW 80MM",385.6,"1-ZE-01","2001-01-01","SZT"]
["20551","ALCUBAR / CU - IZOLATOR 4P, W1200, PODPORA/PIONOWO NA PLECACH, REGULOWANA WYSOKOŚĆ, ROZSTAW 80MM",394.5,"1-ZE-01","2001-01-01","SZT"]
["20552","ALCUBAR / CU - IZOLATOR 4P, W1300, PODPORA/PIONOWO NA PLECACH, REGULOWANA WYSOKOŚĆ, ROZSTAW 80MM",403.2,"1-ZE-01","2001-01-01","SZT"]
["20554","AlCubar / Cu - Izolator 4P, W400, podpora/pionowo na plecach, regulowana wysokość, rozstaw 80mm",345.3,"1-ZE-01","2001-01-01","SZT"]
["20555","ALCUBAR / CU - IZOLATOR 4P, W450, PODPORA/PIONOWO NA PLECACH, REGULOWANA WYSOKOŚĆ, ROZSTAW 80MM",350.6,"1-ZE-01","2001-01-01","SZT"]
["20556","ALCUBAR / CU - IZOLATOR 4P, W600, PODPORA/PIONOWO NA PLECACH, REGULOWANA WYSOKOŚĆ, ROZSTAW 80MM",355.9,"1-ZE-01","2001-01-01","SZT"]
["20557","ALCUBAR / CU - IZOLATOR 4P, W650, PODPORA/PIONOWO NA PLECACH, REGULOWANA WYSOKOŚĆ, ROZSTAW 80MM",359.4,"1-ZE-01","2001-01-01","SZT"]
["20558","ALCUBAR / CU - IZOLATOR 4P, W800, PODPORA/PIONOWO NA PLECACH, REGULOWANA WYSOKOŚĆ, ROZSTAW 80MM",369.9,"1-ZE-01","2001-01-01","SZT"]
["20559","ALCUBAR / CU - IZOLATOR 4P, W850, PODPORA/PIONOWO NA PLECACH, REGULOWANA WYSOKOŚĆ, ROZSTAW 80MM",377,"1-ZE-01","2001-01-01","SZT"]
["20600","ALCUBAR / CU - IZOLATOR 3P, W1000, POZIOMO, REGULOWANA GŁĘBOKOŚĆ, ROZSTAW 105MM",285.8,"1-ZE-01","2001-01-01","SZT"]
["20601","ALCUBAR / CU - IZOLATOR 3P, W1200, POZIOMO, REGULOWANA GŁĘBOKOŚĆ, ROZSTAW 105MM",294.5,"1-ZE-01","2001-01-01","SZT"]
["20602","ALCUBAR / CU - IZOLATOR 3P, W1300, POZIOMO, REGULOWANA GŁĘBOKOŚĆ, ROZSTAW 105MM",303.2,"1-ZE-01","2001-01-01","SZT"]
["20605","ALCUBAR / CU - IZOLATOR 3P, W450, POZIOMO, REGULOWANA GŁĘBOKOŚĆ, ROZSTAW 105MM",243.7,"1-ZE-01","2001-01-01","SZT"]
["20606","ALCUBAR / CU - IZOLATOR 3P, W600, POZIOMO, REGULOWANA GŁĘBOKOŚĆ, ROZSTAW 105MM",252.5,"1-ZE-01","2001-01-01","SZT"]
["20607","ALCUBAR / CU - IZOLATOR 3P, W650, POZIOMO, REGULOWANA GŁĘBOKOŚĆ, ROZSTAW 105MM",257.60000000000002,"1-ZE-01","2001-01-01","SZT"]
["20608","ALCUBAR / CU - IZOLATOR 3P, W800, POZIOMO, REGULOWANA GŁĘBOKOŚĆ, ROZSTAW 105MM",270,"1-ZE-01","2001-01-01","SZT"]
["20609","ALCUBAR / CU - IZOLATOR 3P, W850, POZIOMO, REGULOWANA GŁĘBOKOŚĆ, ROZSTAW 105MM",277,"1-ZE-01","2001-01-01","SZT"]
["20610","ALCUBAR / CU - IZOLATOR 4P, W1000, POZIOMO, REGULOWANA GŁĘBOKOŚĆ, ROZSTAW 105MM",350.6,"1-ZE-01","2001-01-01","SZT"]
["20611","ALCUBAR / CU - IZOLATOR 4P, W1200, POZIOMO, REGULOWANA GŁĘBOKOŚĆ, ROZSTAW 105MM",359.4,"1-ZE-01","2001-01-01","SZT"]
["20612","ALCUBAR / CU - IZOLATOR 4P, W1300, POZIOMO, REGULOWANA GŁĘBOKOŚĆ, ROZSTAW 105MM",368.1,"1-ZE-01","2001-01-01","SZT"]
["20616","ALCUBAR / CU - IZOLATOR 4P, W600, POZIOMO, REGULOWANA GŁĘBOKOŚĆ, ROZSTAW 105MM",313.8,"1-ZE-01","2001-01-01","SZT"]
["20617","ALCUBAR / CU - IZOLATOR 4P, W650, POZIOMO, REGULOWANA GŁĘBOKOŚĆ, ROZSTAW 105MM",319.2,"1-ZE-01","2001-01-01","SZT"]
["20618","ALCUBAR / CU - IZOLATOR 4P, W800, POZIOMO, REGULOWANA GŁĘBOKOŚĆ, ROZSTAW 105MM",333.1,"1-ZE-01","2001-01-01","SZT"]
["20619","ALCUBAR / CU - IZOLATOR 4P, W850, POZIOMO, REGULOWANA GŁĘBOKOŚĆ, ROZSTAW 105MM",342,"1-ZE-01","2001-01-01","SZT"]
["20620","ALCUBAR / CU - IZOLATOR 3P, W1000, PIONOWO, REGULOWANA GŁĘBOKOŚĆ, ROZSTAW 105MM",322.5,"1-ZE-01","2001-01-01","SZT"]
["20621","ALCUBAR / CU - IZOLATOR 3P, W1200, PIONOWO, REGULOWANA GŁĘBOKOŚĆ, ROZSTAW 105MM",331.4,"1-ZE-01","2001-01-01","SZT"]
["20622","ALCUBAR / CU - IZOLATOR 3P, W1300, PIONOWO, REGULOWANA GŁĘBOKOŚĆ, ROZSTAW 105MM",340.1,"1-ZE-01","2001-01-01","SZT"]
["20625","ALCUBAR / CU - IZOLATOR 3P, W450, PIONOWO, REGULOWANA GŁĘBOKOŚĆ, ROZSTAW 105MM",289.3,"1-ZE-01","2001-01-01","SZT"]
["20626","ALCUBAR / CU - IZOLATOR 3P, W600, PIONOWO, REGULOWANA GŁĘBOKOŚĆ, ROZSTAW 105MM",292.8,"1-ZE-01","2001-01-01","SZT"]
["20627","ALCUBAR / CU - IZOLATOR 3P, W650, PIONOWO, REGULOWANA GŁĘBOKOŚĆ, ROZSTAW 105MM",298,"1-ZE-01","2001-01-01","SZT"]
["20628","ALCUBAR / CU - IZOLATOR 3P, W800, PIONOWO, REGULOWANA GŁĘBOKOŚĆ, ROZSTAW 105MM",306.8,"1-ZE-01","2001-01-01","SZT"]
["20629","ALCUBAR / CU - IZOLATOR 3P, W850, PIONOWO, REGULOWANA GŁĘBOKOŚĆ, ROZSTAW 105MM",313.8,"1-ZE-01","2001-01-01","SZT"]
["20630","ALCUBAR / CU - IZOLATOR 4P, W1000, PIONOWO, REGULOWANA GŁĘBOKOŚĆ, ROZSTAW 105MM",385.6,"1-ZE-01","2001-01-01","SZT"]
["20631","ALCUBAR / CU - IZOLATOR 4P, W1200, PIONOWO, REGULOWANA GŁĘBOKOŚĆ, ROZSTAW 105MM",394.5,"1-ZE-01","2001-01-01","SZT"]
["20632","ALCUBAR / CU - IZOLATOR 4P, W1300, PIONOWO, REGULOWANA GŁĘBOKOŚĆ, ROZSTAW 105MM",403.2,"1-ZE-01","2001-01-01","SZT"]
["20636","ALCUBAR / CU - IZOLATOR 4P, W600, PIONOWO, REGULOWANA GŁĘBOKOŚĆ, ROZSTAW 105MM",355.9,"1-ZE-01","2001-01-01","SZT"]
["20637","ALCUBAR / CU - IZOLATOR 4P, W650, PIONOWO, REGULOWANA GŁĘBOKOŚĆ, ROZSTAW 105MM",359.4,"1-ZE-01","2001-01-01","SZT"]
["20638","ALCUBAR / CU - IZOLATOR 4P, W800, PIONOWO, REGULOWANA GŁĘBOKOŚĆ, ROZSTAW 105MM",369.9,"1-ZE-01","2001-01-01","SZT"]
["20639","ALCUBAR / CU - IZOLATOR 4P, W850, PIONOWO, REGULOWANA GŁĘBOKOŚĆ, ROZSTAW 105MM",377,"1-ZE-01","2001-01-01","SZT"]
["20640","ALCUBAR / CU - IZOLATOR 3P, W1000, PODPORA/PIONOWO NA PLECACH, REGULOWANA WYSOKOŚĆ, ROZSTAW 105MM",322.5,"1-ZE-01","2001-01-01","SZT"]
["20641","ALCUBAR / CU - IZOLATOR 3P, W1200, PODPORA/PIONOWO NA PLECACH, REGULOWANA WYSOKOŚĆ, ROZSTAW 105MM",331.4,"1-ZE-01","2001-01-01","SZT"]
["20642","ALCUBAR / CU - IZOLATOR 3P, W1300, PODPORA/PIONOWO NA PLECACH, REGULOWANA WYSOKOŚĆ, ROZSTAW 105MM",340.1,"1-ZE-01","2001-01-01","SZT"]
["20645","ALCUBAR / CU - IZOLATOR 3P, W450, PODPORA/PIONOWO NA PLECACH, REGULOWANA WYSOKOŚĆ, ROZSTAW 105MM",289.3,"1-ZE-01","2001-01-01","SZT"]
["20646","ALCUBAR / CU - IZOLATOR 3P, W600, PODPORA/PIONOWO NA PLECACH, REGULOWANA WYSOKOŚĆ, ROZSTAW 105MM",292.8,"1-ZE-01","2001-01-01","SZT"]
["20647","ALCUBAR / CU - IZOLATOR 3P, W650, PODPORA/PIONOWO NA PLECACH, REGULOWANA WYSOKOŚĆ, ROZSTAW 105MM",298,"1-ZE-01","2001-01-01","SZT"]
["20648","ALCUBAR / CU - IZOLATOR 3P, W800, PODPORA/PIONOWO NA PLECACH, REGULOWANA WYSOKOŚĆ, ROZSTAW 105MM",306.8,"1-ZE-01","2001-01-01","SZT"]
["20649","ALCUBAR / CU - IZOLATOR 3P, W850, PODPORA/PIONOWO NA PLECACH, REGULOWANA WYSOKOŚĆ, ROZSTAW 105MM",313.8,"1-ZE-01","2001-01-01","SZT"]
["20650","ALCUBAR / CU - IZOLATOR 4P, W1000, PODPORA/PIONOWO NA PLECACH, REGULOWANA WYSOKOŚĆ, ROZSTAW 105MM",385.6,"1-ZE-01","2001-01-01","SZT"]
["20651","ALCUBAR / CU - IZOLATOR 4P, W1200, PODPORA/PIONOWO NA PLECACH, REGULOWANA WYSOKOŚĆ, ROZSTAW 105MM",394.5,"1-ZE-01","2001-01-01","SZT"]
["20652","ALCUBAR / CU - IZOLATOR 4P, W1300, PODPORA/PIONOWO NA PLECACH, REGULOWANA WYSOKOŚĆ, ROZSTAW 105MM",403.2,"1-ZE-01","2001-01-01","SZT"]
["20656","ALCUBAR / CU - IZOLATOR 4P, W600, PODPORA/PIONOWO NA PLECACH, REGULOWANA WYSOKOŚĆ, ROZSTAW 105MM",355.9,"1-ZE-01","2001-01-01","SZT"]
["20657","ALCUBAR / CU - IZOLATOR 4P, W650, PODPORA/PIONOWO NA PLECACH, REGULOWANA WYSOKOŚĆ, ROZSTAW 105MM",359.4,"1-ZE-01","2001-01-01","SZT"]
["20658","ALCUBAR / CU - IZOLATOR 4P, W800, PODPORA/PIONOWO NA PLECACH, REGULOWANA WYSOKOŚĆ, ROZSTAW 105MM",369.9,"1-ZE-01","2001-01-01","SZT"]
["20659","ALCUBAR / CU - IZOLATOR 4P, W850, PODPORA/PIONOWO NA PLECACH, REGULOWANA WYSOKOŚĆ, ROZSTAW 105MM",377,"1-ZE-01","2001-01-01","SZT"]
["21076","ZENERGY OM - SZYNA PE W600, L=470 MM, 20 ZACISKÓW 16MM2 + 1 X M6",56.4,"1-ZE-19",{"$error":"#N/A"},"SZT"]
["21076","ZENERGY OM - SZYNA PE W600, L=470 MM, 20 ZACISKÓW 16MM2 + 1 X M6",56.4,"1-ZE-09","2021-12-01","SZT"]
["21077","ZENERGY OM - SZYNA PE W800, L=470 MM, 20 ZACISKÓW 16MM2 + 1 X M6",75.7,"1-ZE-19",{"$error":"#N/A"},"SZT"]
["21092","ALCUBAR OM - WSPORNIK IZOLATORA SW04300, MOST POZIOMY NA PLECACH - 1 SZT.",36.5,"1-ZE-08","2019-01-28","SZT"]
["21093","ALCUBAR OM - WSPORNIK IZOLATORA SW04300, W400, MOST PIONOWY NA PLECACH - 1 SZT.",36.5,"1-ZE-08","2019-01-28","SZT"]
["21094","ALCUBAR / CU - IZOLATOR WSPORCZY SW04300 4P - 1 SZT.",66.7,"1-ZE-08","2019-01-28","SZT"]
["21097","ALCUBAR OM - WSPORNIK IZOLATORA ZENE39200, MOST POZIOMY - 1 SZT.",34,"1-ZE-08","2021-12-01","SZT"]
["21098","ALCUBAR OM - WSPORNIK IZOLATORA ZENE39200, W400, MOST PIONOWY - 1 SZT.",34,"1-ZE-08","2021-12-01","SZT"]
["21129","ALCUBAR - OSŁONA MOSTU ALCUBAR H27, DLA IZOLATORA SW04300, POLIWĘGLAN 15X275X2000MM",253.6,"1-ZE-08","2019-01-28","SZT"]
["21130","ALCUBAR OM - WSPORNIK OSŁONY MOSTU ALCUBAR H27 (SW04300) - 1 SZT.",8.3000000000000007,"1-ZE-08","2019-01-26","SZT"]
["22009","ZENERGY OM - OBUDOWA PODSTAWOWA IP30, 9M,  W1200 H550 D230, WISZĄCA",529.6,"1-ZE-09","2018-10-22","SZT"]
["22012","ZENERGY OM - OBUDOWA PODSTAWOWA IP30, 12M,  W1200 H700 D230, WISZĄCA",534.6,"1-ZE-09","2018-10-22","SZT"]
["22015","ZENERGY OM - OBUDOWA PODSTAWOWA IP30, 15M,  W1200 H850 D230, WISZĄCA",593.5,"1-ZE-09","2018-10-22","SZT"]
["22018","ZENERGY OM - OBUDOWA PODSTAWOWA IP30, 18M,  W1200 H1000 D230, WISZĄCA",656.6,"1-ZE-09","2018-10-22","SZT"]
["22021","ZENERGY OM - OBUDOWA PODSTAWOWA IP30, 21M,  W1200 H1150 D230, WISZĄCA",696.6,"1-ZE-09","2018-10-22","SZT"]
["22024","ZENERGY OM - OBUDOWA PODSTAWOWA IP30, 24M,  W1200 H1300 D230, WISZĄCA",732.6,"1-ZE-09","2018-10-22","SZT"]
["22027","ZENERGY OM - OBUDOWA PODSTAWOWA IP30, 27M,  W1200 H1450 D230, WISZĄCA",766.6,"1-ZE-09","2018-10-22","SZT"]
["22028","ZENERGY OM - OBUDOWA PODSTAWOWA IP30, 28M,  W1200 H1600 D230, COKÓŁ 100MM",1238,"1-ZE-09","2018-10-22","SZT"]
["22029","ZENERGY OM - OBUDOWA PODSTAWOWA IP30, 29M,  W1200 H1550 D230, WISZĄCA",857.9,"1-ZE-09","2018-10-22","SZT"]
["22030","ZENERGY OM - OBUDOWA PODSTAWOWA IP30, 30M,  W1200 H1700 D230, COKÓŁ 100MM",1360.2,"1-ZE-09","2018-10-22","SZT"]
["22033","ZENERGY OM - OBUDOWA PODSTAWOWA IP30, 33M,  W1200 H1850 D230, COKÓŁ 100MM",1626.7,"1-ZE-09","2018-10-22","SZT"]
["22036","ZENERGY OM - OBUDOWA PODSTAWOWA IP30, 36M,  W1200 H2000 D230, COKÓŁ 100MM",1744.3,"1-ZE-09","2018-10-22","SZT"]
["22039","ZENERGY OM - OBUDOWA PODSTAWOWA IP30, 39M, W1200 H2150 D230, COKÓŁ 100MM",1940.8,"1-ZE-09","2018-10-22","SZT"]
["22040","ZENERGY OM - SZYNA PROSTA, TYŁ, TS-35D, (H=15MM), W400",23.4,"1-ZE-09","2018-10-22","SZT"]
["22041","ZENERGY OM - SZYNA PROSTA, TYŁ, TS-35D, (H=15MM), W600",25.6,"1-ZE-09","2018-10-22","SZT"]
["22042","ZENERGY OM - SZYNA PROSTA, TYŁ, TS-35D, (H=15MM), W800",30.4,"1-ZE-09","2018-10-22","SZT"]
["22043","ZENERGY OM - SZYNA PROSTA, TYŁ, TS-35D, (H=15MM), W1000",35,"1-ZE-09","2018-10-22","SZT"]
["22044","ZENERGY OM - PŁYTA MONTAŻOWA + OSŁONA ROZŁĄCZNIK SKRZYNKOWY 7X EFEN 160, W1000, 6M, PIONOWO",179.3,"1-ZE-01","2019-10-02","SZT"]
["22045","ZENERGY OM - PŁYTA MONTAŻOWA + OSŁONA ROZŁĄCZNIK SKRZYNKOWY 1X EFEN250 + 6X EFEN 160, W1000, 9M, PIONOWO",354.9,"1-ZE-01","2019-10-02","SZT"]
["22046","ZENERGY OM - PŁYTA MONTAŻOWA + OSŁONA ROZŁĄCZNIK SKRZYNKOWY 2X EFEN250 + 4X EFEN 160, W1000, 9M, PIONOWO",316.5,"1-ZE-01","2019-10-02","SZT"]
["22047","ZENERGY OM - PŁYTA MONTAŻOWA + OSŁONA ROZŁĄCZNIK SKRZYNKOWY 3X EFEN250 + 2X EFEN 160, W1000, 9M, PIONOWO",278,"1-ZE-01","2019-10-02","SZT"]
["22048","ZENERGY OM - PŁYTA MONTAŻOWA + OSŁONA ROZŁĄCZNIK SKRZYNKOWY 4X EFEN250, W1000, 9M, PIONOWO",239.5,"1-ZE-01","2019-10-02","SZT"]
["22050","ZENERGY OM - SZYNA SYMETRYCZNA TS-35, L= 450 - 1050MM",19.100000000000001,"1-ZE-09","2018-10-22","SZT"]
["22051","Zenergy OM - Szyna symetryczna TS-35, L= 1200 - 1950mm",38.1,"1-ZE-09","2018-10-22","SZT"]
["22053","ZENERGY OM - SZYNA APARATURY MODUŁOWEJ TS-35D, W300",20.5,"1-ZE-09","2018-10-22","SZT"]
["22054","ZENERGY OM - SZYNA APARATURY MODUŁOWEJ TS-35D, W400",21.8,"1-ZE-09","2018-10-22","SZT"]
["22056","ZENERGY OM - SZYNA APARATURY MODUŁOWEJ TS-35D, W600",24.6,"1-ZE-09","2018-10-22","SZT"]
["22058","ZENERGY OM - SZYNA APARATURY MODUŁOWEJ TS-35D, W800",28.6,"1-ZE-09","2018-10-22","SZT"]
["22059","ZENERGY OM - SZYNA APARATURY MODUŁOWEJ TS-35D, W1000",32.799999999999997,"1-ZE-09","2018-10-22","SZT"]
["22060","ZENERGY OM - POJEDYŃCZY ZAMEK TYPU DŹWIGNIA Z KLUCZEM 1333",146.1,"1-ZE-09","2018-10-22","SZT"]
["22061","ZENERGY OM - DWIE WKŁADKI DO ZAMKA TYPU PIÓRKO",40.5,"1-ZE-09","2018-10-22","SZT"]
["22062","ZENERGY OM - DWIE WKŁADKI DO ZAMKA Z KLUCZEM 1333",40.5,"1-ZE-09","2018-10-22","SZT"]
["22063","ZENERGY OM - SZYNA REGULOWANA APARATURY MODUŁOWEJ TS-35D, W300",30.1,"1-ZE-09","2018-10-22","SZT"]
["22064","ZENERGY OM - SZYNA REGULOWANA APARATURY MODUŁOWEJ TS-35D, W400",31.2,"1-ZE-09","2018-10-22","SZT"]
["22066","ZENERGY OM - SZYNA REGULOWANA APARATURY MODUŁOWEJ TS-35D, W600",35.299999999999997,"1-ZE-09","2018-10-22","SZT"]
["22068","ZENERGY OM - SZYNA REGULOWANA APARATURY MODUŁOWEJ TS-35D, W800",40.9,"1-ZE-09","2018-10-22","SZT"]
["22069","ZENERGY OM - SZYNA REGULOWANA APARATURY MODUŁOWEJ TS-35D, W1000",46.4,"1-ZE-09","2018-10-22","SZT"]
["22070","ZENERGY OM - DRABINKA KABLOWA, WSPORNIK TS-35D, PE - W300",12.3,"1-ZE-09","2018-10-22","SZT"]
["22071","ZENERGY OM - DRABINKA KABLOWA, WSPORNIK TS-35D, PE - W400",14.4,"1-ZE-09","2018-10-22","SZT"]
["22072","ZENERGY OM - DRABINKA KABLOWA - W600",39.1,"1-ZE-09","2018-10-22","SZT"]
["22073","ZENERGY OM - DRABINKA KABLOWA - W800",46.8,"1-ZE-09","2018-10-22","SZT"]
["22074","ZENERGY OM - DRABINKA KABLOWA - W1000",58.8,"1-ZE-09","2018-10-22","SZT"]
["22075","ZENERGY OM - SZYNA PE W400, L=270 MM, 19 ZACISKÓW 16MM2 + 1 X M6",37.4,"1-ZE-19","2018-10-22","SZT"]
["22076","ZENERGY OM - SZYNA PE W600, L=470 MM, 40 ZACISKÓW 16MM2 + 1 X M6",70.900000000000006,"1-ZE-09","2018-10-22","SZT"]
["22076","ZENERGY OM - SZYNA PE W600, L=470 MM, 40 ZACISKÓW 16MM2 + 1 X M6",70.900000000000006,"1-ZE-19","2018-10-22","SZT"]
["22077","ZENERGY OM - SZYNA PE W800, L=470 MM, 40 ZACISKÓW 16MM2 + 1 X M6",106.1,"1-ZE-19","2018-10-22","SZT"]
["22078","ZENERGY OM - SZYNA PE W1000, L=470 MM, 40 ZACISKÓW 16MM2 + 1 X M6",120.5,"1-ZE-19","2018-10-22","SZT"]
["22079","ZENERGY OM - DWA IZOLATORY TORU NEUTRALNEGO, DO REFERENCJI 22075-78",16.7,"1-ZE-09","2018-12-10","SZT"]
["22080","ZENERGY OM - WSPORNIK PE",5.9,"1-ZE-09","2018-10-22","SZT"]
["22081","ZENERGY OM - WSPORNIK KORYTKA KABLOWEGO H30mm",8.5,"1-ZE-09","2018-10-22","SZT"]
["22082","ZENERGY OM - SZEROKI WSPORNIK KORYTKA KABLOWEGO",12.3,"1-ZE-09","2018-10-22","SZT"]
["22083","ZENERGY OM - CEOWNIK KORYTKA KABLOWEGO W300",7.2,"1-ZE-09","2018-10-22","SZT"]
["22084","ZENERGY OM - CEOWNIK KORYTKA KABLOWEGO W400",7.9,"1-ZE-09","2018-10-22","SZT"]
["22085","ZENERGY OM - CEOWNIK KORYTKA KABLOWEGO W600",8.6999999999999993,"1-ZE-09","2018-10-22","SZT"]
["22086","ZENERGY OM - CEOWNIK KORYTKA KABLOWEGO W800",11.5,"1-ZE-09","2018-10-22","SZT"]
["22087","ZENERGY OM - CEOWNIK KORYTKA KABLOWEGO W1000",14.4,"1-ZE-09","2018-10-22","SZT"]
["22088","ZENERGY OM/OU - DWA UCHWYTY MONTAŻOWE DO ŚCIANY",17.3,"1-ZE-09","2018-10-22","SZT"]
["22089","ZENERGY OM - WSPORNIK PŁYT MONTAŻOWYCH, REGULOWANYCH D230 - 1 SZT.",8.1999999999999993,"1-ZE-09","2018-10-22","SZT"]
["22090","ALCUBAR OM - IZOLATOR 630A 3P, W400, MOST PIONOWY NA PLECACH",62,"1-ZE-08","2018-10-22","SZT"]
["22091","ALCUBAR OM - IZOLATOR 630A 3P, W600, MOST PIONOWY NA PLECACH",66.599999999999994,"1-ZE-08","2018-10-22","SZT"]
["22092","ALCUBAR OM - IZOLATOR 630A 3P, W800, MOST PIONOWY NA PLECACH",70,"1-ZE-08","2018-10-22","SZT"]
["22093","ALCUBAR OM - IZOLATOR 630A 3P, W1000, MOST PIONOWY NA PLECACH",73.599999999999994,"1-ZE-08","2018-10-22","SZT"]
["22094","ALCUBAR OM - IZOLATOR 630A 4P, W400, MOST PIONOWY NA PLECACH, ROZSTAW 50MM",81.8,"1-ZE-08","2018-10-22","SZT"]
["22095","ALCUBAR OM - IZOLATOR 630A 4P, W600, MOST PIONOWY NA PLECACH",85.3,"1-ZE-08","2018-10-22","SZT"]
["22096","ALCUBAR OM - IZOLATOR 630A 4P, W800, MOST PIONOWY NA PLECACH",91.2,"1-ZE-08","2018-10-22","SZT"]
["22097","ALCUBAR OM - IZOLATOR 630A 4P, W1000, MOST PIONOWY NA PLECACH",97,"1-ZE-08","2018-10-22","SZT"]
["22098","ALCUBAR OM - IZOLATOR 630A 1P, SZYNA N",28,"1-ZE-08","2018-10-22","SZT"]
["22099","ZENERGY OM - WSPORNIK PŁYT MONTAŻOWYCH, REGULOWANYCH D300 - 1 SZT.",10.5,"1-ZE-08","2001-01-01","SZT"]
["22100","ZENERGY OM-VSD - PROFIL PRZEDZIAŁU KABLOWEGO L1950MM",151.9,"1-ZE-09","2019-05-13","SZT"]
["22101","ZENERGY OM-VSD - PROFIL DO MONTAŻU APARATURY L1950MM",199.4,"1-ZE-09","2019-05-13","SZT"]
["22102","ZENERGY OM-VSD - DWA KĄTOWNIKI BOCZNE DO ZENERGY OM D230 L1950MM",59,"1-ZE-09","2019-05-13","SZT"]
["22103","ZENERGY OM-VSD - DWA KĄTOWNIKI BOCZNE DO ZENERGY OM D300 L1950MM",79.5,"1-ZE-09","2019-05-13","SZT"]
["22104","ZENERGY OM-VSD - WSPORNIK PROFILI PIONOWYCH DLA OM POKRYWA TYLNA D230 L1950MM",50.1,"1-ZE-09","2019-07-09","SZT"]
["22105","ZENERGY OM-VSD - ZESTAW WSPORNIKA DO ZENERGY OM POKRYWA TYLNA W400 X D300",49.5,"1-ZE-09","2019-05-13","SZT"]
["22106","ZENERGY OM-VSD - ZESTAW WSPORNIKA DO ZENERGY OM POKRYWA TYLNA W600 X D300",67.400000000000006,"1-ZE-09","2019-05-13","SZT"]
["22107","ZENERGY OM-VSD - ZESTAW WSPORNIKA DO ZENERGY OM POKRYWA TYLNA W800 X D300",99.6,"1-ZE-09","2019-05-13","SZT"]
["22108","ZENERGY OM-VSD - UCHWYT APARATURY / SZYNY PERFOROWANEJ",13.4,"1-ZE-09","2019-07-09","SZT"]
["22109","ZENERGY OM-VSD - DOCISK PRZEDZIAŁU KABLOWEGO, ODWRACALNY",15.5,"1-ZE-09","2019-05-13","SZT"]
["22110","ZENERGY OM-VSD - DOCISK PRZEDZIAŁU KABLOWEGO PROSTY",11.1,"1-ZE-09","2019-07-10","SZT"]
["22111","ZENERGY OM-VSD - WSPORNIK TRAPEZOWY SZYNY TS-35D L1950MM",134.1,"1-ZE-09","2019-05-13","SZT"]
["22112","ZENERGY OM - SZYNA PE, 7 ZACISKÓW 10MM2",12.3,"1-ZE-19","2001-01-01","SZT"]
["22113","ZENERGY OM - SZYNA PE, 12 ZACISKÓW 10MM2",16.7,"1-ZE-19","2001-01-01","SZT"]
["22114","Zenergy OM-VSD - Wspornik profili pionowych dla OM Pokrywa tylna D230 L1950mm Slim",55.6,"1-ZE-09","2019-07-09","SZT"]
["22117","Zenergy OM-VSD - Zestaw wspornika do Zenergy OM Pokrywa tylna W800 x D300 Slim",99,"1-ZE-09","2019-05-13","SZT"]
["22120","Zenergy OM-VSD - Profil przedziału kablowego L1950mm W800 Slim",133.5,"1-ZE-09","2019-05-13","SZT"]
["22122","Zenergy OM-VSD - Płyta przedziału kablowego L1950mm Slim&Simple",77.900000000000006,"1-ZE-09","2019-05-13","SZT"]
["22154","ZENERGY OM - SZYNA APARATURY MODUŁOWEJ TS-35D, W400 D300",23.9,"1-ZE-09","2001-01-01","SZT"]
["22156","ZENERGY OM - SZYNA APARATURY MODUŁOWEJ TS-35D, W600 D300",27.8,"1-ZE-09","2001-01-01","SZT"]
["22158","ZENERGY OM - SZYNA APARATURY MODUŁOWEJ TS-35D, W800 D300",31.1,"1-ZE-09","2001-01-01","SZT"]
["22159","ZENERGY OM - SZYNA APARATURY MODUŁOWEJ TS-35D, W1000 D300",33,"1-ZE-09","2021-12-01","SZT"]
["22164","ZENERGY OM - SZYNA REGULOWANA APARATURY MODUŁOWEJ TS-35D, W400 D300",34.5,"1-ZE-09","2001-01-01","SZT"]
["22166","ZENERGY OM - SZYNA REGULOWANA APARATURY MODUŁOWEJ TS-35D, W600 D300",38.9,"1-ZE-09","2001-01-01","SZT"]
["22168","ZENERGY OM - SZYNA REGULOWANA APARATURY MODUŁOWEJ TS-35D, W800 D300",44.5,"1-ZE-09","2001-01-01","SZT"]
["22169","ZENERGY OM - SZYNA REGULOWANA APARATURY MODUŁOWEJ TS-35D, W1000 D300",46.4,"1-ZE-09","2021-12-01","SZT"]
["22170","ZENERGY OM - DRABINKA KABLOWA - W300",23.7,"1-ZE-09","2019-03-18","SZT"]
["22171","ZENERGY OM - DRABINKA KABLOWA - W400",30.8,"1-ZE-09","2019-03-18","SZT"]
["22181","ZENERGY OM - WSPORNIK KORYTKA KABLOWEGO H30mm - 2 RAMIONA",8.5,"1-ZE-09","2001-01-01","SZT"]
["22182","ZENERGY OM - WSPORNIK KORYTKA KABLOWEGO H60mm",9,"1-ZE-09","2021-12-01","SZT"]
["22183","ZENERGY OM - WSPORNIK KORYTKA KABLOWEGO H60mm - 2 RAMIONA",9,"1-ZE-09","2021-12-01","SZT"]
["22201","ZENERGY OM - PŁYTA MONTAŻOWA W1000 ROZŁĄCZNIK SKRZYNKOWY 7X EFEN 160A, PIONOWO",114.4,"1-ZE-01","2018-10-22","SZT"]
["22202","ZENERGY OM - PŁYTA MONTAŻOWA W1000 ROZŁĄCZNIK SKRZYNKOWY 4X EFEN 250A, PIONOWO",139.1,"1-ZE-01","2018-10-22","SZT"]
["22203","ZENERGY OM - PŁYTA MONTAŻOWA W1000 HGM, UCB:100-250 PIONOWO / HGM:100-125, UCB:100, 160-250 3P; UPB:100-250 3P POZIOMO",115.6,"1-ZE-09","2018-10-22","SZT"]
["22204","ZENERGY OM - PŁYTA MONTAŻOWA W1000 UPB:100-250 PIONOWO / HGM, UCB:160-250 4P, 400 3P; UPB:100-250, 400-630 3P POZIOMO",139.1,"1-ZE-09","2018-10-22","SZT"]
["22205","ZENERGY OM - PŁYTA MONTAŻOWA W1000 HGM, UCB:400; UPB:400-630 PIONOWO / HGM, UCB:400 4P; UPB:400-630 4P POZIOMO",170.9,"1-ZE-09","2018-10-22","SZT"]
["22206","ZENERGY OM - PŁYTA MONTAŻOWA W1000 HGM, UCB:630-800 PIONOWO / HGM, UCB:630-800 3P POZIOMO",195.6,"1-ZE-09","2018-10-22","SZT"]
["22207","ZENERGY OM - PŁYTA MONTAŻOWA W1000 HGM, UCB:630-800 4P POZIOMO",214.3,"1-ZE-09","2018-10-22","SZT"]
["22211","ZENERGY OM - OSŁONA CZOŁOWA PEŁNA W1000, 1M / 900",43.5,"1-ZE-01","2018-10-22","SZT"]
["22211","ZENERGY OM - OSŁONA CZOŁOWA PEŁNA W1000, 1M / 900",43.5,"1-ZE-09","2018-10-22","SZT"]
["22212","ZENERGY OM - OSŁONA CZOŁOWA PEŁNA W1000, 2M / 900",50.7,"1-ZE-01","2018-10-22","SZT"]
["22212","ZENERGY OM - OSŁONA CZOŁOWA PEŁNA W1000, 2M / 900",50.7,"1-ZE-09","2018-10-22","SZT"]
["22213","ZENERGY OM - OSŁONA CZOŁOWA PEŁNA W1000, 3M / 900",58,"1-ZE-01","2018-10-22","SZT"]
["22213","ZENERGY OM - OSŁONA CZOŁOWA PEŁNA W1000, 3M / 900",58,"1-ZE-09","2018-10-22","SZT"]
["22214","ZENERGY OM - OSŁONA CZOŁOWA PEŁNA W1000, 4M / 900",65.2,"1-ZE-01","2018-10-22","SZT"]
["22214","ZENERGY OM - OSŁONA CZOŁOWA PEŁNA W1000, 4M / 900",65.2,"1-ZE-09","2018-10-22","SZT"]
["22215","ZENERGY OM - OSŁONA CZOŁOWA PEŁNA W1000, 5M / 900",71,"1-ZE-01","2018-10-22","SZT"]
["22215","ZENERGY OM - OSŁONA CZOŁOWA PEŁNA W1000, 5M / 900",71,"1-ZE-09","2018-10-22","SZT"]
["22216","ZENERGY OM - OSŁONA CZOŁOWA PEŁNA W1000, 6M / 900",78.3,"1-ZE-09","2018-10-22","SZT"]
["22217","ZENERGY OM - OSŁONA CZOŁOWA PEŁNA W1000, 7M / 900",89.8,"1-ZE-09","2018-10-22","SZT"]
["22218","ZENERGY OM - OSŁONA CZOŁOWA PEŁNA W1000, 8M / 900",101.4,"1-ZE-09","2018-10-22","SZT"]
["22219","ZENERGY OM - OSŁONA CZOŁOWA PEŁNA W1000, 9M / 900",114.4,"1-ZE-09","2018-10-22","SZT"]
["22220","ZENERGY OM - OSŁONA CZOŁOWA PEŁNA W1000, 10M / 900",126.1,"1-ZE-09","2018-10-22","SZT"]
["22221","ZENERGY OM - OSŁONA CZOŁOWA PEŁNA W1000, 11M / 900",139.1,"1-ZE-09","2018-10-22","SZT"]
["22222","ZENERGY OM - OSŁONA CZOŁOWA PEŁNA W1000, 12M / 900",150.69999999999999,"1-ZE-09","2018-10-22","SZT"]
["22223","ZENERGY OM - OSŁONA ROZŁĄCZNIK SKRZYNKOWY 7X EFEN160, W1000 / 900, 6M, PIONOWO",82.2,"1-ZE-09","2019-01-17","SZT"]
["22224","ZENERGY OM - OSŁONA ROZŁĄCZNIK SKRZYNKOWY 4X EFEN250, W1000 / 900, 9M, PIONOWO",120.1,"1-ZE-09","2019-01-17","SZT"]
["22225","ZENERGY OM - METALOWA KIESZEŃ NA DOKUMENTACJĘ W300, DLA REF. 22061/22062",34.200000000000003,"1-ZE-09","2018-10-22","SZT"]
["22226","ZENERGY OM - METALOWA KIESZEŃ NA DOKUMENTACJĘ W400, DLA REF. 22061/22062",38.1,"1-ZE-09","2018-10-22","SZT"]
["22227","ZENERGY OM - METALOWA KIESZEŃ NA DOKUMENTACJĘ W600, DLA REF. 22061/22062",47.6,"1-ZE-09","2018-10-22","SZT"]
["22228","ZENERGY OM - METALOWA KIESZEŃ NA DOKUMENTACJĘ W800, DLA REF. 22061/22062",55.8,"1-ZE-09","2018-10-22","SZT"]
["22229","ZENERGY OM - METALOWA KIESZEŃ NA DOKUMENTACJĘ W1000, DLA REF. 22061/22062",64,"1-ZE-09","2018-10-22","SZT"]
["22231","ZENERGY OM - OSŁONA CZOŁOWA PEŁNA W300, 1M / 200",28.9,"1-ZE-01","2018-10-22","SZT"]
["22231","ZENERGY OM - OSŁONA CZOŁOWA PEŁNA W300, 1M / 200",28.9,"1-ZE-09","2018-10-22","SZT"]
["22232","ZENERGY OM - OSŁONA CZOŁOWA PEŁNA W300, 2M / 200",31.9,"1-ZE-01","2018-10-22","SZT"]
["22232","ZENERGY OM - OSŁONA CZOŁOWA PEŁNA W300, 2M / 200",31.9,"1-ZE-09","2018-10-22","SZT"]
["22233","ZENERGY OM - OSŁONA CZOŁOWA PEŁNA W300, 3M / 200",34.799999999999997,"1-ZE-01","2018-10-22","SZT"]
["22233","ZENERGY OM - OSŁONA CZOŁOWA PEŁNA W300, 3M / 200",34.799999999999997,"1-ZE-09","2018-10-22","SZT"]
["22234","ZENERGY OM - OSŁONA CZOŁOWA PEŁNA W300, 4M / 200",37.6,"1-ZE-01","2018-10-22","SZT"]
["22234","ZENERGY OM - OSŁONA CZOŁOWA PEŁNA W300, 4M / 200",37.6,"1-ZE-09","2018-10-22","SZT"]
["22235","ZENERGY OM - OSŁONA CZOŁOWA PEŁNA W300, 5M / 200",39.1,"1-ZE-01","2018-10-22","SZT"]
["22235","ZENERGY OM - OSŁONA CZOŁOWA PEŁNA W300, 5M / 200",39.1,"1-ZE-09","2018-10-22","SZT"]
["22236","ZENERGY OM - OSŁONA CZOŁOWA PEŁNA W300, 6M / 200",40.5,"1-ZE-01","2018-10-22","SZT"]
["22236","ZENERGY OM - OSŁONA CZOŁOWA PEŁNA W300, 6M / 200",40.5,"1-ZE-09","2018-10-22","SZT"]
["22237","ZENERGY OM - OSŁONA CZOŁOWA PEŁNA W300, 7M / 200",60.9,"1-ZE-01","2018-10-22","SZT"]
["22237","ZENERGY OM - OSŁONA CZOŁOWA PEŁNA W300, 7M / 200",60.9,"1-ZE-09","2018-10-22","SZT"]
["22238","ZENERGY OM - OSŁONA CZOŁOWA PEŁNA W300, 8M / 200",65.2,"1-ZE-01","2018-10-22","SZT"]
["22238","ZENERGY OM - OSŁONA CZOŁOWA PEŁNA W300, 8M / 200",65.2,"1-ZE-09","2018-10-22","SZT"]
["22239","ZENERGY OM - OSŁONA CZOŁOWA PEŁNA W300, 9M / 200",69.5,"1-ZE-01","2018-10-22","SZT"]
["22239","ZENERGY OM - OSŁONA CZOŁOWA PEŁNA W300, 9M / 200",69.5,"1-ZE-09","2018-10-22","SZT"]
["22240","ZENERGY OM - OSŁONA CZOŁOWA PEŁNA W300, 10M / 200",71,"1-ZE-09","2018-10-22","SZT"]
["22241","ZENERGY OM - OSŁONA CZOŁOWA PEŁNA W300, 11M / 200",72.400000000000006,"1-ZE-09","2018-10-22","SZT"]
["22242","ZENERGY OM - OSŁONA CZOŁOWA PEŁNA W300, 12M / 200",73.900000000000006,"1-ZE-09","2018-10-22","SZT"]
["22243","ZENERGY OM - PŁYTA MONTAŻOWA W400 HGM, UCB:100-250 PIONOWO / HGM:100-125, UCB:100, 160-250 3P; UPB:100-250 3P POZIOMO",55.5,"1-ZE-09","2018-10-22","SZT"]
["22244","ZENERGY OM - PŁYTA MONTAŻOWA W400 UPB:100-250 PIONOWO / HGM, UCB:160-250 4P; UPB:100-250 POZIOMO",62.8,"1-ZE-09","2018-10-22","SZT"]
["22245","ZENERGY OM - PŁYTA MONTAŻOWA W400 HGM, UCB:400; UPB:400-630 PIONOWO",77.5,"1-ZE-09","2018-10-22","SZT"]
["22246","ZENERGY OM - PŁYTA MONTAŻOWA W400 HGM, UCB:630-800 3P PIONOWO",90.6,"1-ZE-09","2018-10-22","SZT"]
["22248","ZENERGY OM - PŁYTA MONTAŻOWA W400 ROZŁĄCZNIK SKRZYNKOWY 2X EFEN 160A, PIONOWO",55.6,"1-ZE-08","2021-12-01","SZT"]
["22249","ZENERGY OM - PŁYTA MONTAŻOWA W400 ROZŁĄCZNIK SKRZYNKOWY 1X EFEN 250A, PIONOWO",62.8,"1-ZE-08","2021-12-01","SZT"]
["22250","ZENERGY OM - OSŁONA APARATURY MODUŁOWEJ W300, 2M / 200, 7 MOD",33.299999999999997,"1-ZE-09","2018-10-22","SZT"]
["22252","ZENERGY OM - OSŁONA APARATURY MODUŁOWEJ W300, 3M / 200, 7 MOD",36.299999999999997,"1-ZE-09","2018-10-22","SZT"]
["22253","ZENERGY OM - OSŁONA APARATURY MODUŁOWEJ W300, 4M / 200, 7 MOD",37.6,"1-ZE-09","2018-10-22","SZT"]
["22254","ZENERGY OM - OSŁONA APARATURY MODUŁOWEJ W300, 5M / 200, 7 MOD",39.1,"1-ZE-09","2018-10-22","SZT"]
["22255","ZENERGY OM - OSŁONA APARATURY MODUŁOWEJ W1000, 2M / 900, 46 MOD",50.7,"1-ZE-09","2018-10-22","SZT"]
["22257","ZENERGY OM - OSŁONA APARATURY MODUŁOWEJ W1000, 3M / 900, 46 MOD",58,"1-ZE-01","2018-10-22","SZT"]
["22257","ZENERGY OM - OSŁONA APARATURY MODUŁOWEJ W1000, 3M / 900, 46 MOD",58,"1-ZE-09","2018-10-22","SZT"]
["22258","ZENERGY OM - OSŁONA APARATURY MODUŁOWEJ W1000, 4M / 900, 46 MOD",65.2,"1-ZE-09","2018-10-22","SZT"]
["22259","ZENERGY OM - OSŁONA APARATURY MODUŁOWEJ W1000, 5M / 900, 46 MOD",68.099999999999994,"1-ZE-09","2018-10-22","SZT"]
["22261","ZENERGY OM - PŁYTA MONTAŻOWA W600 ROZŁĄCZNIK SKRZYNKOWY 4X EFEN 160A, PIONOWO",66.599999999999994,"1-ZE-09","2018-10-22","SZT"]
["22262","ZENERGY OM - PŁYTA MONTAŻOWA W600 ROZŁĄCZNIK SKRZYNKOWY 2X EFEN 250A, PIONOWO",81.099999999999994,"1-ZE-09","2018-10-22","SZT"]
["22263","ZENERGY OM - PŁYTA MONTAŻOWA W600 HGM, UCB:100-250 PIONOWO / HGM:100-125, UCB:100, 160-250 3P; UPB:100-250 3P POZIOMO",67.2,"1-ZE-09","2018-10-22","SZT"]
["22264","ZENERGY OM - PŁYTA MONTAŻOWA W600 UPB:100-250 PIONOWO / HGM, UCB:160-250 4P, 400 3P; UPB:100-250, 400-630 3P POZIOMO",81.900000000000006,"1-ZE-09","2018-10-22","SZT"]
["22265","ZENERGY OM - PŁYTA MONTAŻOWA W600 HGM, UCB:400; UPB:400-630 PIONOWO / HGM, UCB:400 4P; UPB:400-630 4P POZIOMO",108.3,"1-ZE-09","2018-10-22","SZT"]
["22266","ZENERGY OM - PŁYTA MONTAŻOWA W600 HGM, UCB:630-800 PIONOWO / HGM, UCB:630-800 3P POZIOMO",122.9,"1-ZE-09","2018-10-22","SZT"]
["22267","ZENERGY OM - PŁYTA MONTAŻOWA W600 HGM, UCB:630-800 4P POZIOMO",140.30000000000001,"1-ZE-09","2018-10-22","SZT"]
["22275","ZENERGY OM - METALOWA KIESZEŃ NA DOKUMENTACJĘ W300, DLA REF. 22060",34.200000000000003,"1-ZE-09","2001-01-01","SZT"]
["22276","ZENERGY OM - METALOWA KIESZEŃ NA DOKUMENTACJĘ W400, DLA REF. 22060",38.1,"1-ZE-09","2001-01-01","SZT"]
["22277","ZENERGY OM - METALOWA KIESZEŃ NA DOKUMENTACJĘ W600, DLA REF. 22060",47.6,"1-ZE-09","2001-01-01","SZT"]
["22278","ZENERGY OM - METALOWA KIESZEŃ NA DOKUMENTACJĘ W800, DLA REF. 22060",55.8,"1-ZE-09","2001-01-01","SZT"]
["22279","ZENERGY OM - METALOWA KIESZEŃ NA DOKUMENTACJĘ W1000, DLA REF. 22060",64,"1-ZE-09","2001-01-01","SZT"]
["22281","ZENERGY OM - PŁYTA MONTAŻOWA W800 ROZŁĄCZNIK SKRZYNKOWY 6X EFEN 160A, PIONOWO",98.5,"1-ZE-09","2018-10-22","SZT"]
["22282","ZENERGY OM - PŁYTA MONTAŻOWA W800 ROZŁĄCZNIK SKRZYNKOWY 3X EFEN 250A, PIONOWO",121.7,"1-ZE-09","2018-10-22","SZT"]
["22283","ZENERGY OM - PŁYTA MONTAŻOWA W800 HGM, UCB:100-250 PIONOWO / HGM:100-125, UCB:100, 160-250 3P; UPB:100-250 3P POZIOMO",99.5,"1-ZE-09","2018-10-22","SZT"]
["22284","ZENERGY OM - PŁYTA MONTAŻOWA W800 UPB:100-250 PIONOWO / HGM, UCB:160-250 4P, 400 3P; UPB:100-250, 400-630 3P POZIOMO",122.9,"1-ZE-09","2018-10-22","SZT"]
["22285","ZENERGY OM - PŁYTA MONTAŻOWA W800 HGM, UCB:400; UPB:400-630 PIONOWO / HGM, UCB:400 4P; UPB:400-630 4P POZIOMO",149.1,"1-ZE-09","2018-10-22","SZT"]
["22286","ZENERGY OM - PŁYTA MONTAŻOWA W800 HGM, UCB:630-800 PIONOWO / HGM, UCB:630-800 3P POZIOMO",172.5,"1-ZE-09","2018-10-22","SZT"]
["22287","ZENERGY OM - PŁYTA MONTAŻOWA W800 HGM, UCB:630-800 4P POZIOMO",188.7,"1-ZE-09","2018-10-22","SZT"]
["22301","ZENERGY OM - PŁYTA MONTAŻOWA W300, 1M, OCYNK",25.3,"1-ZE-09","2018-10-22","SZT"]
["22302","ZENERGY OM - PŁYTA MONTAŻOWA W300, 2M, OCYNK",28.7,"1-ZE-09","2018-10-22","SZT"]
["22303","ZENERGY OM - PŁYTA MONTAŻOWA W300, 3M, OCYNK",32.799999999999997,"1-ZE-09","2018-10-22","SZT"]
["22304","ZENERGY OM - PŁYTA MONTAŻOWA W300, 4M, OCYNK",38,"1-ZE-09","2018-10-22","SZT"]
["22305","ZENERGY OM - PŁYTA MONTAŻOWA W300, 5M, OCYNK",44.3,"1-ZE-09","2018-10-22","SZT"]
["22306","ZENERGY OM - PŁYTA MONTAŻOWA W300, 6M, OCYNK",51.4,"1-ZE-09","2018-10-22","SZT"]
["22308","ZENERGY OM - PŁYTA MONTAŻOWA W300, 8M, OCYNK",59.8,"1-ZE-09","2018-10-22","SZT"]
["22309","ZENERGY OM - PEŁNA PŁYTA MONTAŻOWA W300,   9M, OCYNK",66.8,"1-ZE-09","2018-10-22","SZT"]
["22310","ZENERGY OM - PŁYTA MONTAŻOWA W300, 10M, OCYNK",63.7,"1-ZE-09","2018-10-22","SZT"]
["22311","ZENERGY OM - PŁYTA MONTAŻOWA W300, 11M, OCYNK",65.599999999999994,"1-ZE-09","2019-03-26","SZT"]
["22312","ZENERGY OM - PEŁNA PŁYTA MONTAŻOWA W300, 12M, OCYNK",67.599999999999994,"1-ZE-09","2018-10-22","SZT"]
["22315","ZENERGY OM - PEŁNA PŁYTA MONTAŻOWA W300, 15M, OCYNK",83.2,"1-ZE-09","2018-10-22","SZT"]
["22318","ZENERGY OM - PEŁNA PŁYTA MONTAŻOWA W300, 18M, OCYNK",91.5,"1-ZE-09","2018-10-22","SZT"]
["22321","ZENERGY OM - PEŁNA PŁYTA MONTAŻOWA W300, 21M, OCYNK",102.6,"1-ZE-09","2018-10-22","SZT"]
["22324","ZENERGY OM - PEŁNA PŁYTA MONTAŻOWA W300, 24M, OCYNK",110.3,"1-ZE-09","2018-10-22","SZT"]
["22327","ZENERGY OM - PEŁNA PŁYTA MONTAŻOWA W300, 27M, OCYNK",118.5,"1-ZE-09","2018-10-22","SZT"]
["22328","ZENERGY OM - PEŁNA PŁYTA MONTAŻOWA W300, 28M, OCYNK",136.9,"1-ZE-09","2018-10-22","SZT"]
["22329","ZENERGY OM - PEŁNA PŁYTA MONTAŻOWA W300, 29M, OCYNK",120,"1-ZE-09","2018-10-22","SZT"]
["22330","ZENERGY OM - PEŁNA PŁYTA MONTAŻOWA W300, 30M, OCYNK",132.4,"1-ZE-09","2018-10-22","SZT"]
["22333","ZENERGY OM - PEŁNA PŁYTA MONTAŻOWA W300, 33M, OCYNK",140.9,"1-ZE-09","2018-10-22","SZT"]
["22336","ZENERGY OM - PEŁNA PŁYTA MONTAŻOWA W300, 36M, OCYNK",150.80000000000001,"1-ZE-09","2018-10-22","SZT"]
["22339","ZENERGY OM - PEŁNA PŁYTA MONTAŻOWA W300, 39M, OCYNK",157.9,"1-ZE-09","2018-10-22","SZT"]
["22401","ZENERGY OM - PŁYTA MONTAŻOWA W400, 1M, OCYNK",27.5,"1-ZE-09","2018-10-22","SZT"]
["22402","ZENERGY OM - PŁYTA MONTAŻOWA W400, 2M, OCYNK",31.1,"1-ZE-09","2018-10-22","SZT"]
["22403","ZENERGY OM - PŁYTA MONTAŻOWA W400, 3M, OCYNK",35.299999999999997,"1-ZE-09","2018-10-22","SZT"]
["22404","ZENERGY OM - PŁYTA MONTAŻOWA W400, 4M, OCYNK",41.2,"1-ZE-09","2018-10-22","SZT"]
["22405","ZENERGY OM - PŁYTA MONTAŻOWA W400, 5M, OCYNK",47.9,"1-ZE-09","2018-10-22","SZT"]
["22406","ZENERGY OM - PŁYTA MONTAŻOWA W400, 6M, OCYNK",55.6,"1-ZE-09","2018-10-22","SZT"]
["22408","ZENERGY OM - PŁYTA MONTAŻOWA W400, 8M, OCYNK",64.8,"1-ZE-09","2018-10-22","SZT"]
["22409","ZENERGY OM - PEŁNA PŁYTA MONTAŻOWA W400,   9M, OCYNK",72.2,"1-ZE-09","2018-10-22","SZT"]
["22410","ZENERGY OM - PŁYTA MONTAŻOWA W400, 10M, OCYNK",69.099999999999994,"1-ZE-09","2018-10-22","SZT"]
["22411","ZENERGY OM - PŁYTA MONTAŻOWA W400, 11M, OCYNK",71.2,"1-ZE-09","2019-03-26","SZT"]
["22412","ZENERGY OM - PEŁNA PŁYTA MONTAŻOWA W400, 12M, OCYNK",73.3,"1-ZE-09","2018-10-22","SZT"]
["22415","ZENERGY OM - PEŁNA PŁYTA MONTAŻOWA W400, 15M, OCYNK",89.8,"1-ZE-09","2018-10-22","SZT"]
["22418","ZENERGY OM - PEŁNA PŁYTA MONTAŻOWA W400, 18M, OCYNK",98.4,"1-ZE-09","2018-10-22","SZT"]
["22421","ZENERGY OM - PEŁNA PŁYTA MONTAŻOWA W400, 21M, OCYNK",110.8,"1-ZE-09","2018-10-22","SZT"]
["22424","ZENERGY OM - PEŁNA PŁYTA MONTAŻOWA W400, 24M, OCYNK",119.5,"1-ZE-09","2018-10-22","SZT"]
["22427","ZENERGY OM - PEŁNA PŁYTA MONTAŻOWA W400, 27M, OCYNK",128.4,"1-ZE-09","2018-10-22","SZT"]
["22428","ZENERGY OM - PEŁNA PŁYTA MONTAŻOWA W400, 28M, OCYNK",151.30000000000001,"1-ZE-09","2018-10-22","SZT"]
["22429","ZENERGY OM - PEŁNA PŁYTA MONTAŻOWA W400, 29M, OCYNK",131.5,"1-ZE-09","2018-10-22","SZT"]
["22430","ZENERGY OM - PEŁNA PŁYTA MONTAŻOWA W400, 30M, OCYNK",148.69999999999999,"1-ZE-09","2018-10-22","SZT"]
["22433","ZENERGY OM - PEŁNA PŁYTA MONTAŻOWA W400, 33M, OCYNK",159.5,"1-ZE-09","2018-10-22","SZT"]
["22436","ZENERGY OM - PEŁNA PŁYTA MONTAŻOWA W400, 36M, OCYNK",171.2,"1-ZE-09","2018-10-22","SZT"]
["22439","ZENERGY OM - PEŁNA PŁYTA MONTAŻOWA W400, 39M, OCYNK",182.2,"1-ZE-09","2018-10-22","SZT"]
["22441","ZENERGY OM - PŁYTA MONTAŻOWA LICZNIKOWA 1TL, W400, 8M, OCYNK",186.8,"1-ZE-09","2018-10-22","SZT"]
["22452","ZENERGY OM - PŁYTA MONTAŻOWA WGŁĘBIONA W400, 2M, OCYNK",33.200000000000003,"1-ZE-09","2021-12-01","SZT"]
["22453","ZENERGY OM - PŁYTA MONTAŻOWA WGŁĘBIONA W400, 3M, OCYNK",37.700000000000003,"1-ZE-09","2021-12-01","SZT"]
["22454","ZENERGY OM - PŁYTA MONTAŻOWA WGŁĘBIONA W400, 4M, OCYNK",43.9,"1-ZE-09","2021-12-01","SZT"]
["22455","ZENERGY OM - PŁYTA MONTAŻOWA WGŁĘBIONA W400, 5M, OCYNK",51.7,"1-ZE-09","2021-12-01","SZT"]
["22456","ZENERGY OM - PŁYTA MONTAŻOWA WGŁĘBIONA W400, 6M, OCYNK",61.8,"1-ZE-09","2021-12-01","SZT"]
["22461","ZENERGY OM - PŁYTA MONTAŻOWA W400, 3M: NSX100-250; INS/INV100-250 PIONOWO / NSX100-250 3P POZIOMO",55.5,"1-ZE-09","2018-12-18","SZT"]
["22462","ZENERGY OM - PŁYTA MONTAŻOWA W400, 4M: NSX:100-250 4P, 400-630 3P; INS/INV100-250  POZIOMO",62.8,"1-ZE-09","2001-01-01","SZT"]
["22463","ZENERGY OM - PŁYTA MONTAŻOWA W400, 5M: NSX400-630; INS/INV320-630 PIONOWO / NSX400-630 4P; INS/INV320-630 POZIOMO",77.900000000000006,"1-ZE-09","2001-01-01","SZT"]
["22509","ZENERGY OM - OBUDOWA PODSTAWOWA IP55, 9M,  W1200 H550 D230, WISZĄCA",770,"1-ZE-09","2018-10-22","SZT"]
["22512","ZENERGY OM - OBUDOWA PODSTAWOWA IP55, 12M,  W1200 H700 D230, WISZĄCA",787.2,"1-ZE-09","2018-10-22","SZT"]
["22515","ZENERGY OM - OBUDOWA PODSTAWOWA IP55, 15M,  W1200 H850 D230, WISZĄCA",859,"1-ZE-09","2018-10-22","SZT"]
["22518","ZENERGY OM - OBUDOWA PODSTAWOWA IP55, 18M,  W1200 H1000 D230, WISZĄCA",907.1,"1-ZE-09","2018-10-22","SZT"]
["22521","ZENERGY OM - OBUDOWA PODSTAWOWA IP55, 21M,  W1200 H1150 D230, WISZĄCA",975.5,"1-ZE-09","2018-10-22","SZT"]
["22524","ZENERGY OM - OBUDOWA PODSTAWOWA IP55, 24M,  W1200 H1300 D230, WISZĄCA",1033.9000000000001,"1-ZE-09","2018-10-22","SZT"]
["22527","ZENERGY OM - OBUDOWA PODSTAWOWA IP55, 2M,  W1200 H1450 D230, WISZĄCA",1090.4000000000001,"1-ZE-09","2018-10-22","SZT"]
["22528","ZENERGY OM - OBUDOWA PODSTAWOWA IP55, 28M,  W1200 H1600 D230, COKÓŁ 100MM",1552.3,"1-ZE-09","2018-10-22","SZT"]
["22529","ZENERGY OM - OBUDOWA PODSTAWOWA IP55, 29M,  W1200 H1550 D230, WISZĄCA",1204.0999999999999,"1-ZE-09","2018-10-22","SZT"]
["22530","ZENERGY OM - OBUDOWA PODSTAWOWA IP55, 30M,  W1200 H1700 D230, COKÓŁ 100MM",1642.6,"1-ZE-09","2018-10-22","SZT"]
["22533","ZENERGY OM - OBUDOWA PODSTAWOWA IP55, 33M,  W1200 H1850 D230, COKÓŁ 100MM",1905.6,"1-ZE-09","2018-10-22","SZT"]
["22536","ZENERGY OM - OBUDOWA PODSTAWOWA IP55, 36M,  W1200 H2000 D230, COKÓŁ 100MM",2028.6,"1-ZE-09","2018-10-22","SZT"]
["22539","ZENERGY OM - OBUDOWA PODSTAWOWA IP55, 39M,  W1200 H2150 D230, COKÓŁ 100MM",2213.6,"1-ZE-09","2018-10-22","SZT"]
["22601","ZENERGY OM - PŁYTA MONTAŻOWA W600, 1M, OCYNK",29.8,"1-ZE-09","2018-10-22","SZT"]
["22602","ZENERGY OM - PŁYTA MONTAŻOWA W600, 2M, OCYNK",33.799999999999997,"1-ZE-09","2018-10-22","SZT"]
["22603","ZENERGY OM - PŁYTA MONTAŻOWA W600, 3M, OCYNK",38.200000000000003,"1-ZE-09","2018-10-22","SZT"]
["22604","ZENERGY OM - PŁYTA MONTAŻOWA W600, 4M, OCYNK",43.9,"1-ZE-09","2018-10-22","SZT"]
["22605","ZENERGY OM - PŁYTA MONTAŻOWA W600, 5M, OCYNK",51.1,"1-ZE-09","2018-10-22","SZT"]
["22606","ZENERGY OM - PŁYTA MONTAŻOWA W600, 6M, OCYNK",61.4,"1-ZE-09","2018-10-22","SZT"]
["22608","ZENERGY OM - PŁYTA MONTAŻOWA W600, 8M, OCYNK",73.400000000000006,"1-ZE-09","2018-10-22","SZT",225]
["22609","ZENERGY OM - PEŁNA PŁYTA MONTAŻOWA W600,   9M, OCYNK",82,"1-ZE-09","2018-10-22","SZT"]
["22610","ZENERGY OM - PŁYTA MONTAŻOWA W600, 10M, OCYNK",77.900000000000006,"1-ZE-09","2018-10-22","SZT"]
["22611","ZENERGY OM - PŁYTA MONTAŻOWA W600, 11M, OCYNK",80.3,"1-ZE-09","2019-03-26","SZT"]
["22612","ZENERGY OM - PEŁNA PŁYTA MONTAŻOWA W600, 12M, OCYNK",82.4,"1-ZE-09","2018-10-22","SZT"]
["22615","ZENERGY OM - PEŁNA PŁYTA MONTAŻOWA W600, 15M, OCYNK",97.7,"1-ZE-09","2018-10-22","SZT"]
["22618","ZENERGY OM - PEŁNA PŁYTA MONTAŻOWA W600, 18M, OCYNK",102.7,"1-ZE-09","2018-10-22","SZT"]
["22621","ZENERGY OM - PEŁNA PŁYTA MONTAŻOWA W600, 21M, OCYNK",120.7,"1-ZE-09","2018-10-22","SZT"]
["22624","ZENERGY OM - PEŁNA PŁYTA MONTAŻOWA W600, 24M, OCYNK",126.4,"1-ZE-09","2018-10-22","SZT"]
["22627","ZENERGY OM - PEŁNA PŁYTA MONTAŻOWA W600, 27M, OCYNK",130.19999999999999,"1-ZE-09","2018-10-22","SZT"]
["22628","ZENERGY OM - PEŁNA PŁYTA MONTAŻOWA W600, 28M, OCYNK",192.8,"1-ZE-09","2018-10-22","SZT"]
["22629","ZENERGY OM - PEŁNA PŁYTA MONTAŻOWA W600, 29M, OCYNK",130.9,"1-ZE-09","2018-10-22","SZT"]
["22630","ZENERGY OM - PEŁNA PŁYTA MONTAŻOWA W600, 30M, OCYNK",187.9,"1-ZE-09","2018-10-22","SZT"]
["22633","ZENERGY OM - PEŁNA PŁYTA MONTAŻOWA W600, 33M, OCYNK",199.3,"1-ZE-09","2018-10-22","SZT"]
["22636","ZENERGY OM - PEŁNA PŁYTA MONTAŻOWA W600, 36M, OCYNK",231.4,"1-ZE-09","2018-10-22","SZT"]
["22639","ZENERGY OM - PEŁNA PŁYTA MONTAŻOWA W600, 39M, OCYNK",267.7,"1-ZE-09","2018-10-22","SZT"]
["22641","ZENERGY OM - PŁYTA MONTAŻOWA LICZNIKOWA 2TL, W600, 8M, OCYNK",288.5,"1-ZE-09","2018-10-22","SZT"]
["22642","ZENERGY OM - PŁYTA MONTAŻOWA LICZNIKOWA 3TL 1P+N, W600, 6M",276.10000000000002,"1-ZE-09","2018-10-22","SZT"]
["22644","ZENERGY OM - PŁYTA MONTAŻOWA + OSŁONA ROZŁĄCZNIK SKRZYNKOWY 4X EFEN 160, W600, 6M, PIONOWO",116.9,"1-ZE-09","2018-10-22","SZT"]
["22645","ZENERGY OM - PŁYTA MONTAŻOWA + OSŁONA ROZŁĄCZNIK SKRZYNKOWY 1X EFEN250 + 2X EFEN 160, W600, 9M, PIONOWO",201.5,"1-ZE-09","2018-10-22","SZT"]
["22646","ZENERGY OM - PŁYTA MONTAŻOWA + OSŁONA ROZŁĄCZNIK SKRZYNKOWY 2X EFEN250, W600, 9M, PIONOWO",156.69999999999999,"1-ZE-09","2018-10-22","SZT"]
["22652","ZENERGY OM - PŁYTA MONTAŻOWA WGŁĘBIONA W600, 2M, OCYNK",37.9,"1-ZE-09","2021-12-01","SZT"]
["22653","ZENERGY OM - PŁYTA MONTAŻOWA WGŁĘBIONA W600, 3M, OCYNK",42.2,"1-ZE-09","2021-12-01","SZT"]
["22654","ZENERGY OM - PŁYTA MONTAŻOWA WGŁĘBIONA W600, 4M, OCYNK",47.4,"1-ZE-09","2021-12-01","SZT"]
["22655","ZENERGY OM - PŁYTA MONTAŻOWA WGŁĘBIONA W600, 5M, OCYNK",56.2,"1-ZE-09","2021-12-01","SZT"]
["22656","ZENERGY OM - PŁYTA MONTAŻOWA WGŁĘBIONA W600, 6M, OCYNK",69,"1-ZE-09","2021-12-01","SZT"]
["22661","ZENERGY OM - PŁYTA MONTAŻOWA W600, 3M: NSX100-250; INS/INV100-250 PIONOWO / NSX100-250 3P POZIOMO",71,"1-ZE-09","2018-10-22","SZT"]
["22662","ZENERGY OM - PŁYTA MONTAŻOWA W600, 4M: NSX:100-250 4P, 400-630 3P; INS/INV100-250 POZIOMO",86.3,"1-ZE-09","2018-10-22","SZT"]
["22663","ZENERGY OM - PŁYTA MONTAŻOWA W600, 5M: NSX400-630; INS/INV320-630 PIONOWO / NSX400-630 4P; INS/INV320-630 POZIOMO",129.6,"1-ZE-09","2018-10-22","SZT"]
["22801","ZENERGY OM - PŁYTA MONTAŻOWA W800, 1M, OCYNK",45.3,"1-ZE-09","2018-10-22","SZT"]
["22802","ZENERGY OM - PŁYTA MONTAŻOWA W800, 2M, OCYNK",51.6,"1-ZE-09","2018-10-22","SZT"]
["22803","ZENERGY OM - PŁYTA MONTAŻOWA W800, 3M, OCYNK",58.7,"1-ZE-09","2018-10-22","SZT"]
["22804","ZENERGY OM - PŁYTA MONTAŻOWA W800, 4M, OCYNK",68.2,"1-ZE-09","2018-10-22","SZT"]
["22805","ZENERGY OM - PŁYTA MONTAŻOWA W800, 5M, OCYNK",79.400000000000006,"1-ZE-09","2018-10-22","SZT"]
["22806","ZENERGY OM - PŁYTA MONTAŻOWA W800, 6M, OCYNK",92.3,"1-ZE-09","2018-10-22","SZT"]
["22808","ZENERGY OM - PŁYTA MONTAŻOWA W800, 8M, OCYNK",107.3,"1-ZE-09","2018-10-22","SZT"]
["22809","ZENERGY OM - PEŁNA PŁYTA MONTAŻOWA W800,   9M, OCYNK",119.8,"1-ZE-09","2018-10-22","SZT"]
["22810","ZENERGY OM - PŁYTA MONTAŻOWA W800, 10M, OCYNK",112.9,"1-ZE-09","2018-10-22","SZT"]
["22811","ZENERGY OM - PŁYTA MONTAŻOWA W800, 11M, OCYNK",116.1,"1-ZE-09","2019-03-26","SZT"]
["22812","ZENERGY OM - PEŁNA PŁYTA MONTAŻOWA W800, 12M, OCYNK",118.6,"1-ZE-09","2018-10-22","SZT"]
["22815","ZENERGY OM - PEŁNA PŁYTA MONTAŻOWA W800, 15M, OCYNK",138.1,"1-ZE-09","2018-10-22","SZT"]
["22818","ZENERGY OM - PEŁNA PŁYTA MONTAŻOWA W800, 18M, OCYNK",145.80000000000001,"1-ZE-09","2018-10-22","SZT"]
["22821","ZENERGY OM - PEŁNA PŁYTA MONTAŻOWA W800, 21M, OCYNK",149.19999999999999,"1-ZE-09","2018-10-22","SZT"]
["22824","ZENERGY OM - PEŁNA PŁYTA MONTAŻOWA W800, 24M, OCYNK",153.9,"1-ZE-09","2018-10-22","SZT"]
["22827","ZENERGY OM - PEŁNA PŁYTA MONTAŻOWA W800, 27M, OCYNK",156.69999999999999,"1-ZE-09","2018-10-22","SZT"]
["22828","ZENERGY OM - PEŁNA PŁYTA MONTAŻOWA W800, 28M, OCYNK",249.4,"1-ZE-09","2018-10-22","SZT"]
["22829","ZENERGY OM - PEŁNA PŁYTA MONTAŻOWA W800, 29M, OCYNK",157.80000000000001,"1-ZE-09","2018-10-22","SZT"]
["22830","ZENERGY OM - PEŁNA PŁYTA MONTAŻOWA W800, 30M, OCYNK",249,"1-ZE-09","2018-10-22","SZT"]
["22833","ZENERGY OM - PEŁNA PŁYTA MONTAŻOWA W800, 33M, OCYNK",316.39999999999998,"1-ZE-09","2018-10-22","SZT"]
["22836","ZENERGY OM - PEŁNA PŁYTA MONTAŻOWA W800, 36M, OCYNK",334.8,"1-ZE-09","2018-10-22","SZT"]
["22839","ZENERGY OM - PEŁNA PŁYTA MONTAŻOWA W800, 39M, OCYNK",357,"1-ZE-09","2018-10-22","SZT"]
["22841","ZENERGY OM - PŁYTA MONTAŻOWA LICZNIKOWA 3TL, W800, 8M, OCYNK",325.3,"1-ZE-09","2019-10-31","SZT"]
["22844","ZENERGY OM - PŁYTA MONTAŻOWA + OSŁONA ROZŁĄCZNIK SKRZYNKOWY 6X EFEN 160, W800, 6M, PIONOWO",151.80000000000001,"1-ZE-09","2018-10-22","SZT"]
["22845","ZENERGY OM - PŁYTA MONTAŻOWA + OSŁONA ROZŁĄCZNIK SKRZYNKOWY 1X EFEN250 + 4X EFEN 160, W800, 9M, PIONOWO",276.89999999999998,"1-ZE-09","2018-10-22","SZT"]
["22846","ZENERGY OM - PŁYTA MONTAŻOWA + OSŁONA ROZŁĄCZNIK SKRZYNKOWY 2X EFEN250 + 2X EFEN 160, W800, 9M, PIONOWO",239.5,"1-ZE-09","2018-10-22","SZT"]
["22847","ZENERGY OM - PŁYTA MONTAŻOWA + OSŁONA ROZŁĄCZNIK SKRZYNKOWY 3X EFEN250, W800, 9M, PIONOWO",200.9,"1-ZE-09","2018-10-22","SZT"]
["22852","ZENERGY OM - PŁYTA MONTAŻOWA WGŁĘBIONA W800, 2M, OCYNK",51.5,"1-ZE-09","2021-12-01","SZT"]
["22853","ZENERGY OM - PŁYTA MONTAŻOWA WGŁĘBIONA W800, 3M, OCYNK",65.900000000000006,"1-ZE-09","2021-12-01","SZT"]
["22854","ZENERGY OM - PŁYTA MONTAŻOWA WGŁĘBIONA W800, 4M, OCYNK",76.2,"1-ZE-09","2021-12-01","SZT"]
["22855","ZENERGY OM - PŁYTA MONTAŻOWA WGŁĘBIONA W800, 5M, OCYNK",89,"1-ZE-09","2021-12-01","SZT"]
["22856","ZENERGY OM - PŁYTA MONTAŻOWA WGŁĘBIONA W800, 6M, OCYNK",103.2,"1-ZE-09","2021-12-01","SZT"]
["22861","ZENERGY OM - PŁYTA MONTAŻOWA W800, 3M: NSX100-250; INS/INV100-250 PIONOWO / NSX100-250 3P POZIOMO",98.5,"1-ZE-09","2018-10-22","SZT"]
["22862","ZENERGY OM - PŁYTA MONTAŻOWA W800, 4M: NSX:100-250 4P, 400-630 3P; INS/INV100-250 POZIOMO",121.7,"1-ZE-09","2018-10-22","SZT"]
["22863","ZENERGY OM - PŁYTA MONTAŻOWA W800, 5M: NSX400-630; INS/INV320-630 PIONOWO / NSX400-630 4P; INS/INV320-630 POZIOMO",170.9,"1-ZE-09","2018-10-22","SZT"]
["22901","ZENERGY OM - PŁYTA MONTAŻOWA W1000, 1M, OCYNK",55,"1-ZE-09","2018-10-22","SZT"]
["22902","ZENERGY OM - PŁYTA MONTAŻOWA W1000, 2M, OCYNK",62.4,"1-ZE-09","2018-10-22","SZT"]
["22903","ZENERGY OM - PŁYTA MONTAŻOWA W1000, 3M, OCYNK",71.099999999999994,"1-ZE-09","2018-10-22","SZT"]
["22904","ZENERGY OM - PŁYTA MONTAŻOWA W1000, 4M, OCYNK",82.6,"1-ZE-09","2018-10-22","SZT"]
["22905","ZENERGY OM - PŁYTA MONTAŻOWA W1000, 5M, OCYNK",96.1,"1-ZE-09","2018-10-22","SZT"]
["22906","ZENERGY OM - PŁYTA MONTAŻOWA W1000, 6M, OCYNK",111.5,"1-ZE-09","2018-10-22","SZT"]
["22908","ZENERGY OM - PŁYTA MONTAŻOWA W1000, 8M, OCYNK",129.69999999999999,"1-ZE-09","2018-10-22","SZT"]
["22909","ZENERGY OM - PEŁNA PŁYTA MONTAŻOWA W1000,   9M, OCYNK",144.80000000000001,"1-ZE-09","2018-10-22","SZT"]
["22910","ZENERGY OM - PŁYTA MONTAŻOWA W1000, 10M, OCYNK",136.80000000000001,"1-ZE-09","2018-10-22","SZT"]
["22911","ZENERGY OM - PŁYTA MONTAŻOWA W1000, 11M, OCYNK",140.5,"1-ZE-09","2019-03-26","SZT"]
["22912","ZENERGY OM - PEŁNA PŁYTA MONTAŻOWA W1000, 12M, OCYNK",143.80000000000001,"1-ZE-09","2018-10-22","SZT"]
["22915","ZENERGY OM - PEŁNA PŁYTA MONTAŻOWA W1000, 15M, OCYNK",165.9,"1-ZE-09","2018-10-22","SZT"]
["22918","ZENERGY OM - PEŁNA PŁYTA MONTAŻOWA W1000, 18M, OCYNK",174.8,"1-ZE-09","2018-10-22","SZT"]
["22921","ZENERGY OM - PEŁNA PŁYTA MONTAŻOWA W1000, 21M, OCYNK",181,"1-ZE-09","2018-10-22","SZT"]
["22924","ZENERGY OM - PEŁNA PŁYTA MONTAŻOWA W1000, 24M, OCYNK",187.9,"1-ZE-09","2018-10-22","SZT"]
["22927","ZENERGY OM - PEŁNA PŁYTA MONTAŻOWA W1000, 27M, OCYNK",192.5,"1-ZE-09","2018-10-22","SZT"]
["22928","ZENERGY OM - PEŁNA PŁYTA MONTAŻOWA W1000, 28M, OCYNK",309.39999999999998,"1-ZE-09","2018-10-22","SZT"]
["22929","ZENERGY OM - PEŁNA PŁYTA MONTAŻOWA W1000, 29M, OCYNK",195.1,"1-ZE-09","2018-10-22","SZT"]
["22930","ZENERGY OM - PEŁNA PŁYTA MONTAŻOWA W1000, 30M, OCYNK",315.3,"1-ZE-09","2018-10-22","SZT"]
["22933","ZENERGY OM - PEŁNA PŁYTA MONTAŻOWA W1000, 33M, OCYNK",399.6,"1-ZE-09","2018-10-22","SZT"]
["22936","ZENERGY OM - PEŁNA PŁYTA MONTAŻOWA W1000, 36M, OCYNK",424.9,"1-ZE-09","2018-10-22","SZT"]
["22939","ZENERGY OM - PEŁNA PŁYTA MONTAŻOWA W1000, 39M, OCYNK",460.6,"1-ZE-09","2018-10-22","SZT"]
["22941","ZENERGY OM - PŁYTA MONTAŻOWA LICZNIKOWA 4TL, W1000, 8M, OCYNK",391.6,"1-ZE-09","2019-10-31","SZT"]
["22942","ZENERGY OM - PŁYTA MONTAŻOWA LICZNIKOWA 8TL, W1000, 17M, OCYNK",433.8,"1-ZE-09","2019-10-31","SZT"]
["22961","ZENERGY OM - PŁYTA MONTAŻOWA W1000, 3M: NSX100-250; INS/INV100-250 PIONOWO / NSX100-250 3P POZIOMO",121.7,"1-ZE-09","2019-01-16","SZT"]
["22962","ZENERGY OM - PŁYTA MONTAŻOWA W1000, 4M: NSX:100-250 4P, 400-630 3P; INS/INV100-250 POZIOMO",170.9,"1-ZE-09","2019-01-16","SZT"]
["22963","ZENERGY OM - PŁYTA MONTAŻOWA W1000, 5M: NSX400-630; INS/INV320-630 PIONOWO / NSX400-630 4P; INS/INV320-630 POZIOMO",206.9,"1-ZE-09","2019-01-16","SZT"]
["22971","ZENERGY OM - OSŁONA CZOŁOWA 5X INS/INV100-250, W1000, 5M / 900, PIONOWO, DŹWIGNIA",80.400000000000006,"1-ZE-01","2019-10-02","SZT"]
["22972","ZENERGY OM - OSŁONA CZOŁOWA INS/INV100-250, W1000, 4M / 900, POZIOMO, DŹWIGNIA",73.900000000000006,"1-ZE-01","2019-10-02","SZT"]
["22973","ZENERGY OM - OSŁONA CZOŁOWA 4X INS/INV320-630, W1000, 9M / 900, PIONOWO, DŹWIGNIA",128.5,"1-ZE-01","2019-10-02","SZT"]
["22974","ZENERGY OM - OSŁONA CZOŁOWA INS/INV320-630, W1000, 5M / 900, POZIOMO, DŹWIGNIA",80.400000000000006,"1-ZE-01","2019-10-02","SZT"]
["22981","ZENERGY OM - OSŁONA CZOŁOWA 7X/5X NSX100-250 3/4P, W1000, 5M / 900, PIONOWO, DŹWIGNIA",80.400000000000006,"1-ZE-01","2019-10-02","SZT"]
["22982","ZENERGY OM - OSŁONA CZOŁOWA NSX100-250 3P, W1000, 3M / 900, POZIOMO, DŹWIGNIA",66.400000000000006,"1-ZE-01","2019-10-02","SZT"]
["22983","ZENERGY OM - OSŁONA CZOŁOWA NSX100-250 4P, W1000, 4M / 900, POZIOMO, DŹWIGNIA",73.900000000000006,"1-ZE-01","2019-10-02","SZT"]
["22991","ZENERGY OM - OSŁONA CZOŁOWA 5X/4X NSX400-630 3/4P, W1000, 9M / 900, PIONOWO, DŹWIGNIA",128.5,"1-ZE-01","2019-10-02","SZT"]
["22992","ZENERGY OM - OSŁONA CZOŁOWA NSX400-630 3P, W1000, 4M / 900, POZIOMO, DŹWIGNIA",73.900000000000006,"1-ZE-01","2019-10-02","SZT"]
["22993","ZENERGY OM - OSŁONA CZOŁOWA NSX400-630 4P, W1000, 5M / 900, POZIOMO, DŹWIGNIA",80.400000000000006,"1-ZE-01","2019-10-02","SZT"]
["23009","ZENERGY OM - OBUDOWA PODSTAWOWA IP30,   9 MOD,    H550 X D230 X W300, WISZĄCA",282.3,"1-ZE-09","2018-10-22","SZT"]
["23012","ZENERGY OM - OBUDOWA PODSTAWOWA IP30, 12 MOD,    H700 X D230 X W300, WISZĄCA",287.60000000000002,"1-ZE-09","2018-10-22","SZT"]
["23015","ZENERGY OM - OBUDOWA PODSTAWOWA IP30, 15 MOD,    H850 X D230 X W300, WISZĄCA",324.89999999999998,"1-ZE-09","2018-10-22","SZT"]
["23018","ZENERGY OM - OBUDOWA PODSTAWOWA IP30, 18 MOD,  H1000 X D230 X W300, WISZĄCA",368.5,"1-ZE-09","2018-10-22","SZT"]
["23021","ZENERGY OM - OBUDOWA PODSTAWOWA IP30, 21 MOD,  H1150 X D230 X W300, WISZĄCA",407.8,"1-ZE-09","2018-10-22","SZT"]
["23024","ZENERGY OM - OBUDOWA PODSTAWOWA IP30, 24 MOD,  H1300 X D230 X W300, WISZĄCA",438.4,"1-ZE-09","2018-10-22","SZT"]
["23027","ZENERGY OM - OBUDOWA PODSTAWOWA IP30, 27 MOD,  H1450 X D230 X W300, WISZĄCA",470.8,"1-ZE-09","2018-10-22","SZT"]
["23028","ZENERGY OM - OBUDOWA PODSTAWOWA IP30, 28 MOD,  H1600 X D230 X W300, COKÓŁ 100MM",685.1,"1-ZE-09","2018-10-22","SZT"]
["23029","ZENERGY OM - OBUDOWA PODSTAWOWA IP30, 29 MOD,  H1550 X D230 X W300, WISZĄCA",534.5,"1-ZE-09","2018-10-22","SZT"]
["23030","ZENERGY OM - OBUDOWA PODSTAWOWA IP30, 30 MOD,  H1700 X D230 X W300, COKÓŁ 100MM",758.7,"1-ZE-09","2018-10-22","SZT"]
["23033","ZENERGY OM - OBUDOWA PODSTAWOWA IP30, 33 MOD,  H1850 X D230 X W300, COKÓŁ 100MM",853.5,"1-ZE-09","2018-10-22","SZT"]
["23036","ZENERGY OM - OBUDOWA PODSTAWOWA IP30, 36 MOD,  H2000 X D230 X W300, COKÓŁ 100MM",919.5,"1-ZE-09","2018-10-22","SZT"]
["23039","ZENERGY OM - OBUDOWA PODSTAWOWA IP30, 39 MOD,  H2150 X D230 X W300, COKÓŁ 100MM",1025.4000000000001,"1-ZE-09","2018-10-22","SZT"]
["23109","ZENERGY OM - ROZSZERZENIE IP30,   9 MOD,    H550 X D230 X W300, WISZĄCA",294.60000000000002,"1-ZE-09","2018-10-22","SZT",225]
["23112","ZENERGY OM - ROZSZERZENIE IP30, 12 MOD,    H700 X D230 X W300, WISZĄCA",303.10000000000002,"1-ZE-09","2018-10-22","SZT"]
["23115","ZENERGY OM - ROZSZERZENIE IP30, 15 MOD,    H850 X D230 X W300, WISZĄCA",343.7,"1-ZE-09","2018-10-22","SZT"]
["23118","ZENERGY OM - ROZSZERZENIE IP30, 18 MOD,  H1000 X D230 X W300, WISZĄCA",391.7,"1-ZE-09","2018-10-22","SZT"]
["23121","ZENERGY OM - ROZSZERZENIE IP30, 21 MOD,  H1150 X D230 X W300, WISZĄCA",434.4,"1-ZE-09","2018-10-22","SZT"]
["23124","ZENERGY OM - ROZSZERZENIE IP30, 24 MOD,  H1300 X D230 X W300, WISZĄCA",468.5,"1-ZE-09","2018-10-22","SZT"]
["23127","ZENERGY OM - ROZSZERZENIE IP30, 27 MOD,  H1450 X D230 X W300, WISZĄCA",504.4,"1-ZE-09","2018-10-22","SZT"]
["23128","ZENERGY OM - ROZSZERZENIE IP30, 28 MOD,  H1600 X D230 X W300, COKÓŁ 100MM",722.1,"1-ZE-09","2018-10-22","SZT"]
["23129","ZENERGY OM - ROZSZERZENIE IP30, 29 MOD,  H1550 X D230 X W300, WISZĄCA",570.29999999999995,"1-ZE-09","2018-10-22","SZT"]
["23130","ZENERGY OM - ROZSZERZENIE IP30, 30 MOD,  H1700 X D230 X W300, COKÓŁ 100MM",798,"1-ZE-09","2018-10-22","SZT"]
["23133","ZENERGY OM - ROZSZERZENIE IP30, 33 MOD,  H1850 X D230 X W300, COKÓŁ 100MM",886.6,"1-ZE-09","2018-10-22","SZT"]
["23136","ZENERGY OM - ROZSZERZENIE IP30, 36 MOD,  H2000 X D230 X W300, COKÓŁ 100MM",965.6,"1-ZE-09","2018-10-22","SZT"]
["23139","ZENERGY OM - ROZSZERZENIE IP30, 39 MOD,  H2150 X D230 X W300, COKÓŁ 100MM",1071.2,"1-ZE-09","2018-10-22","SZT"]
["23209","ZENERGY OM - DRZWI PEŁNE IP30,   9 MOD,    H550 X W300",105.1,"1-ZE-09","2018-10-22","SZT"]
["23212","ZENERGY OM - DRZWI PEŁNE IP30, 12 MOD,    H700 X W300",111.8,"1-ZE-09","2018-10-22","SZT"]
["23215","ZENERGY OM - DRZWI PEŁNE IP30, 15 MOD,    H850 X W300",123.7,"1-ZE-09","2018-10-22","SZT"]
["23218","ZENERGY OM - DRZWI PEŁNE IP30, 18 MOD,  H1000 X W300",137.6,"1-ZE-09","2018-10-22","SZT"]
["23221","ZENERGY OM - DRZWI PEŁNE IP30, 21 MOD,  H1150 X W300",146.30000000000001,"1-ZE-09","2018-10-22","SZT"]
["23224","ZENERGY OM - DRZWI PEŁNE IP30, 24 MOD,  H1300 X W300",159.30000000000001,"1-ZE-09","2018-10-22","SZT"]
["23227","ZENERGY OM - DRZWI PEŁNE IP30, 27 MOD,  H1450 X W300",169.5,"1-ZE-09","2018-10-22","SZT"]
["23228","ZENERGY OM - DRZWI PEŁNE IP30, 28 MOD,  H1500 X W300",201.4,"1-ZE-09","2018-10-22","SZT"]
["23229","ZENERGY OM - DRZWI PEŁNE IP30, 29 MOD,  H1550 X W300",239,"1-ZE-09","2018-10-22","SZT"]
["23230","ZENERGY OM - DRZWI PEŁNE IP30, 30 MOD,  H1600 X W300",281,"1-ZE-09","2018-10-22","SZT"]
["23233","ZENERGY OM - DRZWI PEŁNE IP30, 33 MOD,  H1750 X W300",302.8,"1-ZE-09","2018-10-22","SZT"]
["23236","ZENERGY OM - DRZWI PEŁNE IP30, 36 MOD,  H1900 X W300",339,"1-ZE-09","2018-10-22","SZT"]
["23239","ZENERGY OM - DRZWI PEŁNE IP30, 39 MOD,  H2050 X W300",375.2,"1-ZE-09","2018-10-22","SZT"]
["23409","ZENERGY OM - DRZWI TRANSPARENTNE IP30,   9 MOD,    H550 X W300",158.19999999999999,"1-ZE-09","2018-10-22","SZT"]
["23412","ZENERGY OM - DRZWI TRANSPARENTNE IP30, 12 MOD,    H700 X W300",174.6,"1-ZE-09","2018-10-22","SZT"]
["23415","ZENERGY OM - DRZWI TRANSPARENTNE IP30, 15 MOD,    H850 X W300",200.2,"1-ZE-09","2018-10-22","SZT"]
["23418","ZENERGY OM - DRZWI TRANSPARENTNE IP30, 18 MOD,  H1000 X W300",225.9,"1-ZE-09","2018-10-22","SZT"]
["23421","ZENERGY OM - DRZWI TRANSPARENTNE IP30, 21 MOD,  H1150 X W300",262,"1-ZE-09","2018-10-22","SZT"]
["23424","ZENERGY OM - DRZWI TRANSPARENTNE IP30, 24 MOD,  H1300 X W300",296.89999999999998,"1-ZE-09","2018-10-22","SZT"]
["23427","ZENERGY OM - DRZWI TRANSPARENTNE IP30, 27 MOD,  H1450 X W300",317.2,"1-ZE-09","2018-10-22","SZT"]
["23428","ZENERGY OM - DRZWI TRANSPARENTNE IP30, 28 MOD,  H1500 X W300",336.1,"1-ZE-09","2018-10-22","SZT"]
["23429","ZENERGY OM - DRZWI TRANSPARENTNE IP30, 29 MOD,  H1550 X W300",352,"1-ZE-09","2018-10-22","SZT"]
["23430","ZENERGY OM - DRZWI TRANSPARENTNE IP30, 30 MOD,  H1600 X W300",364.9,"1-ZE-09","2018-10-22","SZT"]
["23433","ZENERGY OM - DRZWI TRANSPARENTNE IP30, 33 MOD,  H1750 X W300",414.2,"1-ZE-09","2018-10-22","SZT"]
["23436","ZENERGY OM - DRZWI TRANSPARENTNE IP30, 36 MOD,  H1900 X W300",457.6,"1-ZE-09","2018-10-22","SZT"]
["23439","ZENERGY OM - DRZWI TRANSPARENTNE IP30, 39 MOD,  H2050 X W300",501.1,"1-ZE-09","2018-10-22","SZT"]
["23509","ZENERGY OM - OBUDOWA PODSTAWOWA IP55,   9 MOD,    H550 X D230 X W300, WISZĄCA",381.1,"1-ZE-09","2018-10-22","SZT"]
["23512","ZENERGY OM - OBUDOWA PODSTAWOWA IP55, 12 MOD,    H700 X D230 X W300, WISZĄCA",404.7,"1-ZE-09","2018-10-22","SZT"]
["23515","ZENERGY OM - OBUDOWA PODSTAWOWA IP55, 15 MOD,    H850 X D230 X W300, WISZĄCA",459.7,"1-ZE-09","2018-10-22","SZT"]
["23518","ZENERGY OM - OBUDOWA PODSTAWOWA IP55, 18 MOD,  H1000 X D230 X W300, WISZĄCA",506.2,"1-ZE-09","2018-10-22","SZT"]
["23521","ZENERGY OM - OBUDOWA PODSTAWOWA IP55, 21 MOD,  H1150 X D230 X W300, WISZĄCA",561.6,"1-ZE-09","2018-10-22","SZT"]
["23524","ZENERGY OM - OBUDOWA PODSTAWOWA IP55, 24 MOD,  H1300 X D230 X W300, WISZĄCA",608.9,"1-ZE-09","2018-10-22","SZT"]
["23527","ZENERGY OM - OBUDOWA PODSTAWOWA IP55, 27 MOD,  H1450 X D230 X W300, WISZĄCA",657.8,"1-ZE-09","2018-10-22","SZT"]
["23528","ZENERGY OM - OBUDOWA PODSTAWOWA IP55, 28 MOD,  H1600 X D230 X W300, COKÓŁ 100MM",895.2,"1-ZE-09","2018-10-22","SZT"]
["23529","ZENERGY OM - OBUDOWA PODSTAWOWA IP55, 29 MOD,  H1550 X D230 X W300, WISZĄCA",731.9,"1-ZE-09","2018-10-22","SZT"]
["23530","ZENERGY OM - OBUDOWA PODSTAWOWA IP55, 30 MOD,  H1700 X D230 X W300, COKÓŁ 100MM",928.2,"1-ZE-09","2018-10-22","SZT"]
["23533","ZENERGY OM - OBUDOWA PODSTAWOWA IP55, 33 MOD,  H1850 X D230 X W300, COKÓŁ 100MM",1046.8,"1-ZE-09","2018-10-22","SZT"]
["23536","ZENERGY OM - OBUDOWA PODSTAWOWA IP55, 36 MOD,  H2000 X D230 X W300, COKÓŁ 100MM",1107.5,"1-ZE-09","2018-10-22","SZT"]
["23539","ZENERGY OM - OBUDOWA PODSTAWOWA IP55, 39 MOD,  H2150 X D230 X W300, COKÓŁ 100MM",1147.5,"1-ZE-09","2018-10-22","SZT"]
["23609","ZENERGY OM - ROZSZERZENIE IP55,   9 MOD,    H550 X D230 X W300, WISZĄCA",393.2,"1-ZE-09","2018-10-22","SZT"]
["23612","ZENERGY OM - ROZSZERZENIE IP55, 12 MOD,    H700 X D230 X W300, WISZĄCA",420,"1-ZE-09","2018-10-22","SZT"]
["23615","ZENERGY OM - ROZSZERZENIE IP55, 15 MOD,    H850 X D230 X W300, WISZĄCA",478.2,"1-ZE-09","2018-10-22","SZT"]
["23618","ZENERGY OM - ROZSZERZENIE IP55, 18 MOD,  H1000 X D230 X W300, WISZĄCA",528.1,"1-ZE-09","2018-10-22","SZT"]
["23621","ZENERGY OM - ROZSZERZENIE IP55, 21 MOD,  H1150 X D230 X W300, WISZĄCA",586.70000000000005,"1-ZE-09","2018-10-22","SZT"]
["23624","ZENERGY OM - ROZSZERZENIE IP55, 24 MOD,  H1300 X D230 X W300, WISZĄCA",637.29999999999995,"1-ZE-09","2018-10-22","SZT"]
["23627","ZENERGY OM - ROZSZERZENIE IP55, 27 MOD,  H1450 X D230 X W300, WISZĄCA",689.4,"1-ZE-09","2018-10-22","SZT"]
["23628","ZENERGY OM - ROZSZERZENIE IP55, 28 MOD,  H1600 X D230 X W300, COKÓŁ 100MM",904.9,"1-ZE-09","2018-10-22","SZT"]
["23629","ZENERGY OM - ROZSZERZENIE IP55, 29 MOD,  H1550 X D230 X W300, WISZĄCA",765.8,"1-ZE-09","2018-10-22","SZT"]
["23630","ZENERGY OM - ROZSZERZENIE IP55, 30 MOD,  H1700 X D230 X W300, COKÓŁ 100MM",932.7,"1-ZE-09","2018-10-22","SZT"]
["23633","ZENERGY OM - ROZSZERZENIE IP55, 33 MOD,  H1850 X D230 X W300, COKÓŁ 100MM",1035.9000000000001,"1-ZE-09","2018-10-22","SZT"]
["23636","ZENERGY OM - ROZSZERZENIE IP55, 36 MOD,  H2000 X D230 X W300, COKÓŁ 100MM",1101.9000000000001,"1-ZE-09","2018-10-22","SZT"]
["23639","ZENERGY OM - ROZSZERZENIE IP55, 39 MOD,  H2150 X D230 X W300, COKÓŁ 100MM",1181.5,"1-ZE-09","2018-10-22","SZT"]
["23709","ZENERGY OM - DRZWI PEŁNE IP55,   9 MOD,    H550 X W300",202.5,"1-ZE-09","2018-10-22","SZT"]
["23712","ZENERGY OM - DRZWI PEŁNE IP55, 12 MOD,    H700 X W300",220.9,"1-ZE-09","2018-10-22","SZT"]
["23715","ZENERGY OM - DRZWI PEŁNE IP55, 15 MOD,    H850 X W300",235.1,"1-ZE-09","2018-10-22","SZT"]
["23718","ZENERGY OM - DRZWI PEŁNE IP55, 18 MOD,  H1000 X W300",249.5,"1-ZE-09","2018-10-22","SZT"]
["23721","ZENERGY OM - DRZWI PEŁNE IP55, 21 MOD,  H1150 X W300",265.2,"1-ZE-09","2018-10-22","SZT"]
["23724","ZENERGY OM - DRZWI PEŁNE IP55, 24 MOD,  H1300 X W300",279.39999999999998,"1-ZE-09","2018-10-22","SZT"]
["23727","ZENERGY OM - DRZWI PEŁNE IP55, 27 MOD,  H1450 X W300",297.89999999999998,"1-ZE-09","2018-10-22","SZT"]
["23728","ZENERGY OM - DRZWI PEŁNE IP55, 28 MOD,  H1500 X W300",312.10000000000002,"1-ZE-09","2018-10-22","SZT"]
["23729","ZENERGY OM - DRZWI PEŁNE IP55, 29 MOD,  H1550 X W300",327.10000000000002,"1-ZE-09","2018-10-22","SZT"]
["23730","ZENERGY OM - DRZWI PEŁNE IP55, 30 MOD,  H1600 X W300",342.1,"1-ZE-09","2018-10-22","SZT"]
["23733","ZENERGY OM - DRZWI PEŁNE IP55, 33 MOD,  H1750 X W300",368.7,"1-ZE-09","2018-10-22","SZT"]
["23736","ZENERGY OM - DRZWI PEŁNE IP55, 36 MOD,  H1900 X W300",408.9,"1-ZE-09","2018-10-22","SZT"]
["23739","ZENERGY OM - DRZWI PEŁNE IP55, 39 MOD,  H2050 X W300",449.1,"1-ZE-09","2018-10-22","SZT"]
["23909","ZENERGY OM - DRZWI TRANSPARENTNE IP55,   9 MOD,    H550 X W300",192.9,"1-ZE-09","2018-10-22","SZT"]
["23912","ZENERGY OM - DRZWI TRANSPARENTNE IP55, 12 MOD,    H700 X W300",215.4,"1-ZE-09","2018-10-22","SZT"]
["23915","ZENERGY OM - DRZWI TRANSPARENTNE IP55, 15 MOD,    H850 X W300",243.3,"1-ZE-09","2018-10-22","SZT"]
["23918","ZENERGY OM - DRZWI TRANSPARENTNE IP55, 18 MOD,  H1100 X W300",265.8,"1-ZE-09","2018-10-22","SZT"]
["23921","ZENERGY OM - DRZWI TRANSPARENTNE IP55, 21 MOD,  H1150 X W300",306,"1-ZE-09","2018-10-22","SZT"]
["23924","ZENERGY OM - DRZWI TRANSPARENTNE IP55, 24 MOD,  H1300 X W300",344.9,"1-ZE-09","2018-10-22","SZT"]
["23927","ZENERGY OM - DRZWI TRANSPARENTNE IP55, 27 MOD,  H1450 X W300",394.6,"1-ZE-09","2018-10-22","SZT"]
["23928","ZENERGY OM - DRZWI TRANSPARENTNE IP55, 28 MOD,  H1500 X W300",404.8,"1-ZE-09","2018-10-22","SZT"]
["23929","ZENERGY OM - DRZWI TRANSPARENTNE IP55, 29 MOD,  H1550 X W300",413,"1-ZE-09","2018-10-22","SZT"]
["23930","ZENERGY OM - DRZWI TRANSPARENTNE IP55, 30 MOD,  H1600 X W300",421.2,"1-ZE-09","2018-10-22","SZT"]
["23933","ZENERGY OM - DRZWI TRANSPARENTNE IP55, 33 MOD,  H1750 X W300",473.7,"1-ZE-09","2018-10-22","SZT"]
["23936","ZENERGY OM - DRZWI TRANSPARENTNE IP55, 36 MOD,  H1900 X W300",520.70000000000005,"1-ZE-09","2018-10-22","SZT"]
["23939","ZENERGY OM - DRZWI TRANSPARENTNE IP55, 39 MOD,  H2050 X W300",567.70000000000005,"1-ZE-09","2018-10-22","SZT"]
["24009","ZENERGY OM - OBUDOWA PODSTAWOWA IP30,   9 MOD,    H550 X D230 X W400, WISZĄCA",296.2,"1-ZE-09","2018-10-22","SZT"]
["24012","ZENERGY OM - OBUDOWA PODSTAWOWA IP30, 12 MOD,    H700 X D230 X W400, WISZĄCA",302.10000000000002,"1-ZE-09","2018-10-22","SZT"]
["24015","ZENERGY OM - OBUDOWA PODSTAWOWA IP30, 15 MOD,    H850 X D230 X W400, WISZĄCA",340.2,"1-ZE-09","2018-10-22","SZT"]
["24018","ZENERGY OM - OBUDOWA PODSTAWOWA IP30, 18 MOD,  H1000 X D230 X W400, WISZĄCA",385,"1-ZE-09","2018-10-22","SZT"]
["24021","ZENERGY OM - OBUDOWA PODSTAWOWA IP30, 21 MOD,  H1150 X D230 X W400, WISZĄCA",426.8,"1-ZE-09","2018-10-22","SZT"]
["24024","ZENERGY OM - OBUDOWA PODSTAWOWA IP30, 24 MOD,  H1300 X D230 X W400, WISZĄCA",459.1,"1-ZE-09","2018-10-22","SZT"]
["24027","ZENERGY OM - OBUDOWA PODSTAWOWA IP30, 27 MOD,  H1450 X D230 X W400, WISZĄCA",493.1,"1-ZE-09","2018-10-22","SZT"]
["24028","ZENERGY OM - OBUDOWA PODSTAWOWA IP30, 28 MOD,  H1600 X D230 X W400, COKÓŁ 100MM",718.4,"1-ZE-09","2018-10-22","SZT"]
["24029","ZENERGY OM - OBUDOWA PODSTAWOWA IP30, 29 MOD,  H1550 X D230 X W400, WISZĄCA",559.29999999999995,"1-ZE-09","2018-10-22","SZT"]
["24030","ZENERGY OM - OBUDOWA PODSTAWOWA IP30, 30 MOD,  H1700 X D230 X W400, COKÓŁ 100MM",796.2,"1-ZE-09","2018-10-22","SZT"]
["24033","ZENERGY OM - OBUDOWA PODSTAWOWA IP30, 33 MOD,  H1850 X D230 X W400, COKÓŁ 100MM",895.6,"1-ZE-09","2018-10-22","SZT"]
["24036","ZENERGY OM - OBUDOWA PODSTAWOWA IP30, 36 MOD,  H2000 X D230 X W400, COKÓŁ 100MM",965.4,"1-ZE-09","2018-10-22","SZT"]
["24039","ZENERGY OM - OBUDOWA PODSTAWOWA IP30, 39 MOD,  H2150 X D230 X W400, COKÓŁ 100MM",1079.4000000000001,"1-ZE-09","2018-10-22","SZT"]
["24109","ZENERGY OM - ROZSZERZENIE IP30,   9 MOD,    H550 X D230 X W400, WISZĄCA",308.5,"1-ZE-09","2018-10-22","SZT"]
["24112","ZENERGY OM - ROZSZERZENIE IP30, 12 MOD,    H700 X D230 X W400, WISZĄCA",317.7,"1-ZE-09","2018-10-22","SZT"]
["24115","ZENERGY OM - ROZSZERZENIE IP30, 15 MOD,    H850 X D230 X W400, WISZĄCA",359.1,"1-ZE-09","2018-10-22","SZT"]
["24118","ZENERGY OM - ROZSZERZENIE IP30, 18 MOD,  H1000 X D230 X W400, WISZĄCA",408.2,"1-ZE-09","2018-10-22","SZT"]
["24121","ZENERGY OM - ROZSZERZENIE IP30, 21 MOD,  H1150 X D230 X W400, WISZĄCA",453.4,"1-ZE-09","2018-10-22","SZT"]
["24124","ZENERGY OM - ROZSZERZENIE IP30, 24 MOD,  H1300 X D230 X W400, WISZĄCA",489,"1-ZE-09","2018-10-22","SZT"]
["24127","ZENERGY OM - ROZSZERZENIE IP30, 27 MOD,  H1450 X D230 X W400, WISZĄCA",526.6,"1-ZE-09","2018-10-22","SZT"]
["24128","ZENERGY OM - ROZSZERZENIE IP30, 28 MOD,  H1600 X D230 X W400, COKÓŁ 100MM",755.4,"1-ZE-09","2018-10-22","SZT"]
["24129","ZENERGY OM - ROZSZERZENIE IP30, 29 MOD,  H1550 X D230 X W400, WISZĄCA",595.20000000000005,"1-ZE-09","2018-10-22","SZT"]
["24130","ZENERGY OM - ROZSZERZENIE IP30, 30 MOD,  H1700 X D230 X W400, COKÓŁ 100MM",835.6,"1-ZE-09","2018-10-22","SZT"]
["24133","ZENERGY OM - ROZSZERZENIE IP30, 33 MOD,  H1850 X D230 X W400, COKÓŁ 100MM",928.8,"1-ZE-09","2018-10-22","SZT"]
["24136","ZENERGY OM - ROZSZERZENIE IP30, 36 MOD,  H2000 X D230 X W400, COKÓŁ 100MM",1011.9,"1-ZE-09","2018-10-22","SZT"]
["24139","ZENERGY OM - ROZSZERZENIE IP30, 39 MOD,  H2150 X D230 X W400, COKÓŁ 100MM",1125.3,"1-ZE-09","2018-10-22","SZT"]
["24209","ZENERGY OM - DRZWI PEŁNE IP30,   9 MOD,    H550 X W400",110.3,"1-ZE-09","2018-10-22","SZT"]
["24212","ZENERGY OM - DRZWI PEŁNE IP30, 12 MOD,    H700 X W400",118.6,"1-ZE-09","2018-10-22","SZT"]
["24215","ZENERGY OM - DRZWI PEŁNE IP30, 15 MOD,    H850 X W400",130.69999999999999,"1-ZE-09","2018-10-22","SZT"]
["24218","ZENERGY OM - DRZWI PEŁNE IP30, 18 MOD,  H1000 X W400",144.80000000000001,"1-ZE-09","2018-10-22","SZT"]
["24221","ZENERGY OM - DRZWI PEŁNE IP30, 21 MOD,  H1150 X W400",153.5,"1-ZE-09","2018-10-22","SZT"]
["24224","ZENERGY OM - DRZWI PEŁNE IP30, 24 MOD,  H1300 X W400",168,"1-ZE-09","2018-10-22","SZT"]
["24227","ZENERGY OM - DRZWI PEŁNE IP30, 27 MOD,  H1450 X W400",178.1,"1-ZE-09","2018-10-22","SZT"]
["24228","ZENERGY OM - DRZWI PEŁNE IP30, 28 MOD,  H1500 X W400",221.6,"1-ZE-09","2018-10-22","SZT"]
["24229","ZENERGY OM - DRZWI PEŁNE IP30, 29 MOD,  H1550 X W400",265,"1-ZE-09","2018-10-22","SZT"]
["24230","ZENERGY OM - DRZWI PEŁNE IP30, 30 MOD,  H1600 X W400",307,"1-ZE-09","2018-10-22","SZT"]
["24233","ZENERGY OM - DRZWI PEŁNE IP30, 33 MOD,  H1750 X W400",324.5,"1-ZE-09","2018-10-22","SZT"]
["24236","ZENERGY OM - DRZWI PEŁNE IP30, 36 MOD,  H1900 X W400",356.3,"1-ZE-09","2018-10-22","SZT"]
["24239","ZENERGY OM - DRZWI PEŁNE IP30, 39 MOD,  H2050 X W400",388.1,"1-ZE-09","2018-10-22","SZT"]
["24409","ZENERGY OM - DRZWI TRANSPARENTNE IP30,   9 MOD,    H550 X W400",175.7,"1-ZE-09","2018-10-22","SZT"]
["24412","ZENERGY OM - DRZWI TRANSPARENTNE IP30, 12 MOD,    H700 X W400",194.9,"1-ZE-09","2018-10-22","SZT"]
["24415","ZENERGY OM - DRZWI TRANSPARENTNE IP30, 15 MOD,    H850 X W400",221,"1-ZE-09","2018-10-22","SZT"]
["24418","ZENERGY OM - DRZWI TRANSPARENTNE IP30, 18 MOD,  H1000 X W400",250.5,"1-ZE-09","2018-10-22","SZT"]
["24421","ZENERGY OM - DRZWI TRANSPARENTNE IP30, 21 MOD,  H1150 X W400",289.60000000000002,"1-ZE-09","2018-10-22","SZT"]
["24424","ZENERGY OM - DRZWI TRANSPARENTNE IP30, 24 MOD,  H1300 X W400",328.8,"1-ZE-09","2018-10-22","SZT"]
["24427","ZENERGY OM - DRZWI TRANSPARENTNE IP30, 27 MOD,  H1450 X W400",380.9,"1-ZE-09","2018-10-22","SZT"]
["24428","ZENERGY OM - DRZWI TRANSPARENTNE IP30, 28 MOD,  H1500 X W400",396.9,"1-ZE-09","2018-10-22","SZT"]
["24429","ZENERGY OM - DRZWI TRANSPARENTNE IP30, 29 MOD,  H1550 X W400",412.8,"1-ZE-09","2018-10-22","SZT"]
["24430","ZENERGY OM - DRZWI TRANSPARENTNE IP30, 30 MOD,  H1600 X W400",427.2,"1-ZE-09","2018-10-22","SZT"]
["24433","ZENERGY OM - DRZWI TRANSPARENTNE IP30, 33 MOD,  H1750 X W400",460.5,"1-ZE-09","2018-10-22","SZT"]
["24436","ZENERGY OM - DRZWI TRANSPARENTNE IP30, 36 MOD,  H1900 X W400",508.4,"1-ZE-09","2018-10-22","SZT"]
["24439","ZENERGY OM - DRZWI TRANSPARENTNE IP30, 39 MOD,  H2050 X W400",559,"1-ZE-09","2018-10-22","SZT"]
["24509","ZENERGY OM - OBUDOWA PODSTAWOWA IP55,   9 MOD,    H550 X D230 X W400, WISZĄCA",407.1,"1-ZE-09","2018-10-22","SZT"]
["24512","ZENERGY OM - OBUDOWA PODSTAWOWA IP55, 12 MOD,    H700 X D230 X W400, WISZĄCA",431.3,"1-ZE-09","2018-10-22","SZT"]
["24515","ZENERGY OM - OBUDOWA PODSTAWOWA IP55, 15 MOD,    H850 X D230 X W400, WISZĄCA",486.9,"1-ZE-09","2018-10-22","SZT"]
["24518","ZENERGY OM - OBUDOWA PODSTAWOWA IP55, 18 MOD,  H1000 X D230 X W400, WISZĄCA",534.1,"1-ZE-09","2018-10-22","SZT"]
["24521","ZENERGY OM - OBUDOWA PODSTAWOWA IP55, 21 MOD,  H1150 X D230 X W400, WISZĄCA",591.79999999999995,"1-ZE-09","2018-10-22","SZT"]
["24524","ZENERGY OM - OBUDOWA PODSTAWOWA IP55, 24 MOD,  H1300 X D230 X W400, WISZĄCA",640.6,"1-ZE-09","2018-10-22","SZT"]
["24527","ZENERGY OM - OBUDOWA PODSTAWOWA IP55, 27 MOD,  H1450 X D230 X W400, WISZĄCA",691,"1-ZE-09","2018-10-22","SZT"]
["24528","ZENERGY OM - OBUDOWA PODSTAWOWA IP55, 28 MOD,  H1600 X D230 X W400, COKÓŁ 100MM",939.6,"1-ZE-09","2018-10-22","SZT"]
["24529","ZENERGY OM - OBUDOWA PODSTAWOWA IP55, 29 MOD,  H1550 X D230 X W400, WISZĄCA",767.8,"1-ZE-09","2018-10-22","SZT"]
["24530","ZENERGY OM - OBUDOWA PODSTAWOWA IP55, 30 MOD,  H1700 X D230 X W400, COKÓŁ 100MM",974.3,"1-ZE-09","2018-10-22","SZT"]
["24533","ZENERGY OM - OBUDOWA PODSTAWOWA IP55, 33 MOD,  H1850 X D230 X W400, COKÓŁ 100MM",1098.0999999999999,"1-ZE-09","2018-10-22","SZT"]
["24536","ZENERGY OM - OBUDOWA PODSTAWOWA IP55, 36 MOD,  H2000 X D230 X W400, COKÓŁ 100MM",1160.0999999999999,"1-ZE-09","2018-10-22","SZT"]
["24539","ZENERGY OM - OBUDOWA PODSTAWOWA IP55, 39 MOD,  H2150 X D230 X W400, COKÓŁ 100MM",1206,"1-ZE-09","2018-10-22","SZT"]
["24609","ZENERGY OM - ROZSZERZENIE IP55,   9 MOD,    H550 X D230 X W400, WISZĄCA",418.9,"1-ZE-09","2018-10-22","SZT"]
["24612","ZENERGY OM - ROZSZERZENIE IP55, 12 MOD,    H700 X D230 X W400, WISZĄCA",446.5,"1-ZE-09","2018-10-22","SZT"]
["24615","ZENERGY OM - ROZSZERZENIE IP55, 15 MOD,    H850 X D230 X W400, WISZĄCA",505.3,"1-ZE-09","2018-10-22","SZT"]
["24618","ZENERGY OM - ROZSZERZENIE IP55, 18 MOD,  H1000 X D230 X W400, WISZĄCA",555.9,"1-ZE-09","2018-10-22","SZT"]
["24621","ZENERGY OM - ROZSZERZENIE IP55, 21 MOD,  H1150 X D230 X W400, WISZĄCA",617,"1-ZE-09","2018-10-22","SZT"]
["24624","ZENERGY OM - ROZSZERZENIE IP55, 24 MOD,  H1300 X D230 X W400, WISZĄCA",668.8,"1-ZE-09","2018-10-22","SZT"]
["24627","ZENERGY OM - ROZSZERZENIE IP55, 27 MOD,  H1450 X D230 X W400, WISZĄCA",722.5,"1-ZE-09","2018-10-22","SZT"]
["24628","ZENERGY OM - ROZSZERZENIE IP55, 28 MOD,  H1600 X D230 X W400, COKÓŁ 100MM",945.2,"1-ZE-09","2018-10-22","SZT"]
["24629","ZENERGY OM - ROZSZERZENIE IP55, 29 MOD,  H1550 X D230 X W400, WISZĄCA",801.4,"1-ZE-09","2018-10-22","SZT"]
["24630","ZENERGY OM - ROZSZERZENIE IP55, 30 MOD,  H1700 X D230 X W400, COKÓŁ 100MM",978.4,"1-ZE-09","2018-10-22","SZT"]
["24633","ZENERGY OM - ROZSZERZENIE IP55, 33 MOD,  H1850 X D230 X W400, COKÓŁ 100MM",1084.7,"1-ZE-09","2018-10-22","SZT"]
["24636","ZENERGY OM - ROZSZERZENIE IP55, 36 MOD,  H2000 X D230 X W400, COKÓŁ 100MM",1154.4000000000001,"1-ZE-09","2018-10-22","SZT"]
["24639","ZENERGY OM - ROZSZERZENIE IP55, 39 MOD,  H2150 X D230 X W400, COKÓŁ 100MM",1240,"1-ZE-09","2018-10-22","SZT"]
["24709","ZENERGY OM - DRZWI PEŁNE IP55,   9 MOD,    H550 X W400",145.1,"1-ZE-09","2018-10-22","SZT"]
["24712","ZENERGY OM - DRZWI PEŁNE IP55, 12 MOD,    H700 X W400",163.6,"1-ZE-09","2018-10-22","SZT"]
["24715","ZENERGY OM - DRZWI PEŁNE IP55, 15 MOD,    H850 X W400",182,"1-ZE-09","2018-10-22","SZT"]
["24718","ZENERGY OM - DRZWI PEŁNE IP55, 18 MOD,  H1000 X W400",199,"1-ZE-09","2018-10-22","SZT"]
["24721","ZENERGY OM - DRZWI PEŁNE IP55, 21 MOD,  H1150 X W400",235.1,"1-ZE-09","2018-10-22","SZT"]
["24724","ZENERGY OM - DRZWI PEŁNE IP55, 24 MOD,  H1300 X W400",268.5,"1-ZE-09","2018-10-22","SZT"]
["24727","ZENERGY OM - DRZWI PEŁNE IP55, 27 MOD,  H1450 X W400",315.60000000000002,"1-ZE-09","2018-10-22","SZT"]
["24728","ZENERGY OM - DRZWI PEŁNE IP55, 28 MOD,  H1500 X W400",333.9,"1-ZE-09","2018-10-22","SZT"]
["24729","ZENERGY OM - DRZWI PEŁNE IP55, 29 MOD,  H1550 X W400",353.1,"1-ZE-09","2018-10-22","SZT"]
["24730","ZENERGY OM - DRZWI PEŁNE IP55, 30 MOD,  H1600 X W400",370.8,"1-ZE-09","2018-10-22","SZT"]
["24733","ZENERGY OM - DRZWI PEŁNE IP55, 33 MOD,  H1750 X W400",393.3,"1-ZE-09","2018-10-22","SZT"]
["24736","ZENERGY OM - DRZWI PEŁNE IP55, 36 MOD,  H1900 X W400",429.4,"1-ZE-09","2018-10-22","SZT"]
["24739","ZENERGY OM - DRZWI PEŁNE IP55, 39 MOD,  H2050 X W400",465.5,"1-ZE-09","2018-10-22","SZT"]
["24772","ZENERGY - POŁĄCZENIE MIEDZIANE 3X 50X10 WYŁĄCZNIKA NT10 3P W KASECIE, Z MOSTEM ALCUBAR 2500A",435.3,"1-ZE-01","2019-10-02","SZT"]
["24773","ZENERGY - POŁĄCZENIE MIEDZIANE 3X2X 50X10 WYŁĄCZNIKA NT16 3P W KASECIE, Z MOSTEM ALCUBAR 2500A",982.6,"1-ZE-01","2019-10-02","SZT"]
["24774","ZENERGY - TRANSFER NA TYŁ 3X 50X10 WYŁĄCZNIKA NT10 3P W KASECIE, DO KABLI",509.9,"1-ZE-01","2019-10-02","SZT"]
["24775","ZENERGY - TRANSFER NA TYŁ 3X2X 60X5 WYŁĄCZNIKA NT12 3P W KASECIE, DO KABLI",621.9,"1-ZE-01","2019-10-02","SZT"]
["24776","ZENERGY - TRANSFER NA TYŁ 3X2X 50X10 WYŁĄCZNIKA NT16 3P W KASECIE, DO KABLI",1169.0999999999999,"1-ZE-01","2019-10-02","SZT"]
["24777","ZENERGY - POŁĄCZENIE MIEDZIANE 3X2X80X10 WYŁĄCZNIKA NW25 3P W KASECIE, Z MOSTEM ALCUBAR 4000A",3258.6,"1-ZE-01","2019-10-02","SZT"]
["24778","ZENERGY - POŁĄCZENIE MIEDZIANE 3X2X80X10 WYŁĄCZNIKA NW25 3P W KASECIE, DO KABLI",2736.2,"1-ZE-01","2019-10-02","SZT"]
["24779","ZENERGY - POŁĄCZENIE MIEDZIANE 3X3X120X10 WYŁĄCZNIKA NW40 3P W KASECIE, Z MOSTEM ALCUBAR 4000A",8457.2999999999993,"1-ZE-01","2019-10-02","SZT"]
["24780","ZENERGY - POŁĄCZENIE MIEDZIANE 3X3X120X10 WYŁĄCZNIKA NW40 3P W KASECIE, DO KABLI",7338,"1-ZE-01","2019-10-02","SZT"]
["24782","Zenergy - Połączenie miedziane 3x2x100x10 wyłącznika NW25 3P w kasecie, z mostem AlCubar 6300A",6339.4,"1-ZE-01","2019-10-02","SZT"]
["24800","Zenergy - Połączenie miedziane 3x4x180x10 wyłącznika NW63 3P w kasecie, z mostem pionowym AlCubar 6300A",8421,"1-ZE-01","2020-03-20","SZT"]
["24801","Zenergy - Połączenie miedziane 3x4x120x10 wyłącznika NW63 3P w kasecie, z mostem poziomym AlCubar 6300A",16170,"1-ZE-01","2020-03-20","SZT"]
["24802","Zenergy - Połączenie miedziane L 3x8x 60x10 wyłącznika NW63 3P w kasecie, mostu poziomego AlCubar 6300A",5617.5,"1-ZE-01","2020-03-20","SZT"]
["24803","Zenergy - Połączenie miedziane L 2x125x10 Pionowy do Poziomy tor Neutralny AlCubar 4000A",432.3,"1-ZE-01","2020-03-27","SZT"]
["24804","Zenergy - Połączenie miedziane L 2x125x10 Pionowy do Poziomy tor Neutralny AlCubar 6300A",627.9,"1-ZE-01","2020-03-27","SZT"]
["24805","Zenergy - Połączenie miedziane L 2x125x10 Pionowy do Poziomy tor Neutralny Przód AlCubar 6300A",724.5,"1-ZE-01","2020-03-27","SZT"]
["24806","Zenergy - Połączenie miedziane L 2x125x10 Pionowy tor Neutralny AlCubar 6300A do PE 2500A",436,"1-ZE-01","2020-04-02","SZT"]
["24850","Zenergy - Połączenie miedziane 3x30x10 -  EFEN 160A montaż na szynach",416.6,"1-ZE-09","2020-01-31","SZT"]
["24854","Zenergy - Połączenie miedziane 3x30x10 -  rozłącznik listwowy EFEN 160A rozstaw 100mm W650",0,"1-ZE-09","2020-01-31","SZT"]
["24855","Zenergy - Połączenie miedziane 3x30x10 -  rozłącznik listwowy EFEN 160A rozstaw 100mm W850",0,"1-ZE-09","2020-01-31","SZT"]
["24877","Zenergy - Połączenie miedziane 4x2x80x10 wyłącznika NW25 4P w kasecie, z mostem AlCubar 4000A",4286.6000000000004,"1-ZE-01","2020-05-06","SZT"]
["24880","Zenergy - Wygrodzenie toru Neutralnego W650",64.5,"1-ZE-01","2020-04-14","SZT"]
["24889","Zenergy - Wygrodzenie mostu 3P części D400 W1200",233.6,"1-ZE-01","2020-04-14","SZT"]
["24890","Zenergy - Wygrodzenie toru Neutralnego W1200",75.599999999999994,"1-ZE-01","2020-04-14","SZT"]
["24891","Zenergy - Wygrodzenie czołowe W1200 1,5MOD",65.599999999999994,"1-ZE-01","2020-04-14","SZT"]
["24892","Zenergy - Wygrodzenie czołowe W1200 2,5MOD",76.7,"1-ZE-01","2020-04-14","SZT"]
["24894","Zenergy - Wygrodzenie czołowe W1200 3,5MOD",87.9,"1-ZE-01","2020-04-14","SZT"]
["24895","Zenergy - Wygrodzenie czołowe W1200 5MOD",96.8,"1-ZE-01","2020-04-14","SZT"]
["24896","Zenergy - Dwa wygrodzenia boczne przedziału D400 mostu szunowego 6300A dla Łukoochronności",800.9,"1-ZE-01","2020-04-10","SZT"]
["24897","Zenergy - Wygrodzenie poziome dół/góra przedziału D400 do toru PE",219.2,"1-ZE-01","2020-04-02","SZT"]
["24898","Zenergy - Wygrodzenie poziome dół/góra przedziału D400 do toru Neutralnego",205.8,"1-ZE-01","2020-04-02","SZT"]
["24899","Zenergy - Wygrodzenie boczne przedziału D200/D1000",146.9,"1-ZE-01","2020-04-02","SZT"]
["24909","ZENERGY OM - DRZWI TRANSPARENTNE IP55,   9 MOD,    H550 X W400",214.7,"1-ZE-09","2018-10-22","SZT"]
["24912","ZENERGY OM - DRZWI TRANSPARENTNE IP55, 12 MOD,    H700 X W400",240,"1-ZE-09","2018-10-22","SZT"]
["24915","ZENERGY OM - DRZWI TRANSPARENTNE IP55, 15 MOD,    H850 X W400",267.89999999999998,"1-ZE-09","2018-10-22","SZT"]
["24918","ZENERGY OM - DRZWI TRANSPARENTNE IP55, 18 MOD,  H1000 X W400",293,"1-ZE-09","2018-10-22","SZT"]
["24921","ZENERGY OM - DRZWI TRANSPARENTNE IP55, 21 MOD,  H1150 X W400",336.1,"1-ZE-09","2018-10-22","SZT"]
["24924","ZENERGY OM - DRZWI TRANSPARENTNE IP55, 24 MOD,  H1300 X W400",378.8,"1-ZE-09","2018-10-22","SZT"]
["24927","ZENERGY OM - DRZWI TRANSPARENTNE IP55, 27 MOD,  H1450 X W400",434.1,"1-ZE-09","2018-10-22","SZT"]
["24928","ZENERGY OM - DRZWI TRANSPARENTNE IP55, 28 MOD,  H1500 X W400",451.1,"1-ZE-09","2018-10-22","SZT"]
["24929","ZENERGY OM - DRZWI TRANSPARENTNE IP55, 29 MOD,  H1550 X W400",467.5,"1-ZE-09","2018-10-22","SZT"]
["24930","ZENERGY OM - DRZWI TRANSPARENTNE IP55, 30 MOD,  H1600 X W400",483.9,"1-ZE-09","2018-10-22","SZT"]
["24933","ZENERGY OM - DRZWI TRANSPARENTNE IP55, 33 MOD,  H1750 X W400",521.4,"1-ZE-09","2018-10-22","SZT"]
["24936","ZENERGY OM - DRZWI TRANSPARENTNE IP55, 36 MOD,  H1900 X W400",572.5,"1-ZE-09","2018-10-22","SZT"]
["24939","ZENERGY OM - DRZWI TRANSPARENTNE IP55, 39 MOD,  H2050 X W400",626.20000000000005,"1-ZE-09","2018-10-22","SZT"]
["26009","ZENERGY OM - OBUDOWA PODSTAWOWA IP30,   9 MOD,    H550 X D230 X W600, WISZĄCA",308.10000000000002,"1-ZE-09","2018-10-22","SZT"]
["26012","ZENERGY OM - OBUDOWA PODSTAWOWA IP30, 12 MOD,    H700 X D230 X W600, WISZĄCA",313.10000000000002,"1-ZE-09","2018-10-22","SZT"]
["26015","ZENERGY OM - OBUDOWA PODSTAWOWA IP30, 15 MOD,    H850 X D230 X W600, WISZĄCA",347.9,"1-ZE-09","2018-10-22","SZT"]
["26018","ZENERGY OM - OBUDOWA PODSTAWOWA IP30, 18 MOD,  H1000 X D230 X W600, WISZĄCA",386.9,"1-ZE-09","2018-10-22","SZT"]
["26021","ZENERGY OM - OBUDOWA PODSTAWOWA IP30, 21 MOD,  H1150 X D230 X W600, WISZĄCA",435.7,"1-ZE-09","2018-10-22","SZT"]
["26024","ZENERGY OM - OBUDOWA PODSTAWOWA IP30, 24 MOD,  H1300 X D230 X W600, WISZĄCA",462.7,"1-ZE-09","2018-10-22","SZT"]
["26027","ZENERGY OM - OBUDOWA PODSTAWOWA IP30, 27 MOD,  H1450 X D230 X W600, WISZĄCA",487.8,"1-ZE-09","2018-10-22","SZT"]
["26028","ZENERGY OM - OBUDOWA PODSTAWOWA IP30, 28 MOD,  H1600 X D230 X W600, COKÓŁ 100MM",783.3,"1-ZE-09","2018-10-22","SZT"]
["26029","ZENERGY OM - OBUDOWA PODSTAWOWA IP30, 29 MOD,  H1550 X D230 X W600, WISZĄCA",549.6,"1-ZE-09","2018-10-22","SZT"]
["26030","ZENERGY OM - OBUDOWA PODSTAWOWA IP30, 30 MOD,  H1700 X D230 X W600, COKÓŁ 100MM",859.5,"1-ZE-09","2018-10-22","SZT"]
["26033","ZENERGY OM - OBUDOWA PODSTAWOWA IP30, 33 MOD,  H1850 X D230 X W600, COKÓŁ 100MM",959.7,"1-ZE-09","2018-10-22","SZT"]
["26036","ZENERGY OM - OBUDOWA PODSTAWOWA IP30, 36 MOD,  H2000 X D230 X W600, COKÓŁ 100MM",1063.4000000000001,"1-ZE-09","2018-10-22","SZT"]
["26039","ZENERGY OM - OBUDOWA PODSTAWOWA IP30, 39 MOD,  H2150 X D230 X W600, COKÓŁ 100MM",1220.4000000000001,"1-ZE-09","2018-10-22","SZT"]
["26109","ZENERGY OM - ROZSZERZENIE IP30,   9 MOD,    H550 X D230 X W600, WISZĄCA",320.2,"1-ZE-09","2018-10-22","SZT"]
["26112","ZENERGY OM - ROZSZERZENIE IP30, 12 MOD,    H700 X D230 X W600, WISZĄCA",328.7,"1-ZE-09","2018-10-22","SZT"]
["26115","ZENERGY OM - ROZSZERZENIE IP30, 15 MOD,    H850 X D230 X W600, WISZĄCA",366.8,"1-ZE-09","2018-10-22","SZT"]
["26118","ZENERGY OM - ROZSZERZENIE IP30, 18 MOD,  H1000 X D230 X W600, WISZĄCA",410,"1-ZE-09","2018-10-22","SZT"]
["26121","ZENERGY OM - ROZSZERZENIE IP30, 21 MOD,  H1150 X D230 X W600, WISZĄCA",462.3,"1-ZE-09","2018-10-22","SZT"]
["26124","ZENERGY OM - ROZSZERZENIE IP30, 24 MOD,  H1300 X D230 X W600, WISZĄCA",492.6,"1-ZE-09","2018-10-22","SZT"]
["26127","ZENERGY OM - ROZSZERZENIE IP30, 27 MOD,  H1450 X D230 X W600, WISZĄCA",521.4,"1-ZE-09","2018-10-22","SZT"]
["26128","ZENERGY OM - ROZSZERZENIE IP30, 28 MOD,  H1600 X D230 X W600, COKÓŁ 100MM",820.5,"1-ZE-09","2018-10-22","SZT"]
["26129","ZENERGY OM - ROZSZERZENIE IP30, 29 MOD,  H1550 X D230 X W600, WISZĄCA",585.6,"1-ZE-09","2018-10-22","SZT"]
["26130","ZENERGY OM - ROZSZERZENIE IP30, 30 MOD,  H1700 X D230 X W600, COKÓŁ 100MM",899.1,"1-ZE-09","2018-10-22","SZT"]
["26133","ZENERGY OM - ROZSZERZENIE IP30, 33 MOD,  H1850 X D230 X W600, COKÓŁ 100MM",992.7,"1-ZE-09","2018-10-22","SZT"]
["26136","ZENERGY OM - ROZSZERZENIE IP30, 36 MOD,  H2000 X D230 X W600, COKÓŁ 100MM",1109.7,"1-ZE-09","2018-10-22","SZT"]
["26139","ZENERGY OM - ROZSZERZENIE IP30, 39 MOD,  H2150 X D230 X W600, COKÓŁ 100MM",1266.3,"1-ZE-09","2018-10-22","SZT"]
["26206","ZENERGY OM - DRZWI PEŁNE IP30,   6 MOD,    H400 X W600",104.5,"1-ZE-09","2018-10-22","SZT"]
["26209","ZENERGY OM - DRZWI PEŁNE IP30,   9 MOD,    H550 X W600",116.8,"1-ZE-09","2018-10-22","SZT"]
["26212","ZENERGY OM - DRZWI PEŁNE IP30, 12 MOD,    H700 X W600",124.6,"1-ZE-09","2018-10-22","SZT"]
["26215","ZENERGY OM - DRZWI PEŁNE IP30, 15 MOD,    H850 X W600",133.69999999999999,"1-ZE-09","2018-10-22","SZT"]
["26218","ZENERGY OM - DRZWI PEŁNE IP30, 18 MOD,  H1000 X W600",146.19999999999999,"1-ZE-09","2018-10-22","SZT"]
["26221","ZENERGY OM - DRZWI PEŁNE IP30, 21 MOD,  H1150 X W600",162.69999999999999,"1-ZE-09","2018-10-22","SZT"]
["26224","ZENERGY OM - DRZWI PEŁNE IP30, 24 MOD,  H1300 X W600",178,"1-ZE-09","2018-10-22","SZT"]
["26227","ZENERGY OM - DRZWI PEŁNE IP30, 27 MOD,  H1450 X W600",205.8,"1-ZE-09","2018-10-22","SZT"]
["26228","ZENERGY OM - DRZWI PEŁNE IP30, 28 MOD,  H1500 X W600",232.2,"1-ZE-09","2018-10-22","SZT"]
["26229","ZENERGY OM - DRZWI PEŁNE IP30, 29 MOD,  H1550 X W600",267.10000000000002,"1-ZE-09","2018-10-22","SZT"]
["26230","ZENERGY OM - DRZWI PEŁNE IP30, 30 MOD,  H1600 X W600",318.5,"1-ZE-09","2018-10-22","SZT"]
["26233","ZENERGY OM - DRZWI PEŁNE IP30, 33 MOD,  H1750 X W600",339,"1-ZE-09","2018-10-22","SZT"]
["26236","ZENERGY OM - DRZWI PEŁNE IP30, 36 MOD,  H1900 X W600",370.8,"1-ZE-09","2018-10-22","SZT"]
["26239","ZENERGY OM - DRZWI PEŁNE IP30, 39 MOD,  H2050 X W600",402.6,"1-ZE-09","2018-10-22","SZT"]
["26406","ZENERGY OM - DRZWI TRANSPARENTNE IP30,   6 MOD,    H400 X W600",189.1,"1-ZE-09","2018-12-18","SZT"]
["26409","ZENERGY OM - DRZWI TRANSPARENTNE IP30,   9 MOD,    H550 X W600",209,"1-ZE-09","2018-10-22","SZT"]
["26412","ZENERGY OM - DRZWI TRANSPARENTNE IP30, 12 MOD,    H700 X W600",232.4,"1-ZE-09","2018-10-22","SZT"]
["26415","ZENERGY OM - DRZWI TRANSPARENTNE IP30, 15 MOD,    H850 X W600",263.39999999999998,"1-ZE-09","2018-10-22","SZT"]
["26418","ZENERGY OM - DRZWI TRANSPARENTNE IP30, 18 MOD,  H1000 X W600",297.89999999999998,"1-ZE-09","2018-10-22","SZT"]
["26421","ZENERGY OM - DRZWI TRANSPARENTNE IP30, 21 MOD,  H1150 X W600",344.8,"1-ZE-09","2018-10-22","SZT"]
["26424","ZENERGY OM - DRZWI TRANSPARENTNE IP30, 24 MOD,  H1300 X W600",391.8,"1-ZE-09","2018-10-22","SZT"]
["26427","ZENERGY OM - DRZWI TRANSPARENTNE IP30, 27 MOD,  H1450 X W600",458.5,"1-ZE-09","2018-10-22","SZT"]
["26428","ZENERGY OM - DRZWI TRANSPARENTNE IP30, 28 MOD,  H1500 X W600",482.6,"1-ZE-09","2018-10-22","SZT"]
["26429","ZENERGY OM - DRZWI TRANSPARENTNE IP30, 29 MOD,  H1550 X W600",507.3,"1-ZE-09","2018-10-22","SZT"]
["26430","ZENERGY OM - DRZWI TRANSPARENTNE IP30, 30 MOD,  H1600 X W600",529.4,"1-ZE-09","2018-10-22","SZT"]
["26433","ZENERGY OM - DRZWI TRANSPARENTNE IP30, 33 MOD,  H1750 X W600",576.5,"1-ZE-09","2018-10-22","SZT"]
["26436","ZENERGY OM - DRZWI TRANSPARENTNE IP30, 36 MOD,  H1900 X W600",635.79999999999995,"1-ZE-09","2018-10-22","SZT"]
["26439","ZENERGY OM - DRZWI TRANSPARENTNE IP30, 39 MOD,  H2050 X W600",695.3,"1-ZE-09","2018-10-22","SZT"]
["26509","ZENERGY OM - OBUDOWA PODSTAWOWA IP55,   9 MOD,    H550 X D230 X W600, WISZĄCA",443.2,"1-ZE-09","2018-10-22","SZT"]
["26512","ZENERGY OM - OBUDOWA PODSTAWOWA IP55, 12 MOD,    H700 X D230 X W600, WISZĄCA",466.7,"1-ZE-09","2018-10-22","SZT"]
["26515","ZENERGY OM - OBUDOWA PODSTAWOWA IP55, 15 MOD,    H850 X D230 X W600, WISZĄCA",519,"1-ZE-09","2018-10-22","SZT"]
["26518","ZENERGY OM - OBUDOWA PODSTAWOWA IP55, 18 MOD,  H1000 X D230 X W600, WISZĄCA",560.4,"1-ZE-09","2018-10-22","SZT"]
["26521","ZENERGY OM - OBUDOWA PODSTAWOWA IP55, 21 MOD,  H1150 X D230 X W600, WISZĄCA",624.6,"1-ZE-09","2018-10-22","SZT"]
["26524","ZENERGY OM - OBUDOWA PODSTAWOWA IP55, 24 MOD,  H1300 X D230 X W600, WISZĄCA",668.5,"1-ZE-09","2018-10-22","SZT"]
["26527","ZENERGY OM - OBUDOWA PODSTAWOWA IP55, 27 MOD,  H1450 X D230 X W600, WISZĄCA",710.6,"1-ZE-09","2018-10-22","SZT"]
["26528","ZENERGY OM - OBUDOWA PODSTAWOWA IP55, 28 MOD,  H1600 X D230 X W600, COKÓŁ 100MM",1027.0999999999999,"1-ZE-09","2018-10-22","SZT"]
["26529","ZENERGY OM - OBUDOWA PODSTAWOWA IP55, 29 MOD,  H1550 X D230 X W600, WISZĄCA",783,"1-ZE-09","2018-10-22","SZT"]
["26530","ZENERGY OM - OBUDOWA PODSTAWOWA IP55, 30 MOD,  H1700 X D230 X W600, COKÓŁ 100MM",1055.0999999999999,"1-ZE-09","2018-10-22","SZT"]
["26533","ZENERGY OM - OBUDOWA PODSTAWOWA IP55, 33 MOD,  H1850 X D230 X W600, COKÓŁ 100MM",1175.0999999999999,"1-ZE-09","2018-10-22","SZT"]
["26536","ZENERGY OM - OBUDOWA PODSTAWOWA IP55, 36 MOD,  H2000 X D230 X W600, COKÓŁ 100MM",1270.7,"1-ZE-09","2018-10-22","SZT"]
["26539","ZENERGY OM - OBUDOWA PODSTAWOWA IP55, 39 MOD,  H2150 X D230 X W600, COKÓŁ 100MM",1354.8,"1-ZE-09","2018-10-22","SZT"]
["26609","ZENERGY OM - ROZSZERZENIE IP55,   9 MOD,    H550 X D230 X W600, WISZĄCA",455.2,"1-ZE-09","2018-10-22","SZT"]
["26612","ZENERGY OM - ROZSZERZENIE IP55, 12 MOD,    H700 X D230 X W600, WISZĄCA",481.7,"1-ZE-09","2018-10-22","SZT"]
["26615","ZENERGY OM - ROZSZERZENIE IP55, 15 MOD,    H850 X D230 X W600, WISZĄCA",537.70000000000005,"1-ZE-09","2018-10-22","SZT"]
["26618","ZENERGY OM - ROZSZERZENIE IP55, 18 MOD,  H1000 X D230 X W600, WISZĄCA",582.20000000000005,"1-ZE-09","2018-10-22","SZT"]
["26621","ZENERGY OM - ROZSZERZENIE IP55, 21 MOD,  H1150 X D230 X W600, WISZĄCA",649.70000000000005,"1-ZE-09","2018-10-22","SZT"]
["26624","ZENERGY OM - ROZSZERZENIE IP55, 24 MOD,  H1300 X D230 X W600, WISZĄCA",696.8,"1-ZE-09","2018-10-22","SZT"]
["26627","ZENERGY OM - ROZSZERZENIE IP55, 27 MOD,  H1450 X D230 X W600, WISZĄCA",742.2,"1-ZE-09","2018-10-22","SZT"]
["26628","ZENERGY OM - ROZSZERZENIE IP55, 28 MOD,  H1600 X D230 X W600, COKÓŁ 100MM",1024.2,"1-ZE-09","2018-10-22","SZT"]
["26629","ZENERGY OM - ROZSZERZENIE IP55, 29 MOD,  H1550 X D230 X W600, WISZĄCA",817,"1-ZE-09","2018-10-22","SZT"]
["26630","ZENERGY OM - ROZSZERZENIE IP55, 30 MOD,  H1700 X D230 X W600, COKÓŁ 100MM",1060.0999999999999,"1-ZE-09","2018-10-22","SZT"]
["26633","ZENERGY OM - ROZSZERZENIE IP55, 33 MOD,  H1850 X D230 X W600, COKÓŁ 100MM",1162.9000000000001,"1-ZE-09","2018-10-22","SZT"]
["26636","ZENERGY OM - ROZSZERZENIE IP55, 36 MOD,  H2000 X D230 X W600, COKÓŁ 100MM",1265.0999999999999,"1-ZE-09","2018-10-22","SZT"]
["26639","ZENERGY OM - ROZSZERZENIE IP55, 39 MOD,  H2150 X D230 X W600, COKÓŁ 100MM",1388.6,"1-ZE-09","2018-10-22","SZT"]
["26709","ZENERGY OM - DRZWI PEŁNE IP55,   9 MOD,    H550 X W600",212,"1-ZE-09","2018-10-22","SZT"]
["26712","ZENERGY OM - DRZWI PEŁNE IP55, 12 MOD,    H700 X W600",235.9,"1-ZE-09","2018-10-22","SZT"]
["26715","ZENERGY OM - DRZWI PEŁNE IP55, 15 MOD,    H850 X W600",262.3,"1-ZE-09","2018-10-22","SZT"]
["26718","ZENERGY OM - DRZWI PEŁNE IP55, 18 MOD,  H1000 X W600",286.3,"1-ZE-09","2018-10-22","SZT"]
["26721","ZENERGY OM - DRZWI PEŁNE IP55, 21 MOD,  H1150 X W600",333.3,"1-ZE-09","2018-10-22","SZT"]
["26724","ZENERGY OM - DRZWI PEŁNE IP55, 24 MOD,  H1300 X W600",331.2,"1-ZE-09","2018-10-22","SZT"]
["26727","ZENERGY OM - DRZWI PEŁNE IP55, 27 MOD,  H1450 X W600",408.3,"1-ZE-09","2018-10-22","SZT"]
["26728","ZENERGY OM - DRZWI PEŁNE IP55, 28 MOD,  H1500 X W600",422.6,"1-ZE-09","2018-10-22","SZT"]
["26729","ZENERGY OM - DRZWI PEŁNE IP55, 29 MOD,  H1550 X W600",437.5,"1-ZE-09","2018-10-22","SZT"]
["26730","ZENERGY OM - DRZWI PEŁNE IP55, 30 MOD,  H1600 X W600",452.5,"1-ZE-09","2018-10-22","SZT"]
["26733","ZENERGY OM - DRZWI PEŁNE IP55, 33 MOD,  H1750 X W600",479.2,"1-ZE-09","2018-10-22","SZT"]
["26736","ZENERGY OM - DRZWI PEŁNE IP55, 36 MOD,  H1900 X W600",519.20000000000005,"1-ZE-09","2018-10-22","SZT"]
["26739","ZENERGY OM - DRZWI PEŁNE IP55, 39 MOD,  H2050 X W600",559.6,"1-ZE-09","2018-10-22","SZT"]
["26906","ZENERGY OM - DRZWI TRANSPARENTNE IP55,   6 MOD,    H400 X W600",275.8,"1-ZE-09","2001-01-01","SZT"]
["26909","ZENERGY OM - DRZWI TRANSPARENTNE IP55,   9 MOD,    H550 X W600",297.89999999999998,"1-ZE-09","2018-10-22","SZT"]
["26912","ZENERGY OM - DRZWI TRANSPARENTNE IP55, 12 MOD,    H700 X W600",332.5,"1-ZE-09","2018-10-22","SZT"]
["26915","ZENERGY OM - DRZWI TRANSPARENTNE IP55, 15 MOD,    H850 X W600",370,"1-ZE-09","2018-10-22","SZT"]
["26918","ZENERGY OM - DRZWI TRANSPARENTNE IP55, 18 MOD,  H1000 X W600",403.5,"1-ZE-09","2018-10-22","SZT"]
["26921","ZENERGY OM - DRZWI TRANSPARENTNE IP55, 21 MOD,  H1150 X W600",460.1,"1-ZE-09","2018-10-22","SZT"]
["26924","ZENERGY OM - DRZWI TRANSPARENTNE IP55, 24 MOD,  H1300 X W600",516.6,"1-ZE-09","2018-10-22","SZT"]
["26927","ZENERGY OM - DRZWI TRANSPARENTNE IP55, 27 MOD,  H1450 X W600",588.20000000000005,"1-ZE-09","2018-10-22","SZT"]
["26928","ZENERGY OM - DRZWI TRANSPARENTNE IP55, 28 MOD,  H1500 X W600",610.6,"1-ZE-09","2018-10-22","SZT"]
["26929","ZENERGY OM - DRZWI TRANSPARENTNE IP55, 29 MOD,  H1550 X W600",632.5,"1-ZE-09","2018-10-22","SZT"]
["26930","ZENERGY OM - DRZWI TRANSPARENTNE IP55, 30 MOD,  H1600 X W600",653,"1-ZE-09","2018-10-22","SZT"]
["26933","ZENERGY OM - DRZWI TRANSPARENTNE IP55, 33 MOD,  H1750 X W600",702.7,"1-ZE-09","2018-10-22","SZT"]
["26936","ZENERGY OM - DRZWI TRANSPARENTNE IP55, 36 MOD,  H1900 X W600",768.8,"1-ZE-09","2018-10-22","SZT"]
["26939","ZENERGY OM - DRZWI TRANSPARENTNE IP55, 39 MOD,  H2050 X W600",834.8,"1-ZE-09","2018-10-22","SZT"]
["27275","ZENERGY MCC - 100MM KRATOWNICA IP20 - 4P ŻALUZJA SZYN TYLNYCH PIONOWYCH",16.7,"1-ZE-01","2019-10-02","SZT"]
["28009","ZENERGY OM - OBUDOWA PODSTAWOWA IP30,   9 MOD,    H550 X D230 X W800, WISZĄCA",398.5,"1-ZE-09","2018-10-22","SZT"]
["28012","ZENERGY OM - OBUDOWA PODSTAWOWA IP30, 12 MOD,    H700 X D230 X W800, WISZĄCA",401.7,"1-ZE-09","2018-10-22","SZT"]
["28015","ZENERGY OM - OBUDOWA PODSTAWOWA IP30, 15 MOD,    H850 X D230 X W800, WISZĄCA",439.8,"1-ZE-09","2018-10-22","SZT"]
["28018","ZENERGY OM - OBUDOWA PODSTAWOWA IP30, 18 MOD,  H1000 X D230 X W800, WISZĄCA",487.7,"1-ZE-09","2018-10-22","SZT"]
["28021","ZENERGY OM - OBUDOWA PODSTAWOWA IP30, 21 MOD,  H1150 X D230 X W800, WISZĄCA",515.9,"1-ZE-09","2018-10-22","SZT"]
["28024","ZENERGY OM - OBUDOWA PODSTAWOWA IP30, 24 MOD,  H1300 X D230 X W800, WISZĄCA",541.9,"1-ZE-09","2018-10-22","SZT"]
["28027","ZENERGY OM - OBUDOWA PODSTAWOWA IP30, 27 MOD,  H1450 X D230 X W800, WISZĄCA",566.20000000000005,"1-ZE-09","2018-10-22","SZT"]
["28028","ZENERGY OM - OBUDOWA PODSTAWOWA IP30, 28 MOD,  H1600 X D230 X W800, COKÓŁ 100MM",917.7,"1-ZE-09","2018-10-22","SZT"]
["28029","ZENERGY OM - OBUDOWA PODSTAWOWA IP30, 29 MOD,  H1550 X D230 X W800, WISZĄCA",630.29999999999995,"1-ZE-09","2018-10-22","SZT"]
["28030","ZENERGY OM - OBUDOWA PODSTAWOWA IP30, 30 MOD,  H1700 X D230 X W800, COKÓŁ 100MM",1004.1,"1-ZE-09","2018-10-22","SZT"]
["28033","ZENERGY OM - OBUDOWA PODSTAWOWA IP30, 33 MOD,  H1850 X D230 X W800, COKÓŁ 100MM",1198.3,"1-ZE-09","2018-10-22","SZT"]
["28036","ZENERGY OM - OBUDOWA PODSTAWOWA IP30, 36 MOD,  H2000 X D230 X W800, COKÓŁ 100MM",1282,"1-ZE-09","2018-10-22","SZT"]
["28039","ZENERGY OM - OBUDOWA PODSTAWOWA IP30, 39 MOD,  H2150 X D230 X W800, COKÓŁ 100MM",1418.8,"1-ZE-09","2018-10-22","SZT"]
["28109","ZENERGY OM - ROZSZERZENIE IP30,   9 MOD,    H550 X D230 X W800, WISZĄCA",410.6,"1-ZE-09","2018-10-22","SZT"]
["28112","ZENERGY OM - ROZSZERZENIE IP30, 12 MOD,    H700 X D230 X W800, WISZĄCA",417.3,"1-ZE-09","2018-10-22","SZT"]
["28115","ZENERGY OM - ROZSZERZENIE IP30, 15 MOD,    H850 X D230 X W800, WISZĄCA",458.8,"1-ZE-09","2018-10-22","SZT"]
["28118","ZENERGY OM - ROZSZERZENIE IP30, 18 MOD,  H1000 X D230 X W800, WISZĄCA",510.8,"1-ZE-09","2018-10-22","SZT"]
["28121","ZENERGY OM - ROZSZERZENIE IP30, 21 MOD,  H1150 X D230 X W800, WISZĄCA",542.5,"1-ZE-09","2018-10-22","SZT"]
["28124","ZENERGY OM - ROZSZERZENIE IP30, 24 MOD,  H1300 X D230 X W800, WISZĄCA",572,"1-ZE-09","2018-10-22","SZT"]
["28127","ZENERGY OM - ROZSZERZENIE IP30, 27 MOD,  H1450 X D230 X W800, WISZĄCA",599.9,"1-ZE-09","2018-10-22","SZT"]
["28128","ZENERGY OM - ROZSZERZENIE IP30, 28 MOD,  H1600 X D230 X W800, COKÓŁ 100MM",954.8,"1-ZE-09","2018-10-22","SZT"]
["28129","ZENERGY OM - ROZSZERZENIE IP30, 29 MOD,  H1550 X D230 X W800, WISZĄCA",666.2,"1-ZE-09","2018-10-22","SZT"]
["28130","ZENERGY OM - ROZSZERZENIE IP30, 30 MOD,  H1700 X D230 X W800, COKÓŁ 100MM",1043.5,"1-ZE-09","2018-10-22","SZT"]
["28133","ZENERGY OM - ROZSZERZENIE IP30, 33 MOD,  H1850 X D230 X W800, COKÓŁ 100MM",1231.2,"1-ZE-09","2018-10-22","SZT"]
["28136","ZENERGY OM - ROZSZERZENIE IP30, 36 MOD,  H2000 X D230 X W800, COKÓŁ 100MM",1328.4,"1-ZE-09","2018-10-22","SZT"]
["28139","ZENERGY OM - ROZSZERZENIE IP30, 39 MOD,  H2150 X D230 X W800, COKÓŁ 100MM",1464.7,"1-ZE-09","2018-10-22","SZT"]
["28209","ZENERGY OM - DRZWI PEŁNE IP30,   9 MOD,    H550 X W800",147.19999999999999,"1-ZE-09","2018-10-22","SZT"]
["28212","ZENERGY OM - DRZWI PEŁNE IP30, 12 MOD,    H700 X W800",156.80000000000001,"1-ZE-09","2018-10-22","SZT"]
["28215","ZENERGY OM - DRZWI PEŁNE IP30, 15 MOD,    H850 X W800",173.8,"1-ZE-09","2018-10-22","SZT"]
["28218","ZENERGY OM - DRZWI PEŁNE IP30, 18 MOD,  H1000 X W800",192.5,"1-ZE-09","2018-10-22","SZT"]
["28221","ZENERGY OM - DRZWI PEŁNE IP30, 21 MOD,  H1150 X W800",199.9,"1-ZE-09","2018-10-22","SZT"]
["28224","ZENERGY OM - DRZWI PEŁNE IP30, 24 MOD,  H1300 X W800",222.5,"1-ZE-09","2018-10-22","SZT"]
["28227","ZENERGY OM - DRZWI PEŁNE IP30, 27 MOD,  H1450 X W800",255.9,"1-ZE-09","2018-10-22","SZT"]
["28228","ZENERGY OM - DRZWI PEŁNE IP30, 28 MOD,  H1500 X W800",289.2,"1-ZE-09","2018-10-22","SZT"]
["28229","ZENERGY OM - DRZWI PEŁNE IP30, 29 MOD,  H1550 X W800",322.60000000000002,"1-ZE-09","2018-10-22","SZT"]
["28230","ZENERGY OM - DRZWI PEŁNE IP30, 30 MOD,  H1600 X W800",356,"1-ZE-09","2018-10-22","SZT"]
["28233","ZENERGY OM - DRZWI PEŁNE IP30, 33 MOD,  H1750 X W800",400.5,"1-ZE-09","2018-10-22","SZT"]
["28236","ZENERGY OM - DRZWI PEŁNE IP30, 36 MOD,  H1900 X W800",445,"1-ZE-09","2018-10-22","SZT"]
["28239","ZENERGY OM - DRZWI PEŁNE IP30, 39 MOD,  H2050 X W800",489.5,"1-ZE-09","2018-10-22","SZT"]
["28409","ZENERGY OM - DRZWI TRANSPARENTNE IP30,   9 MOD,    H550 X W800",284.89999999999998,"1-ZE-09","2018-10-22","SZT"]
["28412","ZENERGY OM - DRZWI TRANSPARENTNE IP30, 12 MOD,    H700 X W800",312.10000000000002,"1-ZE-09","2018-10-22","SZT"]
["28415","ZENERGY OM - DRZWI TRANSPARENTNE IP30, 15 MOD,    H850 X W800",348.9,"1-ZE-09","2018-10-22","SZT"]
["28418","ZENERGY OM - DRZWI TRANSPARENTNE IP30, 18 MOD,  H1000 X W800",391,"1-ZE-09","2018-10-22","SZT"]
["28421","ZENERGY OM - DRZWI TRANSPARENTNE IP30, 21 MOD,  H1150 X W800",449,"1-ZE-09","2018-10-22","SZT"]
["28424","ZENERGY OM - DRZWI TRANSPARENTNE IP30, 24 MOD,  H1300 X W800",504,"1-ZE-09","2018-10-22","SZT"]
["28427","ZENERGY OM - DRZWI TRANSPARENTNE IP30, 27 MOD,  H1450 X W800",582.29999999999995,"1-ZE-09","2018-10-22","SZT"]
["28428","ZENERGY OM - DRZWI TRANSPARENTNE IP30, 28 MOD,  H1500 X W800",604,"1-ZE-09","2018-10-22","SZT"]
["28429","ZENERGY OM - DRZWI TRANSPARENTNE IP30, 29 MOD,  H1550 X W800",625.70000000000005,"1-ZE-09","2018-10-22","SZT"]
["28430","ZENERGY OM - DRZWI TRANSPARENTNE IP30, 30 MOD,  H1600 X W800",648.9,"1-ZE-09","2018-10-22","SZT"]
["28433","ZENERGY OM - DRZWI TRANSPARENTNE IP30, 33 MOD,  H1750 X W800",698.1,"1-ZE-09","2018-10-22","SZT"]
["28436","ZENERGY OM - DRZWI TRANSPARENTNE IP30, 36 MOD,  H1900 X W800",764.7,"1-ZE-09","2018-10-22","SZT"]
["28439","ZENERGY OM - DRZWI TRANSPARENTNE IP30, 39 MOD,  H2050 X W800",831.4,"1-ZE-09","2018-10-22","SZT"]
["28509","ZENERGY OM - OBUDOWA PODSTAWOWA IP55,   9 MOD,    H550 X D230 X W800, WISZĄCA",556.29999999999995,"1-ZE-09","2018-10-22","SZT"]
["28512","ZENERGY OM - OBUDOWA PODSTAWOWA IP55, 12 MOD,    H700 X D230 X W800, WISZĄCA",577.9,"1-ZE-09","2018-10-22","SZT"]
["28515","ZENERGY OM - OBUDOWA PODSTAWOWA IP55, 15 MOD,    H850 X D230 X W800, WISZĄCA",633.9,"1-ZE-09","2018-10-22","SZT"]
["28518","ZENERGY OM - OBUDOWA PODSTAWOWA IP55, 18 MOD,  H1000 X D230 X W800, WISZĄCA",679.8,"1-ZE-09","2018-10-22","SZT"]
["28521","ZENERGY OM - OBUDOWA PODSTAWOWA IP55, 21 MOD,  H1150 X D230 X W800, WISZĄCA",724.7,"1-ZE-09","2018-10-22","SZT"]
["28524","ZENERGY OM - OBUDOWA PODSTAWOWA IP55, 24 MOD,  H1300 X D230 X W800, WISZĄCA",767.6,"1-ZE-09","2018-10-22","SZT"]
["28527","ZENERGY OM - OBUDOWA PODSTAWOWA IP55, 27 MOD,  H1450 X D230 X W800, WISZĄCA",809,"1-ZE-09","2018-10-22","SZT"]
["28528","ZENERGY OM - OBUDOWA PODSTAWOWA IP55, 28 MOD,  H1600 X D230 X W800, COKÓŁ 100MM",1180.9000000000001,"1-ZE-09","2018-10-22","SZT"]
["28529","ZENERGY OM - OBUDOWA PODSTAWOWA IP55, 29 MOD,  H1550 X D230 X W800, WISZĄCA",883.5,"1-ZE-09","2018-10-22","SZT"]
["28530","ZENERGY OM - OBUDOWA PODSTAWOWA IP55, 30 MOD,  H1700 X D230 X W800, COKÓŁ 100MM",1213.9000000000001,"1-ZE-09","2018-10-22","SZT"]
["28533","ZENERGY OM - OBUDOWA PODSTAWOWA IP55, 33 MOD,  H1850 X D230 X W800, COKÓŁ 100MM",1420.9,"1-ZE-09","2018-10-22","SZT"]
["28536","ZENERGY OM - OBUDOWA PODSTAWOWA IP55, 36 MOD,  H2000 X D230 X W800, COKÓŁ 100MM",1497.3,"1-ZE-09","2018-10-22","SZT"]
["28539","ZENERGY OM - OBUDOWA PODSTAWOWA IP55, 39 MOD,  H2150 X D230 X W800, COKÓŁ 100MM",1558.5,"1-ZE-09","2018-10-22","SZT"]
["28609","ZENERGY OM - ROZSZERZENIE IP55,   9 MOD,    H550 X D230 X W800, WISZĄCA",568.29999999999995,"1-ZE-09","2018-10-22","SZT"]
["28612","ZENERGY OM - ROZSZERZENIE IP55, 12 MOD,    H700 X D230 X W800, WISZĄCA",593.29999999999995,"1-ZE-09","2018-10-22","SZT"]
["28615","ZENERGY OM - ROZSZERZENIE IP55, 15 MOD,    H850 X D230 X W800, WISZĄCA",652.29999999999995,"1-ZE-09","2018-10-22","SZT"]
["28618","ZENERGY OM - ROZSZERZENIE IP55, 18 MOD,  H1000 X D230 X W800, WISZĄCA",701.6,"1-ZE-09","2018-10-22","SZT"]
["28621","ZENERGY OM - ROZSZERZENIE IP55, 21 MOD,  H1150 X D230 X W800, WISZĄCA",749.8,"1-ZE-09","2018-10-22","SZT"]
["28624","ZENERGY OM - ROZSZERZENIE IP55, 24 MOD,  H1300 X D230 X W800, WISZĄCA",795.9,"1-ZE-09","2018-10-22","SZT"]
["28627","ZENERGY OM - ROZSZERZENIE IP55, 27 MOD,  H1450 X D230 X W800, WISZĄCA",840.7,"1-ZE-09","2018-10-22","SZT"]
["28628","ZENERGY OM - ROZSZERZENIE IP55, 28 MOD,  H1600 X D230 X W800, COKÓŁ 100MM",1169.8,"1-ZE-09","2018-10-22","SZT"]
["28629","ZENERGY OM - ROZSZERZENIE IP55, 29 MOD,  H1550 X D230 X W800, WISZĄCA",917.4,"1-ZE-09","2018-10-22","SZT"]
["28630","ZENERGY OM - ROZSZERZENIE IP55, 30 MOD,  H1700 X D230 X W800, COKÓŁ 100MM",1219.9000000000001,"1-ZE-09","2018-10-22","SZT"]
["28633","ZENERGY OM - ROZSZERZENIE IP55, 33 MOD,  H1850 X D230 X W800, COKÓŁ 100MM",1408.4,"1-ZE-09","2018-10-22","SZT"]
["28636","ZENERGY OM - ROZSZERZENIE IP55, 36 MOD,  H2000 X D230 X W800, COKÓŁ 100MM",1491.7,"1-ZE-09","2018-10-22","SZT"]
["28639","ZENERGY OM - ROZSZERZENIE IP55, 39 MOD,  H2150 X D230 X W800, COKÓŁ 100MM",1592.5,"1-ZE-09","2018-10-22","SZT"]
["28709","ZENERGY OM - DRZWI PEŁNE IP55,   9 MOD,    H550 X W800",216.1,"1-ZE-09","2018-10-22","SZT"]
["28712","ZENERGY OM - DRZWI PEŁNE IP55, 12 MOD,    H700 X W800",238.5,"1-ZE-09","2018-10-22","SZT"]
["28715","ZENERGY OM - DRZWI PEŁNE IP55, 15 MOD,    H850 X W800",263.8,"1-ZE-09","2018-10-22","SZT"]
["28718","ZENERGY OM - DRZWI PEŁNE IP55, 18 MOD,  H1000 X W800",286.3,"1-ZE-09","2018-10-22","SZT"]
["28721","ZENERGY OM - DRZWI PEŁNE IP55, 21 MOD,  H1150 X W800",334.6,"1-ZE-09","2018-10-22","SZT"]
["28724","ZENERGY OM - DRZWI PEŁNE IP55, 24 MOD,  H1300 X W800",383,"1-ZE-09","2018-10-22","SZT"]
["28727","ZENERGY OM - DRZWI PEŁNE IP55, 27 MOD,  H1450 X W800",449.9,"1-ZE-09","2018-10-22","SZT"]
["28728","ZENERGY OM - DRZWI PEŁNE IP55, 28 MOD,  H1500 X W800",470.2,"1-ZE-09","2018-10-22","SZT"]
["28729","ZENERGY OM - DRZWI PEŁNE IP55, 29 MOD,  H1550 X W800",490.7,"1-ZE-09","2018-10-22","SZT"]
["28730","ZENERGY OM - DRZWI PEŁNE IP55, 30 MOD,  H1600 X W800",509.1,"1-ZE-09","2018-10-22","SZT"]
["28733","ZENERGY OM - DRZWI PEŁNE IP55, 33 MOD,  H1750 X W800",550.70000000000005,"1-ZE-09","2018-10-22","SZT"]
["28736","ZENERGY OM - DRZWI PEŁNE IP55, 36 MOD,  H1900 X W800",608.70000000000005,"1-ZE-09","2018-10-22","SZT"]
["28739","ZENERGY OM - DRZWI PEŁNE IP55, 39 MOD,  H2050 X W800",620.29999999999995,"1-ZE-09","2018-10-22","SZT"]
["28909","ZENERGY OM - DRZWI TRANSPARENTNE IP55,   9 MOD,    H550 X W800",340.2,"1-ZE-09","2018-10-22","SZT"]
["28912","ZENERGY OM - DRZWI TRANSPARENTNE IP55, 12 MOD,    H700 X W800",373.6,"1-ZE-09","2018-10-22","SZT"]
["28915","ZENERGY OM - DRZWI TRANSPARENTNE IP55, 15 MOD,    H850 X W800",409.6,"1-ZE-09","2018-10-22","SZT"]
["28918","ZENERGY OM - DRZWI TRANSPARENTNE IP55, 18 MOD,  H1000 X W800",441.7,"1-ZE-09","2018-10-22","SZT"]
["28921","ZENERGY OM - DRZWI TRANSPARENTNE IP55, 21 MOD,  H1150 X W800",502.2,"1-ZE-09","2018-10-22","SZT"]
["28924","ZENERGY OM - DRZWI TRANSPARENTNE IP55, 24 MOD,  H1300 X W800",560.20000000000005,"1-ZE-09","2018-10-22","SZT"]
["28927","ZENERGY OM - DRZWI TRANSPARENTNE IP55, 27 MOD,  H1450 X W800",638,"1-ZE-09","2018-10-22","SZT"]
["28928","ZENERGY OM - DRZWI TRANSPARENTNE IP55, 28 MOD,  H1500 X W800",661.1,"1-ZE-09","2018-10-22","SZT"]
["28929","ZENERGY OM - DRZWI TRANSPARENTNE IP55, 29 MOD,  H1550 X W800",684.2,"1-ZE-09","2018-10-22","SZT"]
["28930","ZENERGY OM - DRZWI TRANSPARENTNE IP55, 30 MOD,  H1600 X W800",706.8,"1-ZE-09","2018-10-22","SZT"]
["28933","ZENERGY OM - DRZWI TRANSPARENTNE IP55, 33 MOD,  H1750 X W800",759.2,"1-ZE-09","2018-10-22","SZT"]
["28936","ZENERGY OM - DRZWI TRANSPARENTNE IP55, 36 MOD,  H1900 X W800",828.2,"1-ZE-09","2018-10-22","SZT"]
["28939","ZENERGY OM - DRZWI TRANSPARENTNE IP55, 39 MOD,  H2050 X W800",896.9,"1-ZE-09","2018-10-22","SZT"]
["29009","ZENERGY OM - OBUDOWA PODSTAWOWA IP30,   9 MOD,    H550 X D230 X W1000, WISZĄCA",458,"1-ZE-09","2018-10-22","SZT"]
["29012","ZENERGY OM - OBUDOWA PODSTAWOWA IP30, 12 MOD,    H700 X D230 X W1000, WISZĄCA",462.3,"1-ZE-09","2018-10-22","SZT"]
["29015","ZENERGY OM - OBUDOWA PODSTAWOWA IP30, 15 MOD,    H850 X D230 X W1000, WISZĄCA",502.3,"1-ZE-09","2018-10-22","SZT"]
["29018","ZENERGY OM - OBUDOWA PODSTAWOWA IP30, 18 MOD,  H1000 X D230 X W1000, WISZĄCA",555.29999999999995,"1-ZE-09","2018-10-22","SZT"]
["29021","ZENERGY OM - OBUDOWA PODSTAWOWA IP30, 21 MOD,  H1150 X D230 X W1000, WISZĄCA",588.20000000000005,"1-ZE-09","2018-10-22","SZT"]
["29024","ZENERGY OM - OBUDOWA PODSTAWOWA IP30, 24 MOD,  H1300 X D230 X W1000, WISZĄCA",618.20000000000005,"1-ZE-09","2018-10-22","SZT"]
["29027","ZENERGY OM - OBUDOWA PODSTAWOWA IP30, 27 MOD,  H1450 X D230 X W1000, WISZĄCA",646.20000000000005,"1-ZE-09","2018-10-22","SZT"]
["29028","ZENERGY OM - OBUDOWA PODSTAWOWA IP30, 28 MOD,  H1600 X D230 X W1000, COKÓŁ 100MM",1050.9000000000001,"1-ZE-09","2018-10-22","SZT"]
["29029","ZENERGY OM - OBUDOWA PODSTAWOWA IP30, 29 MOD,  H1550 X D230 X W1000, WISZĄCA",714.5,"1-ZE-09","2018-10-22","SZT"]
["29030","ZENERGY OM - OBUDOWA PODSTAWOWA IP30, 30 MOD,  H1700 X D230 X W1000, COKÓŁ 100MM",1150.7,"1-ZE-09","2018-10-22","SZT"]
["29033","ZENERGY OM - OBUDOWA PODSTAWOWA IP30, 33 MOD,  H1850 X D230 X W1000, COKÓŁ 100MM",1374.2,"1-ZE-09","2018-10-22","SZT"]
["29036","ZENERGY OM - OBUDOWA PODSTAWOWA IP30, 36 MOD,  H2000 X D230 X W1000, COKÓŁ 100MM",1472.4,"1-ZE-09","2018-10-22","SZT"]
["29039","ZENERGY OM - OBUDOWA PODSTAWOWA IP30, 39 MOD,  H2150 X D230 X W1000, COKÓŁ 100MM",1634.9,"1-ZE-09","2018-10-22","SZT"]
["29109","ZENERGY OM - ROZSZERZENIE IP30,   9 MOD,    H550 X D230 X W1000, WISZĄCA",470.3,"1-ZE-09","2018-10-22","SZT"]
["29112","ZENERGY OM - ROZSZERZENIE IP30, 12 MOD,    H700 X D230 X W1000, WISZĄCA",477.9,"1-ZE-09","2018-10-22","SZT"]
["29115","ZENERGY OM - ROZSZERZENIE IP30, 15 MOD,    H850 X D230 X W1000, WISZĄCA",521.29999999999995,"1-ZE-09","2018-10-22","SZT"]
["29118","ZENERGY OM - ROZSZERZENIE IP30, 18 MOD,  H1000 X D230 X W1000, WISZĄCA",578.6,"1-ZE-09","2018-10-22","SZT"]
["29121","ZENERGY OM - ROZSZERZENIE IP30, 21 MOD,  H1150 X D230 X W1000, WISZĄCA",614.79999999999995,"1-ZE-09","2018-10-22","SZT"]
["29124","ZENERGY OM - ROZSZERZENIE IP30, 24 MOD,  H1300 X D230 X W1000, WISZĄCA",648.29999999999995,"1-ZE-09","2018-10-22","SZT"]
["29127","ZENERGY OM - ROZSZERZENIE IP30, 27 MOD,  H1450 X D230 X W1000, WISZĄCA",679.7,"1-ZE-09","2018-10-22","SZT"]
["29128","ZENERGY OM - ROZSZERZENIE IP30, 28 MOD,  H1600 X D230 X W1000, COKÓŁ 100MM",1088,"1-ZE-09","2018-10-22","SZT"]
["29129","ZENERGY OM - ROZSZERZENIE IP30, 29 MOD,  H1550 X D230 X W1000, WISZĄCA",750.4,"1-ZE-09","2018-10-22","SZT"]
["29130","ZENERGY OM - ROZSZERZENIE IP30, 30 MOD,  H1700 X D230 X W1000, COKÓŁ 100MM",1190,"1-ZE-09","2018-10-22","SZT"]
["29133","ZENERGY OM - ROZSZERZENIE IP30, 33 MOD,  H1850 X D230 X W1000, COKÓŁ 100MM",1407.3,"1-ZE-09","2018-10-22","SZT"]
["29136","ZENERGY OM - ROZSZERZENIE IP30, 36 MOD,  H2000 X D230 X W1000, COKÓŁ 100MM",1518.7,"1-ZE-09","2018-10-22","SZT"]
["29139","ZENERGY OM - ROZSZERZENIE IP30, 39 MOD,  H2150 X D230 X W1000, COKÓŁ 100MM",1680.7,"1-ZE-09","2018-10-22","SZT"]
["29209","ZENERGY OM - DRZWI PEŁNE IP30,   9 MOD,    H550 X W1000",169,"1-ZE-09","2018-10-22","SZT"]
["29212","ZENERGY OM - DRZWI PEŁNE IP30, 12 MOD,    H700 X W1000",179.8,"1-ZE-09","2018-10-22","SZT"]
["29215","ZENERGY OM - DRZWI PEŁNE IP30, 15 MOD,    H850 X W1000",198.8,"1-ZE-09","2018-10-22","SZT"]
["29218","ZENERGY OM - DRZWI PEŁNE IP30, 18 MOD,  H1000 X W1000",220.1,"1-ZE-09","2018-10-22","SZT"]
["29221","ZENERGY OM - DRZWI PEŁNE IP30, 21 MOD,  H1150 X W1000",228.9,"1-ZE-09","2018-10-22","SZT"]
["29224","ZENERGY OM - DRZWI PEŁNE IP30, 24 MOD,  H1300 X W1000",236.1,"1-ZE-09","2018-10-22","SZT"]
["29227","ZENERGY OM - DRZWI PEŁNE IP30, 27 MOD,  H1450 X W1000",244.8,"1-ZE-09","2018-10-22","SZT"]
["29228","ZENERGY OM - DRZWI PEŁNE IP30, 28 MOD,  H1500 X W1000",411.4,"1-ZE-09","2018-10-22","SZT"]
["29229","ZENERGY OM - DRZWI PEŁNE IP30, 29 MOD,  H1550 X W1000",457.6,"1-ZE-09","2018-10-22","SZT"]
["29230","ZENERGY OM - DRZWI PEŁNE IP30, 30 MOD,  H1600 X W1000",504,"1-ZE-09","2018-10-22","SZT"]
["29233","ZENERGY OM - DRZWI PEŁNE IP30, 33 MOD,  H1750 X W1000",547.4,"1-ZE-09","2018-10-22","SZT"]
["29236","ZENERGY OM - DRZWI PEŁNE IP30, 36 MOD,  H1900 X W1000",611.29999999999995,"1-ZE-09","2018-10-22","SZT"]
["29239","ZENERGY OM - DRZWI PEŁNE IP30, 39 MOD,  H2050 X W1000",617,"1-ZE-09","2018-10-22","SZT"]
["29409","ZENERGY OM - DRZWI TRANSPARENTNE IP30,   9 MOD,    H550 X W1000",327.10000000000002,"1-ZE-09","2018-10-22","SZT"]
["29412","ZENERGY OM - DRZWI TRANSPARENTNE IP30, 12 MOD,    H700 X W1000",358.4,"1-ZE-09","2018-10-22","SZT"]
["29415","ZENERGY OM - DRZWI TRANSPARENTNE IP30, 15 MOD,    H850 X W1000",400.3,"1-ZE-09","2018-10-22","SZT"]
["29418","ZENERGY OM - DRZWI TRANSPARENTNE IP30, 18 MOD,  H1000 X W1000",449,"1-ZE-09","2018-10-22","SZT"]
["29421","ZENERGY OM - DRZWI TRANSPARENTNE IP30, 21 MOD,  H1150 X W1000",515.6,"1-ZE-09","2018-10-22","SZT"]
["29424","ZENERGY OM - DRZWI TRANSPARENTNE IP30, 24 MOD,  H1300 X W1000",579.4,"1-ZE-09","2018-10-22","SZT"]
["29427","ZENERGY OM - DRZWI TRANSPARENTNE IP30, 27 MOD,  H1450 X W1000",669.1,"1-ZE-09","2018-10-22","SZT"]
["29428","ZENERGY OM - DRZWI TRANSPARENTNE IP30, 28 MOD,  H1500 X W1000",693.8,"1-ZE-09","2018-10-22","SZT"]
["29429","ZENERGY OM - DRZWI TRANSPARENTNE IP30, 29 MOD,  H1550 X W1000",718.4,"1-ZE-09","2018-10-22","SZT"]
["29430","ZENERGY OM - DRZWI TRANSPARENTNE IP30, 30 MOD,  H1600 X W1000",745.8,"1-ZE-09","2018-10-22","SZT"]
["29433","ZENERGY OM - DRZWI TRANSPARENTNE IP30, 33 MOD,  H1750 X W1000",802.5,"1-ZE-09","2018-10-22","SZT"]
["29436","ZENERGY OM - DRZWI TRANSPARENTNE IP30, 36 MOD,  H1900 X W1000",879.1,"1-ZE-09","2018-10-22","SZT"]
["29439","ZENERGY OM - DRZWI TRANSPARENTNE IP30, 39 MOD,  H2050 X W1000",955.8,"1-ZE-09","2018-10-22","SZT"]
["29509","ZENERGY OM - OBUDOWA PODSTAWOWA IP55,   9 MOD,    H550 X D230 X W1000, WISZĄCA",639.4,"1-ZE-09","2018-10-22","SZT"]
["29512","ZENERGY OM - OBUDOWA PODSTAWOWA IP55, 12 MOD,    H700 X D230 X W1000, WISZĄCA",661.9,"1-ZE-09","2018-10-22","SZT"]
["29515","ZENERGY OM - OBUDOWA PODSTAWOWA IP55, 15 MOD,    H850 X D230 X W1000, WISZĄCA",719.7,"1-ZE-09","2018-10-22","SZT"]
["29518","ZENERGY OM - OBUDOWA PODSTAWOWA IP55, 18 MOD,  H1000 X D230 X W1000, WISZĄCA",768,"1-ZE-09","2018-10-22","SZT"]
["29521","ZENERGY OM - OBUDOWA PODSTAWOWA IP55, 21 MOD,  H1150 X D230 X W1000, WISZĄCA",817.3,"1-ZE-09","2018-10-22","SZT"]
["29524","ZENERGY OM - OBUDOWA PODSTAWOWA IP55, 24 MOD,  H1300 X D230 X W1000, WISZĄCA",863.9,"1-ZE-09","2018-10-22","SZT"]
["29527","ZENERGY OM - OBUDOWA PODSTAWOWA IP55, 27 MOD,  H1450 X D230 X W1000, WISZĄCA",908.6,"1-ZE-09","2018-10-22","SZT"]
["29528","ZENERGY OM - OBUDOWA PODSTAWOWA IP55, 28 MOD,  H1600 X D230 X W1000, COKÓŁ 100MM",1333.7,"1-ZE-09","2018-10-22","SZT"]
["29529","ZENERGY OM - OBUDOWA PODSTAWOWA IP55, 29 MOD,  H1550 X D230 X W1000, WISZĄCA",987.4,"1-ZE-09","2018-10-22","SZT"]
["29530","ZENERGY OM - OBUDOWA PODSTAWOWA IP55, 30 MOD,  H1700 X D230 X W1000, COKÓŁ 100MM",1374.3,"1-ZE-09","2018-10-22","SZT"]
["29533","ZENERGY OM - OBUDOWA PODSTAWOWA IP55, 33 MOD,  H1850 X D230 X W1000, COKÓŁ 100MM",1607.6,"1-ZE-09","2018-10-22","SZT"]
["29536","ZENERGY OM - OBUDOWA PODSTAWOWA IP55, 36 MOD,  H2000 X D230 X W1000, COKÓŁ 100MM",1696.5,"1-ZE-09","2018-10-22","SZT"]
["29539","ZENERGY OM - OBUDOWA PODSTAWOWA IP55, 39 MOD,  H2150 X D230 X W1000, COKÓŁ 100MM",1779.2,"1-ZE-09","2018-10-22","SZT"]
["29609","ZENERGY OM - ROZSZERZENIE IP55,   9 MOD,    H550 X D230 X W1000, WISZĄCA",651.4,"1-ZE-09","2018-10-22","SZT"]
["29612","ZENERGY OM - ROZSZERZENIE IP55, 12 MOD,    H700 X D230 X W1000, WISZĄCA",677.2,"1-ZE-09","2018-10-22","SZT"]
["29615","ZENERGY OM - ROZSZERZENIE IP55, 15 MOD,    H850 X D230 X W1000, WISZĄCA",738.1,"1-ZE-09","2018-10-22","SZT"]
["29618","ZENERGY OM - ROZSZERZENIE IP55, 18 MOD,  H1000 X D230 X W1000, WISZĄCA",789.8,"1-ZE-09","2018-10-22","SZT"]
["29621","ZENERGY OM - ROZSZERZENIE IP55, 21 MOD,  H1150 X D230 X W1000, WISZĄCA",842.4,"1-ZE-09","2018-10-22","SZT"]
["29624","ZENERGY OM - ROZSZERZENIE IP55, 24 MOD,  H1300 X D230 X W1000, WISZĄCA",892.3,"1-ZE-09","2018-10-22","SZT"]
["29627","ZENERGY OM - ROZSZERZENIE IP55, 27 MOD,  H1450 X D230 X W1000, WISZĄCA",940.3,"1-ZE-09","2018-10-22","SZT"]
["29628","ZENERGY OM - ROZSZERZENIE IP55, 28 MOD,  H1600 X D230 X W1000, COKÓŁ 100MM",1314.4,"1-ZE-09","2018-10-22","SZT"]
["29629","ZENERGY OM - ROZSZERZENIE IP55, 29 MOD,  H1550 X D230 X W1000, WISZĄCA",1021,"1-ZE-09","2018-10-22","SZT"]
["29630","ZENERGY OM - ROZSZERZENIE IP55, 30 MOD,  H1700 X D230 X W1000, COKÓŁ 100MM",1378.4,"1-ZE-09","2018-10-22","SZT"]
["29633","ZENERGY OM - ROZSZERZENIE IP55, 33 MOD,  H1850 X D230 X W1000, COKÓŁ 100MM",1594,"1-ZE-09","2018-10-22","SZT"]
["29636","ZENERGY OM - ROZSZERZENIE IP55, 36 MOD,  H2000 X D230 X W1000, COKÓŁ 100MM",1691.1,"1-ZE-09","2018-10-22","SZT"]
["29639","ZENERGY OM - ROZSZERZENIE IP55, 39 MOD,  H2150 X D230 X W1000, COKÓŁ 100MM",1813,"1-ZE-09","2018-10-22","SZT"]
["29709","ZENERGY OM - DRZWI PEŁNE IP55,   9 MOD,    H550 X W1000",248,"1-ZE-09","2018-10-22","SZT"]
["29712","ZENERGY OM - DRZWI PEŁNE IP55, 12 MOD,    H700 X W1000",274,"1-ZE-09","2018-10-22","SZT"]
["29715","ZENERGY OM - DRZWI PEŁNE IP55, 15 MOD,    H850 X W1000",302.7,"1-ZE-09","2018-10-22","SZT"]
["29718","ZENERGY OM - DRZWI PEŁNE IP55, 18 MOD,  H1000 X W1000",328.5,"1-ZE-09","2018-10-22","SZT"]
["29721","ZENERGY OM - DRZWI PEŁNE IP55, 21 MOD,  H1150 X W1000",384.4,"1-ZE-09","2018-10-22","SZT"]
["29724","ZENERGY OM - DRZWI PEŁNE IP55, 24 MOD,  H1300 X W1000",440.2,"1-ZE-09","2018-10-22","SZT"]
["29727","ZENERGY OM - DRZWI PEŁNE IP55, 27 MOD,  H1450 X W1000",516.6,"1-ZE-09","2018-10-22","SZT"]
["29728","ZENERGY OM - DRZWI PEŁNE IP55, 28 MOD,  H1500 X W1000",539.70000000000005,"1-ZE-09","2018-10-22","SZT"]
["29729","ZENERGY OM - DRZWI PEŁNE IP55, 29 MOD,  H1550 X W1000",564.29999999999995,"1-ZE-09","2018-10-22","SZT"]
["29730","ZENERGY OM - DRZWI PEŁNE IP55, 30 MOD,  H1600 X W1000",584.6,"1-ZE-09","2018-10-22","SZT"]
["29733","ZENERGY OM - DRZWI PEŁNE IP55, 33 MOD,  H1750 X W1000",632.5,"1-ZE-09","2018-10-22","SZT"]
["29736","ZENERGY OM - DRZWI PEŁNE IP55, 36 MOD,  H1900 X W1000",699.3,"1-ZE-09","2018-10-22","SZT"]
["29739","ZENERGY OM - DRZWI PEŁNE IP55, 39 MOD,  H2050 X W1000",712.9,"1-ZE-09","2018-10-22","SZT"]
["29909","ZENERGY OM - DRZWI TRANSPARENTNE IP55,   9 MOD,    H550 X W1000",389.9,"1-ZE-09","2018-10-22","SZT"]
["29912","ZENERGY OM - DRZWI TRANSPARENTNE IP55, 12 MOD,    H700 X W1000",429.4,"1-ZE-09","2018-10-22","SZT"]
["29915","ZENERGY OM - DRZWI TRANSPARENTNE IP55, 15 MOD,    H850 X W1000",470.2,"1-ZE-09","2018-10-22","SZT"]
["29918","ZENERGY OM - DRZWI TRANSPARENTNE IP55, 18 MOD,  H1000 X W1000",507.1,"1-ZE-09","2018-10-22","SZT"]
["29921","ZENERGY OM - DRZWI TRANSPARENTNE IP55, 21 MOD,  H1150 X W1000",576.6,"1-ZE-09","2018-10-22","SZT"]
["29924","ZENERGY OM - DRZWI TRANSPARENTNE IP55, 24 MOD,  H1300 X W1000",643.29999999999995,"1-ZE-09","2018-10-22","SZT"]
["29927","ZENERGY OM - DRZWI TRANSPARENTNE IP55, 27 MOD,  H1450 X W1000",733.3,"1-ZE-09","2018-10-22","SZT"]
["29928","ZENERGY OM - DRZWI TRANSPARENTNE IP55, 28 MOD,  H1500 X W1000",759.2,"1-ZE-09","2018-10-22","SZT"]
["29929","ZENERGY OM - DRZWI TRANSPARENTNE IP55, 29 MOD,  H1550 X W1000",786.6,"1-ZE-09","2018-10-22","SZT"]
["29930","ZENERGY OM - DRZWI TRANSPARENTNE IP55, 30 MOD,  H1600 X W1000",812.4,"1-ZE-09","2018-10-22","SZT"]
["29933","ZENERGY OM - DRZWI TRANSPARENTNE IP55, 33 MOD,  H1750 X W1000",872.3,"1-ZE-09","2018-10-22","SZT"]
["29936","ZENERGY OM - DRZWI TRANSPARENTNE IP55, 36 MOD,  H1900 X W1000",951.4,"1-ZE-09","2018-10-22","SZT"]
["29939","ZENERGY OM - DRZWI TRANSPARENTNE IP55, 39 MOD,  H2050 X W1000",1030.5,"1-ZE-09","2018-10-22","SZT"]
["30000","ZENERGY - COKÓŁ H100, OSŁONY BOCZNE Z PRZEPUSTEM (4 szt.)",203.1,"1-ZE-01","2019-10-02","KPL"]
["30003","ZENERGY - COKÓŁ H100, PEŁNE OSŁONY BOCZNE, D1000",268,"1-ZE-01","2019-10-02","SZT"]
["30006","ZENERGY - COKÓŁ H100, WENTYLOWANE OSŁONY PRZÓD,TYŁ, W650+400",216.5,"1-ZE-01","2019-10-02","SZT"]
["30010","ZENERGY - COKÓŁ H100, WENTYLOWANE OSŁONY PRZÓD,TYŁ, W1000",192.3,"1-ZE-01","2019-10-02","SZT"]
["30011","ZENERGY - COKÓŁ H100, WENTYLOWANE OSŁONY PRZÓD,TYŁ, W1100",198.8,"1-ZE-01","2019-10-02","SZT"]
["30012","ZENERGY - COKÓŁ H100, WENTYLOWANE OSŁONY PRZÓD,TYŁ, W1200",205.3,"1-ZE-01","2019-10-02","SZT"]
["30013","ZENERGY - COKÓŁ H100, WENTYLOWANE OSŁONY PRZÓD,TYŁ, W1300",210,"1-ZE-01","2019-10-02","SZT"]
["30015","ZENERGY - COKÓŁ H100, WENTYLOWANE OSŁONY PRZÓD,TYŁ, W1050",195.6,"1-ZE-01","2019-10-02","SZT"]
["30016","ZENERGY - COKÓŁ H100, WENTYLOWANE OSŁONY PRZÓD,TYŁ, W1150",202,"1-ZE-01","2019-10-02","SZT"]
["30017","ZENERGY - COKÓŁ H100, WENTYLOWANE OSŁONY PRZÓD,TYŁ, W1250",208.5,"1-ZE-01","2019-10-02","SZT"]
["30021","ZENERGY - COKÓŁ H100, WENTYLOWANE OSŁONY PRZÓD,TYŁ, W150+650+400",224.4,"1-ZE-01","2019-10-02","SZT"]
["30022","ZENERGY - COKÓŁ H100, AKTYWNIE WENTYLOWANE OSŁONY (Wentylacja 80W) PRZÓD,TYŁ, W1200",534,"1-ZE-01","2020-04-06","SZT"]
["30023","ZENERGY - COKÓŁ H100, PEŁNE OSŁONY BOCZNE, D230",110.6,"1-ZE-01","2019-10-02","SZT"]
["30026","ZENERGY - COKÓŁ H100, WENTYLOWANE OSŁONY PRZÓD,TYŁ, W850+400",247,"1-ZE-01","2019-10-02","SZT"]
["30030","ZENERGY - COKÓŁ H100, WENTYLOWANE OSŁONY PRZÓD,TYŁ, W300",123.4,"1-ZE-01","2019-10-02","SZT"]
["30033","ZENERGY - COKÓŁ H100, PEŁNE OSŁONY BOCZNE, D300",123.4,"1-ZE-01","2019-10-02","SZT"]
["30040","ZENERGY - COKÓŁ H100, WENTYLOWANE OSŁONY PRZÓD,TYŁ, W400",136.4,"1-ZE-01","2019-10-02","SZT"]
["30041","Zenergy - Cokół H100, komplet do ramy narożnikowej, D400",311.5,"1-ZE-01","2019-10-02","SZT"]
["30043","ZENERGY - COKÓŁ H100, PEŁNE OSŁONY BOCZNE, D400",126.3,"1-ZE-01","2019-10-02","SZT"]
["30045","ZENERGY - COKÓŁ H100, WENTYLOWANE OSŁONY PRZÓD,TYŁ, W450",139.5,"1-ZE-01","2019-10-02","SZT"]
["30051","Zenergy - Cokół H100, komplet do ramy narożnikowej, D600/D400",333.7,"1-ZE-01","2021-12-01","SZT"]
["30053","ZENERGY - COKÓŁ H100, PEŁNE OSŁONY BOCZNE, D500",161.80000000000001,"1-ZE-01","2019-10-02","KPL"]
["30060","ZENERGY - COKÓŁ H100, WENTYLOWANE OSŁONY PRZÓD,TYŁ, W600",146,"1-ZE-01","2019-10-02","SZT"]
["30061","Zenergy - Cokół H100, komplet do ramy narożnikowej, D600",309,"1-ZE-01","2021-12-01","SZT"]
["30063","ZENERGY - COKÓŁ H100, PEŁNE OSŁONY BOCZNE, D600",176.6,"1-ZE-01","2019-10-02","KPL"]
["30065","ZENERGY - COKÓŁ H100, WENTYLOWANE OSŁONY PRZÓD,TYŁ, W650",149,"1-ZE-01","2019-10-02","SZT"]
["30071","Zenergy - Cokół H100, komplet do ramy narożnikowej, D600",333.7,"1-ZE-01","2019-10-02","SZT"]
["30073","ZENERGY - COKÓŁ H100, PEŁNE OSŁONY BOCZNE, D700",210,"1-ZE-01","2019-10-02","SZT"]
["30080","ZENERGY - COKÓŁ H100, WENTYLOWANE OSŁONY PRZÓD,TYŁ, W800",191.1,"1-ZE-01","2019-10-02","SZT"]
["30081","Zenergy - Cokół H100, komplet do ramy narożnikowej, D800",334.8,"1-ZE-01","2021-12-01","SZT"]
["30083","ZENERGY - COKÓŁ H100, PEŁNE OSŁONY BOCZNE, D800",229.2,"1-ZE-01","2019-10-02","SZT"]
["30085","ZENERGY - COKÓŁ H100, WENTYLOWANE OSŁONY PRZÓD,TYŁ, W850",171.5,"1-ZE-01","2019-10-02","SZT"]
["30091","Zenergy - Cokół H100, komplet do ramy narożnikowej, D800",361.5,"1-ZE-01","2019-10-02","SZT"]
["30093","ZENERGY - COKÓŁ H100, PEŁNE OSŁONY BOCZNE, D900",238.9,"1-ZE-01","2019-10-02","SZT"]
["30096","ZENERGY - COKÓŁ H100, WENTYLOWANE OSŁONY PRZÓD,TYŁ, W650+300",206.8,"1-ZE-01","2019-10-02","SZT"]
["30100","ZENERGY - COKÓŁ H200, OSŁONY BOCZNE Z PRZEPUSTEM",296.5,"1-ZE-01","2019-10-02","KPL"]
["30103","ZENERGY - COKÓŁ H200, PEŁNE OSŁONY BOCZNE, D1000",402.8,"1-ZE-01","2019-10-02","SZT"]
["30106","ZENERGY - COKÓŁ H200, WENTYLOWANE OSŁONY PRZÓD,TYŁ, W650+400",333.5,"1-ZE-01","2019-10-02","SZT"]
["30110","ZENERGY - COKÓŁ H200, WENTYLOWANE OSŁONY PRZÓD,TYŁ, W1000",299.89999999999998,"1-ZE-01","2019-10-02","SZT"]
["30111","ZENERGY - COKÓŁ H200, WENTYLOWANE OSŁONY PRZÓD,TYŁ, W150+650+300",339.8,"1-ZE-01","2019-10-02","SZT"]
["30112","ZENERGY - COKÓŁ H200, WENTYLOWANE OSŁONY PRZÓD,TYŁ, W1200",320.60000000000002,"1-ZE-01","2019-10-02","SZT"]
["30113","ZENERGY - COKÓŁ H200, WENTYLOWANE OSŁONY PRZÓD,TYŁ, W1300",328.7,"1-ZE-01","2019-10-02","SZT"]
["30116","ZENERGY - COKÓŁ H200, WENTYLOWANE OSŁONY PRZÓD,TYŁ, W1150",311,"1-ZE-01","2019-10-02","SZT"]
["30117","ZENERGY - COKÓŁ H200, WENTYLOWANE OSŁONY PRZÓD,TYŁ, W1250",325.39999999999998,"1-ZE-01","2019-10-02","SZT"]
["30121","ZENERGY - COKÓŁ H200, WENTYLOWANE OSŁONY PRZÓD,TYŁ, W150+650+400",354.3,"1-ZE-01","2019-10-02","SZT"]
["30123","ZENERGY - COKÓŁ H200, PEŁNE OSŁONY BOCZNE, D230",190.8,"1-ZE-01","2019-10-02","SZT"]
["30130","ZENERGY - COKÓŁ H200, WENTYLOWANE OSŁONY PRZÓD,TYŁ, W300",145.6,"1-ZE-01","2019-10-02","SZT"]
["30133","ZENERGY - COKÓŁ H200, PEŁNE OSŁONY BOCZNE, D300",211.6,"1-ZE-01","2019-10-02","SZT",null,84.5]
["30140","ZENERGY - COKÓŁ H200, WENTYLOWANE OSŁONY PRZÓD,TYŁ, W400",205.3,"1-ZE-01","2019-10-02","SZT"]
["30141","Zenergy - Cokół H200, komplet do ramy narożnikowej, D400",386.7,"1-ZE-01","2021-12-01","SZT"]
["30143","ZENERGY - COKÓŁ H200, PEŁNE OSŁONY BOCZNE, D400",237.3,"1-ZE-01","2019-10-02","SZT"]
["30145","ZENERGY - COKÓŁ H200, WENTYLOWANE OSŁONY PRZÓD,TYŁ, W450",210,"1-ZE-01","2019-10-02","SZT"]
["30153","ZENERGY - COKÓŁ H200, PEŁNE OSŁONY BOCZNE, D500",261.3,"1-ZE-01","2019-10-02","KPL"]
["30160","ZENERGY - COKÓŁ H200, WENTYLOWANE OSŁONY PRZÓD,TYŁ, W600",219.7,"1-ZE-01","2019-10-02","SZT"]
["30161","Zenergy - Cokół H200, komplet do ramy narożnikowej, D600",401.7,"1-ZE-01","2021-12-01","SZT"]
["30163","ZENERGY - COKÓŁ H200, PEŁNE OSŁONY BOCZNE, D600",286.89999999999998,"1-ZE-01","2019-10-02","SZT"]
["30165","ZENERGY - COKÓŁ H200, WENTYLOWANE OSŁONY PRZÓD,TYŁ, W650",226.1,"1-ZE-01","2019-10-02","SZT"]
["30173","ZENERGY - COKÓŁ H200, PEŁNE OSŁONY BOCZNE, D700",315.8,"1-ZE-01","2019-10-02","SZT"]
["30180","ZENERGY - COKÓŁ H200, WENTYLOWANE OSŁONY PRZÓD,TYŁ, W800",248.4,"1-ZE-01","2019-10-02","SZT"]
["30181","Zenergy - Cokół H200, komplet do ramy narożnikowej, D800",436.7,"1-ZE-01","2021-12-01","SZT"]
["30183","ZENERGY - COKÓŁ H200, PEŁNE OSŁONY BOCZNE, D800",344.6,"1-ZE-01","2019-10-02","SZT"]
["30185","ZENERGY - COKÓŁ H200, WENTYLOWANE OSŁONY PRZÓD,TYŁ, W850",264.5,"1-ZE-01","2019-10-02","SZT"]
["30193","ZENERGY - COKÓŁ H200, PEŁNE OSŁONY BOCZNE, D900",363.9,"1-ZE-01","2019-10-02","SZT"]
["30195","ZENERGY - COKÓŁ H200, WENTYLOWANE OSŁONY PRZÓD,TYŁ, W950",291.7,"1-ZE-01","2019-10-02","SZT"]
["30196","ZENERGY - COKÓŁ H200, WENTYLOWANE OSŁONY PRZÓD,TYŁ, W650+300",315.8,"1-ZE-01","2019-10-02","SZT"]
["30210","ZENERGY - POKRYWA GÓRNA IP30, W1000, D230, WENTYLACJA",240.5,"1-ZE-01","2019-10-02","SZT"]
["30211","ZENERGY - POKRYWA GÓRNA IP30, W650+400, D230, WENTYLACJA",245.2,"1-ZE-01","2019-10-02","SZT"]
["30212","ZENERGY - POKRYWA GÓRNA IP30, W1200, D230, WENTYLACJA",258.10000000000002,"1-ZE-01","2019-10-02","SZT"]
["30213","ZENERGY - POKRYWA GÓRNA IP30, W1300, D230, WENTYLACJA",266.2,"1-ZE-01","2019-10-02","SZT"]
["30215","ZENERGY - POKRYWA GÓRNA IP30, W650+450, D230, WENTYLACJA",248.4,"1-ZE-01","2019-10-02","SZT"]
["30218","ZENERGY - POKRYWA GÓRNA IP30, W850+300, D230, WENTYLACJA",253.2,"1-ZE-01","2019-10-02","SZT"]
["30219","ZENERGY - POKRYWA GÓRNA IP30, W850+400, D230, WENTYLACJA",261.3,"1-ZE-01","2019-10-02","SZT"]
["30220","ZENERGY - POKRYWA GÓRNA IP30, W850+450, D230, WENTYLACJA",266.2,"1-ZE-01","2019-10-02","SZT"]
["30221","ZENERGY - POKRYWA GÓRNA IP30, W150+650+400, D230, WENTYLACJA",258.10000000000002,"1-ZE-01","2019-10-02","SZT"]
["30222","ZENERGY - POKRYWA GÓRNA IP30, W150+650+300, D230, WENTYLACJA",248.4,"1-ZE-01","2019-10-02","SZT"]
["30227","ZENERGY - POKRYWA GÓRNA IP30, W150+850+300, D230, WENTYLACJA",266.2,"1-ZE-01","2019-10-02","SZT"]
["30228","ZENERGY - POKRYWA GÓRNA IP30, W150+850+400, D230, WENTYLACJA",274.2,"1-ZE-01","2019-10-02","SZT"]
["30230","ZENERGY - POKRYWA GÓRNA IP30, W300, D230, WENTYLACJA",184.4,"1-ZE-01","2019-10-02","SZT"]
["30232","ZENERGY - POKRYWA GÓRNA IP30, W200+650+300, D230, WENTYLACJA",253.2,"1-ZE-01","2019-10-02","SZT"]
["30233","ZENERGY - POKRYWA GÓRNA IP30, W200+650+400, D230, WENTYLACJA",261.3,"1-ZE-01","2019-10-02","SZT"]
["30240","ZENERGY - POKRYWA GÓRNA IP30, W400, D230, WENTYLACJA",192.3,"1-ZE-01","2019-10-02","SZT"]
["30245","ZENERGY - POKRYWA GÓRNA IP30, W450, D230, WENTYLACJA",197.2,"1-ZE-01","2019-10-02","SZT"]
["30260","ZENERGY - POKRYWA GÓRNA IP30, W600, D230, WENTYLACJA",208.5,"1-ZE-01","2019-10-02","SZT"]
["30265","ZENERGY - POKRYWA GÓRNA IP30, W650, D230, WENTYLACJA",213.2,"1-ZE-01","2019-10-02","SZT"]
["30266","ZENERGY - POKRYWA GÓRNA IP30, W450+200, D230, WENTYLACJA",213.2,"1-ZE-01","2019-10-02","SZT"]
["30271","ZENERGY - POKRYWA GÓRNA IP30, W300+400, D230, WENTYLACJA",216.5,"1-ZE-01","2019-10-02","SZT"]
["30276","ZENERGY - POKRYWA GÓRNA IP30, W300+450, D230, WENTYLACJA",221.2,"1-ZE-01","2019-10-02","SZT"]
["30280","ZENERGY - POKRYWA GÓRNA IP30, W800, D230, WENTYLACJA",224.4,"1-ZE-01","2019-10-02","SZT"]
["30281","ZENERGY - POKRYWA GÓRNA IP30, W650+150, D230, WENTYLACJA",224.4,"1-ZE-01","2019-10-02","SZT"]
["30285","ZENERGY - POKRYWA GÓRNA IP30, W850, D230, WENTYLACJA",229.2,"1-ZE-01","2019-10-02","SZT"]
["30286","ZENERGY - POKRYWA GÓRNA IP30, W650+200, D230, WENTYLACJA",229.2,"1-ZE-01","2019-10-02","SZT"]
["30291","ZENERGY - POKRYWA GÓRNA IP30, W450+450, D230, WENTYLACJA",232.5,"1-ZE-01","2019-10-02","SZT"]
["30295","ZENERGY - POKRYWA GÓRNA IP30, W650+300, D230, WENTYLACJA",237.3,"1-ZE-01","2019-10-02","SZT"]
["30310","ZENERGY - POKRYWA GÓRNA IP30, W1000, D300, WENTYLACJA",333.5,"1-ZE-01","2019-10-02","SZT"]
["30311","ZENERGY - POKRYWA GÓRNA IP30, W650+400, D300, WENTYLACJA",341.4,"1-ZE-01","2019-10-02","SZT"]
["30312","ZENERGY - POKRYWA GÓRNA IP30, W1200, D300, WENTYLACJA",367.1,"1-ZE-01","2019-10-02","SZT"]
["30313","ZENERGY - POKRYWA GÓRNA IP30, W1300, D300, WENTYLACJA",383.2,"1-ZE-01","2019-10-02","SZT"]
["30315","ZENERGY - POKRYWA GÓRNA IP30, W650+450, D300, WENTYLACJA",349.5,"1-ZE-01","2019-10-02","SZT"]
["30318","ZENERGY - POKRYWA GÓRNA IP30, W850+300, D300, WENTYLACJA",357.5,"1-ZE-01","2019-10-02","SZT"]
["30319","ZENERGY - POKRYWA GÓRNA IP30, W850+400, D300, WENTYLACJA",375.1,"1-ZE-01","2019-10-02","SZT"]
["30320","ZENERGY - POKRYWA GÓRNA IP30, W850+450, D300, WENTYLACJA",383.2,"1-ZE-01","2019-10-02","SZT"]
["30321","ZENERGY - POKRYWA GÓRNA IP30, W150+650+400, D300, WENTYLACJA",367.1,"1-ZE-01","2019-10-02","SZT"]
["30322","ZENERGY - POKRYWA GÓRNA IP30, W150+650+300, D300, WENTYLACJA",349.5,"1-ZE-01","2019-10-02","SZT"]
["30327","ZENERGY - POKRYWA GÓRNA IP30, W150+850+300, D300, WENTYLACJA",383.2,"1-ZE-01","2019-10-02","SZT"]
["30328","ZENERGY - POKRYWA GÓRNA IP30, W150+850+400, D300, WENTYLACJA",399.2,"1-ZE-01","2019-10-02","SZT"]
["30330","ZENERGY - POKRYWA GÓRNA IP30, W300, D300, WENTYLACJA",218.1,"1-ZE-01","2019-10-02","SZT"]
["30332","ZENERGY - POKRYWA GÓRNA IP30, W200+650+300, D300, WENTYLACJA",357.5,"1-ZE-01","2019-10-02","SZT"]
["30333","ZENERGY - POKRYWA GÓRNA IP30, W200+650+400, D300, WENTYLACJA",375.1,"1-ZE-01","2019-10-02","SZT"]
["30340","ZENERGY - POKRYWA GÓRNA IP30, W400, D300, WENTYLACJA",233.9,"1-ZE-01","2019-10-02","SZT"]
["30345","ZENERGY - POKRYWA GÓRNA IP30, W450, D300, WENTYLACJA",242.1,"1-ZE-01","2019-10-02","SZT"]
["30360","ZENERGY - POKRYWA GÓRNA IP30, W600, D300, WENTYLACJA",267.60000000000002,"1-ZE-01","2019-10-02","SZT"]
["30365","ZENERGY - POKRYWA GÓRNA IP30, W650, D300, WENTYLACJA",275.7,"1-ZE-01","2019-10-02","SZT"]
["30366","ZENERGY - POKRYWA GÓRNA IP30, W450+200, D300, WENTYLACJA",275.7,"1-ZE-01","2019-10-02","SZT"]
["30371","ZENERGY - POKRYWA GÓRNA IP30, W300+400, D300, WENTYLACJA",283.8,"1-ZE-01","2019-10-02","SZT"]
["30376","ZENERGY - POKRYWA GÓRNA IP30, W300+450, D300, WENTYLACJA",291.7,"1-ZE-01","2019-10-02","SZT"]
["30380","ZENERGY - POKRYWA GÓRNA IP30, W800, D300, WENTYLACJA",299.89999999999998,"1-ZE-01","2019-10-02","SZT"]
["30381","ZENERGY - POKRYWA GÓRNA IP30, W650+150, D300, WENTYLACJA",299.89999999999998,"1-ZE-01","2019-10-02","SZT"]
["30385","ZENERGY - POKRYWA GÓRNA IP30, W850, D300, WENTYLACJA",309.5,"1-ZE-01","2019-10-02","SZT"]
["30386","ZENERGY - POKRYWA GÓRNA IP30, W650+200, D300, WENTYLACJA",309.5,"1-ZE-01","2019-10-02","SZT"]
["30391","ZENERGY - POKRYWA GÓRNA IP30, W450+450, D300, WENTYLACJA",317.3,"1-ZE-01","2019-10-02","SZT"]
["30395","ZENERGY - POKRYWA GÓRNA IP30, W650+300, D300, WENTYLACJA",325.39999999999998,"1-ZE-01","2019-10-02","SZT"]
["30410","ZENERGY - POKRYWA GÓRNA IP30, W1000, D400, WENTYLACJA",338.4,"1-ZE-01","2019-10-02","SZT"]
["30411","ZENERGY - POKRYWA GÓRNA IP30, W650+400, D400, WENTYLACJA",346.3,"1-ZE-01","2019-10-02","SZT"]
["30412","ZENERGY - POKRYWA GÓRNA IP30, W1200, D400, WENTYLACJA",370.3,"1-ZE-01","2019-10-02","SZT"]
["30413","ZENERGY - POKRYWA GÓRNA IP30, W1300, D400, WENTYLACJA",386.4,"1-ZE-01","2019-10-02","SZT"]
["30415","ZENERGY - POKRYWA GÓRNA IP30, W650+450, D400, WENTYLACJA",354.3,"1-ZE-01","2019-10-02","SZT"]
["30418","ZENERGY - POKRYWA GÓRNA IP30, W850+300, D400, WENTYLACJA",362.4,"1-ZE-01","2019-10-02","SZT"]
["30419","ZENERGY - POKRYWA GÓRNA IP30, W850+400, D400, WENTYLACJA",378.3,"1-ZE-01","2019-10-02","SZT"]
["30420","ZENERGY - POKRYWA GÓRNA IP30, W850+450, D400, WENTYLACJA",386.4,"1-ZE-01","2019-10-02","SZT"]
["30421","ZENERGY - POKRYWA GÓRNA IP30, W150+650+400, D400, WENTYLACJA",370.3,"1-ZE-01","2019-10-02","SZT"]
["30422","ZENERGY - POKRYWA GÓRNA IP30, W150+650+300, D400, WENTYLACJA",354.3,"1-ZE-01","2019-10-02","SZT"]
["30427","ZENERGY - POKRYWA GÓRNA IP30, W150+850+300, D400, WENTYLACJA",386.4,"1-ZE-01","2019-10-02","SZT"]
["30428","ZENERGY - POKRYWA GÓRNA IP30, W150+850+400, D400, WENTYLACJA",402.3,"1-ZE-01","2019-10-02","SZT"]
["30430","ZENERGY - POKRYWA GÓRNA IP30, W300, D400, WENTYLACJA",224.4,"1-ZE-01","2019-10-02","SZT"]
["30432","ZENERGY - POKRYWA GÓRNA IP30, W200+650+300, D400, WENTYLACJA",362.4,"1-ZE-01","2019-10-02","SZT"]
["30433","ZENERGY - POKRYWA GÓRNA IP30, W200+650+400, D400, WENTYLACJA",378.3,"1-ZE-01","2019-10-02","SZT"]
["30440","ZENERGY - POKRYWA GÓRNA IP30, W400, D400, WENTYLACJA",240.5,"1-ZE-01","2019-10-02","SZT"]
["30445","ZENERGY - POKRYWA GÓRNA IP30, W450, D400, WENTYLACJA",248.4,"1-ZE-01","2019-10-02","SZT"]
["30460","ZENERGY - POKRYWA GÓRNA IP30, W600, D400, WENTYLACJA",272.39999999999998,"1-ZE-01","2019-10-02","SZT"]
["30465","ZENERGY - POKRYWA GÓRNA IP30, W650, D400, WENTYLACJA",280.60000000000002,"1-ZE-01","2019-10-02","SZT"]
["30466","ZENERGY - POKRYWA GÓRNA IP30, W450+200, D400, WENTYLACJA",280.60000000000002,"1-ZE-01","2019-10-02","SZT"]
["30471","ZENERGY - POKRYWA GÓRNA IP30, W300+400, D400, WENTYLACJA",288.7,"1-ZE-01","2019-10-02","SZT"]
["30476","ZENERGY - POKRYWA GÓRNA IP30, W300+450, D400, WENTYLACJA",298.10000000000002,"1-ZE-01","2019-10-02","SZT"]
["30480","ZENERGY - POKRYWA GÓRNA IP30, W800, D400, WENTYLACJA",306.10000000000002,"1-ZE-01","2019-10-02","SZT"]
["30481","ZENERGY - POKRYWA GÓRNA IP30, W650+150, D400, WENTYLACJA",306.10000000000002,"1-ZE-01","2019-10-02","SZT"]
["30485","ZENERGY - POKRYWA GÓRNA IP30, W850, D400, WENTYLACJA",314.3,"1-ZE-01","2019-10-02","SZT"]
["30486","ZENERGY - POKRYWA GÓRNA IP30, W650+200, D400, WENTYLACJA",314.3,"1-ZE-01","2019-10-02","SZT"]
["30491","ZENERGY - POKRYWA GÓRNA IP30, W450+450, D400, WENTYLACJA",322.2,"1-ZE-01","2019-10-02","SZT"]
["30495","ZENERGY - POKRYWA GÓRNA IP30, W650+300, D400, WENTYLACJA",330.1,"1-ZE-01","2019-10-02","SZT"]
["30608","ZENERGY - POKRYWA GÓRNA IP30, W1000, D600, z przepustem pod kable Lewy",530.5,"1-ZE-01","2021-12-01","SZT"]
["30609","ZENERGY - POKRYWA GÓRNA IP30, W1000, D600, z przepustem pod kable Prawy",530.5,"1-ZE-01","2021-12-01","SZT"]
["30610","ZENERGY - POKRYWA GÓRNA IP30, W1000, D600, WENTYLACJA",371.8,"1-ZE-01","2019-10-02","SZT"]
["30611","ZENERGY - POKRYWA GÓRNA IP30, W650+400, D600, WENTYLACJA",381.5,"1-ZE-01","2019-10-02","SZT"]
["30612","ZENERGY - POKRYWA GÓRNA IP30, W1200, D600, WENTYLACJA",408.8,"1-ZE-01","2019-10-02","SZT"]
["30613","ZENERGY - POKRYWA GÓRNA IP30, W1300, D600, WENTYLACJA",428.1,"1-ZE-01","2019-10-02","SZT"]
["30615","ZENERGY - POKRYWA GÓRNA IP30, W650+450, D600, WENTYLACJA",389.5,"1-ZE-01","2019-10-02","SZT"]
["30618","ZENERGY - POKRYWA GÓRNA IP30, W850+300, D600, WENTYLACJA",399.2,"1-ZE-01","2019-10-02","SZT"]
["30619","ZENERGY - POKRYWA GÓRNA IP30, W850+400, D600, WENTYLACJA",418.5,"1-ZE-01","2019-10-02","SZT"]
["30620","ZENERGY - POKRYWA GÓRNA IP30, W850+450, D600, WENTYLACJA",428.1,"1-ZE-01","2019-10-02","SZT"]
["30621","ZENERGY - POKRYWA GÓRNA IP30, W150+650+400, D600, WENTYLACJA",408.8,"1-ZE-01","2019-10-02","SZT"]
["30622","ZENERGY - POKRYWA GÓRNA IP30, W150+650+300, D600, WENTYLACJA",389.5,"1-ZE-01","2019-10-02","SZT"]
["30627","ZENERGY - POKRYWA GÓRNA IP30, W150+850+300, D600, WENTYLACJA",428.1,"1-ZE-01","2019-10-02","SZT"]
["30628","ZENERGY - POKRYWA GÓRNA IP30, W150+850+400, D600, WENTYLACJA",445.6,"1-ZE-01","2019-10-02","SZT"]
["30630","ZENERGY - POKRYWA GÓRNA IP30, W300, D600, WENTYLACJA",240.5,"1-ZE-01","2019-10-02","SZT"]
["30632","ZENERGY - POKRYWA GÓRNA IP30, W200+650+300, D600, WENTYLACJA",399.2,"1-ZE-01","2019-10-02","SZT"]
["30633","ZENERGY - POKRYWA GÓRNA IP30, W200+650+400, D600, WENTYLACJA",418.5,"1-ZE-01","2019-10-02","SZT"]
["30640","ZENERGY - POKRYWA GÓRNA IP30, W400, D600, WENTYLACJA",259.8,"1-ZE-01","2019-10-02","SZT"]
["30645","ZENERGY - POKRYWA GÓRNA IP30, W450, D600, WENTYLACJA",269.39999999999998,"1-ZE-01","2019-10-02","SZT"]
["30660","ZENERGY - POKRYWA GÓRNA IP30, W600, D600, WENTYLACJA",296.5,"1-ZE-01","2019-10-02","SZT"]
["30664","ZENERGY - POKRYWA GÓRNA IP30, W650, D600, z przepustem kablowym",463.5,"1-ZE-01","2021-12-01","SZT"]
["30665","ZENERGY - POKRYWA GÓRNA IP30, W650, D600, WENTYLACJA",306.10000000000002,"1-ZE-01","2019-10-02","SZT"]
["30666","ZENERGY - POKRYWA GÓRNA IP30, W450+200, D600, WENTYLACJA",306.10000000000002,"1-ZE-01","2019-10-02","SZT"]
["30671","ZENERGY - POKRYWA GÓRNA IP30, W300+400, D600, WENTYLACJA",315.8,"1-ZE-01","2019-10-02","SZT"]
["30676","ZENERGY - POKRYWA GÓRNA IP30, W300+450, D600, WENTYLACJA",325.39999999999998,"1-ZE-01","2019-10-02","SZT"]
["30680","ZENERGY - POKRYWA GÓRNA IP30, W800, D600, WENTYLACJA",333.5,"1-ZE-01","2019-10-02","SZT"]
["30681","ZENERGY - POKRYWA GÓRNA IP30, W650+150, D600, WENTYLACJA",333.5,"1-ZE-01","2019-10-02","SZT"]
["30684","ZENERGY - POKRYWA GÓRNA IP30, W850, D600, z przepustem pod kable",525.29999999999995,"1-ZE-01","2021-12-01","SZT"]
["30685","ZENERGY - POKRYWA GÓRNA IP30, W850, D600, WENTYLACJA",343.2,"1-ZE-01","2019-10-02","SZT"]
["30686","ZENERGY - POKRYWA GÓRNA IP30, W650+200, D600, WENTYLACJA",343.2,"1-ZE-01","2019-10-02","SZT"]
["30691","ZENERGY - POKRYWA GÓRNA IP30, W450+450, D600, WENTYLACJA",352.8,"1-ZE-01","2019-10-02","SZT"]
["30695","ZENERGY - POKRYWA GÓRNA IP30, W650+300, D600, WENTYLACJA",362.4,"1-ZE-01","2019-10-02","SZT"]
["30720","ZENERGY - DASZEK OBUDOWY IP31, W1000, D230",596.4,"1-ZE-01","2019-10-02","SZT"]
["30721","ZENERGY - DASZEK OBUDOWY IP31, W1200, D230",615.6,"1-ZE-01","2019-10-02","SZT"]
["30722","ZENERGY - DASZEK OBUDOWY IP31, W1300, D230",633.1,"1-ZE-01","2019-10-02","SZT"]
["30723","ZENERGY - DASZEK OBUDOWY IP31, W300, D230",312.60000000000002,"1-ZE-01","2019-10-02","SZT"]
["30724","ZENERGY - DASZEK OBUDOWY IP31, W400, D230",327,"1-ZE-01","2019-10-02","SZT"]
["30725","ZENERGY - DASZEK OBUDOWY IP31, W450, D230",359.1,"1-ZE-01","2019-10-02","SZT"]
["30726","ZENERGY - DASZEK OBUDOWY IP31, W600, D230",373.6,"1-ZE-01","2019-10-02","SZT"]
["30727","ZENERGY - DASZEK OBUDOWY IP31, W650, D230",383.2,"1-ZE-01","2019-10-02","SZT"]
["30728","ZENERGY - DASZEK OBUDOWY IP31, W800, D230",442.5,"1-ZE-01","2019-10-02","SZT"]
["30729","ZENERGY - DASZEK OBUDOWY IP31, W850, D230",517.79999999999995,"1-ZE-01","2019-10-02","SZT"]
["30730","ZENERGY - DASZEK OBUDOWY IP31, W1000, D300",620.4,"1-ZE-01","2019-10-02","SZT"]
["30731","ZENERGY - DASZEK OBUDOWY IP31, W1200, D300",639.6,"1-ZE-01","2019-10-02","SZT"]
["30732","ZENERGY - DASZEK OBUDOWY IP31, W1300, D300",654.1,"1-ZE-01","2019-10-02","SZT"]
["30733","ZENERGY - DASZEK OBUDOWY IP31, W300, D300",319.2,"1-ZE-01","2019-10-02","SZT"]
["30734","ZENERGY - DASZEK OBUDOWY IP31, W400, D300",338.4,"1-ZE-01","2019-10-02","SZT"]
["30735","ZENERGY - DASZEK OBUDOWY IP31, W450, D300",371.8,"1-ZE-01","2019-10-02","SZT"]
["30736","ZENERGY - DASZEK OBUDOWY IP31, W600, D300",386.4,"1-ZE-01","2019-10-02","SZT"]
["30737","ZENERGY - DASZEK OBUDOWY IP31, W650, D300",396,"1-ZE-01","2019-10-02","SZT"]
["30738","ZENERGY - DASZEK OBUDOWY IP31, W800, D300",455.2,"1-ZE-01","2019-10-02","SZT"]
["30739","ZENERGY - DASZEK OBUDOWY IP31, W850, D300",537,"1-ZE-01","2019-10-02","SZT"]
["30740","ZENERGY - DASZEK OBUDOWY IP31, W1000, D400",641.29999999999995,"1-ZE-01","2019-10-02","SZT"]
["30741","ZENERGY - DASZEK OBUDOWY IP31, W1200, D400",660.5,"1-ZE-01","2019-10-02","SZT"]
["30742","ZENERGY - DASZEK OBUDOWY IP31, W1300, D400",678.2,"1-ZE-01","2019-10-02","SZT"]
["30743","ZENERGY - DASZEK OBUDOWY IP31, W300, D400",325.39999999999998,"1-ZE-01","2019-10-02","SZT"]
["30744","ZENERGY - DASZEK OBUDOWY IP31, W400, D400",346.3,"1-ZE-01","2019-10-02","SZT"]
["30745","ZENERGY - DASZEK OBUDOWY IP31, W450, D400",383.2,"1-ZE-01","2019-10-02","SZT"]
["30746","ZENERGY - DASZEK OBUDOWY IP31, W600, D400",399.2,"1-ZE-01","2019-10-02","SZT"]
["30747","ZENERGY - DASZEK OBUDOWY IP31, W650, D400",408.8,"1-ZE-01","2019-10-02","SZT"]
["30748","ZENERGY - DASZEK OBUDOWY IP31, W800, D400",473,"1-ZE-01","2019-10-02","SZT"]
["30749","ZENERGY - DASZEK OBUDOWY IP31, W850, D400",556.29999999999995,"1-ZE-01","2019-10-02","SZT"]
["30760","ZENERGY - DASZEK OBUDOWY IP31, W1000, D600",684.5,"1-ZE-01","2019-10-02","SZT"]
["30761","ZENERGY - DASZEK OBUDOWY IP31, W1200, D600",703.8,"1-ZE-01","2019-10-02","SZT"]
["30762","ZENERGY - DASZEK OBUDOWY IP31, W1300, D600",718.3,"1-ZE-01","2019-10-02","SZT"]
["30763","ZENERGY - DASZEK OBUDOWY IP31, W300, D600",351,"1-ZE-01","2019-10-02","SZT"]
["30764","ZENERGY - DASZEK OBUDOWY IP31, W400, D600",363.9,"1-ZE-01","2019-10-02","SZT"]
["30765","ZENERGY - DASZEK OBUDOWY IP31, W450, D600",408.8,"1-ZE-01","2019-10-02","SZT"]
["30766","ZENERGY - DASZEK OBUDOWY IP31, W600, D600",429.7,"1-ZE-01","2019-10-02","SZT"]
["30767","ZENERGY - DASZEK OBUDOWY IP31, W650, D600",440.7,"1-ZE-01","2019-10-02","SZT"]
["30768","ZENERGY - DASZEK OBUDOWY IP31, W800, D600",557.79999999999995,"1-ZE-01","2019-10-02","SZT"]
["30769","ZENERGY - DASZEK OBUDOWY IP31, W850, D600",607.6,"1-ZE-01","2019-10-02","SZT"]
["30770","ZENERGY - DASZEK OBUDOWY IP31, W1450, D600",745.8,"1-ZE-01","2019-10-02","SZT"]
["30780","ZENERGY - DASZEK OBUDOWY IP31, W1000, D800",723.1,"1-ZE-01","2019-10-02","SZT"]
["30781","ZENERGY - DASZEK OBUDOWY IP31, W1200, D800",742.1,"1-ZE-01","2019-10-02","SZT"]
["30782","ZENERGY - DASZEK OBUDOWY IP31, W1300, D800",756.5,"1-ZE-01","2019-10-02","SZT"]
["30783","ZENERGY - DASZEK OBUDOWY IP31, W300, D800",370.3,"1-ZE-01","2019-10-02","SZT"]
["30784","ZENERGY - DASZEK OBUDOWY IP31, W400, D800",397.6,"1-ZE-01","2019-10-02","SZT"]
["30785","ZENERGY - DASZEK OBUDOWY IP31, W450, D800",457,"1-ZE-01","2019-10-02","SZT"]
["30786","ZENERGY - DASZEK OBUDOWY IP31, W600, D800",487.5,"1-ZE-01","2019-10-02","SZT"]
["30787","ZENERGY - DASZEK OBUDOWY IP31, W650, D800",500.2,"1-ZE-01","2019-10-02","SZT"]
["30788","ZENERGY - DASZEK OBUDOWY IP31, W800, D800",641.29999999999995,"1-ZE-01","2019-10-02","SZT"]
["30789","ZENERGY - DASZEK OBUDOWY IP31, W850, D800",659,"1-ZE-01","2019-10-02","SZT"]
["30810","ZENERGY - POKRYWA GÓRNA IP30, W1000, D800, WENTYLACJA",426.4,"1-ZE-01","2019-10-02","SZT"]
["30811","ZENERGY - POKRYWA GÓRNA IP30, W650+400, D800, WENTYLACJA",439.3,"1-ZE-01","2019-10-02","SZT"]
["30812","ZENERGY - POKRYWA GÓRNA IP30, W1200, D800, WENTYLACJA",474.4,"1-ZE-01","2019-10-02","SZT"]
["30813","ZENERGY - POKRYWA GÓRNA IP30, W1300, D800, WENTYLACJA",497,"1-ZE-01","2019-10-02","SZT"]
["30815","ZENERGY - POKRYWA GÓRNA IP30, W650+450, D800, WENTYLACJA",450.4,"1-ZE-01","2019-10-02","SZT"]
["30818","ZENERGY - POKRYWA GÓRNA IP30, W850+300, D800, WENTYLACJA",461.7,"1-ZE-01","2019-10-02","SZT"]
["30819","ZENERGY - POKRYWA GÓRNA IP30, W850+400, D800, WENTYLACJA",485.6,"1-ZE-01","2019-10-02","SZT"]
["30820","ZENERGY - POKRYWA GÓRNA IP30, W850+450, D800, WENTYLACJA",497,"1-ZE-01","2019-10-02","SZT"]
["30821","ZENERGY - POKRYWA GÓRNA IP30, W150+650+400, D800, WENTYLACJA",474.4,"1-ZE-01","2019-10-02","SZT"]
["30822","ZENERGY - POKRYWA GÓRNA IP30, W150+650+300, D800, WENTYLACJA",450.4,"1-ZE-01","2019-10-02","SZT"]
["30827","ZENERGY - POKRYWA GÓRNA IP30, W150+850+300, D800, WENTYLACJA",497,"1-ZE-01","2019-10-02","SZT"]
["30828","ZENERGY - POKRYWA GÓRNA IP30, W150+850+400, D800, WENTYLACJA",521.1,"1-ZE-01","2019-10-02","SZT"]
["30830","ZENERGY - POKRYWA GÓRNA IP30, W300, D800, WENTYLACJA",262.89999999999998,"1-ZE-01","2019-10-02","SZT"]
["30832","ZENERGY - POKRYWA GÓRNA IP30, W200+650+300, D800, WENTYLACJA",461.7,"1-ZE-01","2019-10-02","SZT"]
["30833","ZENERGY - POKRYWA GÓRNA IP30, W200+650+400, D800, WENTYLACJA",485.6,"1-ZE-01","2019-10-02","SZT"]
["30840","ZENERGY - POKRYWA GÓRNA IP30, W400, D800, WENTYLACJA",286.89999999999998,"1-ZE-01","2019-10-02","SZT"]
["30845","ZENERGY - POKRYWA GÓRNA IP30, W450, D800, WENTYLACJA",298.10000000000002,"1-ZE-01","2019-10-02","SZT"]
["30860","ZENERGY - POKRYWA GÓRNA IP30, W600, D800, WENTYLACJA",333.5,"1-ZE-01","2019-10-02","SZT"]
["30865","ZENERGY - POKRYWA GÓRNA IP30, W650, D800, WENTYLACJA",344.6,"1-ZE-01","2019-10-02","SZT"]
["30866","ZENERGY - POKRYWA GÓRNA IP30, W450+200, D800, WENTYLACJA",344.6,"1-ZE-01","2019-10-02","SZT"]
["30871","ZENERGY - POKRYWA GÓRNA IP30, W300+400, D800, WENTYLACJA",357.5,"1-ZE-01","2019-10-02","SZT"]
["30876","ZENERGY - POKRYWA GÓRNA IP30, W300+450, D800, WENTYLACJA",368.7,"1-ZE-01","2019-10-02","SZT"]
["30880","ZENERGY - POKRYWA GÓRNA IP30, W800, D800, WENTYLACJA",379.9,"1-ZE-01","2019-10-02","SZT"]
["30881","ZENERGY - POKRYWA GÓRNA IP30, W650+150, D800, WENTYLACJA",379.9,"1-ZE-01","2019-10-02","SZT"]
["30885","ZENERGY - POKRYWA GÓRNA IP30, W850, D800, WENTYLACJA",392.7,"1-ZE-01","2019-10-02","SZT"]
["30886","ZENERGY - POKRYWA GÓRNA IP30, W650+200, D800, WENTYLACJA",392.7,"1-ZE-01","2019-10-02","SZT"]
["30891","ZENERGY - POKRYWA GÓRNA IP30, W450+450, D800, WENTYLACJA",404.1,"1-ZE-01","2019-10-02","SZT"]
["30895","ZENERGY - POKRYWA GÓRNA IP30, W650+300, D800, WENTYLACJA",415.3,"1-ZE-01","2019-10-02","SZT"]
["30900","ZENERGY - BLOKADA, OGRANICZENIE SZEROKOŚCI OTWIERANIA DRZWI",102.5,"1-ZE-01","2019-10-02","SZT"]
["30902","ZENERGY - WSPORNIK TS-2, 30/50MM DO SZYNY TS-35, 45 STOPNI",9.6,"1-ZE-01","2019-10-02","SZT"]
["30910","ZENERGY - SZYNA PROSTA, PRZÓD, TS-35D, (H=50MM), W1000",37.6,"1-ZE-01","2019-10-02","SZT"]
["30911","ZENERGY - SZYNA PROSTA, TYŁ, TS-35D, (H=50MM), W1000",37.6,"1-ZE-01","2019-10-02","SZT"]
["30912","ZENERGY - SZYNA PROSTA, PRZÓD, TS-35D, (H=100MM), W1000",40.1,"1-ZE-01","2019-10-02","SZT"]
["30913","ZENERGY - SZYNA PROSTA, TYŁ, TS-35D, (H=100MM), W1000",40.1,"1-ZE-01","2019-10-02","SZT"]
["30914","ZENERGY - SZYNA SKOŚNA TS-35D, NISKA (H=20MM), W1000",39.299999999999997,"1-ZE-01","2019-10-02","SZT"]
["30915","ZENERGY - SZYNA SKOŚNA TS-35D, WYSOKA, (H=50MM), W1000",41.8,"1-ZE-01","2019-10-02","SZT"]
["30916","ZENERGY - ZESTAW 4 SZYNY TS-35D, 6M, W1000,(H=15MM), + PE 30 ZACISKÓW",161.6,"1-ZE-01","2019-10-02","SZT"]
["30917","ZENERGY - ZESTAW 5 SZYN TS-35D, 6M, W1000,(H=15MM), + PE 40 ZACISKÓW",186.5,"1-ZE-01","2019-10-02","SZT"]
["30918","ZENERGY - ZESTAW 6 SZYN TS-35D, 6M, W1000,(H=15MM), + PE 40 ZACISKÓW",203.1,"1-ZE-01","2019-10-02","SZT"]
["30920","ZENERGY - SZYNA ALUMINIOWA TS-35D (H=15MM)",22,"1-ZE-01","2019-10-02","M"]
["30921","ZENERGY - SZYNA ALUMINIOWA TS-35D (H=15MM) DŁUGOŚĆ    1M",22,"1-ZE-01","2019-10-02","P"]
["30922","ZENERGY - SZYNA ALUMINIOWA TS-35D (H=15MM) DŁUGOŚĆ 1,5M",33,"1-ZE-01","2019-10-02","P"]
["30923","ZENERGY - SZYNA ALUMINIOWA TS-35D (H=15MM) DŁUGOŚĆ    3M",66,"1-ZE-01","2019-10-02","P"]
["30924","ZENERGY - SZYNA ALUMINIOWA TS-35D (H=15MM) DŁUGOŚĆ 1,2M",26.3,"1-ZE-01","2019-10-02","P"]
["30925","ZENERGY - SZYNA ALUMINIOWA TS-35D (H=15MM) DŁUGOŚĆ 1,4M",30.8,"1-ZE-01","2019-10-02","P"]
["30926","ZENERGY - SZYNA ALUMINIOWA TS-35D (H=15MM) DŁUGOŚĆ 1,6M",35.299999999999997,"1-ZE-01","2019-10-02","P"]
["30927","ZENERGY - SZYNA ALUMINIOWA TS-35D (H=15MM) DŁUGOŚĆ 1,8M",39.6,"1-ZE-01","2019-10-02","P"]
["30928","ZENERGY - SZYNA ALUMINIOWA TS-35D (H=15MM) DŁUGOŚĆ    2M",44,"1-ZE-01","2019-10-02","P"]
["30929","ZENERGY - SZYNA ALUMINIOWA TS-35D (H=15MM) DŁUGOŚĆ 2,5M",55,"1-ZE-01","2019-10-02","P"]
["30930","ZENERGY - SZYNA ALUMINIOWA TS-35D (H=15MM) DŁUGOŚĆ    4M",87.9,"1-ZE-01","2019-10-02","P"]
["30940","ZENERGY - SZYNA PROSTA, PRZÓD, TS-35D, (H=50MM), W400",25.8,"1-ZE-01","2019-10-02","SZT"]
["30941","ZENERGY - SZYNA PROSTA, TYŁ, TS-35D, (H=50MM), W400",25.8,"1-ZE-01","2019-10-02","SZT"]
["30942","ZENERGY - SZYNA PROSTA, PRZÓD, TS-35D, (H=100MM), W400",28.3,"1-ZE-01","2019-10-02","SZT"]
["30943","ZENERGY - SZYNA PROSTA, TYŁ, TS-35D, (H=100MM), W400",28.3,"1-ZE-01","2019-10-02","SZT"]
["30944","ZENERGY - SZYNA SKOŚNA TS-35D, NISKA (H=20MM), W400",27,"1-ZE-01","2019-10-02","SZT"]
["30945","ZENERGY - SZYNA SKOŚNA TS-35D, WYSOKA, (H=50MM), W400",28.3,"1-ZE-01","2019-10-02","SZT"]
["30946","ZENERGY - ZESTAW 2 SZYNY TS-35D, 6M, W400, (H=15MM), + PE 20 ZACISKÓW",100,"1-ZE-01","2019-10-02","SZT"]
["30950","ZENERGY - SZYNA PROSTA, PRZÓD, TS-35D, (H=50MM), W450",27.6,"1-ZE-01","2019-10-02","SZT"]
["30951","ZENERGY - SZYNA PROSTA, TYŁ, TS-35D, (H=50MM), W450",27.6,"1-ZE-01","2019-10-02","SZT"]
["30952","ZENERGY - SZYNA PROSTA, PRZÓD, TS-35D, (H=100MM), W450",30,"1-ZE-01","2019-10-02","SZT"]
["30953","ZENERGY - SZYNA PROSTA, TYŁ, TS-35D, (H=100MM), W450",30,"1-ZE-01","2019-10-02","SZT"]
["30954","ZENERGY - SZYNA SKOŚNA TS-35D, NISKA (H=20MM), W450",27.6,"1-ZE-01","2019-10-02","SZT"]
["30955","ZENERGY - SZYNA SKOŚNA TS-35D, WYSOKA, (H=50MM), W450",30,"1-ZE-01","2019-10-02","SZT"]
["30956","ZENERGY - ZESTAW 2 SZYNY TS-35D, 6M, W450, (H=15MM), + PE 20 ZACISKÓW",100,"1-ZE-01","2019-10-02","SZT"]
["30960","ZENERGY - SZYNA PROSTA, PRZÓD, TS-35D, (H=50MM), W600",29.1,"1-ZE-01","2019-10-02","SZT"]
["30961","ZENERGY - SZYNA PROSTA, TYŁ, TS-35D, (H=50MM), W600",29.1,"1-ZE-01","2019-10-02","SZT"]
["30962","ZENERGY - SZYNA PROSTA, PRZÓD, TS-35D, (H=100MM), W600",31.6,"1-ZE-01","2019-10-02","SZT"]
["30963","ZENERGY - SZYNA PROSTA, TYŁ, TS-35D, (H=100MM), W600",31.6,"1-ZE-01","2019-10-02","SZT"]
["30964","ZENERGY - SZYNA SKOŚNA TS-35D, NISKA (H=20MM), W600",29.1,"1-ZE-01","2019-10-02","SZT"]
["30965","ZENERGY - SZYNA SKOŚNA TS-35D, WYSOKA, (H=50MM), W600",31.6,"1-ZE-01","2019-10-02","SZT"]
["30966","ZENERGY - ZESTAW 4 SZYNY TS-35D, 6M, W600, (H=15MM), + PE (25 ZACISKÓW 16MM2 +  1 X M6)",161.6,"1-ZE-01","2019-10-02","SZT"]
["30970","ZENERGY - SZYNA PROSTA, PRZÓD, TS-35D, (H=50MM), W650",30.9,"1-ZE-01","2019-10-02","SZT"]
["30971","ZENERGY - SZYNA PROSTA, TYŁ, TS-35D, (H=50MM), W650",32.299999999999997,"1-ZE-01","2019-10-02","SZT"]
["30972","ZENERGY - SZYNA PROSTA, PRZÓD, TS-35D, (H=100MM), W650",33.200000000000003,"1-ZE-01","2019-10-02","SZT"]
["30973","ZENERGY - SZYNA PROSTA, TYŁ, TS-35D, (H=100MM), W650",34.799999999999997,"1-ZE-01","2019-10-02","SZT"]
["30974","ZENERGY - SZYNA SKOŚNA TS-35D, NISKA (H=20MM), W650",32.299999999999997,"1-ZE-01","2019-10-02","SZT"]
["30975","ZENERGY - SZYNA SKOŚNA TS-35D, WYSOKA, (H=50MM), W650",34.799999999999997,"1-ZE-01","2019-10-02","SZT"]
["30976","ZENERGY - ZESTAW 4 SZYNY TS-35D, 6M, W650,(H=15MM), + PE 30 ZACISKÓW",161.6,"1-ZE-01","2019-10-02","SZT"]
["30980","ZENERGY - SZYNA PROSTA, PRZÓD, TS-35D, (H=50MM), W800",33.299999999999997,"1-ZE-01","2019-10-02","SZT"]
["30981","ZENERGY - SZYNA PROSTA, TYŁ, TS-35D, (H=50MM), W800",33.299999999999997,"1-ZE-01","2019-10-02","SZT"]
["30982","ZENERGY - SZYNA PROSTA, PRZÓD, TS-35D, (H=100MM), W800",35.700000000000003,"1-ZE-01","2019-10-02","SZT"]
["30983","ZENERGY - SZYNA PROSTA, TYŁ, TS-35D, (H=100MM), W800",35.700000000000003,"1-ZE-01","2019-10-02","SZT"]
["30984","ZENERGY - SZYNA SKOŚNA TS-35D, NISKA (H=20MM), W800",33.299999999999997,"1-ZE-01","2019-10-02","SZT"]
["30985","ZENERGY - SZYNA SKOŚNA TS-35D, WYSOKA, (H=50MM), W800",35.700000000000003,"1-ZE-01","2019-10-02","SZT"]
["30986","ZENERGY - ZESTAW 5 SZYN TS-35D, 6M, W800,(H=15MM), + PE 40 ZACISKÓW",181.6,"1-ZE-01","2019-10-02","SZT"]
["30990","ZENERGY - SZYNA PROSTA, PRZÓD, TS-35D, (H=50MM), W850",36.1,"1-ZE-01","2019-10-02","SZT"]
["30991","ZENERGY - SZYNA PROSTA, TYŁ, TS-35D, (H=50MM), W850",36.1,"1-ZE-01","2019-10-02","SZT"]
["30992","ZENERGY - SZYNA PROSTA, PRZÓD, TS-35D, (H=100MM), W850",38.4,"1-ZE-01","2019-10-02","SZT"]
["30993","ZENERGY - SZYNA PROSTA, TYŁ, TS-35D, (H=100MM), W850",38.4,"1-ZE-01","2019-10-02","SZT"]
["30994","ZENERGY - SZYNA SKOŚNA TS-35D, NISKA (H=20MM), W850",37.700000000000003,"1-ZE-01","2019-10-02","SZT"]
["30995","ZENERGY - SZYNA SKOŚNA TS-35D, WYSOKA, (H=50MM), W850",40.299999999999997,"1-ZE-01","2019-10-02","SZT"]
["30996","ZENERGY - ZESTAW 4 SZYNY TS-35D, 6M, W850,(H=15MM), + PE 30 ZACISKÓW",161.6,"1-ZE-01","2019-10-02","SZT"]
["30997","ZENERGY - ZESTAW 5 SZYN TS-35D, 6M, W850, (H=15MM), + PE 40 ZACISKÓW",186.5,"1-ZE-01","2019-10-02","SZT"]
["31001","ZENERGY - WYGRODZENIE TYLNE ODGINANE 1M W650",26.9,"1-ZE-01","2019-10-02","SZT"]
["31002","ZENERGY - WYGRODZENIE TYLNE ODGINANE 2M W650",37.6,"1-ZE-01","2019-10-02","SZT"]
["31003","ZENERGY - WYGRODZENIE TYLNE ODGINANE 3M W650",48.3,"1-ZE-01","2019-10-02","SZT"]
["31004","ZENERGY - WYGRODZENIE TYLNE ODGINANE 4M W650",56.3,"1-ZE-01","2019-10-02","SZT"]
["31005","ZENERGY - WYGRODZENIE TYLNE ODGINANE 5M W650",67.2,"1-ZE-01","2019-10-02","SZT"]
["31010","ZENERGY - UCHWYT REGULOWANY DO WSPORNIKA 310XX",12.8,"1-ZE-01","2019-10-02","SZT"]
["31020","ZENERGY - WSPORNIK PŁYT MONTAŻOWYCH H25MM D200, ZEWNĘTRZNY",24.9,"1-ZE-01","2019-10-02","SZT"]
["31023","ZENERGY - WSPORNIK PŁYT MONTAŻOWYCH H25MM D230, ZEWNĘTRZNY",24.9,"1-ZE-01","2019-10-02","SZT"]
["31024","ZENERGY - WSPORNIK PŁYT MONTAŻOWYCH H36MM D200, ZEWNĘTRZNY",44,"1-ZE-01","2019-10-02","SZT"]
["31025","ZENERGY - WSPORNIK PŁYT MONTAŻOWYCH H25MM D200, WEWNĘTRZNY",24.9,"1-ZE-01","2019-10-02","SZT"]
["31028","ZENERGY - WSPORNIK PŁYT MONTAŻOWYCH H25MM D230, WEWNĘTRZNY",24.9,"1-ZE-01","2019-10-02","SZT"]
["31030","ZENERGY - WSPORNIK PŁYT MONTAŻOWYCH H25MM D300, ZEWNĘTRZNY",28.6,"1-ZE-01","2019-10-02","SZT"]
["31031","ZENERGY - PRZEDNIE WYGRODZENIE SZYN PIONOWYCH W RAMIE W150, H1400",23.5,"1-ZE-01","2019-10-02","SZT"]
["31032","ZENERGY - PRZEDNIE WYGRODZENIE SZYN PIONOWYCH W RAMIE W200, H1400",25.5,"1-ZE-01","2019-10-02","SZT"]
["31033","ZENERGY - PRZEDNIE WYGRODZENIE SZYN PIONOWYCH W RAMIE W300, H1400",33.299999999999997,"1-ZE-01","2019-10-02","SZT"]
["31034","ZENERGY - WSPORNIK PŁYT MONTAŻOWYCH H36MM D300, ZEWNĘTRZNY",47,"1-ZE-01","2019-10-02","SZT"]
["31035","ZENERGY - WSPORNIK PŁYT MONTAŻOWYCH H25MM D300, WEWNĘTRZNY",26.9,"1-ZE-01","2019-10-02","SZT"]
["31040","ZENERGY - WSPORNIK PŁYT MONTAŻOWYCH H25MM D400, ZEWNĘTRZNY",28.8,"1-ZE-01","2019-10-02","SZT"]
["31041","ZENERGY - PRZEDNIE WYGRODZENIE SZYN PIONOWYCH W RAMIE W150, H1600",26.9,"1-ZE-01","2019-10-02","SZT"]
["31042","ZENERGY - PRZEDNIE WYGRODZENIE SZYN PIONOWYCH W RAMIE W200, H1600",28.2,"1-ZE-01","2019-10-02","SZT"]
["31043","ZENERGY - PRZEDNIE WYGRODZENIE SZYN PIONOWYCH W RAMIE W300, H1600",35.799999999999997,"1-ZE-01","2019-10-02","SZT"]
["31044","ZENERGY - WSPORNIK PŁYT MONTAŻOWYCH H36MM D400, ZEWNĘTRZNY",55,"1-ZE-01","2019-10-02","SZT"]
["31045","ZENERGY - WSPORNIK PŁYT MONTAŻOWYCH H25MM D400, WEWNĘTRZNY",30.7,"1-ZE-01","2019-10-02","SZT"]
["31047","ZENERGY - WYGRODZENIE POŁĄCZENIA TRANSFEROWEGO H=150-250MM, FORMA4B",174.5,"1-ZE-01","2019-10-02","SZT"]
["31048","ZENERGY - WYGRODZENIE POŁĄCZENIA TRANSFEROWEGO H=150-350MM, FORMA4B",264.39999999999998,"1-ZE-01","2019-10-02","SZT"]
["31049","ZENERGY - WYGRODZENIE BOCZNE; WSPORNIK ŻALUZJI ROZSUWANY, D200, FORMA2",36.299999999999997,"1-ZE-01","2019-10-02","SZT"]
["31050","ZENERGY - WYGRODZENIE POZIOME WYŁĄCZNIKÓW, W650, FORMA3",157.1,"1-ZE-01","2019-10-02","SZT"]
["31051","ZENERGY - WYGRODZENIE WYŁĄCZNIKA NS1600, W650, Forma 3",1309.9000000000001,"1-ZE-01","2019-10-02","SZT"]
["31052","ZENERGY - WYGRODZENIE WYŁĄCZNIKA NW2500, W650, Forma 3",1456.3,"1-ZE-01","2019-10-02","SZT"]
["31053","ZENERGY - WYGRODZENIE TYLNE POŁĄCZENIA, W650, FORMA4",301.39999999999998,"1-ZE-01","2019-10-02","SZT"]
["31054","ZENERGY - WYGRODZENIE BOCZNE; LEWY WSPORNIK ŻALUZJI I PŁYT MONTAŻOWYCH 3P/4P, D400, FORMA2",26.9,"1-ZE-01","2019-10-02","SZT"]
["31055","ZENERGY - WYGRODZENIE BOCZNE; PRAWY WSPORNIK ŻALUZJI I PŁYT MONTAŻOWYCH 3P/4P, D400, FORMA2",26.9,"1-ZE-01","2019-10-02","SZT"]
["31056","ZENERGY - WYGRODZENIE BOCZNE; WSPORNIK ŻALUZJI ROZSUWANY 3P, D400, FORMA2",63.1,"1-ZE-01","2019-10-02","SZT"]
["31057","ZENERGY - WYGRODZENIE BOCZNE; WSPORNIK ŻALUZJI ROZSUWANY 4P, D400, FORMA2",63.1,"1-ZE-01","2019-10-02","SZT"]
["31058","ZENERGY - WYGRODZENIE BOCZNE; ŻALUZJA SZYN PIONOWYCH 3P, D400, FORMA2",344.9,"1-ZE-01","2019-10-02","SZT"]
["31059","ZENERGY - WYGRODZENIE BOCZNE; ŻALUZJA SZYN PIONOWYCH 4P, D400, FORMA2",370.4,"1-ZE-01","2019-10-02","SZT"]
["31060","ZENERGY - WSPORNIK PŁYT MONTAŻOWYCH H25MM D600, ZEWNĘTRZNY",34.4,"1-ZE-01","2019-10-02","SZT"]
["31061","ZENERGY - PRZEDNIE WYGRODZENIE SZYN PIONOWYCH W RAMIE W150, H1800",30.2,"1-ZE-01","2019-10-02","SZT"]
["31062","ZENERGY - PRZEDNIE WYGRODZENIE SZYN PIONOWYCH W RAMIE W200, H1800",40.1,"1-ZE-01","2019-10-02","SZT"]
["31063","ZENERGY - PRZEDNIE WYGRODZENIE SZYN PIONOWYCH W RAMIE W300, H1800",53.4,"1-ZE-01","2019-10-02","SZT"]
["31064","ZENERGY - WYGRODZENIE BOCZNE; OSŁONA KOŃCA MOSTU POZIOMEGO W PRZEDZIALE, D400, FORMA2",96.6,"1-ZE-01","2019-10-02","SZT"]
["31065","ZENERGY - WSPORNIK PŁYT MONTAŻOWYCH H25MM D600, WEWNĘTRZNY",34.4,"1-ZE-01","2019-10-02","SZT"]
["31067","ZENERGY - WYGRODZENIE POZIOME TYŁ, W650 D200, FORMA3",58.5,"1-ZE-01","2019-10-02","SZT"]
["31068","ZENERGY - WYGRODZENIE BOCZNE; ŻALUZJA SZYN PIONOWYCH, D200, FORMA2",197.7,"1-ZE-01","2019-10-02","SZT"]
["31070","ZENERGY - WSPORNIK PŁYT MONTAŻOWYCH H25MM D800, ZEWNĘTRZNY",38.200000000000003,"1-ZE-01","2019-10-02","SZT"]
["31071","ZENERGY - PRZEDNIE WYGRODZENIE SZYN PIONOWYCH W RAMIE W150, H2000",52.7,"1-ZE-01","2019-10-02","SZT"]
["31072","ZENERGY - PRZEDNIE WYGRODZENIE SZYN PIONOWYCH W RAMIE W200, H2000",60.7,"1-ZE-01","2019-10-02","SZT"]
["31073","ZENERGY - PRZEDNIE WYGRODZENIE SZYN PIONOWYCH W RAMIE W300, H2000",66.2,"1-ZE-01","2019-10-02","SZT"]
["31074","ZENERGY - PRZEDNIE WYGRODZENIE POLA NAROŻNEGO H2000",40.299999999999997,"1-ZE-01","2019-10-02","SZT"]
["31075","ZENERGY - WSPORNIK PŁYT MONTAŻOWYCH H25MM D800, WEWNĘTRZNY",38.200000000000003,"1-ZE-01","2019-10-02","SZT"]
["31076","ZENERGY - PRZEDNIE WYGRODZENIE SZYN PIONOWYCH W RAMIE W400, H2000",96,"1-ZE-01","2021-12-01","SZT"]
["31077","ZENERGY - WYGRODZENIE BOCZNE ODGINANE 3M D200",33.5,"1-ZE-01","2019-10-02","SZT"]
["31078","ZENERGY - WYGRODZENIE BOCZNE ODGINANE 4M D200",40.299999999999997,"1-ZE-01","2019-10-02","SZT"]
["31079","ZENERGY - WYGRODZENIE BOCZNE ODGINANE 5M D200",47.5,"1-ZE-01","2019-10-02","SZT"]
["31080","ZENERGY - WYGRODZENIE SZYN POZIOMYCH - BLACHY POZIOME 2SZT W1000 2 FORMA",141,"1-ZE-01","2019-10-02","SZT"]
["31081","ZENERGY - WYGRODZENIE SZYN POZIOMYCH - BLACHY POZIOME 2SZT W1200 2 FORMA",155.6,"1-ZE-01","2019-10-02","SZT"]
["31082","ZENERGY - WYGRODZENIE SZYN POZIOMYCH - BLACHY POZIOME 2SZT W1300 2 FORMA",162.4,"1-ZE-01","2019-10-02","SZT"]
["31083","ZENERGY - WYGRODZENIE SZYN POZIOMYCH - BLACHY POZIOME 1SZT W300 2 FORMA",61.7,"1-ZE-01","2019-10-02","SZT"]
["31084","ZENERGY - WYGRODZENIE SZYN POZIOMYCH - BLACHY POZIOME 1SZT W400 2 FORMA",72.5,"1-ZE-01","2019-10-02","SZT"]
["31085","ZENERGY - WYGRODZENIE SZYN POZIOMYCH - BLACHY POZIOME 1SZT W450 2 FORMA",80.5,"1-ZE-01","2019-10-02","SZT"]
["31086","ZENERGY - WYGRODZENIE SZYN POZIOMYCH - BLACHY POZIOME 2SZT W600 2 FORMA",98,"1-ZE-01","2019-10-02","SZT"]
["31087","ZENERGY - WYGRODZENIE SZYN POZIOMYCH - BLACHY POZIOME 2SZT W650 2 FORMA",104.8,"1-ZE-01","2019-10-02","SZT"]
["31088","ZENERGY - WYGRODZENIE SZYN POZIOMYCH - BLACHY POZIOME 2SZT W800 2 FORMA",124.8,"1-ZE-01","2019-10-02","SZT"]
["31089","ZENERGY - WYGRODZENIE SZYN POZIOMYCH - BLACHY POZIOME 2SZT W850 2 FORMA",128.9,"1-ZE-01","2019-10-02","SZT"]
["31091","ZENERGY - PRZEDNIE WYGRODZENIE SZYN PIONOWYCH W RAMIE W150, H2200",59.5,"1-ZE-01","2019-10-02","SZT"]
["31092","ZENERGY - PRZEDNIE WYGRODZENIE SZYN PIONOWYCH W RAMIE W200, H2200",67.8,"1-ZE-01","2019-10-02","SZT"]
["31093","ZENERGY - PRZEDNIE WYGRODZENIE SZYN PIONOWYCH W RAMIE W300, H2200",73.3,"1-ZE-01","2019-10-02","SZT"]
["31094","ZENERGY - PRZEDNIE WYGRODZENIE POLA NAROŻNEGO H2200",48.3,"1-ZE-01","2019-10-02","SZT"]
["31095","ZENERGY - WYGRODZENIE BOCZNE ODGINANE 2M D400",37.799999999999997,"1-ZE-01","2019-10-02","SZT"]
["31096","ZENERGY - WYGRODZENIE BOCZNE ODGINANE 3M D400",40.299999999999997,"1-ZE-01","2019-10-02","SZT"]
["31097","ZENERGY - WYGRODZENIE BOCZNE ODGINANE 4M D400",47.1,"1-ZE-01","2019-10-02","SZT"]
["31098","ZENERGY - WYGRODZENIE BOCZNE ODGINANE 5M D400",55.1,"1-ZE-01","2019-10-02","SZT"]
["31099","ZENERGY - WYGRODZENIE BOCZNE ODGINANE 7M D400",71.099999999999994,"1-ZE-01","2019-10-02","SZT"]
["31100","ZENERGY - COKÓŁ H400, OSŁONY BOCZNE Z PRZEPUSTEM",533.79999999999995,"1-ZE-01","2019-10-02","KPL"]
["31110","ZENERGY - COKÓŁ H400, OSŁONA PRZÓD,TYŁ, W1000",540.29999999999995,"1-ZE-01","2019-10-02","SZT"]
["31112","ZENERGY - COKÓŁ H400, OSŁONA PRZÓD,TYŁ, W1200",577.1,"1-ZE-01","2019-10-02","SZT"]
["31123","ZENERGY - COKÓŁ H400, PEŁNE OSŁONY BOCZNE, D230",343.2,"1-ZE-01","2019-10-02","SZT"]
["31126","ZENERGY - WSPORNIK PŁYT MONTAŻOWYCH H18MM D200, ZEWNĘTRZNY",25.5,"1-ZE-01","2019-10-02","SZT"]
["31127","ZENERGY - WSPORNIK PŁYT MONTAŻOWYCH H18MM D230, ZEWNĘTRZNY",26.2,"1-ZE-01","2021-12-01","SZT"]
["31133","ZENERGY - COKÓŁ H400, PEŁNE OSŁONY BOCZNE, D300",381.5,"1-ZE-01","2019-10-02","SZT"]
["31136","ZENERGY - WSPORNIK PŁYT MONTAŻOWYCH H18MM D300, ZEWNĘTRZNY",26.9,"1-ZE-01","2019-10-02","SZT"]
["31140","ZENERGY - COKÓŁ H400, OSŁONA PRZÓD,TYŁ, W400",368.7,"1-ZE-01","2019-10-02","SZT"]
["31143","ZENERGY - COKÓŁ H400, PEŁNE OSŁONY BOCZNE, D400",426.4,"1-ZE-01","2019-10-02","SZT"]
["31145","ZENERGY - COKÓŁ H400, OSŁONA PRZÓD,TYŁ, W450",378.3,"1-ZE-01","2019-10-02","SZT"]
["31146","ZENERGY - WSPORNIK PŁYT MONTAŻOWYCH H18MM D400",28.6,"1-ZE-01","2019-10-02","SZT"]
["31147","ZENERGY - WSPORNIK ŻALUZJI I PŁYT MONTAŻOWYCH H43MM D400, PODWÓJNY",43.1,"1-ZE-01","2019-10-02","SZT"]
["31149","ZENERGY - WSPORNIK PŁYT MONTAŻOWYCH H43MM D400+200, PODWÓJNY, Z PODTRZYMANIEM MOSTU PION TYŁ",83.6,"1-ZE-01","2019-10-02","SZT"]
["31150","ZENERGY - WYGRODZENIE POZIOME WYŁĄCZNIKÓW D200, W650 FORMA3",143.9,"1-ZE-01","2019-10-02","SZT"]
["31152","ZENERGY - WYGRODZENIE WYŁĄCZNIKA NW32-NW40, W650 D800, Forma 3",1545,"1-ZE-01","2021-12-01","SZT"]
["31153","ZENERGY - WSPORNIK WYGRODZENIA POZIOMEGO, FORMA3 - 1 KPL.",20.2,"1-ZE-01","2021-12-01","SZT"]
["31155","ZENERGY - WYGRODZENIE BOCZNE; DOCISK ŻALUZJI DO WSPORNIKA 31055 3P/4P, D400, FORMA2",26.9,"1-ZE-01","2019-10-02","SZT",157]
["31156","ZENERGY - WYGRODZENIE SZYN POZIOMYCH POLA NAROŻNEGO D400, 4MOD 2 FORMA - KOMPLETNE (blachy pionowe + poziome)",309,"1-ZE-01","2021-12-01","SZT"]
["31157","ZENERGY - WYGRODZENIE SZYN POZIOMYCH POLA NAROŻNEGO D400/D600, 4MOD 2 FORMA - KOMPLETNE (blachy pionowe + poziome)",417.4,"1-ZE-01","2021-12-01","SZT"]
["31158","ZENERGY - WYGRODZENIE SZYN POZIOMYCH POLA NAROŻNEGO D600, 4MOD 2 FORMA - KOMPLETNE (blachy pionowe + poziome)",446.2,"1-ZE-01","2021-12-01","SZT"]
["31159","ZENERGY - WYGRODZENIE SZYN POZIOMYCH POLA NAROŻNEGO D800, 4MOD 2 FORMA - KOMPLETNE (blachy pionowe + poziome)",527.79999999999995,"1-ZE-01","2021-12-01","SZT"]
["31160","ZENERGY - COKÓŁ H400, OSŁONA PRZÓD,TYŁ, W600",396,"1-ZE-01","2019-10-02","SZT"]
["31163","ZENERGY - COKÓŁ H400, PEŁNE OSŁONY BOCZNE, D600",517.79999999999995,"1-ZE-01","2019-10-02","SZT"]
["31165","ZENERGY - COKÓŁ H400, OSŁONA PRZÓD,TYŁ, W650",407.3,"1-ZE-01","2019-10-02","SZT"]
["31166","ZENERGY - WSPORNIK PŁYT MONTAŻOWYCH H18MM D600, ZEWNĘTRZNY",31.7,"1-ZE-01","2019-10-02","SZT"]
["31168","ZENERGY - NIEAKTUALNE (ZAM. 20406)",72.3,"1-ZE-01","2019-10-02","SZT"]
["31169","ZENERGY - NIEAKTUALNE (ZAM. 20406)",72.3,"1-ZE-01","2019-10-02","SZT"]
["31170","ZENERGY - WYGRODZENIE SZYN POZIOMYCH - BLACHY PIONOWE 4MOD 2SZT W1000 2 FORMA",159.30000000000001,"1-ZE-01","2019-10-02","SZT"]
["31171","ZENERGY - WYGRODZENIE SZYN POZIOMYCH - BLACHY PIONOWE 4MOD 2SZT W1200 2 FORMA",175.9,"1-ZE-01","2019-10-02","SZT"]
["31172","ZENERGY - WYGRODZENIE SZYN POZIOMYCH - BLACHY PIONOWE 4MOD 2SZT W1300 2 FORMA",183.5,"1-ZE-01","2019-10-02","SZT"]
["31173","ZENERGY - WYGRODZENIE SZYN POZIOMYCH - BLACHY PIONOWE 4MOD 2SZT W300 2 FORMA",69.7,"1-ZE-01","2019-10-02","SZT"]
["31174","ZENERGY - WYGRODZENIE SZYN POZIOMYCH - BLACHY PIONOWE 4MOD 2SZT W400 2 FORMA",82,"1-ZE-01","2019-10-02","SZT"]
["31175","ZENERGY - WYGRODZENIE SZYN POZIOMYCH - BLACHY PIONOWE 4MOD 2SZT W450 2 FORMA",91.1,"1-ZE-01","2019-10-02","SZT"]
["31176","ZENERGY - WYGRODZENIE SZYN POZIOMYCH - BLACHY PIONOWE 4MOD 2SZT W600 2 FORMA",110.7,"1-ZE-01","2019-10-02","SZT"]
["31177","ZENERGY - WYGRODZENIE SZYN POZIOMYCH - BLACHY PIONOWE 4MOD 2SZT W650 2 FORMA",118.3,"1-ZE-01","2019-10-02","SZT"]
["31178","ZENERGY - WYGRODZENIE SZYN POZIOMYCH - BLACHY PIONOWE 4MOD 2SZT W800 2 FORMA",141.1,"1-ZE-01","2019-10-02","SZT"]
["31179","ZENERGY - WYGRODZENIE SZYN POZIOMYCH - BLACHY PIONOWE 4MOD 2SZT W850 2 FORMA",145.6,"1-ZE-01","2019-10-02","SZT"]
["31180","ZENERGY - COKÓŁ H400, OSŁONA PRZÓD,TYŁ, W800",447.3,"1-ZE-01","2019-10-02","SZT"]
["31183","ZENERGY - COKÓŁ H400, PEŁNE OSŁONY BOCZNE, D800",620.4,"1-ZE-01","2019-10-02","SZT"]
["31184","ZENERGY - WYGRODZENIE PIONOWE SZYN W PRZEDZIALE D400, H2000",892.3,"1-ZE-01","2019-10-02","SZT"]
["31185","ZENERGY - COKÓŁ H400, OSŁONA PRZÓD,TYŁ, W850",476.2,"1-ZE-01","2019-10-02","SZT"]
["31186","ZENERGY - WSPORNIK PŁYT MONTAŻOWYCH H18MM D800, ZEWNĘTRZNY",33.799999999999997,"1-ZE-01","2019-10-02","SZT"]
["31189","ZENERGY - NIEAKTUALNE (ZAM. 20408)",75.400000000000006,"1-ZE-01","2019-10-02","SZT"]
["31190","ZENERGY - WYGRODZENIE SZYN POZIOMYCH - BLACHY PIONOWE REGULOWANE 5-10MOD 1kpl W1000 2 Forma",303.60000000000002,"1-ZE-01","2020-07-02","SZT"]
["31191","ZENERGY - WYGRODZENIE SZYN POZIOMYCH - BLACHY PIONOWE REGULOWANE 5-10MOD 1kpl W1200 2 Forma",335.5,"1-ZE-01","2020-07-02","SZT"]
["31192","ZENERGY - COKÓŁ H400, OSŁONA PRZÓD,TYŁ, W950",525.9,"1-ZE-01","2019-10-02","SZT"]
["31193","ZENERGY - WYGRODZENIE SZYN POZIOMYCH - BLACHY PIONOWE REGULOWANE 5-10MOD 1kpl W300 2 Forma",133.1,"1-ZE-01","2020-07-02","SZT"]
["31194","ZENERGY - WYGRODZENIE SZYN POZIOMYCH - BLACHY PIONOWE REGULOWANE 5-10MOD 1kpl W400 2 Forma",156.1,"1-ZE-01","2020-07-02","SZT"]
["31195","ZENERGY - WYGRODZENIE SZYN POZIOMYCH - BLACHY PIONOWE REGULOWANE 5-10MOD 1kpl W450 2 Forma",173.6,"1-ZE-01","2020-07-02","SZT"]
["31196","ZENERGY - WYGRODZENIE SZYN POZIOMYCH - BLACHY PIONOWE REGULOWANE 5-10MOD 1kpl W600 2 Forma",211.2,"1-ZE-01","2020-07-02","SZT"]
["31197","ZENERGY - WYGRODZENIE SZYN POZIOMYCH - BLACHY PIONOWE REGULOWANE 5-10MOD 1kpl W650 2 Forma",225.8,"1-ZE-01","2020-07-02","SZT"]
["31198","ZENERGY - WYGRODZENIE SZYN POZIOMYCH - BLACHY PIONOWE REGULOWANE 5-10MOD 1kpl W800 2 Forma",268.89999999999998,"1-ZE-01","2020-07-02","SZT"]
["31199","ZENERGY - WYGRODZENIE SZYN POZIOMYCH - BLACHY PIONOWE REGULOWANE 5-10MOD 1kpl W850 2 Forma",273.7,"1-ZE-01","2020-07-02","SZT"]
["31200","ZENERGY - WYGRODZENIE SZYN POZIOMYCH - BLACHY PIONOWE 3MOD 2szt W1000 2 Forma",112.5,"1-ZE-01","2020-07-02","SZT"]
["31201","ZENERGY - WYGRODZENIE SZYN POZIOMYCH - BLACHY PIONOWE 3MOD 2szt W1200 2 Forma",124.2,"1-ZE-01","2020-07-02","SZT"]
["31202","ZENERGY - WYGRODZENIE SZYN POZIOMYCH - BLACHY PIONOWE 3MOD 2szt W1300 2 Forma",129.6,"1-ZE-01","2020-07-02","SZT"]
["31203","ZENERGY - WYGRODZENIE SZYN POZIOMYCH - BLACHY PIONOWE 3MOD 2szt W300 2 Forma",49.2,"1-ZE-01","2020-07-02","SZT"]
["31204","ZENERGY - WYGRODZENIE SZYN POZIOMYCH - BLACHY PIONOWE 3MOD 2szt W400 2 Forma",57.9,"1-ZE-01","2020-07-02","SZT"]
["31205","ZENERGY - WYGRODZENIE SZYN POZIOMYCH - BLACHY PIONOWE 3MOD 2szt W450 2 Forma",64.3,"1-ZE-01","2020-07-02","SZT"]
["31206","ZENERGY - WYGRODZENIE SZYN POZIOMYCH - BLACHY PIONOWE 3MOD 2szt W600 2 Forma",78.2,"1-ZE-01","2020-07-02","SZT"]
["31207","ZENERGY - WYGRODZENIE SZYN POZIOMYCH - BLACHY PIONOWE 3MOD 2szt W650 2 Forma",83.5,"1-ZE-01","2020-07-02","SZT"]
["31208","ZENERGY - WYGRODZENIE SZYN POZIOMYCH - BLACHY PIONOWE 3MOD 2szt W800 2 Forma",99.6,"1-ZE-01","2020-07-02","SZT"]
["31209","ZENERGY - WYGRODZENIE SZYN POZIOMYCH - BLACHY PIONOWE 3MOD 2szt W850 2 Forma",102.8,"1-ZE-01","2020-07-02","SZT"]
["31210","ZENERGY - POKRYWA GÓRNA IP30, W1000, D230",144.30000000000001,"1-ZE-01","2019-10-02","SZT"]
["31211","ZENERGY - POKRYWA GÓRNA IP30, W650+400, D230",149,"1-ZE-01","2019-10-02","SZT"]
["31212","ZENERGY - POKRYWA GÓRNA IP30, W1200, D230",161.80000000000001,"1-ZE-01","2019-10-02","SZT"]
["31213","ZENERGY - POKRYWA GÓRNA IP30, W1300, D230",169.8,"1-ZE-01","2019-10-02","SZT"]
["31215","ZENERGY - POKRYWA GÓRNA IP30, W650+450, D230",152.30000000000001,"1-ZE-01","2019-10-02","SZT"]
["31216","ZENERGY - POKRYWA GÓRNA IP30, W850+150, D230",144.30000000000001,"1-ZE-01","2019-10-02","SZT"]
["31218","ZENERGY - POKRYWA GÓRNA IP30, W850+300, D230",157.1,"1-ZE-01","2019-10-02","SZT"]
["31219","ZENERGY - POKRYWA GÓRNA IP30, W850+400, D230",165.1,"1-ZE-01","2019-10-02","SZT"]
["31220","ZENERGY - POKRYWA GÓRNA IP30, W850+450, D230",169.8,"1-ZE-01","2019-10-02","SZT"]
["31221","ZENERGY - POKRYWA GÓRNA IP30, W150+650+400, D230",161.80000000000001,"1-ZE-01","2019-10-02","SZT"]
["31222","ZENERGY - POKRYWA GÓRNA IP30, W150+650+300, D230",152.30000000000001,"1-ZE-01","2019-10-02","SZT"]
["31227","ZENERGY - POKRYWA GÓRNA IP30, W150+850+300, D230",169.8,"1-ZE-01","2019-10-02","SZT"]
["31228","ZENERGY - POKRYWA GÓRNA IP30, W150+850+400, D230",178,"1-ZE-01","2019-10-02","SZT"]
["31230","ZENERGY - POKRYWA GÓRNA IP30, W300, D230",88.2,"1-ZE-01","2019-10-02","SZT"]
["31232","ZENERGY - POKRYWA GÓRNA IP30, W200+650+300, D230",157.1,"1-ZE-01","2019-10-02","SZT"]
["31233","ZENERGY - POKRYWA GÓRNA IP30, W200+650+400, D230",165.1,"1-ZE-01","2019-10-02","SZT"]
["31240","ZENERGY - POKRYWA GÓRNA IP30, W400, D230",96.2,"1-ZE-01","2019-10-02","SZT"]
["31245","ZENERGY - POKRYWA GÓRNA IP30, W450, D230",100.9,"1-ZE-01","2019-10-02","SZT"]
["31260","ZENERGY - POKRYWA GÓRNA IP30, W600, D230",112.3,"1-ZE-01","2019-10-02","SZT"]
["31265","ZENERGY - POKRYWA GÓRNA IP30, W650, D230",117.1,"1-ZE-01","2019-10-02","SZT"]
["31266","ZENERGY - POKRYWA GÓRNA IP30, W450+200, D230",117.1,"1-ZE-01","2019-10-02","SZT"]
["31271","ZENERGY - POKRYWA GÓRNA IP30, W300+400, D230",120.1,"1-ZE-01","2019-10-02","SZT"]
["31276","ZENERGY - POKRYWA GÓRNA IP30, W300+450, D230",125,"1-ZE-01","2019-10-02","SZT"]
["31280","ZENERGY - POKRYWA GÓRNA IP30, W800, D230",128.19999999999999,"1-ZE-01","2019-10-02","SZT"]
["31281","ZENERGY - POKRYWA GÓRNA IP30, W650+150, D230",128.19999999999999,"1-ZE-01","2019-10-02","SZT"]
["31285","ZENERGY - POKRYWA GÓRNA IP30, W850, D230",133.1,"1-ZE-01","2019-10-02","SZT"]
["31286","ZENERGY - POKRYWA GÓRNA IP30, W650+200, D230",133.1,"1-ZE-01","2019-10-02","SZT"]
["31291","ZENERGY - POKRYWA GÓRNA IP30, W450+450, D230",136.4,"1-ZE-01","2019-10-02","SZT"]
["31295","ZENERGY - POKRYWA GÓRNA IP30, W650+300, D230",141.19999999999999,"1-ZE-01","2019-10-02","SZT"]
["31310","ZENERGY - POKRYWA GÓRNA IP30, W1000, D300",219.7,"1-ZE-01","2019-10-02","SZT"]
["31311","ZENERGY - POKRYWA GÓRNA IP30, W650+400, D300",227.1,"1-ZE-01","2019-10-02","SZT"]
["31312","ZENERGY - POKRYWA GÓRNA IP30, W1200, D300",250.9,"1-ZE-01","2019-10-02","SZT"]
["31313","ZENERGY - POKRYWA GÓRNA IP30, W1300, D300",265.60000000000002,"1-ZE-01","2019-10-02","SZT"]
["31315","ZENERGY - POKRYWA GÓRNA IP30, W650+450, D300",234.4,"1-ZE-01","2019-10-02","SZT"]
["31316","ZENERGY - POKRYWA GÓRNA IP30, W850+150, D300",219.7,"1-ZE-01","2019-10-02","SZT"]
["31318","ZENERGY - POKRYWA GÓRNA IP30, W850+300, D300",241.9,"1-ZE-01","2019-10-02","SZT"]
["31319","ZENERGY - POKRYWA GÓRNA IP30, W850+400, D300",258.3,"1-ZE-01","2019-10-02","SZT"]
["31320","ZENERGY - POKRYWA GÓRNA IP30, W850+450, D300",265.60000000000002,"1-ZE-01","2019-10-02","SZT"]
["31321","ZENERGY - POKRYWA GÓRNA IP30, W150+650+400, D300",250.9,"1-ZE-01","2019-10-02","SZT"]
["31322","ZENERGY - POKRYWA GÓRNA IP30, W150+650+300, D300",234.4,"1-ZE-01","2019-10-02","SZT"]
["31327","ZENERGY - POKRYWA GÓRNA IP30, W150+850+300, D300",265.60000000000002,"1-ZE-01","2019-10-02","SZT"]
["31328","ZENERGY - POKRYWA GÓRNA IP30, W150+850+400, D300",280.5,"1-ZE-01","2019-10-02","SZT"]
["31330","ZENERGY - POKRYWA GÓRNA IP30, W300, D300",112.9,"1-ZE-01","2019-10-02","SZT"]
["31332","ZENERGY - POKRYWA GÓRNA IP30, W200+650+300, D300",241.9,"1-ZE-01","2019-10-02","SZT"]
["31333","ZENERGY - POKRYWA GÓRNA IP30, W200+650+400, D300",258.3,"1-ZE-01","2019-10-02","SZT"]
["31340","ZENERGY - POKRYWA GÓRNA IP30, W400, D300",127.6,"1-ZE-01","2019-10-02","SZT"]
["31345","ZENERGY - POKRYWA GÓRNA IP30, W450, D300",135.1,"1-ZE-01","2019-10-02","SZT"]
["31360","ZENERGY - POKRYWA GÓRNA IP30, W600, D300",158.80000000000001,"1-ZE-01","2019-10-02","SZT"]
["31365","ZENERGY - POKRYWA GÓRNA IP30, W650, D300",166.2,"1-ZE-01","2019-10-02","SZT"]
["31366","ZENERGY - POKRYWA GÓRNA IP30, W450+200, D300",166.2,"1-ZE-01","2019-10-02","SZT"]
["31371","ZENERGY - POKRYWA GÓRNA IP30, W300+400, D300",173.7,"1-ZE-01","2019-10-02","SZT"]
["31376","ZENERGY - POKRYWA GÓRNA IP30, W300+450, D300",181.1,"1-ZE-01","2019-10-02","SZT"]
["31380","ZENERGY - POKRYWA GÓRNA IP30, W800, D300",188.5,"1-ZE-01","2019-10-02","SZT"]
["31381","ZENERGY - POKRYWA GÓRNA IP30, W650+150, D300",188.5,"1-ZE-01","2019-10-02","SZT"]
["31385","ZENERGY - POKRYWA GÓRNA IP30, W850, D300",197.5,"1-ZE-01","2019-10-02","SZT"]
["31386","ZENERGY - POKRYWA GÓRNA IP30, W650+200, D300",197.5,"1-ZE-01","2019-10-02","SZT"]
["31391","ZENERGY - POKRYWA GÓRNA IP30, W450+450, D300",204.9,"1-ZE-01","2019-10-02","SZT"]
["31395","ZENERGY - POKRYWA GÓRNA IP30, W650+300, D300",212.2,"1-ZE-01","2019-10-02","SZT"]
["31410","ZENERGY - POKRYWA GÓRNA IP30, W1000, D400",224.1,"1-ZE-01","2019-10-02","SZT"]
["31411","ZENERGY - POKRYWA GÓRNA IP30, W650+400, D400",231.5,"1-ZE-01","2019-10-02","SZT"]
["31412","ZENERGY - POKRYWA GÓRNA IP30, W1200, D400",253.9,"1-ZE-01","2019-10-02","SZT"]
["31413","ZENERGY - POKRYWA GÓRNA IP30, W1300, D400",268.7,"1-ZE-01","2019-10-02","SZT"]
["31415","ZENERGY - POKRYWA GÓRNA IP30, W650+450, D400",239,"1-ZE-01","2019-10-02","SZT"]
["31416","ZENERGY - POKRYWA GÓRNA IP30, W850+150, D400",224.1,"1-ZE-01","2019-10-02","SZT"]
["31418","ZENERGY - POKRYWA GÓRNA IP30, W850+300, D400",246.5,"1-ZE-01","2019-10-02","SZT"]
["31419","ZENERGY - POKRYWA GÓRNA IP30, W850+400, D400",261.2,"1-ZE-01","2019-10-02","SZT"]
["31420","ZENERGY - POKRYWA GÓRNA IP30, W850+450, D400",276.8,"1-ZE-01","2019-10-02","SZT"]
["31422","ZENERGY - POKRYWA GÓRNA IP30, W150+650+300, D400",239,"1-ZE-01","2019-10-02","SZT"]
["31423","ZENERGY - POKRYWA GÓRNA IP30, W150+650+400, D400",253.9,"1-ZE-01","2019-10-02","SZT"]
["31427","ZENERGY - POKRYWA GÓRNA IP30, W150+850+300, D400",268.7,"1-ZE-01","2019-10-02","SZT"]
["31428","ZENERGY - POKRYWA GÓRNA IP30, W150+850+400, D400",283.5,"1-ZE-01","2019-10-02","SZT"]
["31430","ZENERGY - POKRYWA GÓRNA IP30, W300, D400",118.8,"1-ZE-01","2019-10-02","SZT"]
["31432","ZENERGY - POKRYWA GÓRNA IP30, W200+650+300, D400",246.5,"1-ZE-01","2019-10-02","SZT"]
["31433","ZENERGY - POKRYWA GÓRNA IP30, W200+650+400, D400",261.2,"1-ZE-01","2019-10-02","SZT"]
["31440","ZENERGY - POKRYWA GÓRNA IP30, W400, D400",133.6,"1-ZE-01","2019-10-02","SZT"]
["31445","ZENERGY - POKRYWA GÓRNA IP30, W450, D400",141,"1-ZE-01","2019-10-02","SZT"]
["31450","ZENERGY - POKRYWA GÓRNA IP30 POLA NAROŻNEGO D400",151.5,"1-ZE-01","2019-10-02","SZT"]
["31460","ZENERGY - POKRYWA GÓRNA IP30, W600, D400",163.30000000000001,"1-ZE-01","2019-10-02","SZT"]
["31461","ZENERGY - POKRYWA GÓRNA IP30 POLA NAROŻNEGO D400/D600",189.5,"1-ZE-01","2021-12-01","SZT"]
["31465","ZENERGY - POKRYWA GÓRNA IP30, W650, D400",170.7,"1-ZE-01","2019-10-02","SZT"]
["31466","ZENERGY - POKRYWA GÓRNA IP30, W450+200, D400",170.7,"1-ZE-01","2019-10-02","SZT"]
["31471","ZENERGY - POKRYWA GÓRNA IP30, W300+400, D400",178.1,"1-ZE-01","2019-10-02","SZT"]
["31476","ZENERGY - POKRYWA GÓRNA IP30, W300+450, D400",187,"1-ZE-01","2019-10-02","SZT"]
["31480","ZENERGY - POKRYWA GÓRNA IP30, W800, D400",194.5,"1-ZE-01","2019-10-02","SZT"]
["31481","ZENERGY - POKRYWA GÓRNA IP30, W650+150, D400",194.5,"1-ZE-01","2019-10-02","SZT"]
["31485","ZENERGY - POKRYWA GÓRNA IP30, W850, D400",201.9,"1-ZE-01","2019-10-02","SZT"]
["31486","ZENERGY - POKRYWA GÓRNA IP30, W650+200, D400",201.9,"1-ZE-01","2019-10-02","SZT"]
["31491","ZENERGY - POKRYWA GÓRNA IP30, W450+450, D400",209.3,"1-ZE-01","2019-10-02","SZT"]
["31495","ZENERGY - POKRYWA GÓRNA IP30, W650+300, D400",216.6,"1-ZE-01","2019-10-02","SZT"]
["31510","ZENERGY - PŁYTA DŁAWICOWA IP55, W450+150, D230",287.8,"1-ZE-01","2019-10-02","SZT"]
["31511","ZENERGY - PŁYTA DŁAWICOWA IP55, W450+200, D230",296.39999999999998,"1-ZE-01","2019-10-02","SZT"]
["31512","ZENERGY - PŁYTA DŁAWICOWA IP55, W450+150, D300",297.2,"1-ZE-01","2019-10-02","SZT"]
["31513","ZENERGY - PŁYTA DŁAWICOWA IP55, W450+200, D300",306,"1-ZE-01","2019-10-02","SZT"]
["31514","ZENERGY - PŁYTA DŁAWICOWA IP55, W450+150, D400",318.2,"1-ZE-01","2019-10-02","SZT"]
["31515","ZENERGY - PŁYTA DŁAWICOWA IP55, W450+200, D400",327.7,"1-ZE-01","2019-10-02","SZT"]
["31516","ZENERGY - PŁYTA DŁAWICOWA IP55, W450+150, D600",362.8,"1-ZE-01","2020-06-01","SZT"]
["31517","ZENERGY - PŁYTA DŁAWICOWA IP55, W450+200, D600",373.7,"1-ZE-01","2020-06-01","SZT"]
["31518","ZENERGY - PŁYTA DŁAWICOWA IP55, W450+150, D800",400.1,"1-ZE-01","2020-06-01","SZT"]
["31519","ZENERGY - PŁYTA DŁAWICOWA IP55, W450+200, D800",412,"1-ZE-01","2020-06-01","SZT"]
["31520","ZENERGY - PŁYTA DŁAWICOWA IP55, W1000, D230",254.6,"1-ZE-01","2019-10-02","SZT"]
["31521","ZENERGY - PŁYTA DŁAWICOWA IP55, W1200, D230",270.10000000000002,"1-ZE-01","2019-10-02","SZT"]
["31522","ZENERGY - PŁYTA DŁAWICOWA IP55, W1300, D230",280.5,"1-ZE-01","2019-10-02","SZT"]
["31523","ZENERGY - PŁYTA DŁAWICOWA IP55, W300, D230",173.7,"1-ZE-01","2019-10-02","SZT"]
["31524","ZENERGY - PŁYTA DŁAWICOWA IP55, W400, D230",184.1,"1-ZE-01","2019-10-02","SZT"]
["31525","ZENERGY - PŁYTA DŁAWICOWA IP55, W450, D230",194.5,"1-ZE-01","2019-10-02","SZT"]
["31526","ZENERGY - PŁYTA DŁAWICOWA IP55, W600, D230",211.6,"1-ZE-01","2019-10-02","SZT"]
["31527","ZENERGY - PŁYTA DŁAWICOWA IP55, W650, D230",215.1,"1-ZE-01","2019-10-02","SZT"]
["31528","ZENERGY - PŁYTA DŁAWICOWA IP55, W800, D230",227,"1-ZE-01","2019-10-02","SZT"]
["31529","ZENERGY - PŁYTA DŁAWICOWA IP55, W850, D230",232.4,"1-ZE-01","2019-10-02","SZT"]
["31530","ZENERGY - PŁYTA DŁAWICOWA IP55, W1000, D300",268.39999999999998,"1-ZE-01","2019-10-02","SZT"]
["31531","ZENERGY - PŁYTA DŁAWICOWA IP55, W1200, D300",287.3,"1-ZE-01","2019-10-02","SZT"]
["31532","ZENERGY - PŁYTA DŁAWICOWA IP55, W1300, D300",297.7,"1-ZE-01","2019-10-02","SZT"]
["31533","ZENERGY - PŁYTA DŁAWICOWA IP55, W300, D300",180.7,"1-ZE-01","2019-10-02","SZT"]
["31534","ZENERGY - PŁYTA DŁAWICOWA IP55, W400, D300",190.9,"1-ZE-01","2019-10-02","SZT"]
["31535","ZENERGY - PŁYTA DŁAWICOWA IP55, W450, D300",201.4,"1-ZE-01","2019-10-02","SZT"]
["31536","ZENERGY - PŁYTA DŁAWICOWA IP55, W600, D300",218.5,"1-ZE-01","2019-10-02","SZT"]
["31537","ZENERGY - PŁYTA DŁAWICOWA IP55, W650, D300",225.4,"1-ZE-01","2019-10-02","SZT"]
["31538","ZENERGY - PŁYTA DŁAWICOWA IP55, W800, D300",239.2,"1-ZE-01","2019-10-02","SZT"]
["31539","ZENERGY - PŁYTA DŁAWICOWA IP55, W850, D300",242.6,"1-ZE-01","2019-10-02","SZT"]
["31540","ZENERGY - PŁYTA DŁAWICOWA IP55, W1000, D400",290.8,"1-ZE-01","2019-10-02","SZT"]
["31541","ZENERGY - PŁYTA DŁAWICOWA IP55, W1200, D400",311.39999999999998,"1-ZE-01","2019-10-02","SZT"]
["31542","ZENERGY - PŁYTA DŁAWICOWA IP55, W1300, D400",323.39999999999998,"1-ZE-01","2019-10-02","SZT"]
["31543","ZENERGY - PŁYTA DŁAWICOWA IP55, W300, D400",192.7,"1-ZE-01","2019-10-02","SZT"]
["31544","ZENERGY - PŁYTA DŁAWICOWA IP55, W400, D400",204.8,"1-ZE-01","2019-10-02","SZT"]
["31545","ZENERGY - PŁYTA DŁAWICOWA IP55, W450, D400",218.5,"1-ZE-01","2019-10-02","SZT"]
["31546","ZENERGY - PŁYTA DŁAWICOWA IP55, W600, D400",233.9,"1-ZE-01","2019-10-02","SZT"]
["31547","ZENERGY - PŁYTA DŁAWICOWA IP55, W650, D400",223,"1-ZE-01","2019-10-02","SZT"]
["31548","ZENERGY - PŁYTA DŁAWICOWA IP55, W800, D400",288.60000000000002,"1-ZE-01","2019-10-02","SZT"]
["31549","ZENERGY - PŁYTA DŁAWICOWA IP55, W850, D400",292.39999999999998,"1-ZE-01","2019-10-02","SZT"]
["31550","ZENERGY - PŁYTA DŁAWICOWA IP55, W650+150, D230",357.4,"1-ZE-01","2019-10-02","SZT"]
["31551","ZENERGY - PŁYTA DŁAWICOWA IP55, W650+200, D230",368.9,"1-ZE-01","2019-10-02","SZT"]
["31552","ZENERGY - PŁYTA DŁAWICOWA IP55, W650+150, D300",337.1,"1-ZE-01","2019-10-02","SZT"]
["31553","ZENERGY - PŁYTA DŁAWICOWA IP55, W650+200, D300",349.2,"1-ZE-01","2019-10-02","SZT"]
["31554","ZENERGY - PŁYTA DŁAWICOWA IP55, W650+150, D400",336.1,"1-ZE-01","2019-10-02","SZT"]
["31555","ZENERGY - PŁYTA DŁAWICOWA IP55, W650+200, D400",376.9,"1-ZE-01","2019-10-02","SZT"]
["31556","ZENERGY - PŁYTA DŁAWICOWA IP55, W650+150, D600",458.8,"1-ZE-01","2019-10-02","SZT"]
["31557","ZENERGY - PŁYTA DŁAWICOWA IP55, W650+200, D600",474,"1-ZE-01","2019-10-02","SZT"]
["31558","ZENERGY - PŁYTA DŁAWICOWA IP55, W650+150, D800",512.29999999999995,"1-ZE-01","2019-10-02","SZT"]
["31559","ZENERGY - PŁYTA DŁAWICOWA IP55, W650+200, D800",527.6,"1-ZE-01","2019-10-02","SZT"]
["31560","ZENERGY - PŁYTA DŁAWICOWA IP55, W1000, D600",368.9,"1-ZE-01","2019-10-02","SZT"]
["31561","ZENERGY - PŁYTA DŁAWICOWA IP55, W1200, D600",403.3,"1-ZE-01","2019-10-02","SZT"]
["31562","ZENERGY - PŁYTA DŁAWICOWA IP55, W1300, D600",418.8,"1-ZE-01","2019-10-02","SZT"]
["31563","ZENERGY - PŁYTA DŁAWICOWA IP55, W300, D600",239,"1-ZE-01","2019-10-02","SZT"]
["31564","ZENERGY - PŁYTA DŁAWICOWA IP55, W400, D600",254.2,"1-ZE-01","2019-10-02","SZT"]
["31565","ZENERGY - PŁYTA DŁAWICOWA IP55, W450, D600",273.3,"1-ZE-01","2019-10-02","SZT"]
["31566","ZENERGY - PŁYTA DŁAWICOWA IP55, W600, D600",296.39999999999998,"1-ZE-01","2019-10-02","SZT"]
["31567","ZENERGY - PŁYTA DŁAWICOWA IP55, W650, D600",311.60000000000002,"1-ZE-01","2019-10-02","SZT"]
["31568","ZENERGY - PŁYTA DŁAWICOWA IP55, W800, D600",328.8,"1-ZE-01","2019-10-02","SZT"]
["31569","ZENERGY - PŁYTA DŁAWICOWA IP55, W850, D600",336.4,"1-ZE-01","2019-10-02","SZT"]
["31570","ZENERGY - PŁYTA DŁAWICOWA IP55, W850+150, D230",346.3,"1-ZE-01","2019-10-02","SZT"]
["31571","ZENERGY - PŁYTA DŁAWICOWA IP55, W850+200, D230",356.6,"1-ZE-01","2019-10-02","SZT"]
["31572","ZENERGY - PŁYTA DŁAWICOWA IP55, W850+150, D300",365.1,"1-ZE-01","2019-10-02","SZT"]
["31573","ZENERGY - PŁYTA DŁAWICOWA IP55, W850+200, D300",376,"1-ZE-01","2019-10-02","SZT"]
["31574","ZENERGY - PŁYTA DŁAWICOWA IP55, W850+150, D400",395.4,"1-ZE-01","2019-10-02","SZT"]
["31575","ZENERGY - PŁYTA DŁAWICOWA IP55, W850+200, D400",407.4,"1-ZE-01","2019-10-02","SZT"]
["31576","ZENERGY - PŁYTA DŁAWICOWA IP55, W850+150, D600",451.7,"1-ZE-01","2020-06-01","SZT"]
["31577","ZENERGY - PŁYTA DŁAWICOWA IP55, W850+200, D600",465.3,"1-ZE-01","2020-06-01","SZT"]
["31578","ZENERGY - PŁYTA DŁAWICOWA IP55, W850+150, D800",512.6,"1-ZE-01","2020-06-01","SZT"]
["31579","ZENERGY - PŁYTA DŁAWICOWA IP55, W850+200, D800",528,"1-ZE-01","2020-06-01","SZT"]
["31580","ZENERGY - PŁYTA DŁAWICOWA IP55, W1000, D800",376.9,"1-ZE-01","2019-10-02","SZT"]
["31581","ZENERGY - PŁYTA DŁAWICOWA IP55, W1200, D800",411.3,"1-ZE-01","2019-10-02","SZT"]
["31582","ZENERGY - PŁYTA DŁAWICOWA IP55, W1300, D800",428.4,"1-ZE-01","2019-10-02","SZT"]
["31583","ZENERGY - PŁYTA DŁAWICOWA IP55, W300, D800",235.8,"1-ZE-01","2019-10-02","SZT"]
["31584","ZENERGY - PŁYTA DŁAWICOWA IP55, W400, D800",254.6,"1-ZE-01","2019-10-02","SZT"]
["31585","ZENERGY - PŁYTA DŁAWICOWA IP55, W450, D800",263.2,"1-ZE-01","2019-10-02","SZT"]
["31586","ZENERGY - PŁYTA DŁAWICOWA IP55, W600, D800",294.2,"1-ZE-01","2019-10-02","SZT"]
["31587","ZENERGY - PŁYTA DŁAWICOWA IP55, W650, D800",308.10000000000002,"1-ZE-01","2019-10-02","SZT"]
["31588","ZENERGY - PŁYTA DŁAWICOWA IP55, W800, D800",332.1,"1-ZE-01","2019-10-02","SZT"]
["31589","ZENERGY - PŁYTA DŁAWICOWA IP55, W850, D800",342.4,"1-ZE-01","2019-10-02","SZT"]
["31610","ZENERGY - POKRYWA GÓRNA IP30, W1000, D600",275.7,"1-ZE-01","2019-10-02","SZT"]
["31611","ZENERGY - POKRYWA GÓRNA IP30, W650+400, D600",285.39999999999998,"1-ZE-01","2019-10-02","SZT"]
["31612","ZENERGY - POKRYWA GÓRNA IP30, W1200, D600",312.60000000000002,"1-ZE-01","2019-10-02","SZT"]
["31613","ZENERGY - POKRYWA GÓRNA IP30, W1300, D600",331.9,"1-ZE-01","2019-10-02","SZT"]
["31615","ZENERGY - POKRYWA GÓRNA IP30, W650+450, D600",293.3,"1-ZE-01","2019-10-02","SZT"]
["31616","ZENERGY - POKRYWA GÓRNA IP30, W850+150, D600",275.7,"1-ZE-01","2019-10-02","SZT"]
["31617","ZENERGY - POKRYWA GÓRNA IP30, W850+200, D600",290.3,"1-ZE-01","2019-10-02","SZT"]
["31618","ZENERGY - POKRYWA GÓRNA IP30, W850+300, D600",302.89999999999998,"1-ZE-01","2019-10-02","SZT"]
["31619","ZENERGY - POKRYWA GÓRNA IP30, W850+400, D600",322.2,"1-ZE-01","2019-10-02","SZT"]
["31620","ZENERGY - POKRYWA GÓRNA IP30, W850+450, D600",331.9,"1-ZE-01","2019-10-02","SZT"]
["31621","ZENERGY - POKRYWA GÓRNA IP30, W150+650+400, D600",312.60000000000002,"1-ZE-01","2019-10-02","SZT"]
["31622","ZENERGY - POKRYWA GÓRNA IP30, W150+650+300, D600",293.3,"1-ZE-01","2019-10-02","SZT"]
["31627","ZENERGY - POKRYWA GÓRNA IP30, W150+850+300, D600",331.9,"1-ZE-01","2019-10-02","SZT"]
["31628","ZENERGY - POKRYWA GÓRNA IP30, W150+850+400, D600",349.5,"1-ZE-01","2019-10-02","SZT"]
["31630","ZENERGY - POKRYWA GÓRNA IP30, W300, D600",144.30000000000001,"1-ZE-01","2019-10-02","SZT"]
["31632","ZENERGY - POKRYWA GÓRNA IP30, W200+650+300, D600",302.89999999999998,"1-ZE-01","2019-10-02","SZT"]
["31633","ZENERGY - POKRYWA GÓRNA IP30, W200+650+400, D600",322.2,"1-ZE-01","2019-10-02","SZT"]
["31640","ZENERGY - POKRYWA GÓRNA IP30, W400, D600",151.4,"1-ZE-01","2019-10-02","SZT"]
["31645","ZENERGY - POKRYWA GÓRNA IP30, W450, D600",173,"1-ZE-01","2019-10-02","SZT"]
["31660","ZENERGY - POKRYWA GÓRNA IP30, W600, D600",200.3,"1-ZE-01","2019-10-02","SZT"]
["31665","ZENERGY - POKRYWA GÓRNA IP30, W650, D600",194.5,"1-ZE-01","2019-10-02","SZT"]
["31666","ZENERGY - POKRYWA GÓRNA IP30, W450+200, D600",210,"1-ZE-01","2019-10-02","SZT"]
["31670","ZENERGY - POKRYWA GÓRNA IP30 POLA NAROŻNEGO D600",228.6,"1-ZE-01","2019-10-02","SZT"]
["31671","ZENERGY - POKRYWA GÓRNA IP30, W300+400, D600",219.7,"1-ZE-01","2019-10-02","SZT"]
["31676","ZENERGY - POKRYWA GÓRNA IP30, W300+450, D600",229.2,"1-ZE-01","2019-10-02","SZT"]
["31680","ZENERGY - POKRYWA GÓRNA IP30, W800, D600",219.7,"1-ZE-01","2019-10-02","SZT"]
["31681","ZENERGY - POKRYWA GÓRNA IP30, W650+150, D600",219.7,"1-ZE-01","2019-10-02","SZT"]
["31685","ZENERGY - POKRYWA GÓRNA IP30, W850, D600",247,"1-ZE-01","2019-10-02","SZT"]
["31686","ZENERGY - POKRYWA GÓRNA IP30, W650+200, D600",247,"1-ZE-01","2019-10-02","SZT"]
["31690","ZENERGY - POKRYWA GÓRNA IP30 POLA NAROŻNEGO D800",269.2,"1-ZE-01","2021-12-01","SZT"]
["31691","ZENERGY - POKRYWA GÓRNA IP30, W450+450, D600",256.5,"1-ZE-01","2019-10-02","SZT"]
["31695","ZENERGY - POKRYWA GÓRNA IP30, W650+300, D600",266.2,"1-ZE-01","2019-10-02","SZT"]
["31696","ZENERGY - POKRYWA GÓRNA IP30, W400+400+150, D600",266.2,"1-ZE-01","2019-10-02","SZT"]
["31801","ZENERGY - ŚRUBA M6X10 OCYNK SZEŚCIOKANT KL. 8.8 DIN 933 - 100SZT",17.8,"1-ZE-01","2019-10-02","P"]
["31802","ZENERGY - ŚRUBA M6X12 OCYNK SZEŚCIOKANT KL. 8.8 DIN 933 - 100SZT",21.8,"1-ZE-01","2019-10-02","P"]
["31803","ZENERGY - ŚRUBA M6X16 OCYNK SZEŚCIOKANT KL. 8.8 DIN 933 - 100SZT (31925)",24.6,"1-ZE-01","2019-10-02","P"]
["31804","ZENERGY - ŚRUBA M6X20 OCYNK SZEŚCIOKANT KL. 8.8 DIN 933 - 100SZT",27.5,"1-ZE-01","2019-10-02","P"]
["31810","ZENERGY - POKRYWA GÓRNA IP30, W1000, D800",330.1,"1-ZE-01","2019-10-02","SZT"]
["31811","ZENERGY - POKRYWA GÓRNA IP30, W650+400, D800",343.2,"1-ZE-01","2019-10-02","SZT"]
["31812","ZENERGY - POKRYWA GÓRNA IP30, W1200, D800",378.3,"1-ZE-01","2019-10-02","SZT"]
["31813","ZENERGY - POKRYWA GÓRNA IP30, W1300, D800",400.8,"1-ZE-01","2019-10-02","SZT"]
["31815","ZENERGY - POKRYWA GÓRNA IP30, W650+450, D800",354.3,"1-ZE-01","2019-10-02","SZT"]
["31816","ZENERGY - POKRYWA GÓRNA IP30, W850+150, D800",330.1,"1-ZE-01","2019-10-02","SZT"]
["31817","ZENERGY - POKRYWA GÓRNA IP30, W850+200, D800",347.9,"1-ZE-01","2019-10-02","SZT"]
["31818","ZENERGY - POKRYWA GÓRNA IP30, W850+300, D800",365.5,"1-ZE-01","2019-10-02","SZT"]
["31819","ZENERGY - POKRYWA GÓRNA IP30, W850+400, D800",389.5,"1-ZE-01","2019-10-02","SZT"]
["31820","ZENERGY - POKRYWA GÓRNA IP30, W850+450, D800",400.8,"1-ZE-01","2019-10-02","SZT"]
["31821","ZENERGY - POKRYWA GÓRNA IP30, W150+650+400, D800",378.3,"1-ZE-01","2019-10-02","SZT"]
["31822","ZENERGY - POKRYWA GÓRNA IP30, W150+650+300, D800",354.3,"1-ZE-01","2019-10-02","SZT"]
["31827","ZENERGY - POKRYWA GÓRNA IP30, W150+850+300, D800",400.8,"1-ZE-01","2019-10-02","SZT"]
["31828","ZENERGY - POKRYWA GÓRNA IP30, W150+850+400, D800",424.9,"1-ZE-01","2019-10-02","SZT"]
["31830","ZENERGY - POKRYWA GÓRNA IP30, W300, D800",166.8,"1-ZE-01","2019-10-02","SZT"]
["31832","ZENERGY - POKRYWA GÓRNA IP30, W200+650+300, D800",365.5,"1-ZE-01","2019-10-02","SZT"]
["31833","ZENERGY - POKRYWA GÓRNA IP30, W200+650+400, D800",389.5,"1-ZE-01","2019-10-02","SZT"]
["31840","ZENERGY - POKRYWA GÓRNA IP30, W400, D800",190.8,"1-ZE-01","2019-10-02","SZT"]
["31845","ZENERGY - POKRYWA GÓRNA IP30, W450, D800",202,"1-ZE-01","2019-10-02","SZT"]
["31860","ZENERGY - POKRYWA GÓRNA IP30, W600, D800",237.3,"1-ZE-01","2019-10-02","SZT"]
["31864","ZENERGY - POKRYWA GÓRNA IP30, W650, D800, z przepustem pod kable",381.2,"1-ZE-01","2021-12-01","SZT"]
["31865","ZENERGY - POKRYWA GÓRNA IP30, W650, D800",248.4,"1-ZE-01","2019-10-02","SZT"]
["31866","ZENERGY - POKRYWA GÓRNA IP30, W450+200, D800",248.4,"1-ZE-01","2019-10-02","SZT"]
["31871","ZENERGY - POKRYWA GÓRNA IP30, W300+400, D800",261.3,"1-ZE-01","2019-10-02","SZT"]
["31876","ZENERGY - POKRYWA GÓRNA IP30, W300+450, D800",272.39999999999998,"1-ZE-01","2019-10-02","SZT"]
["31878","ZENERGY - POKRYWA GÓRNA IP30, W800, D800, z przepustem pod kable Lewy",406.3,"1-ZE-01","2021-12-01","SZT"]
["31879","ZENERGY - POKRYWA GÓRNA IP30, W800, D800, z przepustem pod kable Prawy",406.3,"1-ZE-01","2021-12-01","SZT"]
["31880","ZENERGY - POKRYWA GÓRNA IP30, W800, D800",283.8,"1-ZE-01","2019-10-02","SZT"]
["31881","ZENERGY - POKRYWA GÓRNA IP30, W650+150, D800",283.8,"1-ZE-01","2019-10-02","SZT"]
["31885","ZENERGY - POKRYWA GÓRNA IP30, W850, D800",296.5,"1-ZE-01","2019-10-02","SZT"]
["31886","ZENERGY - POKRYWA GÓRNA IP30, W650+200, D800",296.5,"1-ZE-01","2019-10-02","SZT"]
["31890","ZENERGY - POKRYWA GÓRNA IP30 POLA NAROŻNEGO D800",269.2,"1-ZE-01","2021-12-01","SZT"]
["31891","ZENERGY - POKRYWA GÓRNA IP30, W450+450, D800",307.8,"1-ZE-01","2019-10-02","SZT"]
["31895","ZENERGY - POKRYWA GÓRNA IP30, W650+300, D800",319.2,"1-ZE-01","2019-10-02","SZT"]
["31901","ZENERGY - NAKRĘTKA Z PODKŁADKĄ M5 X 0,8 - 100SZT.",177.2,"1-ZE-01","2019-10-02","P"]
["31902","ZENERGY - KOSZULKA ELEKTROINSTALACYJNA SZKLANA 6,0 (zamiennik dla ref. ZENE31908-31910) - 1M",18.8,"1-ZE-01","2019-10-02","M"]
["31903","ZENERGY - METALOWA KRATKA WENTYLACYJNA IP54 +  MATA FILTR; OTWÓR:280X450MM",106.7,"1-ZE-01","2019-10-02","SZT"]
["31904","ZENERGY - METALOWA KRATKA WENTYLACYJNA NA DRZWI IP54 +  MATA FILTR; OTWÓR:1370X240MM",129.19999999999999,"1-ZE-01","2019-10-02","SZT"]
["31905","ZENERGY - WKRĘTY SAMOFORMUJĄCE M5X16 DIN 7500M - 500SZT",123.7,"1-ZE-01","2019-10-02","P"]
["31906","ZENERGY - WKRĘT DO METALU Z ŁBEM STOŻKOWYM Z WGŁ. KRZYŻ. M5X50, OCYNK - 100SZT.",21.3,"1-ZE-01","2019-10-02","P"]
["31907","ZENERGY - WKRĘT DO METALU Z ŁBEM STOŻKOWYM Z WGŁ. KRZYŻ. M5X70, OCYNK - 100SZT.",30.4,"1-ZE-01","2019-10-02","P"]
["31908","ZENERGY - TULEJKA IZOLACYJNA H=57MM, DO ALCUBAR 1000A - 100SZT.",881.4,"1-ZE-01","2019-10-02","SZT"]
["31909","ZENERGY - TULEJKA IZOLACYJNA H=87MM, DO ALCUBAR 1600A - 100SZT.",899.3,"1-ZE-01","2019-10-02","SZT"]
["31910","ZENERGY - TULEJKA IZOLACYJNA H=107MM, DO ALCUBAR 2500A - 100SZT.",917.3,"1-ZE-01","2019-10-02","SZT"]
["31911","ZENERGY - WKRĘTY SAMOFORMUJĄCE M5X8 DIN 7500PE - 500SZT",84,"1-ZE-01","2019-10-02","P"]
["31912","ZENERGY - WKRĘTY SAMOFORMUJĄCE M6X10 DIN 7500C - 500SZT",159.19999999999999,"1-ZE-01","2019-10-02","P"]
["31913","ZENERGY - NAKRĘTKI KLATKOWE M5 - 100SZT",91.3,"1-ZE-01","2019-10-02","OPA"]
["31914","ZENERGY - NAKRĘTKI KLATKOWE M6 - 100SZT",103.2,"1-ZE-01","2019-10-02","OPA"]
["31915","ZENERGY - ŚRUBY Z ŁBEM WPUSZCZONYM  Z GNIAZDEM SZEŚCIOKĄTNYM M5X10 DIN 7500M - 1000SZT",212.3,"1-ZE-01","2019-10-02","OPA"]
["31916","ZENERGY - ŚRUBY Z ŁBEM WPUSZCZONYM  Z GNIAZDEM SZEŚCIOKĄTNYM M5X25 DIN 7500M - 1000SZT",284.10000000000002,"1-ZE-01","2019-10-02","P"]
["31917","ZENERGY - ŚRUBY Z ŁBEM WPUSZCZONYM  Z GNIAZDEM SZEŚCIOKĄTNYM M5X30 DIN 7500M - 1000SZT",356.1,"1-ZE-01","2019-10-02","P"]
["31918","ZENERGY - WKRĘTY SAMOFORMUJĄCE M5X10 DIN 7500C - 500SZT",105.1,"1-ZE-01","2019-10-02","P"]
["31919","ZENERGY - ŚRUBA GRZYBKOWA KOŁNIERZOWA M5×6 OCYNK ISO7380 - 100SZT.",18.8,"1-ZE-01","2019-10-02","P"]
["31920","ZENERGY - NIT ROZPOROWY 5,0X1.5-7.0 1000SZT",671,"1-ZE-01","2019-10-02","P"]
["31921","ZENERGY - ŚRUBA GRZYBKOWA KOŁNIERZOWA M5X10 OCYNK ISO7380 - 100SZT.",20,"1-ZE-01","2019-10-02","P"]
["31922","ZENERGY - NAKRĘTKA Z KOŁNIERZEM ZĄBKOWANYM M6 DIN6923 - 100SZT.",7.7,"1-ZE-01","2019-10-02","P"]
["31923","ZENERGY - ŚRUBA GRZYBKOWA M5X50 OCYNK, DO ALCUBAR 630A - 100SZT",59.8,"1-ZE-01","2019-10-02","P"]
["31924","ZENERGY - ŚRUBA M6X80, OCYNK DIN 933 DLA MOSTÓW ALCUBAR H50 (1000A) - 100SZT",54.8,"1-ZE-01","2019-10-02","P"]
["31925","Zenergy - Wspornik toroidu 50440 MA120",30.9,"1-ZE-01","2021-12-01","SZT"]
["31926","ZENERGY - NAKRĘTKA Z UCHEM M10 DIN 582 - 100SZT.",697.8,"1-ZE-01","2019-10-02","SZT"]
["31927","ZENERGY - ŚRUBA Z UCHEM M10 WEDŁUG DIN 580 - 100 SZT.",598,"1-ZE-01","2019-10-02","SZT"]
["31928","ZENERGY - PĘDZELEK Z FARBĄ DO RETUSZU RAL 9001",62.7,"1-ZE-01","2019-10-02","SZT"]
["31929","ZENERGY - SPRAY DO RETUSZU RAL 9001",127.7,"1-ZE-01","2019-10-02","SZT"]
["31930","ZENERGY - WSPORNIK PE",9,"1-ZE-01","2019-10-02","SZT"]
["31931","ZENERGY - ZESTAW DO MONTAŻU OBUDÓW BOKAMI, TULEJKI MOCUJĄCE - 1 kpl (4szt.)",75.099999999999994,"1-ZE-01","2019-10-02","SZT"]
["31932","ZENERGY - ZESTAW DO MONTAŻU OBUDÓW BOKAMI, PŁYTKI MOCUJĄCE - 1 kpl (4szt.)",75.099999999999994,"1-ZE-01","2019-10-02","SZT"]
["31933","ZENERGY - WSPORNIK + IZOLATORY NA PLECY 3P M8 30/30 ROZSTAW 100MM",102.6,"1-ZE-01","2019-10-02","SZT"]
["31934","ZENERGY - WSPORNIK + IZOLATORY NA PLECY 4P M8 30/30 ROZSTAW 100MM",133.1,"1-ZE-01","2019-10-02","SZT"]
["31935","ZENERGY OM - PRZEPUST - MEMBRANA KABLOWA IP-54 81X222MM",51.2,"1-ZE-09","2019-05-10","SZT"]
["31936","ZENERGY - WSPORNIK PE / N + IZOLATOR M8 30/30",39.4,"1-ZE-01","2019-10-02","SZT"]
["31937","ZENERGY - ZAŚLEPKI BARYŁKOWE 10.7 - 1000SZT.",499.3,"1-ZE-01","2019-10-02","P"]
["31938","ZENERGY - ZAŚLEPKA BARYŁKOWA 4.4 DO RAMY - 1000SZT.",531.6,"1-ZE-01","2019-10-02","P"]
["31939","ZENERGY - ZAŚLEPKI BARYŁKOWE 7,2 DO POPRZECZKI - 1000SZT.",636.6,"1-ZE-01","2019-10-02","P"]
["31940","ZENERGY - METALOWA KRATKA WENTYLACYJNA, BEZ MATY FILTRA; OTWÓR:160X160MM; DO WENTYLATORA:120X120MM; FRONT:196X180MM; GŁĘBOKOŚĆ:15MM",75.599999999999994,"1-ZE-01","2019-10-02","SZT"]
["31941","ZENERGY - METALOWA KRATKA WENTYLACYJNA, BEZ MATY FILTRA; OTWÓR:230X230MM; DO WENTYLATORA:172X151MM; FRONT:265X250MM; GŁĘBOKOŚĆ:15MM",104.9,"1-ZE-01","2019-10-02","SZT"]
["31942","ZENERGY - MATA FILTRACYJNA KLASY EU2; GRUBOŚĆ 5MM",91.5,"1-ZE-01","2019-10-02","M2"]
["31943","ZENERGY - ŚRUBA M6X110 DIN933 A2 AISI304 DLA MOSTÓW ALCUBAR H80 (1600A) - 100SZT (31944)",169.8,"1-ZE-01","2021-12-01","SZT"]
["31944","ZENERGY - ŚRUBA M6X130 DIN933 A2 AISI304 DLA MOSTÓW ALCUBAR H100 (2500A) - 100SZT (31945)",183.4,"1-ZE-01","2019-10-02","P"]
["31945","ZENERGY - POKRYWA GÓRNA IP30, W450, D1000",287.8,"1-ZE-01","2019-10-02","P"]
["31946","ZENERGY - NAKRĘTKA Z KOŁNIERZEM ZĄBKOWANYM M6 INOX A2 AISI304 DLA MOSTÓW ALCUBAR 1600A+  100SZT.",27.5,"1-ZE-01","2019-10-02","P"]
["31947","ZENERGY - PRĘT GWINTOWANY M6X1000 INOX A2 AISI304 DLA MOSTÓW ALCUBAR  3200-6300A - 100SZT",770.2,"1-ZE-01","2019-10-02","P"]
["31948","ZENERGY - PRĘT GWINTOWANY M8X1000 INOX A2 AISI304 DLA MOSTÓW ALCUBAR  3200-6300A - 100SZT",1201.4000000000001,"1-ZE-01","2021-12-01","SZT"]
["31949","ZENERGY - METALOWA KRATKA WENTYLACYJNA, BEZ MATY FILTRA; OTWÓR:360X180MM; DO 2 WENTYLATORÓW:172X151MM; FRONT:400X220MM; GŁĘBOKOŚĆ:30MM",185.4,"1-ZE-01","2021-12-01","SZT"]
["31950","ZENERGY - METALOWA KIESZEŃ NA DOKUMENTACJĘ W1000",69.7,"1-ZE-01","2019-10-02","KPL"]
["31951","ZENERGY - METALOWA KIESZEŃ NA DOKUMENTACJĘ W1200",53.5,"1-ZE-01","2019-10-02","KPL"]
["31952","ZENERGY - METALOWA KIESZEŃ NA DOKUMENTACJĘ W1300",57.9,"1-ZE-01","2019-10-02","KPL"]
["31953","ZENERGY - METALOWA KIESZEŃ NA DOKUMENTACJĘ W300",37.200000000000003,"1-ZE-01","2019-10-02","KPL"]
["31954","ZENERGY - METALOWA KIESZEŃ NA DOKUMENTACJĘ W400",41.6,"1-ZE-01","2019-10-02","KPL"]
["31955","ZENERGY - METALOWA KIESZEŃ NA DOKUMENTACJĘ W450",46,"1-ZE-01","2019-10-02","KPL"]
["31956","ZENERGY - METALOWA KIESZEŃ NA DOKUMENTACJĘ W600",51.9,"1-ZE-01","2019-10-02","KPL"]
["31957","ZENERGY - METALOWA KIESZEŃ NA DOKUMENTACJĘ W650",55,"1-ZE-01","2019-10-02","SZT"]
["31958","ZENERGY - METALOWA KIESZEŃ NA DOKUMENTACJĘ W800",60.8,"1-ZE-01","2019-10-02","KPL"]
["31959","ZENERGY - METALOWA KIESZEŃ NA DOKUMENTACJĘ W850",65.2,"1-ZE-01","2019-10-02","KPL"]
["31960","ZENERGY - ZAWIESZENIE DO ŚCIANY (OBUDOWA WISZĄCA) W1050 (650+400)",169.8,"1-ZE-01","2019-10-02","SZT"]
["31961","ZENERGY - ZAWIESZENIE DO ŚCIANY (OBUDOWA WISZĄCA) W1150 (850+300)",179.5,"1-ZE-01","2019-10-02","SZT"]
["31962","ZENERGY - ZAWIESZENIE DO ŚCIANY (OBUDOWA WISZĄCA) W1100 (150+650+300)",174.8,"1-ZE-01","2019-10-02","SZT"]
["31963","ZENERGY - ZAWIESZENIE DO ŚCIANY (OBUDOWA WISZĄCA) W1250 (850+400)",189.2,"1-ZE-01","2019-10-02","SZT"]
["31965","ZENERGY - POKRYWA GÓRNA IP30, W650, D1000",312.10000000000002,"1-ZE-01","2019-10-02","SZT"]
["31966","ZENERGY - ZAWIESZENIE DO ŚCIANY (OBUDOWA WISZĄCA) W1500 (650+850)",210,"1-ZE-01","2019-10-02","KPL"]
["31967","ZENERGY - ZAWIESZENIE DO ŚCIANY (OBUDOWA WISZĄCA) W1700 (850+850)",230.8,"1-ZE-01","2019-10-02","KPL"]
["31969","ZENERGY - ZAWIESZENIE DO ŚCIANY (OBUDOWA WISZĄCA) W950 (650+300)",157.1,"1-ZE-01","2019-10-02","KPL"]
["31970","ZENERGY - ZAWIESZENIE DO ŚCIANY (OBUDOWA WISZĄCA) W1000",165.1,"1-ZE-01","2019-10-02","KPL"]
["31971","ZENERGY - ZAWIESZENIE DO ŚCIANY (OBUDOWA WISZĄCA) W1200",184.4,"1-ZE-01","2019-10-02","KPL"]
["31972","ZENERGY - ZAWIESZENIE DO ŚCIANY (OBUDOWA WISZĄCA) W1300 (650+650)",194.1,"1-ZE-01","2019-10-02","KPL"]
["31973","ZENERGY - ZAWIESZENIE DO ŚCIANY (OBUDOWA WISZĄCA) W300",94.6,"1-ZE-01","2019-10-02","KPL"]
["31974","ZENERGY - ZAWIESZENIE DO ŚCIANY (OBUDOWA WISZĄCA) W400",104.1,"1-ZE-01","2019-10-02","KPL"]
["31975","ZENERGY - ZAWIESZENIE DO ŚCIANY (OBUDOWA WISZĄCA) W450",110.6,"1-ZE-01","2019-10-02","KPL"]
["31976","ZENERGY - ZAWIESZENIE DO ŚCIANY (OBUDOWA WISZĄCA) W600",123.4,"1-ZE-01","2019-10-02","KPL"]
["31977","ZENERGY - ZAWIESZENIE DO ŚCIANY (OBUDOWA WISZĄCA) W650",128.19999999999999,"1-ZE-01","2019-10-02","KPL"]
["31978","ZENERGY - ZAWIESZENIE DO ŚCIANY (OBUDOWA WISZĄCA) W800",142.69999999999999,"1-ZE-01","2019-10-02","KPL"]
["31979","ZENERGY - ZAWIESZENIE DO ŚCIANY (OBUDOWA WISZĄCA) W850",149,"1-ZE-01","2019-10-02","KPL"]
["31980","ZENERGY OM - PRZEPUST - MEMBRANA KABLOWA PMB35 IP-65",55.6,"1-ZE-09","2019-05-15","SZT"]
["31981","ZENERGY OM - PRZEPUST - MEMBRANA KABLOWA PMB50 IP-65",69,"1-ZE-09","2019-09-17","SZT"]
["31982","ZENERGY - SZYNA MONTAŻOWA KOŁPAKOWA PERFOROWANA TH35 35X7,5MM - 2M",22.2,"1-ZE-01","2019-10-02","SZT"]
["31983","ZENERGY - SZYNA MONTAŻOWA KOŁPAKOWA PERFOROWANA TH35 35X15MM - 2M",59.6,"1-ZE-01","2019-10-02","SZT"]
["31984","ZENERGY - ŁĄCZNIK SZYNY 1X10X50,  50X60",131.30000000000001,"1-ZE-01","2019-10-02","SZT"]
["31985","ZENERGY - ŁĄCZNIK SZYNY 1X10X60,  60X60",150.1,"1-ZE-01","2019-10-02","SZT"]
["31986","ZENERGY - ŁĄCZNIK SZYNY 1X10X80,  80X60",187.7,"1-ZE-01","2019-10-02","SZT"]
["31987","ZENERGY - ŁĄCZNIK SZYNY 1X10X100,  100X80",294,"1-ZE-01","2019-10-02","SZT"]
["31988","ZENERGY - ŁĄCZNIK SZYNY 1X10X120,  120X80",350.4,"1-ZE-01","2019-10-02","SZT"]
["31994","ZENERGY - ŁĄCZNIK SZYNY 2X10X50,  50X60",131.30000000000001,"1-ZE-01","2019-10-02","SZT"]
["31995","ZENERGY - ŁĄCZNIK SZYNY 2X10X60,  60X60",150.1,"1-ZE-01","2019-10-02","SZT"]
["31996","ZENERGY - ŁĄCZNIK SZYNY 2X10X80,  80X60",187.7,"1-ZE-01","2019-10-02","SZT"]
["31997","ZENERGY - ŁĄCZNIK SZYNY 2X10X100,  100X80",294,"1-ZE-01","2019-10-02","SZT"]
["31998","ZENERGY - ŁĄCZNIK SZYNY 2X10X120,  120X80",350.4,"1-ZE-01","2019-10-02","SZT"]
["31999","ZENERGY - ETYKIETA SAMOPRZYLEPNA ZAKAZU",12.8,"1-ZE-01","2021-12-01","SZT"]
["32000","ZENERGY - SZYNA APARATURY MODUŁOWEJ TS-35, W400, 10 MOD, KOMPLETNA",26.6,"1-ZE-01","2019-10-02","SZT"]
["32001","ZENERGY - SZYNA APARATURY MODUŁOWEJ TS-35, PROSTA, KORYTKO KABLOWE MONTOWANE Z TYŁU, W400, 10 MOD, KOMPLETNA",25.5,"1-ZE-01","2019-10-02","SZT"]
["32002","ZENERGY OU - SZYNA APARATURY MODUŁOWEJ TS-35, W350, D180, 10 MOD, KOMPLETNA",19.3,"1-ZE-01","2019-10-02","SZT"]
["32003","ZENERGY OU - SZYNA APARATURY MODUŁOWEJ TS-35, W350, D230, 10 MOD, KOMPLETNA",20.5,"1-ZE-01","2019-10-02","SZT"]
["32004","ZENERGY OU - SZYNA APARATURY MODUŁOWEJ TS-35, W350, D250, 10 MOD, KOMPLETNA",20.5,"1-ZE-01","2019-10-02","SZT"]
["32005","ZENERGY - SZYNA APARATURY MODUŁOWEJ TS-35, W400, 10 MOD, REGULOWANA, BEZ WSPORNIKÓW",35.9,"1-ZE-01","2019-10-02","SZT"]
["32006","ZENERGY OU - SZYNA APARATURY MODUŁOWEJ TS-35, W350, D300, 10 MOD, KOMPLETNA",21.7,"1-ZE-01","2019-10-02","SZT"]
["32007","ZENERGY OU - SZYNA APARATURY MODUŁOWEJ TS-35, W350, D180-250, 10 MOD, REGULOWANA KOMPLETNA",32.5,"1-ZE-01","2019-10-02","SZT"]
["32008","ZENERGY - SZYNA APARATURY MODUŁOWEJ TS-35, PROSTA, KORYTKO KABLOWE MONTOWANE Z PRZODU, W400, 10 MOD, KOMPLETNA",25.5,"1-ZE-01","2020-12-03","SZT"]
["32010","ZENERGY - OSŁONA CZOŁOWA PEŁNA W400, 1M / 250",31.2,"1-ZE-01","2019-10-02","SZT"]
["32012","ZENERGY - ZESTAW OŚWIETLENIA ROZDZIELNICY W650, z osłonami czołowymi",318.8,"1-ZE-01","2019-10-02","SZT"]
["32013","ZENERGY - ZESTAW OŚWIETLENIA ROZDZIELNICY W850, z osłonami czołowymi",343,"1-ZE-01","2019-10-02","SZT"]
["32015","ZENERGY - ZESTAW OŚWIETLENIA ROZDZIELNICY W650, bez osłon czołowych",295.2,"1-ZE-01","2021-12-01","SZT"]
["32016","ZENERGY - ZESTAW OŚWIETLENIA ROZDZIELNICY W850, bez osłon czołowych",317.5,"1-ZE-01","2021-12-01","SZT"]
["32020","ZENERGY - OSŁONA CZOŁOWA PEŁNA W400, 2M / 250",34.299999999999997,"1-ZE-01","2019-10-02","SZT"]
["32025","ZENERGY - OSŁONA APARATURY MODUŁOWEJ W400, 2M / 250, 10 MOD",34.299999999999997,"1-ZE-01","2019-10-02","SZT"]
["32028","ZENERGY - OSŁONA CZOŁOWA PERFOROWANA W400, 2M / 250",40.1,"1-ZE-01","2019-10-02","SZT"]
["32030","ZENERGY - OSŁONA CZOŁOWA PEŁNA W400, 3M / 250",35.6,"1-ZE-01","2019-10-02","SZT",305]
["32031","ZENERGY - OSŁONA CZOŁOWA W400, 3M / 250, OTW. 92X92",37.6,"1-ZE-01","2019-10-02","SZT"]
["32032","ZENERGY - OSŁONA CZOŁOWA WGŁĘBIONA, W400, 3M / 250",129.1,"1-ZE-01","2019-10-02","SZT"]
["32035","ZENERGY - OSŁONA APARATURY MODUŁOWEJ W400, 3M / 250, 10 MOD",36.299999999999997,"1-ZE-01","2019-10-02","SZT"]
["32038","ZENERGY - OSŁONA CZOŁOWA PERFOROWANA W400, 3M / 250",41.8,"1-ZE-01","2019-10-02","SZT"]
["32039","ZENERGY - OSŁONA CZOŁOWA PRZEŹROCZYSTA W400, 3M / 250",126.5,"1-ZE-01","2019-10-02","SZT"]
["32040","ZENERGY - OSŁONA CZOŁOWA PEŁNA W400, 4M / 250",39,"1-ZE-01","2019-10-02","SZT"]
["32042","ZENERGY - OSŁONA CZOŁOWA WGŁĘBIONA, W400, 4M / 250",131.19999999999999,"1-ZE-01","2019-10-02","SZT"]
["32045","ZENERGY - OSŁONA APARATURY MODUŁOWEJ W400, 4M / 250, 10 MOD",40.1,"1-ZE-01","2019-10-02","SZT"]
["32046","ZENERGY - OSŁONA APARATURY MODUŁOWEJ, OTWÓR PRZESUNIĘTY W400, 4M / 250, 10 MOD",39.299999999999997,"1-ZE-01","2019-10-02","SZT"]
["32048","ZENERGY - OSŁONA CZOŁOWA PERFOROWANA W400, 4M / 250",45.2,"1-ZE-01","2019-10-02","SZT",null,82.8]
["32049","ZENERGY - OSŁONA CZOŁOWA PRZEŹROCZYSTA W400, 4M / 250",133.1,"1-ZE-01","2019-10-02","SZT"]
["32050","ZENERGY - OSŁONA CZOŁOWA PEŁNA W400, 5M / 250",42.2,"1-ZE-01","2019-10-02","SZT"]
["32052","ZENERGY - OSŁONA CZOŁOWA WGŁĘBIONA, W400, 5M / 250",134.1,"1-ZE-01","2019-10-02","SZT"]
["32055","ZENERGY - OSŁONA APARATURY MODUŁOWEJ W400, 5M / 250, 10 MOD",45.7,"1-ZE-01","2019-10-02","SZT"]
["32056","ZENERGY - OSŁONA APARATURY MODUŁOWEJ, OTWÓR PRZESUNIĘTY W400, 5M / 250, 10 MOD",45.7,"1-ZE-01","2019-10-02","SZT"]
["32058","ZENERGY - OSŁONA CZOŁOWA PERFOROWANA W400, 5M / 250",48.5,"1-ZE-01","2019-10-02","SZT"]
["32059","ZENERGY - OSŁONA CZOŁOWA PRZEŹROCZYSTA W400, 6M / 250",142.9,"1-ZE-01","2019-10-02","SZT"]
["32060","ZENERGY - OSŁONA CZOŁOWA PEŁNA W400, 6M / 250",43.7,"1-ZE-01","2019-10-02","SZT"]
["32062","ZENERGY - OSŁONA CZOŁOWA WGŁĘBIONA, W400, 6M / 250",136.4,"1-ZE-01","2019-10-02","SZT"]
["32068","ZENERGY - OSŁONA CZOŁOWA PERFOROWANA W400, 6M / 250",50.3,"1-ZE-01","2019-10-02","SZT"]
["32069","ZENERGY - OSŁONA CZOŁOWA PRZEŹROCZYSTA W400, 8M / 250",152.6,"1-ZE-01","2019-10-02","SZT"]
["32070","ZENERGY - OSŁONA CZOŁOWA PEŁNA W400, 7M / 250",62.5,"1-ZE-01","2019-10-02","SZT"]
["32079","ZENERGY - OSŁONA CZOŁOWA PRZEŹROCZYSTA W400, 9M / 250",158.80000000000001,"1-ZE-01","2019-10-02","SZT"]
["32080","ZENERGY - OSŁONA CZOŁOWA PEŁNA W400, 8M / 250",67.3,"1-ZE-01","2019-10-02","SZT"]
["32089","ZENERGY - OSŁONA CZOŁOWA PRZEŹROCZYSTA W400, 10M / 250",164.2,"1-ZE-01","2019-10-02","SZT"]
["32090","ZENERGY - OSŁONA CZOŁOWA PEŁNA W400, 9M / 250",70.3,"1-ZE-01","2019-10-02","SZT"]
["32091","ZENERGY - OSŁONA CZOŁOWA PEŁNA W400, 10M / 250",72,"1-ZE-01","2019-10-02","SZT"]
["32092","ZENERGY - OSŁONA CZOŁOWA PEŁNA W400, 11M / 250",75.099999999999994,"1-ZE-01","2019-10-02","SZT"]
["32093","ZENERGY - OSŁONA CZOŁOWA PEŁNA W400, 12M / 250",78.2,"1-ZE-01","2019-10-02","SZT"]
["32099","ZENERGY - OSŁONA CZOŁOWA PRZEŹROCZYSTA W400, 12M / 250",172.4,"1-ZE-01","2019-10-02","SZT"]
["32100","ZENERGY - SZYNA APARATURY MODUŁOWEJ TS-35, W1000, 43 MOD, KOMPLETNA",37.6,"1-ZE-01","2019-10-02","SZT"]
["32101","ZENERGY - SZYNA APARATURY MODUŁOWEJ TS-35, PROSTA, KORYTKO KABLOWE MONTOWANE Z TYŁU, W1000, 43 MOD, KOMPLETNA",36.200000000000003,"1-ZE-01","2019-10-02","SZT"]
["32105","ZENERGY - SZYNA APARATURY MODUŁOWEJ TS-35, W1000, 43 MOD, REGULOWANA, BEZ WSPORNIKÓW",50.1,"1-ZE-01","2019-10-02","SZT"]
["32108","ZENERGY - SZYNA APARATURY MODUŁOWEJ TS-35, PROSTA, KORYTKO KABLOWE MONTOWANE Z PRZODU, W1000, 43 MOD, KOMPLETNA",36.200000000000003,"1-ZE-01","2020-12-03","SZT"]
["32110","ZENERGY - OSŁONA CZOŁOWA PEŁNA W1000, 1M / 850",45.4,"1-ZE-01","2019-10-02","SZT"]
["32120","ZENERGY - OSŁONA CZOŁOWA PEŁNA W1000, 2M / 850",51.6,"1-ZE-01","2019-10-02","SZT"]
["32125","ZENERGY - OSŁONA APARATURY MODUŁOWEJ W1000, 2M / 850, 43 MOD",51.6,"1-ZE-01","2019-10-02","SZT"]
["32128","ZENERGY - OSŁONA CZOŁOWA PERFOROWANA W1000, 2M / 850",57.5,"1-ZE-01","2019-10-02","SZT"]
["32130","ZENERGY - OSŁONA CZOŁOWA PEŁNA W1000, 3M / 850",59.5,"1-ZE-01","2019-10-02","SZT"]
["32135","ZENERGY - OSŁONA APARATURY MODUŁOWEJ W1000, 3M / 850, 43 MOD",59.5,"1-ZE-01","2019-10-02","SZT"]
["32138","ZENERGY - OSŁONA CZOŁOWA PERFOROWANA W1000, 3M / 850",67.400000000000006,"1-ZE-01","2019-10-02","SZT"]
["32139","ZENERGY - OSŁONA CZOŁOWA PRZEŹROCZYSTA W1000, 3M / 850",193.8,"1-ZE-01","2019-10-02","SZT"]
["32140","ZENERGY - OSŁONA CZOŁOWA PEŁNA W1000, 4M / 850",67.3,"1-ZE-01","2019-10-02","SZT"]
["32145","ZENERGY - OSŁONA APARATURY MODUŁOWEJ W1000, 4M / 850, 43 MOD",67.3,"1-ZE-01","2019-10-02","SZT"]
["32148","ZENERGY - OSŁONA CZOŁOWA PERFOROWANA W1000, 4M / 850",77.3,"1-ZE-01","2019-10-02","SZT"]
["32150","ZENERGY - OSŁONA CZOŁOWA PEŁNA W1000, 5M / 850",73.5,"1-ZE-01","2019-10-02","SZT"]
["32155","ZENERGY - OSŁONA APARATURY MODUŁOWEJ W1000, 5M / 850, 43 MOD",73.5,"1-ZE-01","2019-10-02","SZT"]
["32158","ZENERGY - OSŁONA CZOŁOWA PERFOROWANA W1000, 5M / 850",83.7,"1-ZE-01","2019-10-02","SZT"]
["32160","ZENERGY - OSŁONA CZOŁOWA PEŁNA W1000, 6M / 850",79.7,"1-ZE-01","2019-10-02","SZT"]
["32168","ZENERGY - OSŁONA CZOŁOWA PERFOROWANA W1000, 6M / 850",90.4,"1-ZE-01","2019-10-02","SZT"]
["32170","ZENERGY - OSŁONA CZOŁOWA PEŁNA W1000, 7M / 850",99,"1-ZE-01","2021-12-01","SZT"]
["32180","ZENERGY - OSŁONA CZOŁOWA PEŁNA W1000, 8M / 850",118.8,"1-ZE-01","2019-10-02","SZT"]
["32190","ZENERGY - OSŁONA CZOŁOWA PEŁNA W1000, 9M / 850",125.1,"1-ZE-01","2019-10-02","SZT"]
["32191","ZENERGY - OSŁONA CZOŁOWA PEŁNA W1000, 10M / 850",129.80000000000001,"1-ZE-01","2019-10-02","SZT"]
["32192","ZENERGY - OSŁONA CZOŁOWA PEŁNA W1000, 11M / 850",135.80000000000001,"1-ZE-01","2021-12-01","SZT"]
["32193","ZENERGY - OSŁONA CZOŁOWA PEŁNA W1000, 12M / 850",144,"1-ZE-01","2019-10-02","SZT"]
["32210","ZENERGY - POKRYWA GÓRNA IP43, W1000, D230, WENTYLACJA",256.5,"1-ZE-01","2019-10-02","SZT"]
["32211","ZENERGY - POKRYWA GÓRNA IP43, W650+400, D230, WENTYLACJA",261.3,"1-ZE-01","2019-10-02","SZT"]
["32212","ZENERGY - POKRYWA GÓRNA IP43, W1200, D230, WENTYLACJA",274.2,"1-ZE-01","2019-10-02","SZT"]
["32213","ZENERGY - POKRYWA GÓRNA IP43, W1300, D230, WENTYLACJA",282.10000000000002,"1-ZE-01","2019-10-02","SZT"]
["32215","ZENERGY - POKRYWA GÓRNA IP43, W650+450, D230, WENTYLACJA",264.5,"1-ZE-01","2019-10-02","SZT"]
["32218","ZENERGY - POKRYWA GÓRNA IP43, W850+300, D230, WENTYLACJA",269.39999999999998,"1-ZE-01","2019-10-02","SZT"]
["32219","ZENERGY - POKRYWA GÓRNA IP43, W850+400, D230, WENTYLACJA",277.3,"1-ZE-01","2019-10-02","SZT"]
["32220","ZENERGY - POKRYWA GÓRNA IP43, W850+450, D230, WENTYLACJA",282.10000000000002,"1-ZE-01","2019-10-02","SZT"]
["32221","ZENERGY - POKRYWA GÓRNA IP43, W150+650+400, D230, WENTYLACJA",274.2,"1-ZE-01","2019-10-02","SZT"]
["32222","ZENERGY - POKRYWA GÓRNA IP43, W150+650+300, D230, WENTYLACJA",264.5,"1-ZE-01","2019-10-02","SZT"]
["32227","ZENERGY - POKRYWA GÓRNA IP43, W150+850+300, D230, WENTYLACJA",282.10000000000002,"1-ZE-01","2019-10-02","SZT"]
["32228","ZENERGY - POKRYWA GÓRNA IP43, W150+850+400, D230, WENTYLACJA",290.3,"1-ZE-01","2019-10-02","SZT"]
["32230","ZENERGY - POKRYWA GÓRNA IP43, W300, D230, WENTYLACJA",200.3,"1-ZE-01","2019-10-02","SZT"]
["32232","ZENERGY - POKRYWA GÓRNA IP43, W200+650+300, D230, WENTYLACJA",269.39999999999998,"1-ZE-01","2019-10-02","SZT"]
["32233","ZENERGY - POKRYWA GÓRNA IP43, W200+650+400, D230, WENTYLACJA",277.3,"1-ZE-01","2019-10-02","SZT"]
["32240","ZENERGY - POKRYWA GÓRNA IP43, W400, D230, WENTYLACJA",208.5,"1-ZE-01","2019-10-02","SZT"]
["32245","ZENERGY - POKRYWA GÓRNA IP43, W450, D230, WENTYLACJA",213.2,"1-ZE-01","2019-10-02","SZT"]
["32260","ZENERGY - POKRYWA GÓRNA IP43, W600, D230, WENTYLACJA",224.4,"1-ZE-01","2019-10-02","SZT"]
["32265","ZENERGY - POKRYWA GÓRNA IP43, W650, D230, WENTYLACJA",229.2,"1-ZE-01","2019-10-02","SZT"]
["32266","ZENERGY - POKRYWA GÓRNA IP43, W450+200, D230, WENTYLACJA",229.2,"1-ZE-01","2019-10-02","SZT"]
["32271","ZENERGY - POKRYWA GÓRNA IP43, W300+400, D230, WENTYLACJA",232.5,"1-ZE-01","2019-10-02","SZT"]
["32276","ZENERGY - POKRYWA GÓRNA IP43, W300+450, D230, WENTYLACJA",237.3,"1-ZE-01","2019-10-02","SZT"]
["32280","ZENERGY - POKRYWA GÓRNA IP43, W800, D230, WENTYLACJA",240.5,"1-ZE-01","2019-10-02","SZT"]
["32281","ZENERGY - POKRYWA GÓRNA IP43, W650+150, D230, WENTYLACJA",240.5,"1-ZE-01","2019-10-02","SZT"]
["32285","ZENERGY - POKRYWA GÓRNA IP43, W850, D230, WENTYLACJA",245.2,"1-ZE-01","2019-10-02","SZT"]
["32286","ZENERGY - POKRYWA GÓRNA IP43, W650+200, D230, WENTYLACJA",245.2,"1-ZE-01","2019-10-02","SZT"]
["32291","ZENERGY - POKRYWA GÓRNA IP43, W450+450, D230, WENTYLACJA",248.4,"1-ZE-01","2019-10-02","SZT"]
["32295","ZENERGY - POKRYWA GÓRNA IP43, W650+300, D230, WENTYLACJA",253.2,"1-ZE-01","2019-10-02","SZT"]
["32310","ZENERGY - POKRYWA GÓRNA IP43, W1000, D300, WENTYLACJA",349.5,"1-ZE-01","2019-10-02","SZT"]
["32311","ZENERGY - POKRYWA GÓRNA IP43, W650+400, D300, WENTYLACJA",357.5,"1-ZE-01","2019-10-02","SZT"]
["32312","ZENERGY - POKRYWA GÓRNA IP43, W1200, D300, WENTYLACJA",383.2,"1-ZE-01","2019-10-02","SZT"]
["32313","ZENERGY - POKRYWA GÓRNA IP43, W1300, D300, WENTYLACJA",399.2,"1-ZE-01","2019-10-02","SZT"]
["32315","ZENERGY - POKRYWA GÓRNA IP43, W650+450, D300, WENTYLACJA",365.5,"1-ZE-01","2019-10-02","SZT"]
["32318","ZENERGY - POKRYWA GÓRNA IP43, W850+300, D300, WENTYLACJA",373.6,"1-ZE-01","2019-10-02","SZT"]
["32319","ZENERGY - POKRYWA GÓRNA IP43, W850+400, D300, WENTYLACJA",391.1,"1-ZE-01","2019-10-02","SZT"]
["32320","ZENERGY - POKRYWA GÓRNA IP43, W850+450, D300, WENTYLACJA",399.2,"1-ZE-01","2019-10-02","SZT"]
["32321","ZENERGY - POKRYWA GÓRNA IP43, W150+650+400, D300, WENTYLACJA",383.2,"1-ZE-01","2019-10-02","SZT"]
["32322","ZENERGY - POKRYWA GÓRNA IP43, W150+650+300, D300, WENTYLACJA",365.5,"1-ZE-01","2019-10-02","SZT"]
["32327","ZENERGY - POKRYWA GÓRNA IP43, W150+850+300, D300, WENTYLACJA",399.2,"1-ZE-01","2019-10-02","SZT"]
["32328","ZENERGY - POKRYWA GÓRNA IP43, W150+850+400, D300, WENTYLACJA",415.3,"1-ZE-01","2019-10-02","SZT"]
["32330","ZENERGY - POKRYWA GÓRNA IP43, W300, D300, WENTYLACJA",233.9,"1-ZE-01","2019-10-02","SZT"]
["32332","ZENERGY - POKRYWA GÓRNA IP43, W200+650+300, D300, WENTYLACJA",373.6,"1-ZE-01","2019-10-02","SZT"]
["32333","ZENERGY - POKRYWA GÓRNA IP43, W200+650+400, D300, WENTYLACJA",391.1,"1-ZE-01","2019-10-02","SZT"]
["32340","ZENERGY - POKRYWA GÓRNA IP43, W400, D300, WENTYLACJA",250.1,"1-ZE-01","2019-10-02","SZT"]
["32345","ZENERGY - POKRYWA GÓRNA IP43, W450, D300, WENTYLACJA",258.10000000000002,"1-ZE-01","2019-10-02","SZT"]
["32360","ZENERGY - POKRYWA GÓRNA IP43, W600, D300, WENTYLACJA",283.8,"1-ZE-01","2019-10-02","SZT"]
["32365","ZENERGY - POKRYWA GÓRNA IP43, W650, D300, WENTYLACJA",291.7,"1-ZE-01","2019-10-02","SZT"]
["32366","ZENERGY - POKRYWA GÓRNA IP43, W450+200, D300, WENTYLACJA",291.7,"1-ZE-01","2019-10-02","SZT"]
["32371","ZENERGY - POKRYWA GÓRNA IP43, W300+400, D300, WENTYLACJA",299.89999999999998,"1-ZE-01","2019-10-02","SZT"]
["32376","ZENERGY - POKRYWA GÓRNA IP43, W300+450, D300, WENTYLACJA",307.8,"1-ZE-01","2019-10-02","SZT"]
["32380","ZENERGY - POKRYWA GÓRNA IP43, W800, D300, WENTYLACJA",315.8,"1-ZE-01","2019-10-02","SZT"]
["32381","ZENERGY - POKRYWA GÓRNA IP43, W650+150, D300, WENTYLACJA",315.8,"1-ZE-01","2019-10-02","SZT"]
["32385","ZENERGY - POKRYWA GÓRNA IP43, W850, D300, WENTYLACJA",325.39999999999998,"1-ZE-01","2019-10-02","SZT"]
["32386","ZENERGY - POKRYWA GÓRNA IP43, W650+200, D300, WENTYLACJA",325.39999999999998,"1-ZE-01","2019-10-02","SZT"]
["32391","ZENERGY - POKRYWA GÓRNA IP43, W450+450, D300, WENTYLACJA",333.5,"1-ZE-01","2019-10-02","SZT"]
["32395","ZENERGY - POKRYWA GÓRNA IP43, W650+300, D300, WENTYLACJA",341.4,"1-ZE-01","2019-10-02","SZT"]
["32410","ZENERGY - POKRYWA GÓRNA IP43, W1000, D400, WENTYLACJA",354.3,"1-ZE-01","2019-10-02","SZT"]
["32411","ZENERGY - POKRYWA GÓRNA IP43, W650+400, D400, WENTYLACJA",362.4,"1-ZE-01","2019-10-02","SZT"]
["32412","ZENERGY - POKRYWA GÓRNA IP43, W1200, D400, WENTYLACJA",386.4,"1-ZE-01","2019-10-02","SZT"]
["32413","ZENERGY - POKRYWA GÓRNA IP43, W1300, D400, WENTYLACJA",402.3,"1-ZE-01","2019-10-02","SZT"]
["32415","ZENERGY - POKRYWA GÓRNA IP43, W650+450, D400, WENTYLACJA",370.3,"1-ZE-01","2019-10-02","SZT"]
["32418","ZENERGY - POKRYWA GÓRNA IP43, W850+300, D400, WENTYLACJA",378.3,"1-ZE-01","2019-10-02","SZT"]
["32419","ZENERGY - POKRYWA GÓRNA IP43, W850+400, D400, WENTYLACJA",394.4,"1-ZE-01","2019-10-02","SZT"]
["32420","ZENERGY - POKRYWA GÓRNA IP43, W850+450, D400, WENTYLACJA",402.3,"1-ZE-01","2019-10-02","SZT"]
["32421","ZENERGY - POKRYWA GÓRNA IP43, W150+650+400, D400, WENTYLACJA",386.4,"1-ZE-01","2019-10-02","SZT"]
["32422","ZENERGY - POKRYWA GÓRNA IP43, W150+650+300, D400, WENTYLACJA",370.3,"1-ZE-01","2019-10-02","SZT"]
["32427","ZENERGY - POKRYWA GÓRNA IP43, W150+850+300, D400, WENTYLACJA",402.3,"1-ZE-01","2019-10-02","SZT"]
["32428","ZENERGY - POKRYWA GÓRNA IP43, W150+850+400, D400, WENTYLACJA",418.5,"1-ZE-01","2019-10-02","SZT"]
["32430","ZENERGY - POKRYWA GÓRNA IP43, W300, D400, WENTYLACJA",240.5,"1-ZE-01","2019-10-02","SZT"]
["32432","ZENERGY - POKRYWA GÓRNA IP43, W200+650+300, D400, WENTYLACJA",378.3,"1-ZE-01","2019-10-02","SZT"]
["32433","ZENERGY - POKRYWA GÓRNA IP43, W200+650+400, D400, WENTYLACJA",394.4,"1-ZE-01","2019-10-02","SZT"]
["32440","ZENERGY - POKRYWA GÓRNA IP43, W400, D400, WENTYLACJA",256.5,"1-ZE-01","2019-10-02","SZT"]
["32445","ZENERGY - POKRYWA GÓRNA IP43, W450, D400, WENTYLACJA",264.5,"1-ZE-01","2019-10-02","SZT"]
["32460","ZENERGY - POKRYWA GÓRNA IP43, W600, D400, WENTYLACJA",288.7,"1-ZE-01","2019-10-02","SZT"]
["32465","ZENERGY - POKRYWA GÓRNA IP43, W650, D400, WENTYLACJA",296.5,"1-ZE-01","2019-10-02","SZT"]
["32466","ZENERGY - POKRYWA GÓRNA IP43, W450+200, D400, WENTYLACJA",296.5,"1-ZE-01","2019-10-02","SZT"]
["32471","ZENERGY - POKRYWA GÓRNA IP43, W300+400, D400, WENTYLACJA",304.7,"1-ZE-01","2019-10-02","SZT"]
["32476","ZENERGY - POKRYWA GÓRNA IP43, W300+450, D400, WENTYLACJA",314.3,"1-ZE-01","2019-10-02","SZT"]
["32480","ZENERGY - POKRYWA GÓRNA IP43, W800, D400, WENTYLACJA",322.2,"1-ZE-01","2019-10-02","SZT"]
["32481","ZENERGY - POKRYWA GÓRNA IP43, W650+150, D400, WENTYLACJA",322.2,"1-ZE-01","2019-10-02","SZT"]
["32485","ZENERGY - POKRYWA GÓRNA IP43, W850, D400, WENTYLACJA",330.1,"1-ZE-01","2019-10-02","SZT"]
["32486","ZENERGY - POKRYWA GÓRNA IP43, W650+200, D400, WENTYLACJA",330.1,"1-ZE-01","2019-10-02","SZT"]
["32491","ZENERGY - POKRYWA GÓRNA IP43, W450+450, D400, WENTYLACJA",338.4,"1-ZE-01","2019-10-02","SZT"]
["32495","ZENERGY - POKRYWA GÓRNA IP43, W650+300, D400, WENTYLACJA",346.3,"1-ZE-01","2019-10-02","SZT"]
["32500","ZENERGY - SZYNA APARATURY MODUŁOWEJ TS-35, W450, 13 MOD, KOMPLETNA",28.1,"1-ZE-01","2019-10-02","SZT"]
["32501","ZENERGY - SZYNA APARATURY MODUŁOWEJ TS-35, PROSTA, KORYTKO KABLOWE MONTOWANE Z TYŁU, W450, 13 MOD, KOMPLETNA",26.9,"1-ZE-01","2019-10-02","SZT"]
["32502","ZENERGY OU - SZYNA APARATURY MODUŁOWEJ TS-35, W400, D180, 13 MOD, KOMPLETNA",19.3,"1-ZE-01","2019-10-02","SZT"]
["32503","ZENERGY OU - SZYNA APARATURY MODUŁOWEJ TS-35, W400, D230, 13 MOD, KOMPLETNA",20.5,"1-ZE-01","2019-10-02","SZT"]
["32504","ZENERGY OU - SZYNA APARATURY MODUŁOWEJ TS-35, W400, D250, 13 MOD, KOMPLETNA",20.5,"1-ZE-01","2019-10-02","SZT"]
["32505","ZENERGY - SZYNA APARATURY MODUŁOWEJ TS-35, W450, 13 MOD, REGULOWANA, BEZ WSPORNIKÓW",37.6,"1-ZE-01","2019-10-02","SZT"]
["32506","ZENERGY OU - SZYNA APARATURY MODUŁOWEJ TS-35, W400, D300, 13 MOD, KOMPLETNA",21.7,"1-ZE-01","2019-10-02","SZT"]
["32507","ZENERGY OU - SZYNA APARATURY MODUŁOWEJ TS-35, W400, D180-250, 13 MOD, REGULOWANA KOMPLETNA",32.5,"1-ZE-01","2019-10-02","SZT"]
["32508","ZENERGY - SZYNA APARATURY MODUŁOWEJ TS-35, PROSTA, KORYTKO KABLOWE MONTOWANE Z PRZODU, W450, 13 MOD, KOMPLETNA",26.9,"1-ZE-01","2020-12-03","SZT"]
["32510","ZENERGY - OSŁONA CZOŁOWA PEŁNA W450, 1M / 300",33,"1-ZE-01","2019-10-02","SZT"]
["32520","ZENERGY - OSŁONA CZOŁOWA PEŁNA W450, 2M / 300",34.299999999999997,"1-ZE-01","2019-10-02","SZT"]
["32525","ZENERGY - OSŁONA APARATURY MODUŁOWEJ W450, 2M / 300, 13 MOD",34.299999999999997,"1-ZE-01","2019-10-02","SZT"]
["32528","ZENERGY - OSŁONA CZOŁOWA PERFOROWANA W450, 2M / 300",41.8,"1-ZE-01","2019-10-02","SZT"]
["32530","ZENERGY - OSŁONA CZOŁOWA PEŁNA W450, 3M / 300",35.6,"1-ZE-01","2019-10-02","SZT"]
["32531","ZENERGY - OSŁONA CZOŁOWA W450, 3M / 300, OTW. 92X92",38.5,"1-ZE-01","2019-10-02","SZT"]
["32532","ZENERGY - OSŁONA CZOŁOWA WGŁĘBIONA, W450, 3M / 300",137.9,"1-ZE-01","2019-10-02","SZT"]
["32535","ZENERGY - OSŁONA APARATURY MODUŁOWEJ W450, 3M / 300, 13 MOD",35.6,"1-ZE-01","2019-10-02","SZT"]
["32538","ZENERGY - OSŁONA CZOŁOWA PERFOROWANA W450, 3M / 300",45.2,"1-ZE-01","2019-10-02","SZT"]
["32539","ZENERGY - OSŁONA CZOŁOWA PRZEŹROCZYSTA W450, 3M / 300",133.1,"1-ZE-01","2019-10-02","SZT"]
["32540","ZENERGY - OSŁONA CZOŁOWA PEŁNA W450, 4M / 300",39.299999999999997,"1-ZE-01","2019-10-02","SZT"]
["32541","ZENERGY - OSŁONA CZOŁOWA W450, 4M / 300, OTW. 92X92",42.2,"1-ZE-01","2019-10-02","SZT"]
["32542","ZENERGY - OSŁONA CZOŁOWA WGŁĘBIONA, W450, 4M / 300",140.6,"1-ZE-01","2019-10-02","SZT"]
["32545","ZENERGY - OSŁONA APARATURY MODUŁOWEJ W450, 4M / 300, 13 MOD",39.299999999999997,"1-ZE-01","2019-10-02","SZT"]
["32546","ZENERGY - OSŁONA APARATURY MODUŁOWEJ, OTWÓR PRZESUNIĘTY W450, 4M / 300, 13 MOD",39.299999999999997,"1-ZE-01","2019-10-02","SZT"]
["32548","ZENERGY - OSŁONA CZOŁOWA PERFOROWANA W450, 4M / 300",48.5,"1-ZE-01","2019-10-02","SZT"]
["32549","ZENERGY - OSŁONA CZOŁOWA PRZEŹROCZYSTA W450, 4M / 300",139.6,"1-ZE-01","2019-10-02","SZT"]
["32550","ZENERGY - OSŁONA CZOŁOWA PEŁNA W450, 5M / 300",43.7,"1-ZE-01","2019-10-02","SZT"]
["32551","ZENERGY - OSŁONA CZOŁOWA W450, 5M / 300, OTW. 92X92",46.8,"1-ZE-01","2019-10-02","SZT"]
["32552","ZENERGY - OSŁONA CZOŁOWA WGŁĘBIONA, W450, 5M / 300",143.5,"1-ZE-01","2019-10-02","SZT"]
["32555","ZENERGY - OSŁONA APARATURY MODUŁOWEJ W450, 5M / 300, 13 MOD",48.2,"1-ZE-01","2019-10-02","SZT"]
["32556","ZENERGY - OSŁONA APARATURY MODUŁOWEJ, OTWÓR PRZESUNIĘTY W450, 5M / 300, 13 MOD",48.2,"1-ZE-01","2019-10-02","SZT"]
["32558","ZENERGY - OSŁONA CZOŁOWA PERFOROWANA W450, 5M / 300",50.3,"1-ZE-01","2019-10-02","SZT"]
["32559","ZENERGY - OSŁONA CZOŁOWA PRZEŹROCZYSTA W450, 6M / 300",149.4,"1-ZE-01","2019-10-02","SZT"]
["32560","ZENERGY - OSŁONA CZOŁOWA PEŁNA W450, 6M / 300",45.4,"1-ZE-01","2019-10-02","SZT"]
["32562","ZENERGY - OSŁONA CZOŁOWA WGŁĘBIONA, W450, 6M / 300",146.9,"1-ZE-01","2019-10-02","SZT"]
["32568","ZENERGY - OSŁONA CZOŁOWA PERFOROWANA W450, 6M / 300",53.6,"1-ZE-01","2019-10-02","SZT"]
["32569","ZENERGY - OSŁONA CZOŁOWA PRZEŹROCZYSTA W450, 8M / 300",162.6,"1-ZE-01","2019-10-02","SZT"]
["32570","ZENERGY - OSŁONA CZOŁOWA PEŁNA W450, 7M / 300",67.3,"1-ZE-01","2019-10-02","SZT"]
["32578","ZENERGY - OSŁONA CZOŁOWA PERFOROWANA W450, 7M / 300",76.2,"1-ZE-01","2021-12-01","SZT"]
["32579","ZENERGY - OSŁONA CZOŁOWA PRZEŹROCZYSTA W450, 9M / 300",167.3,"1-ZE-01","2019-10-02","SZT"]
["32580","ZENERGY - OSŁONA CZOŁOWA PEŁNA W450, 8M / 300",70.3,"1-ZE-01","2019-10-02","SZT"]
["32589","ZENERGY - OSŁONA CZOŁOWA PRZEŹROCZYSTA W450, 10M / 300",172.4,"1-ZE-01","2019-10-02","SZT"]
["32590","ZENERGY - OSŁONA CZOŁOWA PEŁNA W450, 9M / 300",73.5,"1-ZE-01","2019-10-02","SZT"]
["32591","ZENERGY - OSŁONA CZOŁOWA PEŁNA W450, 10M / 300",75.099999999999994,"1-ZE-01","2019-10-02","SZT"]
["32592","ZENERGY - OSŁONA CZOŁOWA PEŁNA W450, 11M / 300",79.7,"1-ZE-01","2019-10-02","SZT"]
["32593","ZENERGY - OSŁONA CZOŁOWA PEŁNA W450, 12M / 300",82.9,"1-ZE-01","2019-10-02","SZT"]
["32595","ZENERGY OM-VSD - OSŁONA APARATURY MODUŁOWEJ, UKŁAD PIONOWY W450, 9M / 300, 1X24 MOD",94.2,"1-ZE-01","2019-10-02","SZT"]
["32596","ZENERGY OM-VSD - OSŁONA APARATURY MODUŁOWEJ, UKŁAD PIONOWY W450, 10M / 300, 1X26 MOD",95.7,"1-ZE-01","2019-10-02","SZT"]
["32597","ZENERGY OM-VSD - OSŁONA APARATURY MODUŁOWEJ, UKŁAD PIONOWY W450, 11M / 300, 1X29 MOD",100.3,"1-ZE-01","2019-10-02","SZT"]
["32598","ZENERGY OM-VSD - OSŁONA APARATURY MODUŁOWEJ, UKŁAD PIONOWY W450, 12M / 300, 1X32 MOD",103.4,"1-ZE-01","2019-10-02","SZT"]
["32599","ZENERGY - OSŁONA CZOŁOWA PRZEŹROCZYSTA W450, 12M / 300",182.3,"1-ZE-01","2019-10-02","SZT"]
["32610","ZENERGY - POKRYWA GÓRNA IP43, W1000, D600, WENTYLACJA",388,"1-ZE-01","2019-10-02","SZT"]
["32611","ZENERGY - POKRYWA GÓRNA IP43, W650+400, D600, WENTYLACJA",397.6,"1-ZE-01","2019-10-02","SZT"]
["32612","ZENERGY - POKRYWA GÓRNA IP43, W1200, D600, WENTYLACJA",424.9,"1-ZE-01","2019-10-02","SZT"]
["32613","ZENERGY - POKRYWA GÓRNA IP43, W1300, D600, WENTYLACJA",444,"1-ZE-01","2019-10-02","SZT"]
["32615","ZENERGY - POKRYWA GÓRNA IP43, W650+450, D600, WENTYLACJA",405.6,"1-ZE-01","2019-10-02","SZT"]
["32618","ZENERGY - POKRYWA GÓRNA IP43, W850+300, D600, WENTYLACJA",415.3,"1-ZE-01","2019-10-02","SZT"]
["32619","ZENERGY - POKRYWA GÓRNA IP43, W850+400, D600, WENTYLACJA",434.5,"1-ZE-01","2019-10-02","SZT"]
["32620","ZENERGY - POKRYWA GÓRNA IP43, W850+450, D600, WENTYLACJA",444,"1-ZE-01","2019-10-02","SZT"]
["32621","ZENERGY - POKRYWA GÓRNA IP43, W150+650+400, D600, WENTYLACJA",424.9,"1-ZE-01","2019-10-02","SZT"]
["32622","ZENERGY - POKRYWA GÓRNA IP43, W150+650+300, D600, WENTYLACJA",405.6,"1-ZE-01","2019-10-02","SZT"]
["32627","ZENERGY - POKRYWA GÓRNA IP43, W150+850+300, D600, WENTYLACJA",444,"1-ZE-01","2019-10-02","SZT"]
["32628","ZENERGY - POKRYWA GÓRNA IP43, W150+850+400, D600, WENTYLACJA",461.7,"1-ZE-01","2019-10-02","SZT"]
["32630","ZENERGY - POKRYWA GÓRNA IP43, W300, D600, WENTYLACJA",256.5,"1-ZE-01","2019-10-02","SZT"]
["32632","ZENERGY - POKRYWA GÓRNA IP43, W200+650+300, D600, WENTYLACJA",415.3,"1-ZE-01","2019-10-02","SZT"]
["32633","ZENERGY - POKRYWA GÓRNA IP43, W200+650+400, D600, WENTYLACJA",434.5,"1-ZE-01","2019-10-02","SZT"]
["32640","ZENERGY - POKRYWA GÓRNA IP43, W400, D600, WENTYLACJA",275.7,"1-ZE-01","2019-10-02","SZT"]
["32645","ZENERGY - POKRYWA GÓRNA IP43, W450, D600, WENTYLACJA",285.39999999999998,"1-ZE-01","2019-10-02","SZT"]
["32660","ZENERGY - POKRYWA GÓRNA IP43, W600, D600, WENTYLACJA",312.60000000000002,"1-ZE-01","2019-10-02","SZT"]
["32665","ZENERGY - POKRYWA GÓRNA IP43, W650, D600, WENTYLACJA",322.2,"1-ZE-01","2019-10-02","SZT"]
["32666","ZENERGY - POKRYWA GÓRNA IP43, W450+200, D600, WENTYLACJA",322.2,"1-ZE-01","2019-10-02","SZT"]
["32671","ZENERGY - POKRYWA GÓRNA IP43, W300+400, D600, WENTYLACJA",331.9,"1-ZE-01","2019-10-02","SZT"]
["32676","ZENERGY - POKRYWA GÓRNA IP43, W300+450, D600, WENTYLACJA",341.4,"1-ZE-01","2019-10-02","SZT"]
["32680","ZENERGY - POKRYWA GÓRNA IP43, W800, D600, WENTYLACJA",349.5,"1-ZE-01","2019-10-02","SZT"]
["32681","ZENERGY - POKRYWA GÓRNA IP43, W650+150, D600, WENTYLACJA",349.5,"1-ZE-01","2019-10-02","SZT"]
["32685","ZENERGY - POKRYWA GÓRNA IP43, W850, D600, WENTYLACJA",359.1,"1-ZE-01","2019-10-02","SZT"]
["32686","ZENERGY - POKRYWA GÓRNA IP43, W650+200, D600, WENTYLACJA",359.1,"1-ZE-01","2019-10-02","SZT"]
["32691","ZENERGY - POKRYWA GÓRNA IP43, W450+450, D600, WENTYLACJA",368.7,"1-ZE-01","2019-10-02","SZT"]
["32695","ZENERGY - POKRYWA GÓRNA IP43, W650+300, D600, WENTYLACJA",378.3,"1-ZE-01","2019-10-02","SZT"]
["32700","ZENERGY - SZYNA APARATURY MODUŁOWEJ TS-35, W650, 24 MOD, KOMPLETNA",31.2,"1-ZE-01","2019-10-02","SZT"]
["32701","ZENERGY - SZYNA APARATURY MODUŁOWEJ TS-35, PROSTA, KORYTKO KABLOWE MONTOWANE Z TYŁU, W650, 24 MOD, KOMPLETNA",30.2,"1-ZE-01","2019-10-02","SZT"]
["32702","ZENERGY OU - SZYNA APARATURY MODUŁOWEJ TS-35, W600, D180, 24 MOD, KOMPLETNA",22.9,"1-ZE-01","2019-10-02","SZT"]
["32703","ZENERGY OU - SZYNA APARATURY MODUŁOWEJ TS-35, W600, D230, 24 MOD, KOMPLETNA",24,"1-ZE-01","2019-10-02","SZT"]
["32704","ZENERGY OU - SZYNA APARATURY MODUŁOWEJ TS-35, W600, D250, 24 MOD, KOMPLETNA",24,"1-ZE-01","2019-10-02","SZT"]
["32705","ZENERGY - SZYNA APARATURY MODUŁOWEJ TS-35, W650, 24 MOD, REGULOWANA, BEZ WSPORNIKÓW",42.2,"1-ZE-01","2019-10-02","SZT"]
["32706","ZENERGY OU - SZYNA APARATURY MODUŁOWEJ TS-35, W600, D300, 24 MOD, KOMPLETNA",25.3,"1-ZE-01","2019-10-02","SZT"]
["32707","ZENERGY OU - SZYNA APARATURY MODUŁOWEJ TS-35, W600, D180-250, 24 MOD, REGULOWANA KOMPLETNA",34.9,"1-ZE-01","2019-10-02","SZT"]
["32708","ZENERGY - SZYNA APARATURY MODUŁOWEJ TS-35, PROSTA, KORYTKO KABLOWE MONTOWANE Z PRZODU, W650, 24 MOD, KOMPLETNA",30.2,"1-ZE-01","2020-12-03","SZT"]
["32710","ZENERGY - OSŁONA CZOŁOWA PEŁNA W650, 1M / 500",33.299999999999997,"1-ZE-01","2019-10-02","SZT"]
["32713","ZENERGY IT - OSŁONA CZOŁOWA RACK 1U",30.1,"1-ZE-01","2021-12-01","SZT"]
["32714","ZENERGY - OSŁONA CZOŁOWA PERFOROWANA W650, 9M / 500",93.7,"1-ZE-01","2021-12-01","SZT"]
["32715","ZENERGY - OSŁONA CZOŁOWA PERFOROWANA W650, 10M / 500",105.5,"1-ZE-01","2021-12-01","SZT"]
["32716","ZENERGY - OSŁONA CZOŁOWA PERFOROWANA W650, 11M / 500",108.8,"1-ZE-01","2021-12-01","SZT"]
["32717","ZENERGY - OSŁONA CZOŁOWA PERFOROWANA W650, 12M / 500",113.8,"1-ZE-01","2021-12-01","SZT"]
["32718","ZENERGY - OSŁONA CZOŁOWA PERFOROWANA W650, 1M / 500",41.8,"1-ZE-01","2019-10-02","SZT"]
["32720","ZENERGY - OSŁONA CZOŁOWA PEŁNA W650, 2M / 500",33.4,"1-ZE-01","2019-10-02","SZT"]
["32723","ZENERGY IT - OSŁONA CZOŁOWA RACK 2U",33.4,"1-ZE-01","2021-12-01","SZT"]
["32725","ZENERGY - OSŁONA APARATURY MODUŁOWEJ W650, 2M / 500, 24 MOD",36.1,"1-ZE-01","2019-10-02","SZT"]
["32726","ZENERGY - OSŁONA APARATURY MODUŁOWEJ W650, 2.5M / 500, 24 MOD",40.200000000000003,"1-ZE-01","2019-10-02","SZT"]
["32728","ZENERGY - OSŁONA CZOŁOWA PERFOROWANA W650, 2M / 500",45.2,"1-ZE-01","2019-10-02","SZT"]
["32730","ZENERGY - OSŁONA CZOŁOWA PEŁNA W650, 3M / 500",33.700000000000003,"1-ZE-01","2019-10-02","SZT"]
["32731","ZENERGY - OSŁONA CZOŁOWA W650, 3M / 500, OTW. 92X92",50.5,"1-ZE-01","2019-10-02","SZT"]
["32732","ZENERGY - OSŁONA CZOŁOWA WGŁĘBIONA, W650, 3M / 500",160.4,"1-ZE-01","2019-10-02","SZT"]
["32733","ZENERGY IT - OSŁONA CZOŁOWA RACK 3U",36.700000000000003,"1-ZE-01","2019-10-02","SZT"]
["32735","ZENERGY - OSŁONA APARATURY MODUŁOWEJ W650, 3M / 500, 24 MOD",37.1,"1-ZE-01","2019-10-02","SZT"]
["32736","ZENERGY - OSŁONA APARATURY MODUŁOWEJ, OTWÓR PRZESUNIĘTY W650, 3.5M / 500, 24 MOD",42.7,"1-ZE-01","2019-10-02","SZT"]
["32738","ZENERGY - OSŁONA CZOŁOWA PERFOROWANA W650, 3M / 500",51.8,"1-ZE-01","2019-10-02","SZT"]
["32739","ZENERGY - OSŁONA CZOŁOWA PRZEŹROCZYSTA W650, 3M / 500",149.4,"1-ZE-01","2019-10-02","SZT"]
["32740","ZENERGY - OSŁONA CZOŁOWA PEŁNA W650, 4M / 500",42.7,"1-ZE-01","2019-10-02","SZT"]
["32741","ZENERGY - OSŁONA CZOŁOWA W650, 4M / 500, OTW. 92X92",50.1,"1-ZE-01","2019-10-02","SZT"]
["32742","ZENERGY - OSŁONA CZOŁOWA WGŁĘBIONA, W650, 4M / 500",165,"1-ZE-01","2019-10-02","SZT"]
["32743","ZENERGY IT - OSŁONA CZOŁOWA RACK 4U",40.1,"1-ZE-01","2019-10-02","SZT"]
["32744","ZENERGY IT - OSŁONA CZOŁOWA W650, 4U / 500, MOD",59.5,"1-ZE-01","2019-10-02","SZT"]
["32745","ZENERGY - OSŁONA APARATURY MODUŁOWEJ W650, 4M / 500, 24 MOD",43.5,"1-ZE-01","2019-10-02","SZT"]
["32746","ZENERGY - OSŁONA APARATURY MODUŁOWEJ, OTWÓR PRZESUNIĘTY W650, 4M / 500, 24 MOD",42.7,"1-ZE-01","2019-10-02","SZT"]
["32748","ZENERGY - OSŁONA CZOŁOWA PERFOROWANA W650, 4M / 500",58.6,"1-ZE-01","2019-10-02","SZT"]
["32749","ZENERGY - OSŁONA CZOŁOWA PRZEŹROCZYSTA W650, 4M / 500",162.6,"1-ZE-01","2019-10-02","SZT"]
["32750","ZENERGY - OSŁONA CZOŁOWA PEŁNA W650, 5M / 500",54.7,"1-ZE-01","2019-10-02","SZT"]
["32751","ZENERGY - OSŁONA CZOŁOWA W650, 5M / 500, OTW. 92X92",64.5,"1-ZE-01","2019-10-02","SZT"]
["32752","ZENERGY - OSŁONA CZOŁOWA WGŁĘBIONA, W650, 5M / 500",168.4,"1-ZE-01","2019-10-02","SZT"]
["32753","ZENERGY IT - OSŁONA CZOŁOWA RACK 5U",46.8,"1-ZE-01","2019-10-02","SZT"]
["32754","ZENERGY IT - OSŁONA CZOŁOWA W650, 5U / 500, WAGO",93.9,"1-ZE-01","2019-10-02","SZT"]
["32755","ZENERGY - OSŁONA APARATURY MODUŁOWEJ W650, 5M / 500, 24 MOD",55.7,"1-ZE-01","2019-10-02","SZT"]
["32756","ZENERGY - OSŁONA APARATURY MODUŁOWEJ, OTWÓR PRZESUNIĘTY W650, 5M / 500, 24 MOD",54.7,"1-ZE-01","2019-10-02","SZT"]
["32758","ZENERGY - OSŁONA CZOŁOWA PERFOROWANA W650, 5M / 500",63.6,"1-ZE-01","2019-10-02","SZT"]
["32759","ZENERGY - OSŁONA CZOŁOWA PRZEŹROCZYSTA W650, 6M / 500",182.3,"1-ZE-01","2019-10-02","KPL"]
["32760","ZENERGY - OSŁONA CZOŁOWA PEŁNA W650, 6M / 500",57.9,"1-ZE-01","2019-10-02","SZT"]
["32761","ZENERGY - OSŁONA CZOŁOWA SIRCO1250 3P, W650, 6M / 500",65.599999999999994,"1-ZE-01","2019-10-02","SZT"]
["32762","ZENERGY - OSŁONA CZOŁOWA WGŁĘBIONA, W650, 6M / 500",171.9,"1-ZE-01","2019-10-02","SZT"]
["32763","ZENERGY IT - OSŁONA CZOŁOWA RACK 6U",52.3,"1-ZE-01","2019-10-02","SZT"]
["32764","ZENERGY IT - OSŁONA CZOŁOWA W650, 6U / 500, MICOM",65.599999999999994,"1-ZE-01","2019-10-02","SZT"]
["32765","ZENERGY - OSŁONA APARATURY MODUŁOWEJ W650, 6M / 500, 24 MOD",70,"1-ZE-01","2021-12-01","SZT"]
["32766","ZENERGY - OSŁONA APARATURY MODUŁOWEJ W650, 6M / 500, 2x24 MOD",61.8,"1-ZE-01","2021-12-01","SZT"]
["32768","ZENERGY - OSŁONA CZOŁOWA PERFOROWANA W650, 6M / 500",66.8,"1-ZE-01","2019-10-02","SZT"]
["32769","ZENERGY - OSŁONA CZOŁOWA PRZEŹROCZYSTA W650, 8M / 500",198.8,"1-ZE-01","2019-10-02","SZT"]
["32770","ZENERGY - OSŁONA CZOŁOWA PEŁNA W650, 7M / 500",79.7,"1-ZE-01","2019-10-02","SZT"]
["32775","ZENERGY - OSŁONA APARATURY MODUŁOWEJ W650, 7M / 500, 24 MOD",85.1,"1-ZE-01","2021-12-01","SZT"]
["32778","ZENERGY - OSŁONA CZOŁOWA PERFOROWANA W650, 7M / 500",86.3,"1-ZE-01","2021-12-01","SZT"]
["32779","ZENERGY - OSŁONA CZOŁOWA PRZEŹROCZYSTA W650, 9M / 500",209.4,"1-ZE-01","2019-10-02","SZT"]
["32780","ZENERGY - OSŁONA CZOŁOWA PEŁNA W650, 8M / 500",86.1,"1-ZE-01","2019-10-02","SZT"]
["32781","ZENERGY - OSŁONA CZOŁOWA SIRCO1600 3P, W650, 10M / 500",100.1,"1-ZE-01","2021-12-01","SZT"]
["32784","ZENERGY IT - OSŁONA CZOŁOWA RACK 9U",64.5,"1-ZE-01","2021-12-01","SZT"]
["32785","ZENERGY IT - OSŁONA CZOŁOWA RACK 11U",90.6,"1-ZE-01","2021-12-01","SZT"]
["32786","ZENERGY - OSŁONA APARATURY MODUŁOWEJ W650, 9M / 500, 3x24 MOD",97.9,"1-ZE-01","2021-12-01","SZT"]
["32788","ZENERGY - OSŁONA CZOŁOWA PERFOROWANA W650, 8M / 500",93,"1-ZE-01","2021-12-01","SZT"]
["32789","ZENERGY - OSŁONA CZOŁOWA PRZEŹROCZYSTA W650, 10M / 500",218.4,"1-ZE-01","2019-10-02","SZT"]
["32790","ZENERGY - OSŁONA CZOŁOWA PEŁNA W650, 9M / 500",86.9,"1-ZE-01","2019-10-02","SZT"]
["32791","ZENERGY - OSŁONA CZOŁOWA PEŁNA W650, 10M / 500",98.6,"1-ZE-01","2019-10-02","SZT"]
["32792","ZENERGY - OSŁONA CZOŁOWA PEŁNA W650, 11M / 500",101.7,"1-ZE-01","2019-10-02","SZT"]
["32793","ZENERGY - OSŁONA CZOŁOWA PEŁNA W650, 12M / 500",106.3,"1-ZE-01","2019-10-02","SZT"]
["32794","ZENERGY - OSŁONA CZOŁOWA PEŁNA W650, 13M / 500",112.6,"1-ZE-01","2019-10-02","SZT"]
["32795","ZENERGY OM-VSD - OSŁONA APARATURY MODUŁOWEJ, UKŁAD PIONOWY W650, 9M / 500, 2X24 MOD",114.5,"1-ZE-01","2019-10-02","SZT"]
["32796","ZENERGY OM-VSD - OSŁONA APARATURY MODUŁOWEJ, UKŁAD PIONOWY W650, 10M / 500, 2X26 MOD",119.2,"1-ZE-01","2019-10-02","SZT"]
["32797","ZENERGY OM-VSD - OSŁONA APARATURY MODUŁOWEJ, UKŁAD PIONOWY W650, 11M / 500, 2X29 MOD",122.3,"1-ZE-01","2019-10-02","SZT"]
["32798","ZENERGY OM-VSD - OSŁONA APARATURY MODUŁOWEJ, UKŁAD PIONOWY W650, 12M / 500, 2X32 MOD",126.9,"1-ZE-01","2019-10-02","SZT"]
["32799","ZENERGY - OSŁONA CZOŁOWA PRZEŹROCZYSTA W650, 12M / 500",236.5,"1-ZE-01","2019-10-02","SZT"]
["32808","ZENERGY - SZYNA APARATURY MODUŁOWEJ TS-35, PROSTA, KORYTKO KABLOWE MONTOWANE Z PRZODU, W800, 35 MOD, KOMPLETNA",34.6,"1-ZE-01","2021-12-01","SZT"]
["32810","ZENERGY - POKRYWA GÓRNA IP43, W1000, D800, WENTYLACJA",442.5,"1-ZE-01","2019-10-02","SZT"]
["32811","ZENERGY - POKRYWA GÓRNA IP43, W650+400, D800, WENTYLACJA",455.2,"1-ZE-01","2019-10-02","SZT"]
["32812","ZENERGY - POKRYWA GÓRNA IP43, W1200, D800, WENTYLACJA",490.5,"1-ZE-01","2019-10-02","SZT"]
["32813","ZENERGY - POKRYWA GÓRNA IP43, W1300, D800, WENTYLACJA",512.9,"1-ZE-01","2019-10-02","SZT"]
["32815","ZENERGY - POKRYWA GÓRNA IP43, W650+450, D800, WENTYLACJA",466.6,"1-ZE-01","2019-10-02","SZT"]
["32818","ZENERGY - POKRYWA GÓRNA IP43, W850+300, D800, WENTYLACJA",477.8,"1-ZE-01","2019-10-02","SZT"]
["32819","ZENERGY - POKRYWA GÓRNA IP43, W850+400, D800, WENTYLACJA",501.8,"1-ZE-01","2019-10-02","SZT"]
["32820","ZENERGY - POKRYWA GÓRNA IP43, W850+450, D800, WENTYLACJA",512.9,"1-ZE-01","2019-10-02","SZT"]
["32821","ZENERGY - POKRYWA GÓRNA IP43, W150+650+400, D800, WENTYLACJA",490.5,"1-ZE-01","2019-10-02","SZT"]
["32822","ZENERGY - POKRYWA GÓRNA IP43, W150+650+300, D800, WENTYLACJA",466.6,"1-ZE-01","2019-10-02","SZT"]
["32827","ZENERGY - POKRYWA GÓRNA IP43, W150+850+300, D800, WENTYLACJA",512.9,"1-ZE-01","2019-10-02","SZT"]
["32828","ZENERGY - POKRYWA GÓRNA IP43, W150+850+400, D800, WENTYLACJA",537,"1-ZE-01","2019-10-02","SZT"]
["32830","ZENERGY - POKRYWA GÓRNA IP43, W300, D800, WENTYLACJA",279,"1-ZE-01","2019-10-02","SZT"]
["32832","ZENERGY - POKRYWA GÓRNA IP43, W200+650+300, D800, WENTYLACJA",477.8,"1-ZE-01","2019-10-02","SZT"]
["32833","ZENERGY - POKRYWA GÓRNA IP43, W200+650+400, D800, WENTYLACJA",501.8,"1-ZE-01","2019-10-02","SZT"]
["32840","ZENERGY - POKRYWA GÓRNA IP43, W400, D800, WENTYLACJA",302.89999999999998,"1-ZE-01","2019-10-02","SZT"]
["32845","ZENERGY - POKRYWA GÓRNA IP43, W450, D800, WENTYLACJA",314.3,"1-ZE-01","2019-10-02","SZT"]
["32860","ZENERGY - POKRYWA GÓRNA IP43, W600, D800, WENTYLACJA",349.5,"1-ZE-01","2019-10-02","SZT"]
["32865","ZENERGY - POKRYWA GÓRNA IP43, W650, D800, WENTYLACJA",360.6,"1-ZE-01","2019-10-02","SZT"]
["32866","ZENERGY - POKRYWA GÓRNA IP43, W450+200, D800, WENTYLACJA",360.6,"1-ZE-01","2019-10-02","SZT"]
["32871","ZENERGY - POKRYWA GÓRNA IP43, W300+400, D800, WENTYLACJA",373.6,"1-ZE-01","2019-10-02","SZT"]
["32876","ZENERGY - POKRYWA GÓRNA IP43, W300+450, D800, WENTYLACJA",384.8,"1-ZE-01","2019-10-02","SZT"]
["32880","ZENERGY - POKRYWA GÓRNA IP43, W800, D800, WENTYLACJA",396,"1-ZE-01","2019-10-02","SZT"]
["32881","ZENERGY - POKRYWA GÓRNA IP43, W650+150, D800, WENTYLACJA",396,"1-ZE-01","2019-10-02","SZT"]
["32885","ZENERGY - POKRYWA GÓRNA IP43, W850, D800, WENTYLACJA",408.8,"1-ZE-01","2019-10-02","SZT"]
["32886","ZENERGY - POKRYWA GÓRNA IP43, W650+200, D800, WENTYLACJA",408.8,"1-ZE-01","2019-10-02","SZT"]
["32891","ZENERGY - POKRYWA GÓRNA IP43, W450+450, D800, WENTYLACJA",420,"1-ZE-01","2019-10-02","SZT"]
["32895","ZENERGY - POKRYWA GÓRNA IP43, W650+300, D800, WENTYLACJA",431.2,"1-ZE-01","2019-10-02","SZT"]
["32900","ZENERGY - SZYNA APARATURY MODUŁOWEJ TS-35, W850, 35 MOD, KOMPLETNA",35.9,"1-ZE-01","2019-10-02","SZT"]
["32901","ZENERGY - SZYNA APARATURY MODUŁOWEJ TS-35, PROSTA, KORYTKO KABLOWE MONTOWANE Z TYŁU, W850, 35 MOD, KOMPLETNA",34.6,"1-ZE-01","2019-10-02","SZT"]
["32902","ZENERGY OU - SZYNA APARATURY MODUŁOWEJ TS-35, W800, D180, 35 MOD, KOMPLETNA",25.3,"1-ZE-01","2019-10-02","SZT"]
["32903","ZENERGY OU - SZYNA APARATURY MODUŁOWEJ TS-35, W800, D230, 35 MOD, KOMPLETNA",27.7,"1-ZE-01","2019-10-02","SZT"]
["32904","ZENERGY OU - SZYNA APARATURY MODUŁOWEJ TS-35, W800, D250, 35 MOD, KOMPLETNA",27.7,"1-ZE-01","2019-10-02","SZT"]
["32905","ZENERGY - SZYNA APARATURY MODUŁOWEJ TS-35, W850, 35 MOD, REGULOWANA, BEZ WSPORNIKÓW",48.5,"1-ZE-01","2019-10-02","SZT"]
["32906","ZENERGY OU - SZYNA APARATURY MODUŁOWEJ TS-35, W800, D300, 35 MOD, KOMPLETNA",28.9,"1-ZE-01","2019-10-02","SZT"]
["32907","ZENERGY OU - SZYNA APARATURY MODUŁOWEJ TS-35, W800, D180-250, 35 MOD, REGULOWANA KOMPLETNA",38.5,"1-ZE-01","2019-10-02","SZT"]
["32908","ZENERGY - SZYNA APARATURY MODUŁOWEJ TS-35, PROSTA, KORYTKO KABLOWE MONTOWANE Z PRZODU, W850, 35 MOD, KOMPLETNA",34.6,"1-ZE-01","2020-12-03","SZT"]
["32910","ZENERGY - OSŁONA CZOŁOWA PEŁNA W850, 1M / 700",39,"1-ZE-01","2019-10-02","SZT"]
["32912","Zenergy - Osłona aparatury modułowej W850, 12M / 700, 4x35 mod",144.6,"1-ZE-01","2021-12-01","SZT"]
["32914","ZENERGY - OSŁONA CZOŁOWA PERFOROWANA W850, 9M / 700",113.7,"1-ZE-01","2021-12-01","SZT"]
["32915","ZENERGY - OSŁONA CZOŁOWA PERFOROWANA W850, 10M / 700",120.3,"1-ZE-01","2021-12-01","SZT"]
["32916","ZENERGY - OSŁONA CZOŁOWA PERFOROWANA W850, 11M / 700",127.9,"1-ZE-01","2021-12-01","SZT"]
["32917","ZENERGY - OSŁONA CZOŁOWA PERFOROWANA W850, 12M / 700",131.80000000000001,"1-ZE-01","2021-12-01","SZT"]
["32918","ZENERGY - OSŁONA CZOŁOWA PERFOROWANA W850, 1M / 700",46.6,"1-ZE-01","2019-10-02","SZT"]
["32920","ZENERGY - OSŁONA CZOŁOWA PEŁNA W850, 2M / 700",45.4,"1-ZE-01","2019-10-02","SZT"]
["32925","ZENERGY - OSŁONA APARATURY MODUŁOWEJ W850, 2M / 700, 35 MOD",45.4,"1-ZE-01","2019-10-02","SZT"]
["32928","ZENERGY - OSŁONA CZOŁOWA PERFOROWANA W850, 2M / 700",51.8,"1-ZE-01","2019-10-02","SZT"]
["32930","ZENERGY - OSŁONA CZOŁOWA PEŁNA W850, 3M / 700",51.6,"1-ZE-01","2019-10-02","SZT"]
["32931","ZENERGY - OSŁONA CZOŁOWA W850, 3M / 700, OTW. 92X92",53.9,"1-ZE-01","2019-10-02","SZT"]
["32932","ZENERGY - OSŁONA CZOŁOWA WGŁĘBIONA, W850, 3M / 700",173.6,"1-ZE-01","2019-10-02","SZT"]
["32935","ZENERGY - OSŁONA APARATURY MODUŁOWEJ W850, 3M / 700, 35 MOD",51.6,"1-ZE-01","2019-10-02","SZT"]
["32938","ZENERGY - OSŁONA CZOŁOWA PERFOROWANA W850, 3M / 700",58.6,"1-ZE-01","2019-10-02","SZT"]
["32939","ZENERGY - OSŁONA CZOŁOWA PRZEŹROCZYSTA W850, 3M / 700",169.1,"1-ZE-01","2019-10-02","SZT"]
["32940","ZENERGY - OSŁONA CZOŁOWA PEŁNA W850, 4M / 700",57.9,"1-ZE-01","2019-10-02","SZT"]
["32941","ZENERGY - OSŁONA CZOŁOWA W850, 4M / 700, OTW. 92X92",60.2,"1-ZE-01","2019-10-02","SZT"]
["32942","ZENERGY - OSŁONA CZOŁOWA WGŁĘBIONA, W850, 4M / 700",182.4,"1-ZE-01","2019-10-02","SZT"]
["32945","ZENERGY - OSŁONA APARATURY MODUŁOWEJ W850, 4M / 700, 35 MOD",57.9,"1-ZE-01","2019-10-02","SZT"]
["32946","ZENERGY - OSŁONA APARATURY MODUŁOWEJ, OTWÓR PRZESUNIĘTY W850, 4M / 700, 35 MOD",57.9,"1-ZE-01","2019-10-02","SZT"]
["32948","ZENERGY - OSŁONA CZOŁOWA PERFOROWANA W850, 4M / 700",65.3,"1-ZE-01","2019-10-02","SZT"]
["32949","ZENERGY - OSŁONA CZOŁOWA PRZEŹROCZYSTA W850, 4M / 700",185.5,"1-ZE-01","2019-10-02","SZT"]
["32950","ZENERGY - OSŁONA CZOŁOWA PEŁNA W850, 5M / 700",64.2,"1-ZE-01","2019-10-02","SZT"]
["32951","ZENERGY - OSŁONA CZOŁOWA W850, 5M / 700, OTW. 92X92",67.400000000000006,"1-ZE-01","2019-10-02","SZT"]
["32952","ZENERGY - OSŁONA CZOŁOWA WGŁĘBIONA, W850, 5M / 700",195.8,"1-ZE-01","2019-10-02","SZT"]
["32955","ZENERGY - OSŁONA APARATURY MODUŁOWEJ W850, 5M / 700, 35 MOD",64.2,"1-ZE-01","2019-10-02","SZT"]
["32956","ZENERGY - OSŁONA APARATURY MODUŁOWEJ, OTWÓR PRZESUNIĘTY W850, 5M / 700, 35 MOD",64.2,"1-ZE-01","2019-10-02","SZT"]
["32958","ZENERGY - OSŁONA CZOŁOWA PERFOROWANA W850, 5M / 700",75.2,"1-ZE-01","2019-10-02","SZT"]
["32959","ZENERGY - OSŁONA CZOŁOWA PRZEŹROCZYSTA W850, 6M / 700",211.8,"1-ZE-01","2019-10-02","KPL"]
["32960","ZENERGY - OSŁONA CZOŁOWA PEŁNA W850, 6M / 700",68.900000000000006,"1-ZE-01","2019-10-02","SZT"]
["32962","ZENERGY - OSŁONA CZOŁOWA WGŁĘBIONA, W850, 6M / 700",204.7,"1-ZE-01","2019-10-02","SZT"]
["32965","ZENERGY - OSŁONA APARATURY MODUŁOWEJ W850, 6M / 700, 35 MOD",68.900000000000006,"1-ZE-01","2019-10-02","SZT"]
["32966","ZENERGY - OSŁONA APARATURY MODUŁOWEJ W850, 6M / 700, 2x35 MOD",65.900000000000006,"1-ZE-01","2021-12-01","SZT"]
["32968","ZENERGY - OSŁONA CZOŁOWA PERFOROWANA W850, 6M / 700",80.3,"1-ZE-01","2019-10-02","SZT"]
["32969","ZENERGY - OSŁONA CZOŁOWA PRZEŹROCZYSTA W850, 8M / 700",236.5,"1-ZE-01","2019-10-02","SZT"]
["32970","ZENERGY - OSŁONA CZOŁOWA PEŁNA W850, 7M / 700",93.9,"1-ZE-01","2019-10-02","SZT"]
["32978","ZENERGY - OSŁONA CZOŁOWA PERFOROWANA W850, 7M / 700",100.9,"1-ZE-01","2021-12-01","SZT"]
["32979","ZENERGY - OSŁONA CZOŁOWA PRZEŹROCZYSTA W850, 9M / 700",249.7,"1-ZE-01","2019-10-02","SZT"]
["32980","ZENERGY - OSŁONA CZOŁOWA PEŁNA W850, 8M / 700",98.6,"1-ZE-01","2019-10-02","SZT"]
["32981","ZENERGY - OSŁONA CZOŁOWA SIRCO1600 3P, W850, 10M / 700",113.5,"1-ZE-01","2021-12-01","SZT"]
["32986","ZENERGY - OSŁONA APARATURY MODUŁOWEJ W850, 9M / 700, 3x35 MOD",100.9,"1-ZE-01","2021-12-01","SZT"]
["32988","ZENERGY - OSŁONA CZOŁOWA PERFOROWANA W850, 8M / 700",0,"1-ZE-01","2021-12-01","SZT"]
["32989","ZENERGY - OSŁONA CZOŁOWA PRZEŹROCZYSTA W850, 10M / 700",262.8,"1-ZE-01","2019-10-02","SZT"]
["32990","ZENERGY - OSŁONA CZOŁOWA PEŁNA W850, 9M / 700",106.3,"1-ZE-01","2019-10-02","SZT"]
["32991","ZENERGY - OSŁONA CZOŁOWA PEŁNA W850, 10M / 700",112.6,"1-ZE-01","2019-10-02","SZT"]
["32992","ZENERGY - OSŁONA CZOŁOWA PEŁNA W850, 11M / 700",120.5,"1-ZE-01","2019-10-02","SZT"]
["32993","ZENERGY - OSŁONA CZOŁOWA PEŁNA W850, 12M / 700",123.5,"1-ZE-01","2019-10-02","SZT"]
["32994","ZENERGY - OSŁONA CZOŁOWA PEŁNA W850, 13M / 700",129.9,"1-ZE-01","2019-10-02","SZT"]
["32995","ZENERGY OM-VSD - OSŁONA APARATURY MODUŁOWEJ, UKŁAD PIONOWY W850, 9M / 700, 3X24 MOD",126.9,"1-ZE-01","2019-10-02","SZT"]
["32996","ZENERGY OM-VSD - OSŁONA APARATURY MODUŁOWEJ, UKŁAD PIONOWY W850, 10M / 700, 3X26 MOD",133.30000000000001,"1-ZE-01","2019-10-02","SZT"]
["32997","ZENERGY OM-VSD - OSŁONA APARATURY MODUŁOWEJ, UKŁAD PIONOWY W850, 11M / 700, 3X29 MOD",141,"1-ZE-01","2019-10-02","SZT"]
["32998","ZENERGY OM-VSD - OSŁONA APARATURY MODUŁOWEJ, UKŁAD PIONOWY W850, 12M / 700, 3X32 MOD",144.19999999999999,"1-ZE-01","2019-10-02","SZT"]
["32999","ZENERGY - OSŁONA CZOŁOWA PRZEŹROCZYSTA W850, 12M / 700",289,"1-ZE-01","2019-10-02","SZT"]
["33013","ZENERGY - PŁYTA MONTAŻOWA PEŁNA W1000, 3M, OCYNK, BEZ WSPORNIKÓW",78.5,"1-ZE-01","2019-10-02","SZT"]
["33014","ZENERGY - PŁYTA MONTAŻOWA PEŁNA W1000, 4M, OCYNK, BEZ WSPORNIKÓW",99,"1-ZE-01","2019-10-02","SZT"]
["33015","ZENERGY - PŁYTA MONTAŻOWA PEŁNA W1000, 5M, OCYNK, BEZ WSPORNIKÓW",116.1,"1-ZE-01","2019-10-02","SZT"]
["33016","ZENERGY - PŁYTA MONTAŻOWA PEŁNA W1000, 6M, OCYNK, BEZ WSPORNIKÓW",136.6,"1-ZE-01","2019-10-02","SZT"]
["33017","ZENERGY - PŁYTA MONTAŻOWA PEŁNA W1000, 8M, OCYNK, BEZ WSPORNIKÓW",177.6,"1-ZE-01","2019-10-02","SZT"]
["33018","ZENERGY - PŁYTA MONTAŻOWA PEŁNA W1000, 10M, OCYNK, BEZ WSPORNIKÓW",215.1,"1-ZE-01","2019-10-02","SZT"]
["33032","ZENERGY - PŁYTA MONTAŻOWA PEŁNA W300, 2M, OCYNK, BEZ WSPORNIKÓW",29,"1-ZE-01","2019-10-02","KPL"]
["33033","ZENERGY - PŁYTA MONTAŻOWA PEŁNA W300, 3M, OCYNK, BEZ WSPORNIKÓW",34.1,"1-ZE-01","2019-10-02","KPL"]
["33034","ZENERGY - PŁYTA MONTAŻOWA PEŁNA W300, 4M, OCYNK, BEZ WSPORNIKÓW",41,"1-ZE-01","2019-10-02","KPL"]
["33035","ZENERGY - PŁYTA MONTAŻOWA PEŁNA W300, 5M, OCYNK, BEZ WSPORNIKÓW",49.4,"1-ZE-01","2019-10-02","KPL"]
["33036","ZENERGY - PŁYTA MONTAŻOWA PEŁNA W300, 6M, OCYNK, BEZ WSPORNIKÓW",59.7,"1-ZE-01","2019-10-02","KPL"]
["33037","ZENERGY - PŁYTA MONTAŻOWA PEŁNA W300, 8M, OCYNK, BEZ WSPORNIKÓW",75,"1-ZE-01","2019-10-02","KPL"]
["33038","ZENERGY - PŁYTA MONTAŻOWA PEŁNA W300, 10M, OCYNK, BEZ WSPORNIKÓW",88.9,"1-ZE-01","2019-10-02","KPL"]
["33039","ZENERGY - PŁYTA MONTAŻOWA PEŁNA W300, 12M, OCYNK, BEZ WSPORNIKÓW",107.4,"1-ZE-01","2019-10-02","KPL"]
["33042","ZENERGY - PŁYTA MONTAŻOWA PEŁNA W400, 2M, OCYNK, BEZ WSPORNIKÓW",34.1,"1-ZE-01","2019-10-02","KPL"]
["33043","ZENERGY - PŁYTA MONTAŻOWA PEŁNA W400, 3M, OCYNK, BEZ WSPORNIKÓW",35.799999999999997,"1-ZE-01","2019-10-02","SZT"]
["33044","ZENERGY - PŁYTA MONTAŻOWA PEŁNA W400, 4M, OCYNK, BEZ WSPORNIKÓW",42.7,"1-ZE-01","2019-10-02","SZT"]
["33045","ZENERGY - PŁYTA MONTAŻOWA PEŁNA W400, 5M, OCYNK, BEZ WSPORNIKÓW",52.9,"1-ZE-01","2019-10-02","SZT"]
["33046","ZENERGY - PŁYTA MONTAŻOWA PEŁNA W400, 6M, OCYNK, BEZ WSPORNIKÓW",61.5,"1-ZE-01","2019-10-02","SZT"]
["33047","ZENERGY - PŁYTA MONTAŻOWA PEŁNA W400, 8M, OCYNK, BEZ WSPORNIKÓW",80.2,"1-ZE-01","2019-10-02","SZT"]
["33048","ZENERGY - PŁYTA MONTAŻOWA PEŁNA W400, 10M, OCYNK, BEZ WSPORNIKÓW",97.3,"1-ZE-01","2019-10-02","SZT"]
["33049","ZENERGY - PŁYTA MONTAŻOWA PEŁNA W400, 12M, OCYNK, BEZ WSPORNIKÓW",114.4,"1-ZE-01","2019-10-02","SZT"]
["33052","ZENERGY - PŁYTA MONTAŻOWA PEŁNA W450, 2M, OCYNK, BEZ WSPORNIKÓW",46,"1-ZE-01","2019-10-02","SZT"]
["33053","ZENERGY - PŁYTA MONTAŻOWA PEŁNA W450, 3M, OCYNK, BEZ WSPORNIKÓW",47.9,"1-ZE-01","2019-10-02","SZT"]
["33054","ZENERGY - PŁYTA MONTAŻOWA PEŁNA W450, 4M, OCYNK, BEZ WSPORNIKÓW",56.3,"1-ZE-01","2019-10-02","SZT"]
["33055","ZENERGY - PŁYTA MONTAŻOWA PEŁNA W450, 5M, OCYNK, BEZ WSPORNIKÓW",66.5,"1-ZE-01","2019-10-02","SZT"]
["33056","ZENERGY - PŁYTA MONTAŻOWA PEŁNA W450, 6M, OCYNK, BEZ WSPORNIKÓW",76.8,"1-ZE-01","2019-10-02","SZT"]
["33057","ZENERGY - PŁYTA MONTAŻOWA PEŁNA W450, 8M, OCYNK, BEZ WSPORNIKÓW",95.5,"1-ZE-01","2019-10-02","SZT"]
["33058","ZENERGY - PŁYTA MONTAŻOWA PEŁNA W450, 10M, OCYNK, BEZ WSPORNIKÓW",116.1,"1-ZE-01","2019-10-02","SZT"]
["33059","ZENERGY - PŁYTA MONTAŻOWA PEŁNA W450, 12M, OCYNK, BEZ WSPORNIKÓW",131.30000000000001,"1-ZE-01","2019-10-02","SZT"]
["33062","ZENERGY - PŁYTA MONTAŻOWA PEŁNA W600, 2M, OCYNK, BEZ WSPORNIKÓW",41,"1-ZE-01","2019-10-02","KPL"]
["33063","ZENERGY - PŁYTA MONTAŻOWA PEŁNA W600, 3M, OCYNK, BEZ WSPORNIKÓW",46,"1-ZE-01","2019-10-02","KPL"]
["33064","ZENERGY - PŁYTA MONTAŻOWA PEŁNA W600, 4M, OCYNK, BEZ WSPORNIKÓW",56.3,"1-ZE-01","2019-10-02","KPL"]
["33065","ZENERGY - PŁYTA MONTAŻOWA PEŁNA W600, 5M, OCYNK, BEZ WSPORNIKÓW",73.400000000000006,"1-ZE-01","2019-10-02","KPL"]
["33066","ZENERGY - PŁYTA MONTAŻOWA PEŁNA W600, 6M, OCYNK, BEZ WSPORNIKÓW",83.7,"1-ZE-01","2019-10-02","KPL"]
["33067","ZENERGY - PŁYTA MONTAŻOWA PEŁNA W600, 8M, OCYNK, BEZ WSPORNIKÓW",110.8,"1-ZE-01","2019-10-02","KPL"]
["33068","ZENERGY - PŁYTA MONTAŻOWA PEŁNA W600, 10M, OCYNK, BEZ WSPORNIKÓW",138.19999999999999,"1-ZE-01","2019-10-02","KPL"]
["33069","ZENERGY - PŁYTA MONTAŻOWA PEŁNA W600, 12M, OCYNK, BEZ WSPORNIKÓW",165.7,"1-ZE-01","2019-10-02","KPL"]
["33072","ZENERGY - PŁYTA MONTAŻOWA PEŁNA W650, 2M, OCYNK, BEZ WSPORNIKÓW",52.9,"1-ZE-01","2019-10-02","KPL"]
["33073","ZENERGY - PŁYTA MONTAŻOWA PEŁNA W650, 3M, OCYNK, BEZ WSPORNIKÓW",56.3,"1-ZE-01","2019-10-02","SZT"]
["33074","ZENERGY - PŁYTA MONTAŻOWA PEŁNA W650, 4M, OCYNK, BEZ WSPORNIKÓW",69.900000000000006,"1-ZE-01","2019-10-02","SZT"]
["33075","ZENERGY - PŁYTA MONTAŻOWA PEŁNA W650, 5M, OCYNK, BEZ WSPORNIKÓW",87,"1-ZE-01","2019-10-02","SZT"]
["33076","ZENERGY - PŁYTA MONTAŻOWA PEŁNA W650, 6M, OCYNK, BEZ WSPORNIKÓW",100.7,"1-ZE-01","2019-10-02","SZT"]
["33077","ZENERGY - PŁYTA MONTAŻOWA PEŁNA W650, 8M, OCYNK, BEZ WSPORNIKÓW",127.9,"1-ZE-01","2019-10-02","SZT"]
["33078","ZENERGY - PŁYTA MONTAŻOWA PEŁNA W650, 10M, OCYNK, BEZ WSPORNIKÓW",157.1,"1-ZE-01","2019-10-02","SZT"]
["33079","ZENERGY - PŁYTA MONTAŻOWA PEŁNA W650, 12M, OCYNK, BEZ WSPORNIKÓW",184.3,"1-ZE-01","2019-10-02","SZT"]
["33082","ZENERGY - PŁYTA MONTAŻOWA PEŁNA W800, 2M, OCYNK, BEZ WSPORNIKÓW",66.5,"1-ZE-01","2019-10-02","KPL"]
["33083","ZENERGY - PŁYTA MONTAŻOWA PEŁNA W800, 3M, OCYNK, BEZ WSPORNIKÓW",68.400000000000006,"1-ZE-01","2019-10-02","KPL"]
["33084","ZENERGY - PŁYTA MONTAŻOWA PEŁNA W800, 4M, OCYNK, BEZ WSPORNIKÓW",83.7,"1-ZE-01","2019-10-02","KPL"]
["33085","ZENERGY - PŁYTA MONTAŻOWA PEŁNA W800, 5M, OCYNK, BEZ WSPORNIKÓW",102.5,"1-ZE-01","2019-10-02","KPL"]
["33086","ZENERGY - PŁYTA MONTAŻOWA PEŁNA W800, 6M, OCYNK, BEZ WSPORNIKÓW",117.7,"1-ZE-01","2019-10-02","KPL"]
["33087","ZENERGY - PŁYTA MONTAŻOWA PEŁNA W800, 8M, OCYNK, BEZ WSPORNIKÓW",157.1,"1-ZE-01","2019-10-02","SZT"]
["33088","ZENERGY - PŁYTA MONTAŻOWA PEŁNA W800, 10M, OCYNK, BEZ WSPORNIKÓW",213.3,"1-ZE-01","2019-10-02","SZT"]
["33089","ZENERGY - PŁYTA MONTAŻOWA PEŁNA W800, 12M, OCYNK, BEZ WSPORNIKÓW",227.1,"1-ZE-01","2019-10-02","SZT"]
["33092","ZENERGY - PŁYTA MONTAŻOWA PEŁNA W850, 2M, OCYNK, BEZ WSPORNIKÓW",68.400000000000006,"1-ZE-01","2019-10-02","SZT"]
["33093","ZENERGY - PŁYTA MONTAŻOWA PEŁNA W850, 3M, OCYNK, BEZ WSPORNIKÓW",75,"1-ZE-01","2019-10-02","SZT"]
["33094","ZENERGY - PŁYTA MONTAŻOWA PEŁNA W850, 4M, OCYNK, BEZ WSPORNIKÓW",93.9,"1-ZE-01","2019-10-02","SZT"]
["33095","ZENERGY - PŁYTA MONTAŻOWA PEŁNA W850, 5M, OCYNK, BEZ WSPORNIKÓW",110.8,"1-ZE-01","2019-10-02","SZT"]
["33096","ZENERGY - PŁYTA MONTAŻOWA PEŁNA W850, 6M, OCYNK, BEZ WSPORNIKÓW",129.80000000000001,"1-ZE-01","2019-10-02","SZT"]
["33097","ZENERGY - PŁYTA MONTAŻOWA PEŁNA W850, 8M, OCYNK, BEZ WSPORNIKÓW",169,"1-ZE-01","2019-10-02","SZT"]
["33098","ZENERGY - PŁYTA MONTAŻOWA PEŁNA W850, 10M, OCYNK, BEZ WSPORNIKÓW",222.1,"1-ZE-01","2019-10-02","SZT"]
["33099","ZENERGY - PŁYTA MONTAŻOWA PEŁNA W850, 12M, OCYNK, BEZ WSPORNIKÓW",240.7,"1-ZE-01","2019-10-02","SZT"]
["33100","ZENERGY - PRZYŁĄCZE TRANSFEROWE D400, 100 - 250A 3P",324,"1-ZE-01","2019-10-02","SZT"]
["33101","ZENERGY - PRZYŁĄCZE TRANSFEROWE D400, 100 - 250A 4P",434,"1-ZE-01","2019-10-02","SZT"]
["33102","ZENERGY - PRZYŁĄCZE TRANSFEROWE D400, 400 - 630A 3P",330.1,"1-ZE-01","2019-10-02","SZT"]
["33103","ZENERGY - PRZYŁĄCZE TRANSFEROWE D400, 400 - 630A 4P",440.3,"1-ZE-01","2019-10-02","SZT"]
["33104","ZENERGY - PRZYŁĄCZE TRANSFEROWE D400, ZAŚLEPKA 3M 160MM",51.3,"1-ZE-01","2019-10-02","SZT"]
["33105","ZENERGY - PRZYŁĄCZE TRANSFEROWE D400, 630 - 1600A 3P, 6M",455.9,"1-ZE-01","2019-10-02","SZT"]
["33106","ZENERGY - PRZYŁĄCZE TRANSFEROWE D400, 630 - 1600A 3P, 7M",517.5,"1-ZE-01","2019-10-02","SZT"]
["33107","ZENERGY - PRZYŁĄCZE TRANSFEROWE D400, 630 - 1600A 4P, 7M",535.70000000000005,"1-ZE-01","2019-10-02","SZT"]
["33108","ZENERGY - OSŁONA PRZYŁĄCZA TRANSFEROWEGO D400, 1600A 4P,7M",36.1,"1-ZE-01","2019-10-02","SZT"]
["33110","ZENERGY - WSPORNIK IZOLATORÓW MOSTU PIONOWEGO NA PLECACH W1000, WZMOCNIONY",69.7,"1-ZE-01","2019-10-02","SZT"]
["33111","ZENERGY - WSPORNIK IZOLATORÓW MOSTU PIONOWEGO NA PLECACH W1200, WZMOCNIONY",0,"1-ZE-01","2019-10-02","SZT"]
["33112","ZENERGY - WSPORNIK IZOLATORÓW MOSTU PIONOWEGO NA PLECACH W1300, WZMOCNIONY",0,"1-ZE-01","2019-10-02","SZT"]
["33113","ZENERGY - WSPORNIK IZOLATORÓW MOSTU PIONOWEGO NA PLECACH W300, WZMOCNIONY",48.2,"1-ZE-01","2019-10-02","SZT"]
["33114","ZENERGY - WSPORNIK IZOLATORÓW MOSTU PIONOWEGO NA PLECACH W400, WZMOCNIONY",50.5,"1-ZE-01","2019-10-02","SZT"]
["33115","ZENERGY - WSPORNIK IZOLATORÓW MOSTU PIONOWEGO NA PLECACH W450, WZMOCNIONY",52.9,"1-ZE-01","2019-10-02","SZT"]
["33116","ZENERGY - WSPORNIK IZOLATORÓW MOSTU PIONOWEGO NA PLECACH W600, WZMOCNIONY",56.7,"1-ZE-01","2019-10-02","SZT"]
["33117","ZENERGY - WSPORNIK IZOLATORÓW MOSTU PIONOWEGO NA PLECACH W650, WZMOCNIONY",60.2,"1-ZE-01","2019-10-02","SZT"]
["33118","ZENERGY - WSPORNIK IZOLATORÓW MOSTU PIONOWEGO NA PLECACH W800, WZMOCNIONY",62.5,"1-ZE-01","2019-10-02","SZT"]
["33119","ZENERGY - WSPORNIK IZOLATORÓW MOSTU PIONOWEGO NA PLECACH W850, WZMOCNIONY",65,"1-ZE-01","2019-10-02","SZT"]
["33121","ZENERGY - WSPORNIK UNIWERSALNY D200, 1 RZĄD OTWORÓW 8X9MM / 11X13MM",26,"1-ZE-01","2019-10-02","SZT"]
["33122","ZENERGY - WSPORNIK UNIWERSALNY D230, 1 RZĄD OTWORÓW 8X9MM / 11X13MM",27.5,"1-ZE-01","2019-10-02","KPL"]
["33123","ZENERGY - WSPORNIK UNIWERSALNY D300, 1 RZĄD OTWORÓW 8X9MM / 11X13MM",29.3,"1-ZE-01","2019-10-02","KPL"]
["33124","ZENERGY - WSPORNIK UNIWERSALNY D400, 1 RZĄD OTWORÓW 8X9MM / 11X13MM",32.9,"1-ZE-01","2019-10-02","SZT"]
["33131","ZENERGY - WSPORNIK UNIWERSALNY D200, 2 RZĘDY OTWORÓW 8X9MM / 11X13MM",26,"1-ZE-01","2019-10-02","KPL"]
["33132","ZENERGY - WSPORNIK UNIWERSALNY D230, 2 RZĘDY OTWORÓW 8X9MM / 11X13MM",27.5,"1-ZE-01","2019-10-02","KPL"]
["33133","ZENERGY - WSPORNIK UNIWERSALNY D300, 2 RZĘDY OTWORÓW 8X9MM / 11X13MM",29.3,"1-ZE-01","2019-10-02","KPL"]
["33134","ZENERGY - WSPORNIK UNIWERSALNY D400, 2 RZĘDY OTWORÓW 8X9MM / 11X13MM",32.9,"1-ZE-01","2019-10-02","SZT"]
["33140","ZENERGY - WSPORNIK UNIWERSALNY W1000, 1 RZĄD OTWORÓW 8X9MM / 11X13MM",48.2,"1-ZE-01","2019-10-02","KPL"]
["33141","ZENERGY - WSPORNIK UNIWERSALNY W1200, 1 RZĄD OTWORÓW 8X9MM / 11X13MM",53.3,"1-ZE-01","2019-10-02","KPL"]
["33142","ZENERGY - WSPORNIK UNIWERSALNY W1300, 1 RZĄD OTWORÓW 8X9MM / 11X13MM",56.9,"1-ZE-01","2019-10-02","KPL"]
["33143","ZENERGY - WSPORNIK UNIWERSALNY W300, 1 RZĄD OTWORÓW 8X9MM / 11X13MM",29.3,"1-ZE-01","2019-10-02","KPL"]
["33144","ZENERGY - WSPORNIK UNIWERSALNY W400, 1 RZĄD OTWORÓW 8X9MM / 11X13MM",32.9,"1-ZE-01","2019-10-02","SZT"]
["33145","ZENERGY - WSPORNIK UNIWERSALNY W450, 1 RZĄD OTWORÓW 8X9MM / 11X13MM",32.9,"1-ZE-01","2019-10-02","KPL"]
["33146","ZENERGY - WSPORNIK UNIWERSALNY W600, 1 RZĄD OTWORÓW 8X9MM / 11X13MM",34.4,"1-ZE-01","2019-10-02","KPL"]
["33147","ZENERGY - WSPORNIK UNIWERSALNY W650, 1 RZĄD OTWORÓW 8X9MM / 11X13MM",34.4,"1-ZE-01","2019-10-02","KPL"]
["33148","ZENERGY - WSPORNIK UNIWERSALNY W800, 1 RZĄD OTWORÓW 8X9MM / 11X13MM",36.1,"1-ZE-01","2019-10-02","KPL"]
["33149","ZENERGY - WSPORNIK UNIWERSALNY W850, 1 RZĄD OTWORÓW 8X9MM / 11X13MM",39.4,"1-ZE-01","2019-10-02","KPL"]
["33150","ZENERGY - WSPORNIK UNIWERSALNY W1000, 2 RZĘDY OTWORÓW 8X9MM / 11X13MM",48.2,"1-ZE-01","2019-10-02","SZT"]
["33151","ZENERGY - WSPORNIK UNIWERSALNY W1200, 2 RZĘDY OTWORÓW 8X9MM / 11X13MM",53.3,"1-ZE-01","2019-10-02","KPL"]
["33152","ZENERGY - WSPORNIK UNIWERSALNY W1300, 2 RZĘDY OTWORÓW 8X9MM / 11X13MM",56.9,"1-ZE-01","2019-10-02","KPL"]
["33153","ZENERGY - WSPORNIK UNIWERSALNY W300, 2 RZĘDY OTWORÓW 8X9MM / 11X13MM",29.3,"1-ZE-01","2019-10-02","SZT"]
["33154","ZENERGY - WSPORNIK UNIWERSALNY W400, 2 RZĘDY OTWORÓW 8X9MM / 11X13MM",32.9,"1-ZE-01","2019-10-02","SZT"]
["33155","ZENERGY - WSPORNIK UNIWERSALNY W450, 2 RZĘDY OTWORÓW 8X9MM / 11X13MM",32.9,"1-ZE-01","2019-10-02","SZT"]
["33156","ZENERGY - WSPORNIK UNIWERSALNY W600, 2 RZĘDY OTWORÓW 8X9MM / 11X13MM",34.4,"1-ZE-01","2019-10-02","SZT"]
["33157","ZENERGY - WSPORNIK UNIWERSALNY W650, 2 RZĘDY OTWORÓW 8X9MM / 11X13MM",34.4,"1-ZE-01","2019-10-02","SZT"]
["33158","ZENERGY - WSPORNIK UNIWERSALNY W800, 2 RZĘDY OTWORÓW 8X9MM / 11X13MM",36.1,"1-ZE-01","2019-10-02","KPL"]
["33159","ZENERGY - WSPORNIK UNIWERSALNY W850, 2 RZĘDY OTWORÓW 8X9MM / 11X13MM",39.4,"1-ZE-01","2019-10-02","SZT"]
["33160","ZENERGY - DRABINKA KABLOWA W1000",40.6,"1-ZE-01","2019-10-02","SZT"]
["33161","ZENERGY - DRABINKA KABLOWA W1200",46.4,"1-ZE-01","2019-10-02","SZT"]
["33162","ZENERGY - DRABINKA KABLOWA W1300",48.3,"1-ZE-01","2019-10-02","SZT"]
["33163","ZENERGY - DRABINKA KABLOWA W300",21.3,"1-ZE-01","2019-10-02","SZT"]
["33164","ZENERGY - DRABINKA KABLOWA W400",23.2,"1-ZE-01","2019-10-02","SZT"]
["33165","ZENERGY - DRABINKA KABLOWA W450",25,"1-ZE-01","2019-10-02","SZT"]
["33166","ZENERGY - DRABINKA KABLOWA W600",25,"1-ZE-01","2019-10-02","SZT"]
["33167","ZENERGY - DRABINKA KABLOWA W650",28.9,"1-ZE-01","2019-10-02","SZT"]
["33168","ZENERGY - DRABINKA KABLOWA W800",32.9,"1-ZE-01","2019-10-02","SZT"]
["33169","ZENERGY - DRABINKA KABLOWA W850",36.700000000000003,"1-ZE-01","2019-10-02","SZT"]
["33171","ZENERGY - DRABINKA KABLOWA D200",19.600000000000001,"1-ZE-01","2019-10-02","SZT"]
["33172","ZENERGY - DRABINKA KABLOWA D230",19.600000000000001,"1-ZE-01","2019-10-02","SZT"]
["33173","ZENERGY - DRABINKA KABLOWA D300",23.7,"1-ZE-01","2019-10-02","SZT"]
["33174","ZENERGY - DRABINKA KABLOWA D400",26,"1-ZE-01","2019-10-02","SZT"]
["33175","ZENERGY - DRABINKA KABLOWA D600",32.1,"1-ZE-01","2021-12-01","SZT"]
["33177","ZENERGY - DRABINKA KABLOWA W150",17.399999999999999,"1-ZE-01","2019-10-02","SZT"]
["33178","ZENERGY - DRABINKA KABLOWA W200",21.3,"1-ZE-01","2019-10-02","SZT"]
["33180","ZENERGY - DRABINKA KABLOWA NA DRZWI W1000",61.6,"1-ZE-01","2019-10-02","SZT"]
["33181","ZENERGY - DRABINKA KABLOWA NA DRZWI W1200",63.8,"1-ZE-01","2019-10-02","SZT"]
["33182","ZENERGY - DRABINKA KABLOWA NA DRZWI W500 / PODWÓJNE W1000",50.3,"1-ZE-01","2019-10-02","SZT"]
["33183","ZENERGY - DRABINKA KABLOWA NA DRZWI W300",44.3,"1-ZE-01","2019-10-02","SZT"]
["33184","ZENERGY - DRABINKA KABLOWA NA DRZWI W400",46.4,"1-ZE-01","2019-10-02","SZT"]
["33185","ZENERGY - DRABINKA KABLOWA NA DRZWI W450",48.3,"1-ZE-01","2019-10-02","SZT"]
["33186","ZENERGY - DRABINKA KABLOWA NA DRZWI W600 / PODWÓJNE W1200",52.1,"1-ZE-01","2019-10-02","SZT"]
["33187","ZENERGY - DRABINKA KABLOWA NA DRZWI W650 / PODWÓJNE W1300",54.1,"1-ZE-01","2019-10-02","SZT"]
["33188","ZENERGY - DRABINKA KABLOWA NA DRZWI W800",55.8,"1-ZE-01","2019-10-02","SZT"]
["33189","ZENERGY - DRABINKA KABLOWA NA DRZWI W850",59.8,"1-ZE-01","2019-10-02","SZT"]
["33190","ZENERGY - DRABINKA KABLOWA NA PŁYTĘ MONTAŻOWĄ L=200",38.5,"1-ZE-01","2019-10-02","SZT"]
["33191","ZENERGY - DRABINKA KABLOWA NA PŁYTĘ MONTAŻOWĄ L=300",44.3,"1-ZE-01","2019-10-02","SZT"]
["33192","ZENERGY - DRABINKA KABLOWA NA PŁYTĘ MONTAŻOWĄ L=400",50.1,"1-ZE-01","2019-10-02","SZT"]
["33193","ZENERGY - DRABINKA KABLOWA NA PŁYTĘ MONTAŻOWĄ L=500",54.1,"1-ZE-01","2019-10-02","SZT"]
["33194","ZENERGY - DRABINKA KABLOWA NA MASKOWNICĘ W400",32.9,"1-ZE-01","2019-10-02","SZT"]
["33195","ZENERGY - DRABINKA KABLOWA NA MASKOWNICĘ W450",36.700000000000003,"1-ZE-01","2019-10-02","SZT"]
["33197","ZENERGY - DRABINKA KABLOWA NA MASKOWNICĘ W650",40.6,"1-ZE-01","2019-10-02","SZT"]
["33199","ZENERGY - DRABINKA KABLOWA NA MASKOWNICĘ W850",48.3,"1-ZE-01","2019-10-02","SZT"]
["33201","ZENERGY - PRZEGRODA PIONOWA LICZNIKA,OCYNK",203.6,"1-ZE-01","2019-10-02","SZT"]
["33204","ZENERGY - PŁYTA MONTAŻOWA LICZNIKOWA 1TL, W400, 12M, OCYNK, MALOWANA",287.8,"1-ZE-01","2019-10-02","SZT"]
["33205","ZENERGY - PŁYTA MONTAŻOWA LICZNIKOWA 1TL, W450, 12M, OCYNK",316.60000000000002,"1-ZE-01","2019-10-02","SZT"]
["33207","ZENERGY - PŁYTA MONTAŻOWA LICZNIKOWA 2TL, W650, 12M, OCYNK",417.2,"1-ZE-01","2019-10-02","SZT"]
["33209","ZENERGY - PŁYTA MONTAŻOWA LICZNIKOWA 3TL, W850, 12M, OCYNK",453.2,"1-ZE-01","2019-10-02","SZT"]
["33210","ZENERGY - POKRYWA GÓRNA IP43/55, W1000, D230",160.4,"1-ZE-01","2019-10-02","SZT"]
["33211","ZENERGY - POKRYWA GÓRNA IP43/55, W650+400, D230",165.1,"1-ZE-01","2019-10-02","SZT"]
["33212","ZENERGY - POKRYWA GÓRNA IP43/55, W1200, D230",178,"1-ZE-01","2019-10-02","SZT"]
["33213","ZENERGY - POKRYWA GÓRNA IP43/55, W1300, D230",186,"1-ZE-01","2019-10-02","SZT"]
["33215","ZENERGY - POKRYWA GÓRNA IP43/55, W650+450, D230",168.3,"1-ZE-01","2019-10-02","SZT"]
["33216","ZENERGY - POKRYWA GÓRNA IP43/55, W850+150, D230",160.4,"1-ZE-01","2019-10-02","SZT"]
["33218","ZENERGY - POKRYWA GÓRNA IP43/55, W850+300, D230",173,"1-ZE-01","2019-10-02","SZT"]
["33219","ZENERGY - POKRYWA GÓRNA IP43/55, W850+400, D230",181.1,"1-ZE-01","2019-10-02","SZT"]
["33220","ZENERGY - POKRYWA GÓRNA IP43/55, W850+450, D230",186,"1-ZE-01","2019-10-02","SZT"]
["33221","ZENERGY - POKRYWA GÓRNA IP43/55, W150+650+400, D230",178,"1-ZE-01","2019-10-02","SZT"]
["33222","ZENERGY - POKRYWA GÓRNA IP43/55, W150+650+300, D230",168.3,"1-ZE-01","2019-10-02","SZT"]
["33227","ZENERGY - POKRYWA GÓRNA IP43/55, W150+850+300, D230",186,"1-ZE-01","2019-10-02","SZT"]
["33228","ZENERGY - POKRYWA GÓRNA IP43/55, W150+850+400, D230",194.1,"1-ZE-01","2019-10-02","SZT"]
["33230","ZENERGY - POKRYWA GÓRNA IP43/55, W300, D230",104.1,"1-ZE-01","2019-10-02","SZT"]
["33232","ZENERGY - POKRYWA GÓRNA IP43/55, W200+650+300, D230",173,"1-ZE-01","2019-10-02","SZT"]
["33233","ZENERGY - POKRYWA GÓRNA IP43/55, W200+650+400, D230",181.1,"1-ZE-01","2019-10-02","SZT"]
["33240","ZENERGY - POKRYWA GÓRNA IP43/55, W400, D230",112.3,"1-ZE-01","2019-10-02","SZT"]
["33245","ZENERGY - POKRYWA GÓRNA IP43/55, W450, D230",117.1,"1-ZE-01","2019-10-02","SZT"]
["33260","ZENERGY - POKRYWA GÓRNA IP43/55, W600, D230",128.19999999999999,"1-ZE-01","2019-10-02","SZT"]
["33265","ZENERGY - POKRYWA GÓRNA IP43/55, W650, D230",133.1,"1-ZE-01","2019-10-02","SZT"]
["33266","ZENERGY - POKRYWA GÓRNA IP43/55, W450+200, D230",133.1,"1-ZE-01","2019-10-02","SZT"]
["33271","ZENERGY - POKRYWA GÓRNA IP43/55, W300+400, D230",136.4,"1-ZE-01","2019-10-02","SZT"]
["33276","ZENERGY - POKRYWA GÓRNA IP43/55, W300+450, D230",141.19999999999999,"1-ZE-01","2019-10-02","SZT"]
["33280","ZENERGY - POKRYWA GÓRNA IP43/55, W800, D230",144.30000000000001,"1-ZE-01","2019-10-02","SZT"]
["33281","ZENERGY - POKRYWA GÓRNA IP43/55, W650+150, D230",144.30000000000001,"1-ZE-01","2019-10-02","SZT"]
["33285","ZENERGY - POKRYWA GÓRNA IP43/55, W850, D230",149,"1-ZE-01","2019-10-02","SZT"]
["33286","ZENERGY - POKRYWA GÓRNA IP43/55, W650+200, D230",149,"1-ZE-01","2019-10-02","SZT"]
["33291","ZENERGY - POKRYWA GÓRNA IP43/55, W450+450, D230",152.30000000000001,"1-ZE-01","2019-10-02","SZT"]
["33295","ZENERGY - POKRYWA GÓRNA IP43/55, W650+300, D230",157.1,"1-ZE-01","2019-10-02","SZT"]
["33310","ZENERGY - POKRYWA GÓRNA IP43/55, W1000, D300",253.2,"1-ZE-01","2019-10-02","SZT"]
["33311","ZENERGY - POKRYWA GÓRNA IP43/55, W650+400, D300",261.3,"1-ZE-01","2019-10-02","SZT"]
["33312","ZENERGY - POKRYWA GÓRNA IP43/55, W1200, D300",286.89999999999998,"1-ZE-01","2019-10-02","SZT"]
["33313","ZENERGY - POKRYWA GÓRNA IP43/55, W1300, D300",302.89999999999998,"1-ZE-01","2019-10-02","SZT"]
["33315","ZENERGY - POKRYWA GÓRNA IP43/55, W650+450, D300",269.39999999999998,"1-ZE-01","2019-10-02","SZT"]
["33316","ZENERGY - POKRYWA GÓRNA IP43/55, W850+150, D300",253.2,"1-ZE-01","2019-10-02","SZT"]
["33318","ZENERGY - POKRYWA GÓRNA IP43/55, W850+300, D300",277.3,"1-ZE-01","2019-10-02","SZT"]
["33319","ZENERGY - POKRYWA GÓRNA IP43/55, W850+400, D300",295,"1-ZE-01","2019-10-02","SZT"]
["33320","ZENERGY - POKRYWA GÓRNA IP43/55, W850+450, D300",302.89999999999998,"1-ZE-01","2019-10-02","SZT"]
["33321","ZENERGY - POKRYWA GÓRNA IP43/55, W150+650+400, D300",286.89999999999998,"1-ZE-01","2019-10-02","SZT"]
["33322","ZENERGY - POKRYWA GÓRNA IP43/55, W150+650+300, D300",269.39999999999998,"1-ZE-01","2019-10-02","SZT"]
["33327","ZENERGY - POKRYWA GÓRNA IP43/55, W150+850+300, D300",302.89999999999998,"1-ZE-01","2019-10-02","SZT"]
["33328","ZENERGY - POKRYWA GÓRNA IP43/55, W150+850+400, D300",319.2,"1-ZE-01","2019-10-02","SZT"]
["33330","ZENERGY - POKRYWA GÓRNA IP43/55, W300, D300",137.80000000000001,"1-ZE-01","2019-10-02","SZT"]
["33332","ZENERGY - POKRYWA GÓRNA IP43/55, W200+650+300, D300",277.3,"1-ZE-01","2019-10-02","SZT"]
["33333","ZENERGY - POKRYWA GÓRNA IP43/55, W200+650+400, D300",295,"1-ZE-01","2019-10-02","SZT",null,{"$f":"SUM(G3753:G3753)","v":0}]
["33340","ZENERGY - POKRYWA GÓRNA IP43/55, W400, D300",153.9,"1-ZE-01","2019-10-02","SZT",null,{"$f":"SUM(G3754:G3754)","v":0}]
["33345","ZENERGY - POKRYWA GÓRNA IP43/55, W450, D300",161.80000000000001,"1-ZE-01","2019-10-02","SZT"]
["33360","ZENERGY - POKRYWA GÓRNA IP43/55, W600, D300",187.6,"1-ZE-01","2019-10-02","SZT"]
["33365","ZENERGY - POKRYWA GÓRNA IP43/55, W650, D300",195.6,"1-ZE-01","2019-10-02","SZT"]
["33366","ZENERGY - POKRYWA GÓRNA IP43/55, W450+200, D300",195.6,"1-ZE-01","2019-10-02","SZT"]
["33371","ZENERGY - POKRYWA GÓRNA IP43/55, W300+400, D300",203.5,"1-ZE-01","2019-10-02","SZT"]
["33376","ZENERGY - POKRYWA GÓRNA IP43/55, W300+450, D300",211.6,"1-ZE-01","2019-10-02","SZT"]
["33380","ZENERGY - POKRYWA GÓRNA IP43/55, W800, D300",219.7,"1-ZE-01","2019-10-02","SZT"]
["33381","ZENERGY - POKRYWA GÓRNA IP43/55, W650+150, D300",219.7,"1-ZE-01","2019-10-02","SZT"]
["33385","ZENERGY - POKRYWA GÓRNA IP43/55, W850, D300",229.2,"1-ZE-01","2019-10-02","SZT"]
["33386","ZENERGY - POKRYWA GÓRNA IP43/55, W650+200, D300",229.2,"1-ZE-01","2019-10-02","SZT"]
["33391","ZENERGY - POKRYWA GÓRNA IP43/55, W450+450, D300",237.3,"1-ZE-01","2019-10-02","SZT"]
["33395","ZENERGY - POKRYWA GÓRNA IP43/55, W650+300, D300",245.2,"1-ZE-01","2019-10-02","SZT"]
["33410","ZENERGY - POKRYWA GÓRNA IP43/55, W1000, D400",258.10000000000002,"1-ZE-01","2019-10-02","SZT"]
["33411","ZENERGY - POKRYWA GÓRNA IP43/55, W650+400, D400",266.2,"1-ZE-01","2019-10-02","SZT",null,{"$f":"SUM(G3768:G3768)","v":0}]
["33412","ZENERGY - POKRYWA GÓRNA IP43/55, W1200, D400",290.3,"1-ZE-01","2019-10-02","SZT"]
["33413","ZENERGY - POKRYWA GÓRNA IP43/55, W1300, D400",306.10000000000002,"1-ZE-01","2019-10-02","SZT",null,{"$f":"SUM(G3770:G3770)","v":0}]
["33415","ZENERGY - POKRYWA GÓRNA IP43/55, W650+450, D400",274.2,"1-ZE-01","2019-10-02","SZT",null,{"$f":"SUM(G3771:G3771)","v":0}]
["33416","ZENERGY - POKRYWA GÓRNA IP43/55, W850+150, D400",258.10000000000002,"1-ZE-01","2019-10-02","SZT"]
["33418","ZENERGY - POKRYWA GÓRNA IP43/55, W850+300, D400",282.10000000000002,"1-ZE-01","2019-10-02","SZT"]
["33419","ZENERGY - POKRYWA GÓRNA IP43/55, W850+400, D400",298.10000000000002,"1-ZE-01","2019-10-02","SZT",null,{"$f":"SUM(G3774:G3774)","v":0}]
["33420","ZENERGY - POKRYWA GÓRNA IP43/55, W850+450, D400",306.10000000000002,"1-ZE-01","2019-10-02","SZT",null,{"$f":"SUM(G3775:G3775)","v":0}]
["33421","ZENERGY - POKRYWA GÓRNA IP43/55, W150+650+400, D400",290.3,"1-ZE-01","2019-10-02","SZT"]
["33422","ZENERGY - POKRYWA GÓRNA IP43/55, W150+650+300, D400",274.2,"1-ZE-01","2019-10-02","SZT"]
["33427","ZENERGY - POKRYWA GÓRNA IP43/55, W150+850+300, D400",306.10000000000002,"1-ZE-01","2019-10-02","SZT"]
["33428","ZENERGY - POKRYWA GÓRNA IP43/55, W150+850+400, D400",322.2,"1-ZE-01","2019-10-02","SZT"]
["33430","ZENERGY - POKRYWA GÓRNA IP43/55, W300, D400",144.30000000000001,"1-ZE-01","2019-10-02","SZT"]
["33432","ZENERGY - POKRYWA GÓRNA IP43/55, W200+650+300, D400",282.10000000000002,"1-ZE-01","2019-10-02","SZT"]
["33433","ZENERGY - POKRYWA GÓRNA IP43/55, W200+650+400, D400",298.10000000000002,"1-ZE-01","2019-10-02","SZT"]
["33440","ZENERGY - POKRYWA GÓRNA IP43/55, W400, D400",160.4,"1-ZE-01","2019-10-02","SZT"]
["33445","ZENERGY - POKRYWA GÓRNA IP43/55, W450, D400",168.3,"1-ZE-01","2019-10-02","SZT"]
["33460","ZENERGY - POKRYWA GÓRNA IP43/55, W600, D400",192.3,"1-ZE-01","2019-10-02","SZT"]
["33465","ZENERGY - POKRYWA GÓRNA IP43/55, W650, D400",185.5,"1-ZE-01","2019-10-02","SZT"]
["33466","ZENERGY - POKRYWA GÓRNA IP43/55, W450+200, D400",200.3,"1-ZE-01","2019-10-02","SZT"]
["33471","ZENERGY - POKRYWA GÓRNA IP43/55, W300+400, D400",208.5,"1-ZE-01","2019-10-02","SZT"]
["33476","ZENERGY - POKRYWA GÓRNA IP43/55, W300+450, D400",218.1,"1-ZE-01","2019-10-02","SZT"]
["33480","ZENERGY - POKRYWA GÓRNA IP43/55, W800, D400",226.1,"1-ZE-01","2019-10-02","SZT"]
["33481","ZENERGY - POKRYWA GÓRNA IP43/55, W650+150, D400",226.1,"1-ZE-01","2019-10-02","SZT"]
["33485","ZENERGY - POKRYWA GÓRNA IP43/55, W850, D400",233.9,"1-ZE-01","2019-10-02","SZT"]
["33486","ZENERGY - POKRYWA GÓRNA IP43/55, W650+200, D400",233.9,"1-ZE-01","2019-10-02","SZT"]
["33491","ZENERGY - POKRYWA GÓRNA IP43/55, W450+450, D400",242.1,"1-ZE-01","2019-10-02","SZT"]
["33495","ZENERGY - POKRYWA GÓRNA IP43/55, W650+300, D400",250.1,"1-ZE-01","2019-10-02","SZT"]
["33500","ZENERGY - PŁYTA MONTAŻOWA LICZNIKOWA 2TL, W400, 18M, OCYNK",345.3,"1-ZE-01","2019-10-02","SZT"]
["33501","ZENERGY - PŁYTA MONTAŻOWA LICZNIKOWA 3TL, W400, 24M, OCYNK",374.2,"1-ZE-01","2019-10-02","SZT"]
["33503","ZENERGY - PŁYTA MONTAŻOWA LICZNIKOWA 2TL, W450, 18M, OCYNK",379.9,"1-ZE-01","2019-10-02","SZT"]
["33504","ZENERGY - PŁYTA MONTAŻOWA LICZNIKOWA 3TL, W450, 24M, OCYNK",411.6,"1-ZE-01","2019-10-02","SZT"]
["33506","ZENERGY - PŁYTA MONTAŻOWA LICZNIKOWA 4TL, W650, 18M, OCYNK",499.6,"1-ZE-01","2019-10-02","SZT"]
["33507","ZENERGY - PŁYTA MONTAŻOWA LICZNIKOWA 6TL, W650, 24M, OCYNK",542.29999999999995,"1-ZE-01","2019-10-02","SZT"]
["33509","ZENERGY - PŁYTA MONTAŻOWA LICZNIKOWA 6TL, W850, 18M, OCYNK",543.70000000000005,"1-ZE-01","2019-10-02","SZT"]
["33510","ZENERGY - PŁYTA MONTAŻOWA LICZNIKOWA 9TL, W850, 24M, OCYNK",589,"1-ZE-01","2019-10-02","SZT"]
["33513","ZENERGY - PŁYTA MONTAŻOWA OTWOROWANA W1000, 3M, OCYNK",214.5,"1-ZE-01","2019-10-02","SZT"]
["33514","ZENERGY - PŁYTA MONTAŻOWA OTWOROWANA W1000, 4M, OCYNK",246.9,"1-ZE-01","2019-10-02","SZT"]
["33516","ZENERGY - PŁYTA MONTAŻOWA OTWOROWANA W1000, 6M, OCYNK",318,"1-ZE-01","2019-10-02","SZT"]
["33532","ZENERGY - PŁYTA MONTAŻOWA OTWOROWANA W300, 2M, OCYNK",92.1,"1-ZE-01","2019-10-02","SZT"]
["33533","ZENERGY - PŁYTA MONTAŻOWA OTWOROWANA W300, 3M, OCYNK",107.2,"1-ZE-01","2019-10-02","SZT"]
["33534","ZENERGY - PŁYTA MONTAŻOWA OTWOROWANA W300, 4M, OCYNK",122.6,"1-ZE-01","2019-10-02","SZT"]
["33535","ZENERGY - PŁYTA MONTAŻOWA OTWOROWANA W300, 5M, OCYNK",147.5,"1-ZE-01","2019-10-02","SZT"]
["33536","ZENERGY - PŁYTA MONTAŻOWA OTWOROWANA W300, 6M, OCYNK",172.6,"1-ZE-01","2019-10-02","SZT"]
["33537","ZENERGY - PŁYTA MONTAŻOWA OTWOROWANA W300, 8M, OCYNK",203,"1-ZE-01","2019-10-02","SZT"]
["33538","ZENERGY - PŁYTA MONTAŻOWA OTWOROWANA W300, 10M, OCYNK",233.6,"1-ZE-01","2019-10-02","SZT"]
["33539","ZENERGY - PŁYTA MONTAŻOWA OTWOROWANA W300, 12M, OCYNK",270,"1-ZE-01","2019-10-02","SZT"]
["33542","ZENERGY - PŁYTA MONTAŻOWA OTWOROWANA W400, 2M, OCYNK",99.5,"1-ZE-01","2019-10-02","SZT"]
["33543","ZENERGY - PŁYTA MONTAŻOWA OTWOROWANA W400, 3M, OCYNK",114.9,"1-ZE-01","2019-10-02","SZT"]
["33544","ZENERGY - PŁYTA MONTAŻOWA OTWOROWANA W400, 4M, OCYNK",132.4,"1-ZE-01","2019-10-02","SZT"]
["33545","ZENERGY - PŁYTA MONTAŻOWA OTWOROWANA W400, 5M, OCYNK",157.1,"1-ZE-01","2019-10-02","SZT"]
["33546","ZENERGY - PŁYTA MONTAŻOWA OTWOROWANA W400, 6M, OCYNK",178.2,"1-ZE-01","2019-10-02","SZT"]
["33547","ZENERGY - PŁYTA MONTAŻOWA OTWOROWANA W400, 8M, OCYNK",218.3,"1-ZE-01","2019-10-02","SZT"]
["33548","ZENERGY - PŁYTA MONTAŻOWA OTWOROWANA W400, 10M, OCYNK",250.9,"1-ZE-01","2019-10-02","SZT"]
["33549","ZENERGY - PŁYTA MONTAŻOWA OTWOROWANA W400, 12M, OCYNK",291.2,"1-ZE-01","2019-10-02","SZT"]
["33552","ZENERGY - PŁYTA MONTAŻOWA OTWOROWANA W450, 2M, OCYNK",107.2,"1-ZE-01","2019-10-02","SZT"]
["33553","ZENERGY - PŁYTA MONTAŻOWA OTWOROWANA W450, 3M, OCYNK",122.6,"1-ZE-01","2019-10-02","SZT"]
["33554","ZENERGY - PŁYTA MONTAŻOWA OTWOROWANA W450, 4M, OCYNK",141.6,"1-ZE-01","2019-10-02","SZT"]
["33555","ZENERGY - PŁYTA MONTAŻOWA OTWOROWANA W450, 5M, OCYNK",166.7,"1-ZE-01","2019-10-02","SZT"]
["33556","ZENERGY - PŁYTA MONTAŻOWA OTWOROWANA W450, 6M, OCYNK",198.7,"1-ZE-01","2019-10-02","SZT"]
["33557","ZENERGY - PŁYTA MONTAŻOWA OTWOROWANA W450, 8M, OCYNK",233.6,"1-ZE-01","2019-10-02","SZT"]
["33558","ZENERGY - PŁYTA MONTAŻOWA OTWOROWANA W450, 10M, OCYNK",268.2,"1-ZE-01","2019-10-02","SZT"]
["33559","ZENERGY - PŁYTA MONTAŻOWA OTWOROWANA W450, 12M, OCYNK",325.10000000000002,"1-ZE-01","2019-10-02","SZT"]
["33562","ZENERGY - PŁYTA MONTAŻOWA OTWOROWANA W600, 2M, OCYNK",120.7,"1-ZE-01","2019-10-02","SZT"]
["33563","ZENERGY - PŁYTA MONTAŻOWA OTWOROWANA W600, 3M, OCYNK",137.9,"1-ZE-01","2019-10-02","SZT"]
["33564","ZENERGY - PŁYTA MONTAŻOWA OTWOROWANA W600, 4M, OCYNK",172.6,"1-ZE-01","2019-10-02","SZT"]
["33565","ZENERGY - PŁYTA MONTAŻOWA OTWOROWANA W600, 5M, OCYNK",195.3,"1-ZE-01","2019-10-02","SZT"]
["33566","ZENERGY - PŁYTA MONTAŻOWA OTWOROWANA W600, 6M, OCYNK",224,"1-ZE-01","2019-10-02","SZT"]
["33567","ZENERGY - PŁYTA MONTAŻOWA OTWOROWANA W600, 8M, OCYNK",271.89999999999998,"1-ZE-01","2019-10-02","SZT"]
["33568","ZENERGY - PŁYTA MONTAŻOWA OTWOROWANA W600, 10M, OCYNK",319.89999999999998,"1-ZE-01","2019-10-02","SZT"]
["33569","ZENERGY - PŁYTA MONTAŻOWA OTWOROWANA W600, 12M, OCYNK",371.4,"1-ZE-01","2019-10-02","SZT"]
["33572","ZENERGY - PŁYTA MONTAŻOWA OTWOROWANA W650, 2M, OCYNK",128.4,"1-ZE-01","2019-10-02","SZT"]
["33573","ZENERGY - PŁYTA MONTAŻOWA OTWOROWANA W650, 3M, OCYNK",154.5,"1-ZE-01","2019-10-02","SZT"]
["33574","ZENERGY - PŁYTA MONTAŻOWA OTWOROWANA W650, 4M, OCYNK",186.5,"1-ZE-01","2019-10-02","SZT"]
["33575","ZENERGY - PŁYTA MONTAŻOWA OTWOROWANA W650, 5M, OCYNK",220.8,"1-ZE-01","2019-10-02","SZT"]
["33576","ZENERGY - PŁYTA MONTAŻOWA OTWOROWANA W650, 6M, OCYNK",252.8,"1-ZE-01","2019-10-02","SZT"]
["33577","ZENERGY - PŁYTA MONTAŻOWA OTWOROWANA W650, 8M, OCYNK",308.89999999999998,"1-ZE-01","2019-10-02","SZT"]
["33578","ZENERGY - PŁYTA MONTAŻOWA OTWOROWANA W650, 10M, OCYNK",348.6,"1-ZE-01","2019-10-02","SZT"]
["33579","ZENERGY - PŁYTA MONTAŻOWA OTWOROWANA W650, 12M, OCYNK",402.2,"1-ZE-01","2019-10-02","SZT"]
["33582","ZENERGY - PŁYTA MONTAŻOWA OTWOROWANA W800, 2M, OCYNK",143.6,"1-ZE-01","2019-10-02","SZT"]
["33583","ZENERGY - PŁYTA MONTAŻOWA OTWOROWANA W800, 3M, OCYNK",162.80000000000001,"1-ZE-01","2019-10-02","SZT"]
["33584","ZENERGY - PŁYTA MONTAŻOWA OTWOROWANA W800, 4M, OCYNK",195.3,"1-ZE-01","2019-10-02","SZT"]
["33585","ZENERGY - PŁYTA MONTAŻOWA OTWOROWANA W800, 5M, OCYNK",233.6,"1-ZE-01","2019-10-02","SZT"]
["33586","ZENERGY - PŁYTA MONTAŻOWA OTWOROWANA W800, 6M, OCYNK",266.2,"1-ZE-01","2019-10-02","SZT"]
["33587","ZENERGY - PŁYTA MONTAŻOWA OTWOROWANA W800, 8M, OCYNK",329.4,"1-ZE-01","2019-10-02","SZT"]
["33588","ZENERGY - PŁYTA MONTAŻOWA OTWOROWANA W800, 10M, OCYNK",390.8,"1-ZE-01","2019-10-02","SZT"]
["33589","ZENERGY - PŁYTA MONTAŻOWA OTWOROWANA W800, 12M, OCYNK",453.9,"1-ZE-01","2019-10-02","SZT"]
["33592","ZENERGY - PŁYTA MONTAŻOWA OTWOROWANA W850, 2M, OCYNK",143.6,"1-ZE-01","2019-10-02","SZT"]
["33593","ZENERGY - PŁYTA MONTAŻOWA OTWOROWANA W850, 3M, OCYNK",186.5,"1-ZE-01","2019-10-02","SZT"]
["33594","ZENERGY - PŁYTA MONTAŻOWA OTWOROWANA W850, 4M, OCYNK",224.5,"1-ZE-01","2019-10-02","SZT"]
["33595","ZENERGY - PŁYTA MONTAŻOWA OTWOROWANA W850, 5M, OCYNK",266.89999999999998,"1-ZE-01","2019-10-02","SZT"]
["33596","ZENERGY - PŁYTA MONTAŻOWA OTWOROWANA W850, 6M, OCYNK",302.89999999999998,"1-ZE-01","2019-10-02","SZT"]
["33597","ZENERGY - PŁYTA MONTAŻOWA OTWOROWANA W850, 8M, OCYNK",375.2,"1-ZE-01","2019-10-02","SZT"]
["33598","ZENERGY - PŁYTA MONTAŻOWA OTWOROWANA W850, 10M, OCYNK",427.1,"1-ZE-01","2019-10-02","SZT"]
["33599","ZENERGY - PŁYTA MONTAŻOWA OTWOROWANA W850, 12M, OCYNK",494.2,"1-ZE-01","2019-10-02","SZT"]
["33600","Zenergy - Przyłącze transferowe W650, 100 - 250A 3P-4P",430.5,"1-ZE-01","2021-12-01","SZT"]
["33602","Zenergy - Przyłącze transferowe W650, 400 - 630A 3P-4P",483,"1-ZE-01","2021-12-01","SZT"]
["33610","ZENERGY - POKRYWA GÓRNA IP43/55, W1000, D600",310.5,"1-ZE-01","2019-10-02","SZT"]
["33611","ZENERGY - POKRYWA GÓRNA IP43/55, W650+400, D600",320.8,"1-ZE-01","2019-10-02","SZT"]
["33612","ZENERGY - POKRYWA GÓRNA IP43/55, W1200, D600",350,"1-ZE-01","2019-10-02","SZT"]
["33613","ZENERGY - POKRYWA GÓRNA IP43/55, W1300, D600",370.5,"1-ZE-01","2019-10-02","SZT"]
["33615","ZENERGY - POKRYWA GÓRNA IP43/55, W650+450, D600",309.5,"1-ZE-01","2019-10-02","SZT"]
["33616","ZENERGY - POKRYWA GÓRNA IP43/55, W850+150, D600",291.7,"1-ZE-01","2019-10-02","SZT"]
["33617","ZENERGY - POKRYWA GÓRNA IP43/55, W850+200, D600",305.39999999999998,"1-ZE-01","2001-01-01","SZT"]
["33618","ZENERGY - POKRYWA GÓRNA IP43/55, W850+300, D600",319.2,"1-ZE-01","2019-10-02","SZT"]
["33619","ZENERGY - POKRYWA GÓRNA IP43/55, W850+400, D600",338.4,"1-ZE-01","2019-10-02","SZT"]
["33620","ZENERGY - POKRYWA GÓRNA IP43/55, W850+450, D600",347.9,"1-ZE-01","2019-10-02","SZT"]
["33621","ZENERGY - POKRYWA GÓRNA IP43/55, W150+650+400, D600",350,"1-ZE-01","2019-10-02","SZT"]
["33622","ZENERGY - POKRYWA GÓRNA IP43/55, W150+650+300, D600",329.5,"1-ZE-01","2019-10-02","SZT"]
["33627","ZENERGY - POKRYWA GÓRNA IP43/55, W150+850+300, D600",370.5,"1-ZE-01","2019-10-02","SZT"]
["33628","ZENERGY - POKRYWA GÓRNA IP43/55, W150+850+400, D600",389.2,"1-ZE-01","2019-10-02","SZT"]
["33630","ZENERGY - POKRYWA GÓRNA IP43/55, W300, D600",160.4,"1-ZE-01","2019-10-02","SZT"]
["33632","ZENERGY - POKRYWA GÓRNA IP43/55, W200+650+300, D600",339.8,"1-ZE-01","2019-10-02","SZT"]
["33633","ZENERGY - POKRYWA GÓRNA IP43/55, W200+650+400, D600",360.3,"1-ZE-01","2019-10-02","SZT"]
["33640","ZENERGY - POKRYWA GÓRNA IP43/55, W400, D600",191.2,"1-ZE-01","2019-10-02","SZT"]
["33645","ZENERGY - POKRYWA GÓRNA IP43/55, W450, D600",189.2,"1-ZE-01","2019-10-02","SZT"]
["33660","ZENERGY - POKRYWA GÓRNA IP43/55, W600, D600",216.5,"1-ZE-01","2019-10-02","SZT"]
["33665","ZENERGY - POKRYWA GÓRNA IP43/55, W650, D600",226.1,"1-ZE-01","2019-10-02","SZT"]
["33666","ZENERGY - POKRYWA GÓRNA IP43/55, W450+200, D600",240.7,"1-ZE-01","2019-10-02","SZT"]
["33671","ZENERGY - POKRYWA GÓRNA IP43/55, W300+400, D600",251,"1-ZE-01","2019-10-02","SZT"]
["33676","ZENERGY - POKRYWA GÓRNA IP43/55, W300+450, D600",261.2,"1-ZE-01","2019-10-02","SZT"]
["33680","ZENERGY - POKRYWA GÓRNA IP43/55, W800, D600",269.60000000000002,"1-ZE-01","2019-10-02","SZT"]
["33681","ZENERGY - POKRYWA GÓRNA IP43/55, W650+150, D600",269.60000000000002,"1-ZE-01","2019-10-02","SZT"]
["33685","ZENERGY - POKRYWA GÓRNA IP43/55, W850, D600",279.89999999999998,"1-ZE-01","2019-10-02","SZT"]
["33686","ZENERGY - POKRYWA GÓRNA IP43/55, W650+200, D600",262.89999999999998,"1-ZE-01","2019-10-02","SZT"]
["33691","ZENERGY - POKRYWA GÓRNA IP43/55, W450+450, D600",272.39999999999998,"1-ZE-01","2019-10-02","SZT"]
["33695","ZENERGY - POKRYWA GÓRNA IP43/55, W650+300, D600",282.10000000000002,"1-ZE-01","2019-10-02","SZT"]
["33741","ZENERGY - PŁYTA MONTAŻOWA PEŁNA W400, 1M, POZIOMA, OCYNK, BEZ WSPORNIKÓW",39.200000000000003,"1-ZE-01","2019-10-02","SZT"]
["33742","ZENERGY - PŁYTA MONTAŻOWA PEŁNA W400, 2M, POZIOMA, OCYNK, BEZ WSPORNIKÓW",41,"1-ZE-01","2019-10-02","SZT"]
["33743","ZENERGY - PŁYTA MONTAŻOWA PEŁNA W400, 3M, POZIOMA, OCYNK, BEZ WSPORNIKÓW",46,"1-ZE-01","2019-10-02","SZT"]
["33744","ZENERGY - PŁYTA MONTAŻOWA PEŁNA W400, 4M, POZIOMA, OCYNK, BEZ WSPORNIKÓW",54.5,"1-ZE-01","2019-10-02","SZT"]
["33745","ZENERGY - PŁYTA MONTAŻOWA PEŁNA W400, 5M, POZIOMA, OCYNK, BEZ WSPORNIKÓW",66.5,"1-ZE-01","2019-10-02","SZT"]
["33746","ZENERGY - PŁYTA MONTAŻOWA PEŁNA W400, 6M, POZIOMA, OCYNK, BEZ WSPORNIKÓW",76.8,"1-ZE-01","2019-10-02","SZT"]
["33747","ZENERGY - PŁYTA MONTAŻOWA PEŁNA W400, 7M, POZIOMA, OCYNK, BEZ WSPORNIKÓW",90.3,"1-ZE-01","2019-10-02","SZT"]
["33748","ZENERGY - PŁYTA MONTAŻOWA PEŁNA W400, 8M, POZIOMA, OCYNK, BEZ WSPORNIKÓW",100.7,"1-ZE-01","2019-10-02","SZT"]
["33749","ZENERGY - PŁYTA MONTAŻOWA PEŁNA W400, 10M, POZIOMA, OCYNK, BEZ WSPORNIKÓW",122.9,"1-ZE-01","2019-10-02","SZT"]
["33751","ZENERGY - PŁYTA MONTAŻOWA PEŁNA W450, 1M, POZIOMA, OCYNK, BEZ WSPORNIKÓW",46,"1-ZE-01","2019-10-02","SZT"]
["33752","ZENERGY - PŁYTA MONTAŻOWA PEŁNA W450, 2M, POZIOMA, OCYNK, BEZ WSPORNIKÓW",49.4,"1-ZE-01","2019-10-02","SZT"]
["33753","ZENERGY - PŁYTA MONTAŻOWA PEŁNA W450, 3M, POZIOMA, OCYNK, BEZ WSPORNIKÓW",54.5,"1-ZE-01","2019-10-02","SZT"]
["33754","ZENERGY - PŁYTA MONTAŻOWA PEŁNA W450, 4M, POZIOMA, OCYNK, BEZ WSPORNIKÓW",66.5,"1-ZE-01","2019-10-02","SZT"]
["33755","ZENERGY - PŁYTA MONTAŻOWA PEŁNA W450, 5M, POZIOMA, OCYNK, BEZ WSPORNIKÓW",80.2,"1-ZE-01","2019-10-02","SZT"]
["33756","ZENERGY - PŁYTA MONTAŻOWA PEŁNA W450, 6M, POZIOMA, OCYNK, BEZ WSPORNIKÓW",93.9,"1-ZE-01","2019-10-02","SZT"]
["33757","ZENERGY - PŁYTA MONTAŻOWA PEŁNA W450, 7M, POZIOMA, OCYNK, BEZ WSPORNIKÓW",109.3,"1-ZE-01","2019-10-02","SZT"]
["33758","ZENERGY - PŁYTA MONTAŻOWA PEŁNA W450, 8M, POZIOMA, OCYNK, BEZ WSPORNIKÓW",121.1,"1-ZE-01","2019-10-02","SZT"]
["33759","ZENERGY - PŁYTA MONTAŻOWA PEŁNA W450, 10M, POZIOMA, OCYNK, BEZ WSPORNIKÓW",148.5,"1-ZE-01","2019-10-02","SZT"]
["33771","ZENERGY - PŁYTA MONTAŻOWA PEŁNA W650, 1M, POZIOMA, OCYNK, BEZ WSPORNIKÓW",63.2,"1-ZE-01","2019-10-02","SZT"]
["33772","ZENERGY - PŁYTA MONTAŻOWA PEŁNA W650, 2M, POZIOMA, OCYNK, BEZ WSPORNIKÓW",66.5,"1-ZE-01","2019-10-02","SZT"]
["33773","ZENERGY - PŁYTA MONTAŻOWA PEŁNA W650, 3M, POZIOMA, OCYNK, BEZ WSPORNIKÓW",69.900000000000006,"1-ZE-01","2019-10-02","SZT"]
["33774","ZENERGY - PŁYTA MONTAŻOWA PEŁNA W650, 4M, POZIOMA, OCYNK, BEZ WSPORNIKÓW",88.9,"1-ZE-01","2019-10-02","SZT"]
["33775","ZENERGY - PŁYTA MONTAŻOWA PEŁNA W650, 5M, POZIOMA, OCYNK, BEZ WSPORNIKÓW",104.2,"1-ZE-01","2019-10-02","SZT"]
["33776","ZENERGY - PŁYTA MONTAŻOWA PEŁNA W650, 6M, POZIOMA, OCYNK, BEZ WSPORNIKÓW",124.7,"1-ZE-01","2019-10-02","SZT"]
["33777","ZENERGY - PŁYTA MONTAŻOWA PEŁNA W650, 7M, POZIOMA, OCYNK, BEZ WSPORNIKÓW",143.4,"1-ZE-01","2019-10-02","SZT"]
["33778","ZENERGY - PŁYTA MONTAŻOWA PEŁNA W650, 8M, POZIOMA, OCYNK, BEZ WSPORNIKÓW",158.69999999999999,"1-ZE-01","2019-10-02","SZT"]
["33779","ZENERGY - PŁYTA MONTAŻOWA PEŁNA W650, 10M, POZIOMA, OCYNK, BEZ WSPORNIKÓW",196.3,"1-ZE-01","2019-10-02","SZT"]
["33780","ZENERGY IT - PÓŁKA STAŁA 19\", 1U, O GŁ. 650 MM., MOCOWANA W CZTERECH PUNKTACH, SZAFY W650",150,"1-ZE-01","2019-10-02","SZT"]
["33781","ZENERGY IT - PÓŁKA RUCHOMA 19\",1U, O GŁ. 650MM, OBCIĄŻENIE <40KG MOCOWANA W CZTERECH PUNKTACH, SZAFY W650",266.60000000000002,"1-ZE-01","2019-10-02","SZT"]
["33791","ZENERGY - PŁYTA MONTAŻOWA PEŁNA W850, 1M, POZIOMA, OCYNK, BEZ WSPORNIKÓW",82,"1-ZE-01","2019-10-02","SZT"]
["33792","ZENERGY - PŁYTA MONTAŻOWA PEŁNA W850, 2M, POZIOMA, OCYNK, BEZ WSPORNIKÓW",87,"1-ZE-01","2019-10-02","SZT"]
["33793","ZENERGY - PŁYTA MONTAŻOWA PEŁNA W850, 3M, POZIOMA, OCYNK, BEZ WSPORNIKÓW",93.9,"1-ZE-01","2019-10-02","SZT"]
["33794","ZENERGY - PŁYTA MONTAŻOWA PEŁNA W850, 4M, POZIOMA, OCYNK, BEZ WSPORNIKÓW",116.1,"1-ZE-01","2019-10-02","SZT"]
["33795","ZENERGY - PŁYTA MONTAŻOWA PEŁNA W850, 5M, POZIOMA, OCYNK, BEZ WSPORNIKÓW",141.6,"1-ZE-01","2019-10-02","SZT"]
["33796","ZENERGY - PŁYTA MONTAŻOWA PEŁNA W850, 6M, POZIOMA, OCYNK, BEZ WSPORNIKÓW",162.1,"1-ZE-01","2019-10-02","SZT"]
["33797","ZENERGY - PŁYTA MONTAŻOWA PEŁNA W850, 7M, POZIOMA, OCYNK, BEZ WSPORNIKÓW",186.1,"1-ZE-01","2019-10-02","SZT"]
["33798","ZENERGY - PŁYTA MONTAŻOWA PEŁNA W850, 8M, POZIOMA, OCYNK, BEZ WSPORNIKÓW",206.6,"1-ZE-01","2019-10-02","SZT"]
["33799","ZENERGY - PŁYTA MONTAŻOWA PEŁNA W850, 10M, POZIOMA, OCYNK, BEZ WSPORNIKÓW",254.3,"1-ZE-01","2019-10-02","SZT"]
["33810","ZENERGY - POKRYWA GÓRNA IP43/55, W1000, D800",346.3,"1-ZE-01","2019-10-02","SZT"]
["33811","ZENERGY - POKRYWA GÓRNA IP43/55, W650+400, D800",359.1,"1-ZE-01","2019-10-02","SZT"]
["33812","ZENERGY - POKRYWA GÓRNA IP43/55, W1200, D800",394.4,"1-ZE-01","2019-10-02","SZT"]
["33813","ZENERGY - POKRYWA GÓRNA IP43/55, W1300, D800",416.8,"1-ZE-01","2019-10-02","SZT"]
["33815","ZENERGY - POKRYWA GÓRNA IP43/55, W650+450, D800",370.3,"1-ZE-01","2019-10-02","SZT"]
["33816","ZENERGY - POKRYWA GÓRNA IP43/55, W850+150, D800",346.3,"1-ZE-01","2019-10-02","SZT"]
["33817","ZENERGY - POKRYWA GÓRNA IP43/55, W850+200, D800",363.8,"1-ZE-01","2001-01-01","SZT"]
["33818","ZENERGY - POKRYWA GÓRNA IP43/55, W850+300, D800",381.5,"1-ZE-01","2019-10-02","SZT"]
["33819","ZENERGY - POKRYWA GÓRNA IP43/55, W850+400, D800",405.6,"1-ZE-01","2019-10-02","SZT"]
["33820","ZENERGY - POKRYWA GÓRNA IP43/55, W850+450, D800",416.8,"1-ZE-01","2019-10-02","SZT"]
["33821","ZENERGY - POKRYWA GÓRNA IP43/55, W150+650+400, D800",394.4,"1-ZE-01","2019-10-02","SZT"]
["33822","ZENERGY - POKRYWA GÓRNA IP43/55, W150+650+300, D800",370.3,"1-ZE-01","2019-10-02","SZT"]
["33827","ZENERGY - POKRYWA GÓRNA IP43/55, W150+850+300, D800",416.8,"1-ZE-01","2019-10-02","SZT"]
["33828","ZENERGY - POKRYWA GÓRNA IP43/55, W150+850+400, D800",440.7,"1-ZE-01","2019-10-02","SZT"]
["33830","ZENERGY - POKRYWA GÓRNA IP43/55, W300, D800",182.7,"1-ZE-01","2019-10-02","SZT"]
["33832","ZENERGY - POKRYWA GÓRNA IP43/55, W200+650+300, D800",381.5,"1-ZE-01","2019-10-02","SZT"]
["33833","ZENERGY - POKRYWA GÓRNA IP43/55, W200+650+400, D800",405.6,"1-ZE-01","2019-10-02","SZT"]
["33840","ZENERGY - POKRYWA GÓRNA IP43/55, W400, D800",206.8,"1-ZE-01","2019-10-02","SZT"]
["33845","ZENERGY - POKRYWA GÓRNA IP43/55, W450, D800",218.1,"1-ZE-01","2019-10-02","SZT"]
["33860","ZENERGY - POKRYWA GÓRNA IP43/55, W600, D800",253.2,"1-ZE-01","2019-10-02","SZT"]
["33865","ZENERGY - POKRYWA GÓRNA IP43/55, W650, D800",264.5,"1-ZE-01","2019-10-02","SZT"]
["33866","ZENERGY - POKRYWA GÓRNA IP43/55, W450+200, D800",264.5,"1-ZE-01","2019-10-02","SZT"]
["33871","ZENERGY - POKRYWA GÓRNA IP43/55, W300+400, D800",277.3,"1-ZE-01","2019-10-02","SZT"]
["33876","ZENERGY - POKRYWA GÓRNA IP43/55, W300+450, D800",288.7,"1-ZE-01","2019-10-02","SZT"]
["33880","ZENERGY - POKRYWA GÓRNA IP43/55, W800, D800",299.89999999999998,"1-ZE-01","2019-10-02","SZT"]
["33881","ZENERGY - POKRYWA GÓRNA IP43/55, W650+150, D800",299.89999999999998,"1-ZE-01","2019-10-02","SZT"]
["33885","ZENERGY - POKRYWA GÓRNA IP43/55, W850, D800",312.60000000000002,"1-ZE-01","2019-10-02","SZT"]
["33886","ZENERGY - POKRYWA GÓRNA IP43/55, W650+200, D800",312.60000000000002,"1-ZE-01","2019-10-02","SZT"]
["33891","ZENERGY - POKRYWA GÓRNA IP43/55, W450+450, D800",323.89999999999998,"1-ZE-01","2019-10-02","SZT"]
["33895","ZENERGY - POKRYWA GÓRNA IP43/55, W650+300, D800",335.1,"1-ZE-01","2019-10-02","SZT"]
["34001","ZENERGY - WSPORNIK ADAPTERA DLA ANALIZATORÓW OD 84 DO 157 MM - 4 SZT.",28.7,"1-ZE-01","2019-10-02","SZT"]
["34002","ZENERGY - WSPORNIK ADAPTERA DLA ANALIZATORÓW OD 108 DO 270 MM - 4 SZT.",29.8,"1-ZE-01","2019-10-02","SZT"]
["34003","ZENERGY - ADAPTER DLA ANALIZATORÓW ZATABLICOWYCH 92X92MM, ORAZ DIN DO PŁYT 3M 4M 5M",95.1,"1-ZE-01","2019-10-02","SZT"]
["34007","ZENERGY - ADAPTER DLA ANALIZATORÓW ZATABLICOWYCH 92X92MM, ORAZ DIN DO PŁYTY 7M",95.1,"1-ZE-01","2019-10-02","SZT"]
["34020","ZENERGY - OSŁONA CZOŁOWA DLA MCCB 3P Z ANALIZATOREM, WYKONANIE SPECJALNE, W650, 3M / 500, POZIOMO",52.4,"1-ZE-01","2019-10-02","SZT"]
["34021","ZENERGY - OSŁONA CZOŁOWA DLA MCCB 3P Z ANALIZATOREM, WYKONANIE SPECJALNE, W650, 4M / 500, POZIOMO",57.8,"1-ZE-01","2019-10-02","SZT"]
["34022","ZENERGY - OSŁONA CZOŁOWA DLA MCCB 3P Z ANALIZATOREM, WYKONANIE SPECJALNE, W650, 5M / 500, POZIOMO",63.1,"1-ZE-01","2019-10-02","SZT"]
["34023","ZENERGY - OSŁONA CZOŁOWA DLA MCCB 3P Z ANALIZATOREM, WYKONANIE SPECJALNE, W650, 6M / 500, POZIOMO",68.400000000000006,"1-ZE-01","2019-10-02","SZT"]
["34025","ZENERGY - OSŁONA CZOŁOWA DLA MCCB 4P Z ANALIZATOREM, WYKONANIE SPECJALNE, W650, 4M / 500, POZIOMO",57.8,"1-ZE-01","2019-10-02","SZT"]
["34026","ZENERGY - OSŁONA CZOŁOWA DLA MCCB 4P Z ANALIZATOREM, WYKONANIE SPECJALNE, W650, 5M / 500, POZIOMO",63.1,"1-ZE-01","2019-10-02","SZT"]
["34027","ZENERGY - OSŁONA CZOŁOWA DLA MCCB 4P Z ANALIZATOREM, WYKONANIE SPECJALNE, W650, 6M / 500, POZIOMO",68.400000000000006,"1-ZE-01","2019-10-02","SZT"]
["34028","ZENERGY - OSŁONA CZOŁOWA DLA MCCB 4P Z ANALIZATOREM, WYKONANIE SPECJALNE, W650, 7M / 500, POZIOMO",98.6,"1-ZE-01","2019-10-02","SZT"]
["34030","ZENERGY - OSŁONA CZOŁOWA DLA MCCB 3P Z ANALIZATOREM, WYKONANIE SPECJALNE, W850, 3M / 700, POZIOMO",61.3,"1-ZE-01","2019-10-02","SZT"]
["34031","ZENERGY - OSŁONA CZOŁOWA DLA MCCB 3P Z ANALIZATOREM, WYKONANIE SPECJALNE, W850, 4M / 700, POZIOMO",67.2,"1-ZE-01","2019-10-02","SZT"]
["34032","ZENERGY - OSŁONA CZOŁOWA DLA MCCB 3P Z ANALIZATOREM, WYKONANIE SPECJALNE, W850, 5M / 700, POZIOMO",75.7,"1-ZE-01","2019-10-02","SZT"]
["34033","ZENERGY - OSŁONA CZOŁOWA DLA MCCB 3P Z ANALIZATOREM, WYKONANIE SPECJALNE, W850, 6M / 700, POZIOMO",83,"1-ZE-01","2019-10-02","SZT"]
["34035","ZENERGY - OSŁONA CZOŁOWA DLA MCCB 4P Z ANALIZATOREM, WYKONANIE SPECJALNE, W850, 4M / 700, POZIOMO",67.2,"1-ZE-01","2019-10-02","SZT"]
["34036","ZENERGY - OSŁONA CZOŁOWA DLA MCCB 4P Z ANALIZATOREM, WYKONANIE SPECJALNE, W850, 5M / 700, POZIOMO",75.7,"1-ZE-01","2019-10-02","SZT"]
["34037","ZENERGY - OSŁONA CZOŁOWA DLA MCCB 4P Z ANALIZATOREM, WYKONANIE SPECJALNE, W850, 6M / 700, POZIOMO",83,"1-ZE-01","2019-10-02","SZT"]
["34038","ZENERGY - OSŁONA CZOŁOWA DLA MCCB 4P Z ANALIZATOREM, WYKONANIE SPECJALNE, W850, 7M / 700, POZIOMO",117.2,"1-ZE-01","2019-10-02","SZT"]
["34040","ZENERGY - OSŁONA CZOŁOWA DLA NSX100-250 3P I ANALIZATORA 92X92MM, W650, 3M / 500, POZIOMO, DŹWIGNIA",55.8,"1-ZE-01","2019-10-02","SZT"]
["34041","ZENERGY - OSŁONA CZOŁOWA DLA NSX100-250 4P I ANALIZATORA 92X92MM, W650, 4M / 500, POZIOMO, DŹWIGNIA",61.5,"1-ZE-01","2019-10-02","SZT"]
["34042","ZENERGY - OSŁONA CZOŁOWA DLA NSX400-630 3P I ANALIZATORA 92X92MM, W650, 4M / 500, POZIOMO, DŹWIGNIA",61.5,"1-ZE-01","2019-10-02","SZT"]
["34043","ZENERGY - OSŁONA CZOŁOWA DLA NSX400-630 4P I ANALIZATORA 92X92MM, W650, 5M / 500, POZIOMO, DŹWIGNIA",67.3,"1-ZE-01","2019-10-02","SZT"]
["34045","ZENERGY - OSŁONA CZOŁOWA DLA NS1600 3/4P I ANALIZATORA 92X92MM, W650, 7M / 500, POZIOMO, DŹWIGNIA",105,"1-ZE-01","2019-10-02","SZT"]
["34047","ZENERGY - OSŁONA CZOŁOWA OCHRONNIKA PRZEPIĘCIOWEGO B+C Z ZABEZPIECZENIEM BEZPIECZNIKOWYM 160A W650, 3M / 500",47.5,"1-ZE-01","2001-01-01","SZT"]
["34050","ZENERGY - OSŁONA CZOŁOWA DLA UCB100 3P I ANALIZATORA 92X92MM, W650, 3M / 500, POZIOMO, DŹWIGNIA",55.8,"1-ZE-01","2019-10-02","SZT"]
["34051","ZENERGY - OSŁONA CZOŁOWA DLA UCB100 4P I ANALIZATORA 92X92MM, W650, 4M / 500, POZIOMO, DŹWIGNIA",61.5,"1-ZE-01","2019-10-02","SZT"]
["34052","ZENERGY - OSŁONA CZOŁOWA DLA UCB160-250 3P I ANALIZATORA 92X92MM, W650, 3M / 500, POZIOMO, DŹWIGNIA",55.8,"1-ZE-01","2019-10-02","SZT"]
["34053","ZENERGY - OSŁONA CZOŁOWA DLA UCB160-250 4P I ANALIZATORA 92X92MM, W650, 4M / 500, POZIOMO, DŹWIGNIA",61.5,"1-ZE-01","2019-10-02","SZT"]
["34054","ZENERGY - OSŁONA CZOŁOWA DLA UCB400 3P I ANALIZATORA 92X92MM, W650, 4M / 500, POZIOMO, DŹWIGNIA",61.5,"1-ZE-01","2019-10-02","SZT"]
["34055","ZENERGY - OSŁONA CZOŁOWA DLA UCB400 4P I ANALIZATORA 92X92MM, W650, 5M / 500, POZIOMO, DŹWIGNIA",67.3,"1-ZE-01","2019-10-02","SZT"]
["34056","ZENERGY - OSŁONA CZOŁOWA DLA UCB630-800 3P I ANALIZATORA 92X92MM, W650, 6M / 500, POZIOMO, DŹWIGNIA",72.8,"1-ZE-01","2019-10-02","SZT"]
["34057","ZENERGY - OSŁONA CZOŁOWA DLA UCB630-800 4P I ANALIZATORA 92X92MM, W650, 7M / 500, POZIOMO, DŹWIGNIA",95.3,"1-ZE-01","2019-10-02","SZT"]
["34060","ZENERGY - OSŁONA CZOŁOWA DLA UPB100-250 3P I ANALIZATORA 92X92MM, W650, 3M / 500, POZIOMO, DŹWIGNIA",55.8,"1-ZE-01","2019-10-02","SZT"]
["34061","ZENERGY - OSŁONA CZOŁOWA DLA UPB100-250 4P I ANALIZATORA 92X92MM, W650, 4M / 500, POZIOMO, DŹWIGNIA",61.5,"1-ZE-01","2019-10-02","SZT"]
["34062","ZENERGY - OSŁONA CZOŁOWA DLA UPB400-630 3P I ANALIZATORA 92X92MM, W650, 4M / 500, POZIOMO, DŹWIGNIA",61.5,"1-ZE-01","2019-10-02","SZT"]
["34063","ZENERGY - OSŁONA CZOŁOWA DLA UPB400-630 4P I ANALIZATORA 92X92MM, W650, 5M / 500, POZIOMO, DŹWIGNIA",67.3,"1-ZE-01","2019-10-02","SZT"]
["34070","ZENERGY - OSŁONA CZOŁOWA DLA NSX100-250 3P I ANALIZATORA 92X92MM, W850, 3M / 700, POZIOMO, DŹWIGNIA",65.3,"1-ZE-01","2019-10-02","SZT"]
["34071","ZENERGY - OSŁONA CZOŁOWA DLA NSX100-250 4P I ANALIZATORA 92X92MM, W850, 4M / 700, POZIOMO, DŹWIGNIA",71.599999999999994,"1-ZE-01","2019-10-02","SZT"]
["34072","ZENERGY - OSŁONA CZOŁOWA DLA NSX400-630 3P I ANALIZATORA 92X92MM, W850, 4M / 700, POZIOMO, DŹWIGNIA",71.599999999999994,"1-ZE-01","2019-10-02","SZT"]
["34073","ZENERGY - OSŁONA CZOŁOWA DLA NSX400-630 4P I ANALIZATORA 92X92MM, W850, 5M / 700, POZIOMO, DŹWIGNIA",80.599999999999994,"1-ZE-01","2019-10-02","SZT"]
["34074","ZENERGY - ADAPTER DLA ANALIZATORÓW ZATABLICOWYCH 92X92MM, 4M / 500",105,"1-ZE-01","2019-10-02","SZT"]
["34077","ZENERGY - OSŁONA CZOŁOWA DLA UCB1000-1250 4P I ANALIZATORA 92X92MM, W850, 7M / 700, POZIOMO, DŹWIGNIA",103.2,"1-ZE-01","2021-12-01","SZT"]
["34080","ZENERGY - OSŁONA CZOŁOWA DLA UCB100 3P I ANALIZATORA 92X92MM, W850, 3M / 700, POZIOMO, DŹWIGNIA",61.3,"1-ZE-01","2019-10-02","SZT"]
["34081","ZENERGY - OSŁONA CZOŁOWA DLA UCB100 4P I ANALIZATORA 92X92MM, W850, 4M / 700, POZIOMO, DŹWIGNIA",67.2,"1-ZE-01","2019-10-02","SZT"]
["34082","ZENERGY - OSŁONA CZOŁOWA DLA UCB160-250 3P I ANALIZATORA 92X92MM, W850, 3M / 700, POZIOMO, DŹWIGNIA",61.3,"1-ZE-01","2019-10-02","SZT"]
["34083","ZENERGY - OSŁONA CZOŁOWA DLA UCB160-250 4P I ANALIZATORA 92X92MM, W850, 4M / 700, POZIOMO, DŹWIGNIA",67.2,"1-ZE-01","2019-10-02","SZT"]
["34084","ZENERGY - OSŁONA CZOŁOWA DLA UCB400 3P I ANALIZATORA 92X92MM, W850, 4M / 700, POZIOMO, DŹWIGNIA",67.2,"1-ZE-01","2019-10-02","SZT"]
["34085","ZENERGY - OSŁONA CZOŁOWA DLA UCB400 4P I ANALIZATORA 92X92MM, W850, 5M / 700, POZIOMO, DŹWIGNIA",75.7,"1-ZE-01","2019-10-02","SZT"]
["34086","ZENERGY - OSŁONA CZOŁOWA DLA UCB630-800 3P I ANALIZATORA 92X92MM, W850, 6M / 700, POZIOMO, DŹWIGNIA",83,"1-ZE-01","2019-10-02","SZT"]
["34087","ZENERGY - OSŁONA CZOŁOWA DLA UCB630-800 4P I ANALIZATORA 92X92MM, W850, 7M / 700, POZIOMO, DŹWIGNIA",103.2,"1-ZE-01","2019-10-02","SZT"]
["34088","ZENERGY - OSŁONA CZOŁOWA DLA UCB1000-1250 3P I ANALIZATORA 92X92MM, W850, 6M / 700, POZIOMO, DŹWIGNIA",83,"1-ZE-01","2019-10-02","SZT"]
["34089","Zenergy - Osłona czołowa dla UCB1000-1250 4P i analizatora 92x92mm, W850, 7M / 700, poziomo, dźwignia",103.2,"1-ZE-01","2019-10-02","SZT"]
["34090","ZENERGY - OSŁONA CZOŁOWA DLA UPB100-250 3P I ANALIZATORA 92X92MM, W850, 3M / 700, POZIOMO, DŹWIGNIA",61.3,"1-ZE-01","2019-10-02","SZT"]
["34091","ZENERGY - OSŁONA CZOŁOWA DLA UPB100-250 4P I ANALIZATORA 92X92MM, W850, 4M / 700, POZIOMO, DŹWIGNIA",70.3,"1-ZE-01","2019-10-02","SZT"]
["34092","ZENERGY - OSŁONA CZOŁOWA DLA UPB400-630 3P I ANALIZATORA 92X92MM, W850, 4M / 700, POZIOMO, DŹWIGNIA",70.3,"1-ZE-01","2019-10-02","SZT"]
["34093","ZENERGY - OSŁONA CZOŁOWA DLA UPB400-630 4P I ANALIZATORA 92X92MM, W850, 5M / 700, POZIOMO, DŹWIGNIA",72.3,"1-ZE-01","2019-10-02","SZT"]
["34100","ZENERGY - PŁYTA MONTAŻOWA INS/INV100-250, W1000, 3M, PIONOWO",179.1,"1-ZE-01","2019-10-02","SZT"]
["34101","ZENERGY - PŁYTA MONTAŻOWA INS/INV100-250, W1000, 4M, POZIOMO",195.5,"1-ZE-01","2019-10-02","SZT"]
["34102","ZENERGY - PŁYTA MONTAŻOWA INS/INV320-630, 2X INS/INV320-630 RZR, W1000, 4M, PIONOWO",195.5,"1-ZE-01","2019-10-02","SZT"]
["34103","ZENERGY - PŁYTA MONTAŻOWA INS/INV320-630, W1000, 5M, POZIOMO",206.2,"1-ZE-01","2019-10-02","SZT"]
["34104","ZENERGY - PŁYTA MONTAŻOWA INS/INV1600, W1000, 8M, PIONOWO",288,"1-ZE-01","2019-10-02","SZT"]
["34105","ZENERGY - PŁYTA MONTAŻOWA INS/INV1600, W1000, 8M, POZIOMO",288,"1-ZE-01","2019-10-02","SZT"]
["34106","ZENERGY - PŁYTA MONTAŻOWA 2X INS/INV100-250 RZR, W1000, 3M, PIONOWO",179.1,"1-ZE-01","2019-10-02","SZT"]
["34107","ZENERGY - PŁYTA MONTAŻOWA 2X INS/INV100-250 RZR, W1000, 6M, POZIOMO",217.1,"1-ZE-01","2019-10-02","SZT"]
["34109","ZENERGY - PŁYTA MONTAŻOWA 2X INS/INV320-630 RZR, W1000, 9M, POZIOMO",300.10000000000002,"1-ZE-01","2019-10-02","SZT"]
["34110","ZENERGY - PODPORA PŁYTY MONTAŻOWEJ DLA VIGI, W1000",76.5,"1-ZE-01","2020-05-04","SZT"]
["34111","ZENERGY - OSŁONA CZOŁOWA INS/INV100-250, W1000, 5M / 850, PIONOWO",85.5,"1-ZE-01","2019-10-02","SZT"]
["34112","ZENERGY - OSŁONA CZOŁOWA INS/INV100-250, W1000, 4M / 850, POZIOMO",78.8,"1-ZE-01","2019-10-02","SZT"]
["34113","ZENERGY - OSŁONA CZOŁOWA INS/INV320-630, 1X INS/INV320-630 RZR, W1000, 7M / 850, PIONOWO",113.5,"1-ZE-01","2019-10-02","SZT"]
["34114","ZENERGY - OSŁONA CZOŁOWA INS/INV320-630, W1000, 5M / 850, POZIOMO",85.5,"1-ZE-01","2019-10-02","SZT"]
["34116","ZENERGY - OSŁONA CZOŁOWA INS/INV1600, W1000, 6M / 850, PIONOWO",93.2,"1-ZE-01","2019-10-02","SZT"]
["34117","ZENERGY - OSŁONA CZOŁOWA INS/INV1600, W1000, 6M / 850, POZIOMO",93.2,"1-ZE-01","2019-10-02","SZT"]
["34118","ZENERGY - OSŁONA CZOŁOWA 2X INS/INV100-250 RZR, W1000, 5M / 850, PIONOWO, DŹWIGNIA",85.5,"1-ZE-01","2019-10-02","SZT"]
["34119","ZENERGY - OSŁONA CZOŁOWA 2X INS/INV100-250 RZR, W1000, 6M / 850, POZIOMO, DŹWIGNIA",93.2,"1-ZE-01","2019-10-02","SZT"]
["34121","ZENERGY - OSŁONA CZOŁOWA 2X INS/INV320-630 RZR, W1000, 10M / 850, POZIOMO",158.6,"1-ZE-01","2019-10-02","SZT"]
["34124","ZENERGY - PŁYTA MONTAŻOWA NSX100-250 3/4P, W1000, 3M, PIONOWO, DŹWIGNIA",179.1,"1-ZE-01","2019-10-02","SZT"]
["34126","ZENERGY - PŁYTA MONTAŻOWA NSX100-250 3/4P, W1000, 3M, PIONOWO, WTYKOWY, WYSUWNY",179.1,"1-ZE-01","2019-10-02","SZT"]
["34127","ZENERGY - PŁYTA MONTAŻOWA NSX100-250 3P, W1000, 3M, POZIOMO, DŹWIGNIA",179.1,"1-ZE-01","2019-10-02","SZT"]
["34128","ZENERGY - PŁYTA MONTAŻOWA NSX100-250 4P, W1000, 4M, POZIOMO, DŹWIGNIA",195.3,"1-ZE-01","2019-10-02","SZT"]
["34129","ZENERGY - PŁYTA MONTAŻOWA 2X NSX100-250 3/4P SZR, W1000, BLOKADA PŁYTOWA, PIONOWO, SILNIK",179.1,"1-ZE-01","2019-10-02","SZT"]
["34130","ZENERGY - PŁYTA MONTAŻOWA 2X NSX100-250 3/4P SZR, W1000, BLOKADA PŁYTOWA, POZIOMO, SILNIK",179.1,"1-ZE-01","2019-10-02","SZT"]
["34133","ZENERGY - OSŁONA CZOŁOWA NSX100-250 3/4P, W1000, 5M / 850, PIONOWO, DŹWIGNIA",85.6,"1-ZE-01","2019-10-02","SZT"]
["34134","ZENERGY - OSŁONA CZOŁOWA NSX100-250 3/4P, W1000, 5M / 850, PIONOWO, SILNIK, OBROTOWY",85.6,"1-ZE-01","2019-10-02","SZT"]
["34135","ZENERGY - OSŁONA CZOŁOWA NSX100-250 VIGI 3/4P, W1000, 7M / 850, PIONOWO, DŹWIGNIA",113.5,"1-ZE-01","2019-10-02","SZT"]
["34137","ZENERGY - OSŁONA CZOŁOWA NSX100-250 3P, W1000, 3M / 850, POZIOMO, DŹWIGNIA",70.8,"1-ZE-01","2019-10-02","SZT"]
["34138","ZENERGY - OSŁONA CZOŁOWA NSX100-250 3P, W1000, 3M / 850, POZIOMO, SILNIK, OBROTOWY",70.8,"1-ZE-01","2019-10-02","SZT"]
["34139","ZENERGY - OSŁONA CZOŁOWA NSX100-250 VIGI 3P, W1000, 3M / 850, POZIOMO, DŹWIGNIA",70.8,"1-ZE-01","2019-10-02","SZT"]
["34140","ZENERGY - OSŁONA CZOŁOWA NSX100-250 3P, W1000, 4M / 850, POZIOMO, WYSUWNY",78.8,"1-ZE-01","2019-10-02","SZT"]
["34141","ZENERGY - OSŁONA CZOŁOWA NSX100-250 4P, W1000, 4M / 850, POZIOMO, DŹWIGNIA",78.8,"1-ZE-01","2019-10-02","SZT"]
["34142","ZENERGY - OSŁONA CZOŁOWA NSX100-250 4P, W1000, 4M / 850, POZIOMO, SILNIK, OBROTOWY",78.8,"1-ZE-01","2019-10-02","SZT"]
["34143","ZENERGY - OSŁONA CZOŁOWA NSX100-250 VIGI 4P, W1000, 4M / 850, POZIOMO, DŹWIGNIA",78.8,"1-ZE-01","2019-10-02","SZT"]
["34144","ZENERGY - OSŁONA CZOŁOWA NSX100-250 4P, W1000, 5M / 850, POZIOMO, WYSUWNY",85.6,"1-ZE-01","2019-10-02","SZT"]
["34145","ZENERGY - OSŁONA CZOŁOWA 2X NSX100-250 3/4P SZR, W1000, 7M / 850, BLOKADA PŁYTOWA, PIONOWO, SILNIK",113.5,"1-ZE-01","2019-10-02","SZT"]
["34146","ZENERGY - OSŁONA CZOŁOWA 2X NSX100-250 3/4P SZR, W1000, 8M / 850, BLOKADA PŁYTOWA, POZIOMO, SILNIK",127.8,"1-ZE-01","2019-10-02","SZT"]
["34149","ZENERGY - PŁYTA MONTAŻOWA NSX400-630 3/4P, W1000, 6M, PIONOWO, DŹWIGNIA",217.1,"1-ZE-01","2019-10-02","SZT"]
["34150","ZENERGY - PŁYTA MONTAŻOWA NSX400-630 3P, W1000, 4M, POZIOMO, DŹWIGNIA",197.7,"1-ZE-01","2019-10-02","SZT"]
["34151","ZENERGY - PŁYTA MONTAŻOWA NSX400-630 4P, W1000, 5M, POZIOMO, DŹWIGNIA",206.2,"1-ZE-01","2019-10-02","SZT"]
["34152","ZENERGY - PŁYTA MONTAŻOWA 2X NSX400-630 3/4P SZR, W1000, BLOKADA PŁYTOWA, PIONOWO, SILNIK",179.1,"1-ZE-01","2021-12-01","SZT"]
["34153","ZENERGY - PŁYTA MONTAŻOWA 2X NSX400-630 3/4P SZR, W1000, BLOKADA PŁYTOWA, POZIOMO, SILNIK",179.1,"1-ZE-01","2019-10-02","SZT"]
["34156","ZENERGY - OSŁONA CZOŁOWA 1X NSX400-630 3/4P, W1000, 9M / 850, PIONOWO, DŹWIGNIA",141.5,"1-ZE-01","2021-12-01","SZT"]
["34157","ZENERGY - OSŁONA CZOŁOWA 1X NSX400-630 3/4P, W1000, 9M / 850, PIONOWO, SILNIK, OBROTOWY, WYSUWNY",141.5,"1-ZE-01","2021-12-01","SZT"]
["34158","ZENERGY - OSŁONA CZOŁOWA 1X NSX400-630 VIGI 3/4P, W1000, 11M / 850, PIONOWO, DŹWIGNIA",154,"1-ZE-01","2021-12-01","SZT"]
["34159","ZENERGY - OSŁONA CZOŁOWA NSX400-630 3/4P, W1000, 9M / 850, PIONOWO, DŹWIGNIA",141.5,"1-ZE-01","2019-10-02","SZT"]
["34160","ZENERGY - OSŁONA CZOŁOWA NSX400-630 3/4P, W1000, 9M / 850, PIONOWO, SILNIK, OBROTOWY",141.5,"1-ZE-01","2019-10-02","SZT"]
["34161","ZENERGY - OSŁONA CZOŁOWA NSX400-630 VIGI 3/4P, W1000, 9M / 850, PIONOWO, DŹWIGNIA",141.5,"1-ZE-01","2019-10-02","SZT"]
["34162","ZENERGY - OSŁONA CZOŁOWA NSX400-630 3P, W1000, 4M / 850, POZIOMO, DŹWIGNIA",78.8,"1-ZE-01","2019-10-02","SZT"]
["34163","ZENERGY - OSŁONA CZOŁOWA NSX400-630 3P, W1000, 4M / 850, POZIOMO, SILNIK, OBROTOWY",78.8,"1-ZE-01","2019-10-02","SZT"]
["34164","ZENERGY - OSŁONA CZOŁOWA NSX400-630 VIGI 3P, W1000, 4M / 850, POZIOMO, DŹWIGNIA",78.8,"1-ZE-01","2019-10-02","SZT"]
["34165","ZENERGY - OSŁONA CZOŁOWA NSX400-630 3P, W1000, 6M / 850, POZIOMO, WYSUWNY, SILNIK",93.2,"1-ZE-01","2019-10-02","SZT"]
["34166","ZENERGY - OSŁONA CZOŁOWA NSX400-630 4P, W1000, 5M / 850, POZIOMO, DŹWIGNIA",85.5,"1-ZE-01","2019-10-02","SZT"]
["34167","ZENERGY - OSŁONA CZOŁOWA NSX400-630 4P, W1000, 5M / 850, POZIOMO, SILNIK, OBROTOWY",85.5,"1-ZE-01","2019-10-02","SZT"]
["34168","ZENERGY - OSŁONA CZOŁOWA NSX400-630 VIGI 4P, W1000, 5M / 850, POZIOMO, DŹWIGNIA",85.5,"1-ZE-01","2019-10-02","SZT"]
["34169","ZENERGY - OSŁONA CZOŁOWA NSX400-630 4P, W1000, 7M / 850, POZIOMO, WYSUWNY, SILNIK",113.5,"1-ZE-01","2019-10-02","SZT"]
["34170","ZENERGY - OSŁONA CZOŁOWA 2X NSX400-630 3/4P SZR, W1000, 9M / 850, BLOKADA PŁYTOWA, PIONOWO, SILNIK",141.5,"1-ZE-01","2019-10-02","SZT"]
["34171","ZENERGY - OSŁONA CZOŁOWA 2X NSX400-630 3/4P SZR, W1000, 10M / 850, BLOKADA PŁYTOWA, POZIOMO, SILNIK",158.6,"1-ZE-01","2019-10-02","SZT"]
["34278","Zenergy - Płyta montażowa NW40b-NW63, W1200, na stałe, bez wsporników",236.9,"1-ZE-01","2021-12-01","SZT"]
["34279","Zenergy - Płyta montażowa NW40b-NW63, W1200, wysuwny, bez wsporników",272.39999999999998,"1-ZE-01","2019-10-02","SZT"]
["34280","Zenergy - Osłony wyłącznika wysuwnego NW40b-NW63, W1200",272.39999999999998,"1-ZE-01","2019-10-02","SZT"]
["34281","Zenergy - Dwa wygrodzenia boczne przedziału D400 wyłącznika 6300A dla Łukoochronności",272.39999999999998,"1-ZE-01","2019-10-02","SZT"]
["34400","ZENERGY - PŁYTA MONTAŻOWA INS/INV100-250, W400, 3M, PIONOWO",92.7,"1-ZE-01","2019-10-02","SZT"]
["34401","ZENERGY - PŁYTA MONTAŻOWA INS/INV100-250, W400, 4M, POZIOMO",108.7,"1-ZE-01","2019-10-02","SZT"]
["34402","ZENERGY - PŁYTA MONTAŻOWA INS/INV320-630, W400, 4M, PIONOWO",108.7,"1-ZE-01","2019-10-02","SZT"]
["34403","ZENERGY - PŁYTA MONTAŻOWA INS/INV320-630, W400, 5M, POZIOMO",124.5,"1-ZE-01","2019-10-02","SZT"]
["34410","ZENERGY - PODPORA PŁYTY MONTAŻOWEJ DLA VIGI, W400",42.6,"1-ZE-01","2020-05-04","SZT"]
["34411","ZENERGY - OSŁONA CZOŁOWA INS/INV100-250, W400, 5M / 250, PIONOWO",56.5,"1-ZE-01","2019-10-02","SZT"]
["34412","ZENERGY - OSŁONA CZOŁOWA INS/INV100-250, W400, 4M / 250, POZIOMO",49.4,"1-ZE-01","2019-10-02","SZT"]
["34413","ZENERGY - OSŁONA CZOŁOWA INS/INV320-630, W400, 7M / 250, PIONOWO",74,"1-ZE-01","2019-10-02","SZT"]
["34414","ZENERGY - OSŁONA CZOŁOWA INS/INV320-630, W400, 5M / 250, POZIOMO",56.5,"1-ZE-01","2019-10-02","SZT"]
["34422","ZENERGY - PŁYTA MONTAŻOWA NSXm100-160 3/4P, W400, 3M, PIONOWO, DŹWIGNIA",86.2,"1-ZE-01","2021-12-01","SZT"]
["34424","ZENERGY - PŁYTA MONTAŻOWA NSX100-250 3/4P, W400, 3M, PIONOWO, DŹWIGNIA",86.2,"1-ZE-01","2019-10-02","SZT"]
["34426","ZENERGY - PŁYTA MONTAŻOWA NSX100-250 3/4P, W400, 3M, PIONOWO, WTYKOWY, WYSUWNY",86.2,"1-ZE-01","2019-10-02","SZT"]
["34433","ZENERGY - OSŁONA CZOŁOWA NSX100-250 3/4P, W400, 5M / 250, PIONOWO, DŹWIGNIA",56.5,"1-ZE-01","2019-10-02","SZT"]
["34434","ZENERGY - OSŁONA CZOŁOWA NSX100-250 3/4P, W400, 5M / 250, PIONOWO, SILNIK, OBROTOWY",56.5,"1-ZE-01","2019-10-02","SZT"]
["34435","ZENERGY - OSŁONA CZOŁOWA NSX100-250 VIGI 3/4P, W400, 7M / 250, PIONOWO, DŹWIGNIA",74,"1-ZE-01","2019-10-02","SZT"]
["34449","ZENERGY - PŁYTA MONTAŻOWA NSX400-630 3/4P, W400, 6M, PIONOWO, DŹWIGNIA",131.69999999999999,"1-ZE-01","2019-10-02","SZT"]
["34456","ZENERGY - OSŁONA CZOŁOWA NSX400-630 3/4P, W400, 9M / 250, PIONOWO, DŹWIGNIA",82.4,"1-ZE-01","2019-10-02","SZT"]
["34457","ZENERGY - OSŁONA CZOŁOWA NSX400-630 3/4P, W400, 9M / 250, PIONOWO, SILNIK, OBROTOWY, WYSUWNY",82.4,"1-ZE-01","2019-10-02","SZT"]
["34458","ZENERGY - OSŁONA CZOŁOWA NSX400-630 VIGI 3/4P, W400, 11M / 250, PIONOWO, DŹWIGNIA",87.7,"1-ZE-01","2019-10-02","SZT"]
["34475","ZENERGY - PŁYTA MONTAŻOWA NS1600 3P, W400, 6M, PIONOWO, NA STAŁE, BEZ WSPORNIKÓW",131.69999999999999,"1-ZE-01","2019-10-02","SZT"]
["34478","ZENERGY - PŁYTA MONTAŻOWA NT16 3P, W400, NA STAŁE, BEZ WSPORNIKÓW",78.8,"1-ZE-01","2019-10-02","SZT"]
["34483","ZENERGY - OSŁONA CZOŁOWA NS1600 3P, W400, 8M / 250, PIONOWO, DŹWIGNIA, NA STAŁE",80,"1-ZE-01","2019-10-02","SZT"]
["34484","ZENERGY - OSŁONA CZOŁOWA NS1600 3P, W400, 8M / 250, PIONOWO, SILNIK, NA STAŁE",80,"1-ZE-01","2019-10-02","SZT"]
["34485","ZENERGY - OSŁONA CZOŁOWA NS1600 3P, W400, 8M / 250, PIONOWO, NAPĘD OBROTOWY, NA STAŁE",80,"1-ZE-01","2019-10-02","SZT"]
["34490","ZENERGY - OSŁONA CZOŁOWA NT16 3P, W400, 7M / 250, NA STAŁE",74,"1-ZE-01","2019-10-02","SZT"]
["34500","ZENERGY - PŁYTA MONTAŻOWA INS/INV100-250, W450, 3M, PIONOWO",105,"1-ZE-01","2019-10-02","SZT"]
["34501","ZENERGY - PŁYTA MONTAŻOWA INS/INV100-250, W450, 4M, POZIOMO",119.5,"1-ZE-01","2019-10-02","SZT"]
["34502","ZENERGY - PŁYTA MONTAŻOWA INS/INV320-630, W450, 4M, PIONOWO",119.5,"1-ZE-01","2019-10-02","SZT"]
["34503","ZENERGY - PŁYTA MONTAŻOWA INS/INV320-630, W450, 5M, POZIOMO",131.69999999999999,"1-ZE-01","2019-10-02","SZT"]
["34510","ZENERGY - PODPORA PŁYTY MONTAŻOWEJ DLA VIGI, W450",47.4,"1-ZE-01","2020-05-04","SZT"]
["34511","ZENERGY - OSŁONA CZOŁOWA INS/INV100-250, W450, 5M / 300, PIONOWO",60,"1-ZE-01","2019-10-02","SZT"]
["34512","ZENERGY - OSŁONA CZOŁOWA INS/INV100-250, W450, 4M / 300, POZIOMO",51.3,"1-ZE-01","2019-10-02","SZT"]
["34513","ZENERGY - OSŁONA CZOŁOWA INS/INV320-630, W450, 7M / 300, PIONOWO",78.8,"1-ZE-01","2019-10-02","SZT"]
["34514","ZENERGY - OSŁONA CZOŁOWA INS/INV320-630, W450, 5M / 300, POZIOMO",60,"1-ZE-01","2019-10-02","SZT"]
["34522","ZENERGY - PŁYTA MONTAŻOWA NSXm100-160 3/4P, W450, 3M, PIONOWO, DŹWIGNIA",98.5,"1-ZE-01","2021-12-01","SZT"]
["34524","ZENERGY - PŁYTA MONTAŻOWA NSX100-250 3/4P, W450, 3M, PIONOWO, DŹWIGNIA",98.5,"1-ZE-01","2019-10-02","SZT"]
["34526","ZENERGY - PŁYTA MONTAŻOWA NSX100-250 3/4P, W450, 3M, PIONOWO, WTYKOWY, WYSUWNY",98.5,"1-ZE-01","2019-10-02","SZT"]
["34527","ZENERGY - PŁYTA MONTAŻOWA NSX100-250 3P, W450, 3M, POZIOMO, DŹWIGNIA",98.5,"1-ZE-01","2019-10-02","SZT"]
["34528","ZENERGY - PŁYTA MONTAŻOWA NSX100-250 4P, W450, 4M, POZIOMO, DŹWIGNIA",120.5,"1-ZE-01","2019-10-02","SZT"]
["34530","ZENERGY - PŁYTA MONTAŻOWA 2X NSX100-250 3/4P SZR, W450, BLOKADA PŁYTOWA, POZIOMO, SILNIK",98.5,"1-ZE-01","2019-10-02","SZT"]
["34533","ZENERGY - OSŁONA CZOŁOWA 2/1X NSX100-250 3/4P, W450, 5M / 300, PIONOWO, DŹWIGNIA",61.3,"1-ZE-01","2019-10-02","SZT"]
["34534","ZENERGY - OSŁONA CZOŁOWA 2x NSX100-250 3P, W450, 5M / 300, PIONOWO, SILNIK, OBROTOWY",61.3,"1-ZE-01","2019-10-02","SZT"]
["34535","ZENERGY - OSŁONA CZOŁOWA 2/1X NSX100-250 VIGI 3/4P, W450, 7M / 300, PIONOWO, DŹWIGNIA",78.8,"1-ZE-01","2019-10-02","SZT"]
["34536","ZENERGY - OSŁONA CZOŁOWA 1x NSX100-250 4P, W450, 5M / 300, PIONOWO, SILNIK, OBROTOWY",53.3,"1-ZE-01","2021-12-01","SZT"]
["34537","ZENERGY - OSŁONA CZOŁOWA NSX100-250 3P, W450, 3M / 300, POZIOMO, DŹWIGNIA",49.4,"1-ZE-01","2019-10-02","SZT"]
["34538","ZENERGY - OSŁONA CZOŁOWA NSX100-250 3P, W450, 3M / 300, POZIOMO, SILNIK, OBROTOWY",49.4,"1-ZE-01","2019-10-02","SZT"]
["34541","ZENERGY - OSŁONA CZOŁOWA NSX100-250 4P, W450, 4M / 300, POZIOMO, DŹWIGNIA",51.3,"1-ZE-01","2019-10-02","SZT"]
["34542","ZENERGY - OSŁONA CZOŁOWA NSX100-250 4P, W450, 4M / 300, POZIOMO, SILNIK, OBROTOWY",51.3,"1-ZE-01","2019-10-02","SZT"]
["34546","ZENERGY - OSŁONA CZOŁOWA 2X NSX100-250 3/4P SZR, W450, 8M / 300, BLOKADA PŁYTOWA, POZIOMO, SILNIK",86.1,"1-ZE-01","2019-10-02","SZT"]
["34549","ZENERGY - PŁYTA MONTAŻOWA NSX400-630 3/4P, W450, 6M, PIONOWO, DŹWIGNIA",143.9,"1-ZE-01","2019-10-02","SZT"]
["34550","ZENERGY - PŁYTA MONTAŻOWA NSX400-630 3P, W450, 4M, POZIOMO, DŹWIGNIA",98.5,"1-ZE-01","2019-10-02","SZT"]
["34551","ZENERGY - PŁYTA MONTAŻOWA NSX400-630 4P, W450, 5M, POZIOMO, DŹWIGNIA",131.69999999999999,"1-ZE-01","2019-10-02","SZT"]
["34556","ZENERGY - OSŁONA CZOŁOWA NSX400-630 3/4P, W450, 9M / 300, PIONOWO, DŹWIGNIA",93.3,"1-ZE-01","2019-10-02","SZT"]
["34557","ZENERGY - OSŁONA CZOŁOWA NSX400-630 3/4P, W450, 9M / 300, PIONOWO, SILNIK, OBROTOWY, WYSUWNY",93.3,"1-ZE-01","2019-10-02","SZT"]
["34558","ZENERGY - OSŁONA CZOŁOWA NSX400-630 VIGI 3/4P, W450, 11M / 300, PIONOWO, DŹWIGNIA",100.4,"1-ZE-01","2019-10-02","SZT"]
["34562","ZENERGY - OSŁONA CZOŁOWA NSX400-630 3P, W450, 4M / 300, POZIOMO, DŹWIGNIA",51.3,"1-ZE-01","2019-10-02","SZT"]
["34566","ZENERGY - OSŁONA CZOŁOWA NSX400-630 4P, W450, 5M / 300, POZIOMO, DŹWIGNIA",60,"1-ZE-01","2019-10-02","SZT"]
["34575","ZENERGY - PŁYTA MONTAŻOWA NS1600, W450, 6M, PIONOWO, NA STAŁE, BEZ WSPORNIKÓW",147,"1-ZE-01","2019-10-02","SZT"]
["34577","ZENERGY - PŁYTA MONTAŻOWA NS1600/NT16 3P, W450, WYSUWNY, BEZ WSPORNIKÓW",101.8,"1-ZE-01","2019-10-02","SZT"]
["34578","ZENERGY - PŁYTA MONTAŻOWA NT16, W450, NA STAŁE, BEZ WSPORNIKÓW",83.1,"1-ZE-01","2019-10-02","SZT"]
["34583","ZENERGY - OSŁONA CZOŁOWA NS1600 3/4P, W450, 8M / 300, PIONOWO, DŹWIGNIA, NA STAŁE",86.1,"1-ZE-01","2019-10-02","SZT"]
["34584","ZENERGY - OSŁONA CZOŁOWA NS1600 3/4P, W450, 8M / 300, PIONOWO, SILNIK, NA STAŁE",86.1,"1-ZE-01","2019-10-02","SZT"]
["34585","ZENERGY - OSŁONA CZOŁOWA NS1600 3/4P, W450, 8M / 300, PIONOWO, NAPĘD OBROTOWY, NA STAŁE",86.1,"1-ZE-01","2019-10-02","SZT"]
["34589","ZENERGY - OSŁONA CZOŁOWA NS1600/NT16 3P, W450, 10M / 300, WYSUWNY",95.4,"1-ZE-01","2019-10-02","SZT"]
["34590","ZENERGY - OSŁONA CZOŁOWA NT16 3/4P, W450, 7M / 300, NA STAŁE",82.9,"1-ZE-01","2019-10-02","SZT"]
["34599","ZENERGY - OSŁONA CZOŁOWA NS1600/NT16 3P, W450, 11M / 300, WYSUWNY + ANALIZATOR",105.6,"1-ZE-01","2021-12-01","SZT"]
["34610","ZENERGY - OSŁONA CZOŁOWA PEŁNA W600, 1M / 450",36.4,"1-ZE-01","2019-10-02","SZT"]
["34618","ZENERGY - OSŁONA CZOŁOWA PERFOROWANA W600, 1M / 450",41.5,"1-ZE-01","2019-10-02","SZT"]
["34620","ZENERGY - OSŁONA CZOŁOWA PEŁNA W600, 2M / 450",39.6,"1-ZE-01","2019-10-02","SZT"]
["34625","ZENERGY - OSŁONA APARATURY MODUŁOWEJ W600, 2M / 450, 21 MOD",39.6,"1-ZE-01","2019-10-02","SZT"]
["34628","ZENERGY - OSŁONA CZOŁOWA PERFOROWANA W600, 2M / 450",45,"1-ZE-01","2019-10-02","SZT"]
["34630","ZENERGY - OSŁONA CZOŁOWA PEŁNA W600, 3M / 450",45.8,"1-ZE-01","2019-10-02","SZT"]
["34631","ZENERGY - OSŁONA CZOŁOWA W600, 3M / 450, OTW. 92X92",45.8,"1-ZE-01","2019-10-02","SZT"]
["34635","ZENERGY - OSŁONA APARATURY MODUŁOWEJ W600, 3M / 450, 21 MOD",45.8,"1-ZE-01","2019-10-02","SZT"]
["34638","ZENERGY - OSŁONA CZOŁOWA PERFOROWANA W600, 3M / 450",51.5,"1-ZE-01","2019-10-02","SZT"]
["34639","ZENERGY - OSŁONA CZOŁOWA PRZEŹROCZYSTA W600, 3M / 450",151.1,"1-ZE-01","2019-10-02","SZT"]
["34640","ZENERGY - OSŁONA CZOŁOWA PEŁNA W600, 4M / 450",50.6,"1-ZE-01","2019-10-02","SZT"]
["34641","ZENERGY - OSŁONA CZOŁOWA W600, 4M / 450, OTW. 92X92",50.6,"1-ZE-01","2019-10-02","SZT"]
["34645","ZENERGY - OSŁONA APARATURY MODUŁOWEJ W600, 4M / 450, 21 MOD",50.6,"1-ZE-01","2019-10-02","SZT"]
["34648","ZENERGY - OSŁONA CZOŁOWA PERFOROWANA W600, 4M / 450",58.2,"1-ZE-01","2019-10-02","SZT"]
["34649","ZENERGY - OSŁONA CZOŁOWA PRZEŹROCZYSTA W600, 4M / 450",164.3,"1-ZE-01","2019-10-02","SZT"]
["34650","ZENERGY - OSŁONA CZOŁOWA PEŁNA W600, 5M / 450",55.4,"1-ZE-01","2019-10-02","SZT"]
["34651","ZENERGY - OSŁONA CZOŁOWA W600, 5M / 450, OTW. 92X92",55.4,"1-ZE-01","2019-10-02","SZT"]
["34655","ZENERGY - OSŁONA APARATURY MODUŁOWEJ W600, 5M / 450, 21 MOD",55.4,"1-ZE-01","2019-10-02","SZT"]
["34658","ZENERGY - OSŁONA CZOŁOWA PERFOROWANA W600, 5M / 450",63.2,"1-ZE-01","2019-10-02","SZT"]
["34659","ZENERGY - OSŁONA CZOŁOWA PRZEŹROCZYSTA W600, 6M / 450",184.3,"1-ZE-01","2019-10-02","SZT"]
["34660","ZENERGY - OSŁONA CZOŁOWA PEŁNA W600, 6M / 450",58.5,"1-ZE-01","2019-10-02","SZT"]
["34668","ZENERGY - OSŁONA CZOŁOWA PERFOROWANA W600, 6M / 450",66.400000000000006,"1-ZE-01","2019-10-02","SZT"]
["34669","ZENERGY - OSŁONA CZOŁOWA PRZEŹROCZYSTA W600, 8M / 450",200.9,"1-ZE-01","2019-10-02","SZT"]
["34670","ZENERGY - OSŁONA CZOŁOWA PEŁNA W600, 7M / 450",80.8,"1-ZE-01","2019-10-02","SZT"]
["34679","ZENERGY - OSŁONA CZOŁOWA PRZEŹROCZYSTA W600, 9M / 450",211.8,"1-ZE-01","2019-10-02","SZT"]
["34680","ZENERGY - OSŁONA CZOŁOWA PEŁNA W600, 8M / 450",86.9,"1-ZE-01","2019-10-02","SZT"]
["34689","ZENERGY - OSŁONA CZOŁOWA PRZEŹROCZYSTA W600, 10M / 450",220.8,"1-ZE-01","2019-10-02","SZT"]
["34690","ZENERGY - OSŁONA CZOŁOWA PEŁNA W600, 9M / 450",94.9,"1-ZE-01","2019-10-02","SZT"]
["34691","ZENERGY - OSŁONA CZOŁOWA PEŁNA W600, 10M / 450",99.7,"1-ZE-01","2019-10-02","SZT"]
["34692","ZENERGY - OSŁONA CZOŁOWA PEŁNA W600, 11M / 450",102.8,"1-ZE-01","2019-10-02","SZT"]
["34693","ZENERGY - OSŁONA CZOŁOWA PEŁNA W600, 12M / 450",107.5,"1-ZE-01","2019-10-02","SZT"]
["34694","ZENERGY - OSŁONA CZOŁOWA PEŁNA W600, 13M / 450",113.8,"1-ZE-01","2019-10-02","SZT"]
["34699","ZENERGY - OSŁONA CZOŁOWA PRZEŹROCZYSTA W600, 12M / 450",239.3,"1-ZE-01","2019-10-02","SZT"]
["34700","ZENERGY - PŁYTA MONTAŻOWA INS/INV100-250, W650, 3M, PIONOWO",120.5,"1-ZE-01","2019-10-02","SZT"]
["34701","ZENERGY - PŁYTA MONTAŻOWA INS/INV100-250, W650, 4M, POZIOMO",144.5,"1-ZE-01","2019-10-02","SZT"]
["34702","ZENERGY - PŁYTA MONTAŻOWA INS/INV320-630, 2X INS/INV320-630 RZR, W650, 4M, PIONOWO",144.5,"1-ZE-01","2019-10-02","SZT"]
["34703","ZENERGY - PŁYTA MONTAŻOWA INS/INV320-630, W650, 5M, POZIOMO",156.5,"1-ZE-01","2019-10-02","SZT"]
["34704","ZENERGY - PŁYTA MONTAŻOWA INS/INV1600, W650, 8M, PIONOWO",227.9,"1-ZE-01","2019-10-02","SZT"]
["34705","ZENERGY - PŁYTA MONTAŻOWA INS/INV1600, W650, 8M, POZIOMO",227.9,"1-ZE-01","2019-10-02","SZT"]
["34706","ZENERGY - PŁYTA MONTAŻOWA 2X INS/INV100-250 RZR, W650, 3M, PIONOWO",120.5,"1-ZE-01","2019-10-02","SZT"]
["34707","ZENERGY - PŁYTA MONTAŻOWA 2X INS/INV100-250 RZR, W650, 6M, POZIOMO",168.5,"1-ZE-01","2019-10-02","SZT"]
["34709","ZENERGY - PŁYTA MONTAŻOWA 2X INS/INV320-630 RZR, W650, 9M, POZIOMO",227.9,"1-ZE-01","2019-10-02","SZT"]
["34710","ZENERGY - PODPORA PŁYTY MONTAŻOWEJ DLA VIGI, W650",53.4,"1-ZE-01","2020-05-04","SZT"]
["34711","ZENERGY - OSŁONA CZOŁOWA 3X INS/INV100-250, W650, 5M / 500, PIONOWO",67.3,"1-ZE-01","2019-10-02","SZT"]
["34712","ZENERGY - OSŁONA CZOŁOWA INS/INV100-250, W650, 4M / 500, POZIOMO",61.5,"1-ZE-01","2019-10-02","SZT"]
["34713","ZENERGY - OSŁONA CZOŁOWA 2X INS/INV320-630, 1X INS/INV320-630 RZR, W650, 7M / 500, PIONOWO",95.3,"1-ZE-01","2019-10-02","SZT"]
["34714","ZENERGY - OSŁONA CZOŁOWA INS/INV320-630, W650, 5M / 500, POZIOMO",67.3,"1-ZE-01","2019-10-02","SZT"]
["34716","ZENERGY - OSŁONA CZOŁOWA INS/INV1600, W650, 6M / 500, PIONOWO",72.8,"1-ZE-01","2019-10-02","SZT"]
["34717","ZENERGY - OSŁONA CZOŁOWA INS/INV1600, W650, 6M / 500, POZIOMO",72.8,"1-ZE-01","2019-10-02","SZT"]
["34718","ZENERGY - OSŁONA CZOŁOWA 2X INS/INV100-250 RZR, W650, 5M / 500, PIONOWO, DŹWIGNIA",67.3,"1-ZE-01","2019-10-02","SZT"]
["34719","ZENERGY - OSŁONA CZOŁOWA 2X INS/INV100-250 RZR, W650, 6M / 500, POZIOMO, DŹWIGNIA",72.8,"1-ZE-01","2019-10-02","SZT"]
["34720","ZENERGY - 34713",119.1,"1-ZE-01","2021-12-01","SZT"]
["34721","ZENERGY - OSŁONA CZOŁOWA 2X INS/INV320-630 RZR, W650, 10M / 500, POZIOMO",124.8,"1-ZE-01","2019-10-02","SZT"]
["34722","ZENERGY - PŁYTA MONTAŻOWA 5/4x NSXm100-160 3/4P, W650, 3M, PIONOWO, DŹWIGNIA",120.5,"1-ZE-01","2021-12-01","SZT"]
["34724","ZENERGY - PŁYTA MONTAŻOWA 4/3X NSX100-250 3/4P, W650, 3M, PIONOWO, DŹWIGNIA",120.5,"1-ZE-01","2019-10-02","SZT"]
["34725","ZENERGY - PŁYTA MONTAŻOWA 4/3X NSX100-250 3/4P, W650, 3M, PIONOWO, (POLYPACT)",120.5,"1-ZE-01","2019-10-02","SZT"]
["34726","ZENERGY - PŁYTA MONTAŻOWA 4/3X NSX100-250 3/4P, W650, 3M, PIONOWO, WTYKOWY, WYSUWNY",120.5,"1-ZE-01","2019-10-02","SZT"]
["34727","ZENERGY - PŁYTA MONTAŻOWA NSX100-250 3P, W650, 3M, POZIOMO, DŹWIGNIA",120.5,"1-ZE-01","2019-10-02","SZT"]
["34728","ZENERGY - PŁYTA MONTAŻOWA NSX100-250 4P, W650, 4M, POZIOMO, DŹWIGNIA",144.5,"1-ZE-01","2019-10-02","SZT"]
["34729","ZENERGY - PŁYTA MONTAŻOWA 2X: NSX100-250 3/4P, NSX400-630 3/4P SZR, W650, BLOKADA PŁYTOWA, PIONOWO, SILNIK",120.5,"1-ZE-01","2019-10-02","SZT"]
["34730","ZENERGY - PŁYTA MONTAŻOWA 2X NSX100-250 3/4P SZR, W650, BLOKADA PŁYTOWA, POZIOMO, SILNIK",120.5,"1-ZE-01","2019-10-02","SZT"]
["34733","ZENERGY - OSŁONA CZOŁOWA 4/3X NSX100-250 3/4P, W650, 5M / 500, PIONOWO, DŹWIGNIA",67.3,"1-ZE-01","2019-10-02","SZT"]
["34734","ZENERGY - OSŁONA CZOŁOWA 4x NSX100-250 3P, W650, 5M / 500, PIONOWO, SILNIK, OBROTOWY",67.3,"1-ZE-01","2019-10-02","SZT"]
["34735","ZENERGY - OSŁONA CZOŁOWA 4/3X NSX100-250 VIGI 3/4P, W650, 7M / 500, PIONOWO, DŹWIGNIA",95.3,"1-ZE-01","2019-10-02","SZT"]
["34736","ZENERGY - OSŁONA CZOŁOWA 3x NSX100-250 4P, W650, 5M / 500, PIONOWO, SILNIK, OBROTOWY",58.5,"1-ZE-01","2021-12-01","SZT"]
["34737","ZENERGY - OSŁONA CZOŁOWA NSX100-250 3P, W650, 3M / 500, POZIOMO, DŹWIGNIA",55.8,"1-ZE-01","2019-10-02","SZT"]
["34738","ZENERGY - OSŁONA CZOŁOWA NSX100-250 3P, W650, 3M / 500, POZIOMO, SILNIK, OBROTOWY",55.8,"1-ZE-01","2019-10-02","SZT"]
["34739","ZENERGY - OSŁONA CZOŁOWA NSX100-250 VIGI 3P, W650, 3M / 500, POZIOMO, DŹWIGNIA",55.8,"1-ZE-01","2019-10-02","SZT"]
["34740","ZENERGY - OSŁONA CZOŁOWA NSX100-250 3P, W650, 4M / 500, POZIOMO, WYSUWNY",61.5,"1-ZE-01","2019-10-02","SZT"]
["34741","ZENERGY - OSŁONA CZOŁOWA NSX100-250 4P, W650, 4M / 500, POZIOMO, DŹWIGNIA",61.5,"1-ZE-01","2019-10-02","SZT"]
["34742","ZENERGY - OSŁONA CZOŁOWA NSX100-250 4P, W650, 4M / 500, POZIOMO, SILNIK, OBROTOWY",61.5,"1-ZE-01","2019-10-02","SZT"]
["34743","ZENERGY - OSŁONA CZOŁOWA NSX100-250 VIGI 4P, W650, 4M / 500, POZIOMO, DŹWIGNIA",61.5,"1-ZE-01","2019-10-02","SZT"]
["34744","ZENERGY - OSŁONA CZOŁOWA NSX100-250 4P, W650, 5M / 500, POZIOMO, WYSUWNY",67.3,"1-ZE-01","2019-10-02","SZT"]
["34745","ZENERGY - OSŁONA CZOŁOWA 2X NSX100-250 3/4P SZR, W650, 7M / 500, BLOKADA PŁYTOWA, PIONOWO, SILNIK",95.3,"1-ZE-01","2019-10-02","SZT"]
["34746","ZENERGY - OSŁONA CZOŁOWA 2X NSX100-250 3/4P SZR, W650, 8M / 500, BLOKADA PŁYTOWA, POZIOMO, SILNIK",105,"1-ZE-01","2019-10-02","SZT"]
["34749","ZENERGY - PŁYTA MONTAŻOWA NSX400-630 3/4P, W650, 6M, PIONOWO, DŹWIGNIA",168.5,"1-ZE-01","2019-10-02","SZT"]
["34750","ZENERGY - PŁYTA MONTAŻOWA NSX400-630 3P, W650, 4M, POZIOMO, DŹWIGNIA",144.5,"1-ZE-01","2019-10-02","SZT"]
["34751","ZENERGY - PŁYTA MONTAŻOWA NSX400-630 4P, W650, 5M, POZIOMO, DŹWIGNIA",156.5,"1-ZE-01","2019-10-02","SZT"]
["34752","nieaktualne (patrz ref.ZENE34729)",144.5,"1-ZE-01","2021-12-01","SZT"]
["34753","ZENERGY - PŁYTA MONTAŻOWA 2X NSX400-630 3/4P SZR, W650, BLOKADA PŁYTOWA, POZIOMO, SILNIK",144.5,"1-ZE-01","2019-10-02","SZT"]
["34754","ZENERGY - PŁYTA MONTAŻOWA UA/BA, W650, 4M, POZIOMO, DŹWIGNIA",144.5,"1-ZE-01","2020-08-28","SZT"]
["34756","ZENERGY - OSŁONA CZOŁOWA 1X NSX400-630 3/4P, W650, 9M / 500, PIONOWO, DŹWIGNIA",119.1,"1-ZE-01","2019-10-02","SZT"]
["34757","ZENERGY - OSŁONA CZOŁOWA 1X NSX400-630 3/4P, W650, 9M / 500, PIONOWO, SILNIK, OBROTOWY, WYSUWNY",119.1,"1-ZE-01","2019-10-02","SZT"]
["34758","ZENERGY - OSŁONA CZOŁOWA 1X NSX400-630 VIGI 3/4P, W650, 11M / 500, PIONOWO, DŹWIGNIA",127.9,"1-ZE-01","2019-10-02","SZT"]
["34759","ZENERGY - OSŁONA CZOŁOWA 2X NSX400-630 3/4P, W650, 9M / 500, PIONOWO, DŹWIGNIA",119.1,"1-ZE-01","2019-10-02","SZT"]
["34760","ZENERGY - OSŁONA CZOŁOWA 2X NSX400-630 3/4P, W650, 9M / 500, PIONOWO, SILNIK, OBROTOWY",119.1,"1-ZE-01","2019-10-02","SZT"]
["34761","ZENERGY - OSŁONA CZOŁOWA 2X NSX400-630 VIGI 3/4P, W650, 11M / 500, PIONOWO, DŹWIGNIA",119.1,"1-ZE-01","2019-10-02","SZT"]
["34762","ZENERGY - OSŁONA CZOŁOWA NSX400-630 3P, W650, 4M / 500, POZIOMO, DŹWIGNIA",61.5,"1-ZE-01","2019-10-02","SZT"]
["34763","ZENERGY - OSŁONA CZOŁOWA NSX400-630 3P, W650, 4M / 500, POZIOMO, SILNIK, OBROTOWY",61.5,"1-ZE-01","2019-10-02","SZT"]
["34764","ZENERGY - OSŁONA CZOŁOWA NSX400-630 VIGI 3P, W650, 4M / 500, POZIOMO, DŹWIGNIA",61.5,"1-ZE-01","2019-10-02","SZT"]
["34765","ZENERGY - OSŁONA CZOŁOWA NSX400-630 3P, W650, 6M / 500, POZIOMO, WYSUWNY, SILNIK",72.8,"1-ZE-01","2019-10-02","SZT"]
["34766","ZENERGY - OSŁONA CZOŁOWA NSX400-630 4P, W650, 5M / 500, POZIOMO, DŹWIGNIA",67.3,"1-ZE-01","2019-10-02","SZT"]
["34767","ZENERGY - OSŁONA CZOŁOWA NSX400-630 4P, W650, 5M / 500, POZIOMO, SILNIK, OBROTOWY",67.3,"1-ZE-01","2019-10-02","SZT"]
["34768","ZENERGY - OSŁONA CZOŁOWA NSX400-630 VIGI 4P, W650, 5M / 500, POZIOMO, DŹWIGNIA",67.3,"1-ZE-01","2019-10-02","SZT"]
["34769","ZENERGY - OSŁONA CZOŁOWA NSX400-630 4P, W650, 7M / 500, POZIOMO, WYSUWNY, SILNIK",95.3,"1-ZE-01","2019-10-02","SZT"]
["34770","ZENERGY - OSŁONA CZOŁOWA 2X NSX400-630 3/4P SZR, W650, 9M / 500, BLOKADA PŁYTOWA, PIONOWO, SILNIK",119.1,"1-ZE-01","2019-10-02","SZT"]
["34771","ZENERGY - OSŁONA CZOŁOWA 2X NSX400-630 3/4P SZR, W650, 10M / 500, BLOKADA PŁYTOWA, POZIOMO, SILNIK",124.8,"1-ZE-01","2019-10-02","SZT"]
["34772","ZENERGY - PŁYTA MONTAŻOWA SIRCO1250 3P, W650, 4M, PIONOWO, BEZ WSPORNIKÓW",144.5,"1-ZE-01","2019-10-02","SZT"]
["34773","ZENERGY - OSŁONA CZOŁOWA UA/BA, W650, 4M / 500, POZIOMO, DŹWIGNIA",61.5,"1-ZE-01","2020-08-28","SZT"]
["34775","ZENERGY - PŁYTA MONTAŻOWA NS1600, W650, 6M, PIONOWO, NA STAŁE, BEZ WSPORNIKÓW",192.6,"1-ZE-01","2019-10-02","SZT"]
["34776","ZENERGY - PŁYTA MONTAŻOWA NS1600, W650, 7M, POZIOMO, NA STAŁE",216.6,"1-ZE-01","2019-10-02","SZT"]
["34777","ZENERGY - PŁYTA MONTAŻOWA NS1600/NT16, W650, WYSUWNY, BEZ WSPORNIKÓW",159.69999999999999,"1-ZE-01","2019-10-02","SZT"]
["34778","ZENERGY - PŁYTA MONTAŻOWA NT16, W650, NA STAŁE, BEZ WSPORNIKÓW",136.30000000000001,"1-ZE-01","2019-10-02","SZT"]
["34779","ZENERGY - PŁYTA MONTAŻOWA NW40, W650, WYSUWNY, BEZ WSPORNIKÓW",272.8,"1-ZE-01","2019-10-02","SZT"]
["34780","ZENERGY - PŁYTA MONTAŻOWA NW40, W650, NA STAŁE, BEZ WSPORNIKÓW",272.8,"1-ZE-01","2019-10-02","SZT"]
["34783","ZENERGY - OSŁONA CZOŁOWA NS1600 3/4P, W650, 8M / 500, PIONOWO, DŹWIGNIA, NA STAŁE",109.5,"1-ZE-01","2019-10-02","SZT"]
["34784","ZENERGY - OSŁONA CZOŁOWA NS1600 3/4P, W650, 8M / 500, PIONOWO, SILNIK, NA STAŁE",109.5,"1-ZE-01","2019-10-02","SZT"]
["34785","ZENERGY - OSŁONA CZOŁOWA NS1600 3/4P, W650, 8M / 500, PIONOWO, NAPĘD OBROTOWY, NA STAŁE",109.5,"1-ZE-01","2019-10-02","SZT"]
["34786","ZENERGY - OSŁONA CZOŁOWA NS1600 3/4P, W650, 7M / 500, POZIOMO, DŹWIGNIA, NA STAŁE",101.9,"1-ZE-01","2019-10-02","SZT"]
["34787","ZENERGY - OSŁONA CZOŁOWA NS1600 3/4P, W650, 7M / 500, POZIOMO, SILNIK, NA STAŁE",101.9,"1-ZE-01","2019-10-02","SZT"]
["34788","ZENERGY - OSŁONA CZOŁOWA NS1600 3/4P, W650, 7M / 500, POZIOMO, NAPĘD OBROTOWY, NA STAŁE",101.9,"1-ZE-01","2019-10-02","SZT"]
["34789","ZENERGY - OSŁONA CZOŁOWA NS1600/NT16 3/4P, W650, 7M / 500, WYSUWNY",115.8,"1-ZE-01","2019-10-02","SZT"]
["34790","ZENERGY - OSŁONA CZOŁOWA NT16 3/4P, W650, 7M / 500, NA STAŁE",115.8,"1-ZE-01","2019-10-02","SZT"]
["34791","ZENERGY - OSŁONA CZOŁOWA NW40 3/4P, W650, 9M / 500, PIONOWO, WYSUWNY",197.2,"1-ZE-01","2019-10-02","SZT"]
["34792","ZENERGY - OSŁONA CZOŁOWA NW40 3/4P, W650, 8M / 500, PIONOWO, NA STAŁE",182,"1-ZE-01","2019-10-02","SZT"]
["34793","Zenergy - Osłona czołowa NW40b-63 3/4P, W1200, 9M / 500, wysuwny",206,"1-ZE-01","2019-10-02","SZT"]
["34799","ZENERGY - OSŁONA CZOŁOWA NS1600/NT16 3/4P, W650, 11M / 500, WYSUWNY + ANALIZATOR",125,"1-ZE-01","2021-12-01","SZT"]
["34820","ZENERGY - OSŁONA CZOŁOWA PEŁNA W800, 2M / 650",43.5,"1-ZE-01","2019-10-02","SZT"]
["34825","ZENERGY - OSŁONA APARATURY MODUŁOWEJ W800, 2M / 650, 32 MOD",43.5,"1-ZE-01","2019-10-02","SZT"]
["34828","ZENERGY - OSŁONA CZOŁOWA PERFOROWANA W800, 2M / 650",49.7,"1-ZE-01","2019-10-02","SZT"]
["34830","ZENERGY - OSŁONA CZOŁOWA PEŁNA W800, 3M / 650",49.6,"1-ZE-01","2019-10-02","SZT"]
["34835","ZENERGY - OSŁONA APARATURY MODUŁOWEJ W800, 3M / 650, 32 MOD",49.6,"1-ZE-01","2019-10-02","SZT"]
["34838","ZENERGY - OSŁONA CZOŁOWA PERFOROWANA W800, 3M / 650",56.2,"1-ZE-01","2019-10-02","SZT"]
["34839","ZENERGY - OSŁONA CZOŁOWA PRZEŹROCZYSTA W800, 3M / 650",162.5,"1-ZE-01","2019-10-02","SZT"]
["34840","ZENERGY - OSŁONA CZOŁOWA PEŁNA W800, 4M / 650",55.6,"1-ZE-01","2019-10-02","SZT"]
["34845","ZENERGY - OSŁONA APARATURY MODUŁOWEJ W800, 4M / 650, 32 MOD",55.6,"1-ZE-01","2019-10-02","SZT"]
["34848","ZENERGY - OSŁONA CZOŁOWA PERFOROWANA W800, 4M / 650",62.6,"1-ZE-01","2019-10-02","SZT"]
["34849","ZENERGY - OSŁONA CZOŁOWA PRZEŹROCZYSTA W800, 4M / 650",178.1,"1-ZE-01","2019-10-02","SZT"]
["34850","ZENERGY - OSŁONA CZOŁOWA PEŁNA W800, 5M / 650",61.6,"1-ZE-01","2019-10-02","SZT"]
["34855","ZENERGY - OSŁONA APARATURY MODUŁOWEJ W800, 5M / 650, 32 MOD",61.6,"1-ZE-01","2019-10-02","SZT"]
["34858","ZENERGY - OSŁONA CZOŁOWA PERFOROWANA W800, 5M / 650",72.2,"1-ZE-01","2019-10-02","SZT"]
["34859","ZENERGY - OSŁONA CZOŁOWA PRZEŹROCZYSTA W800, 6M / 650",203.4,"1-ZE-01","2019-10-02","SZT"]
["34860","ZENERGY - OSŁONA CZOŁOWA PEŁNA W800, 6M / 650",65.900000000000006,"1-ZE-01","2019-10-02","SZT"]
["34865","ZENERGY - OSŁONA APARATURY MODUŁOWEJ W800, 6M / 650, 32 MOD",65.900000000000006,"1-ZE-01","2019-10-02","SZT"]
["34868","ZENERGY - OSŁONA CZOŁOWA PERFOROWANA W800, 6M / 650",77,"1-ZE-01","2019-10-02","SZT"]
["34869","ZENERGY - OSŁONA CZOŁOWA PRZEŹROCZYSTA W800, 8M / 650",226.9,"1-ZE-01","2019-10-02","SZT"]
["34870","ZENERGY - OSŁONA CZOŁOWA PEŁNA W800, 7M / 650",90.1,"1-ZE-01","2019-10-02","SZT"]
["34879","ZENERGY - OSŁONA CZOŁOWA PRZEŹROCZYSTA W800, 9M / 650",239.7,"1-ZE-01","2019-10-02","SZT"]
["34880","ZENERGY - OSŁONA CZOŁOWA PEŁNA W800, 8M / 650",94.6,"1-ZE-01","2019-10-02","SZT"]
["34889","ZENERGY - OSŁONA CZOŁOWA PRZEŹROCZYSTA W800, 10M / 650",252.2,"1-ZE-01","2019-10-02","SZT"]
["34890","ZENERGY - OSŁONA CZOŁOWA PEŁNA W800, 9M / 650",102.1,"1-ZE-01","2019-10-02","SZT"]
["34891","ZENERGY - OSŁONA CZOŁOWA PEŁNA W800, 10M / 650",108.2,"1-ZE-01","2019-10-02","SZT"]
["34892","ZENERGY - OSŁONA CZOŁOWA PEŁNA W800, 11M / 650",115.6,"1-ZE-01","2019-10-02","SZT"]
["34893","ZENERGY - OSŁONA CZOŁOWA PEŁNA W800, 12M / 650",118.6,"1-ZE-01","2019-10-02","SZT"]
["34894","ZENERGY - OSŁONA CZOŁOWA PEŁNA W800, 13M / 650",124.8,"1-ZE-01","2019-10-02","SZT"]
["34899","ZENERGY - OSŁONA CZOŁOWA PRZEŹROCZYSTA W800, 12M / 650",277.5,"1-ZE-01","2019-10-02","SZT"]
["34900","ZENERGY - PŁYTA MONTAŻOWA INS/INV100-250, W850, 3M, PIONOWO",149.4,"1-ZE-01","2019-10-02","SZT"]
["34901","ZENERGY - PŁYTA MONTAŻOWA INS/INV100-250, W850, 4M, POZIOMO",156.5,"1-ZE-01","2019-10-02","SZT"]
["34902","ZENERGY - PŁYTA MONTAŻOWA INS/INV320-630, 2X INS/INV320-630 RZR, W850, 4M, PIONOWO",156.5,"1-ZE-01","2019-10-02","SZT"]
["34903","ZENERGY - PŁYTA MONTAŻOWA INS/INV320-630, W850, 5M, POZIOMO",172.6,"1-ZE-01","2019-10-02","SZT"]
["34904","ZENERGY - PŁYTA MONTAŻOWA INS/INV1600, W850, 8M, PIONOWO",241.5,"1-ZE-01","2019-10-02","SZT"]
["34905","ZENERGY - PŁYTA MONTAŻOWA INS/INV1600, W850, 8M, POZIOMO",241.5,"1-ZE-01","2019-10-02","SZT"]
["34906","ZENERGY - PŁYTA MONTAŻOWA 2X INS/INV100-250 RZR, W850, 3M, PIONOWO",149.4,"1-ZE-01","2019-10-02","SZT"]
["34907","ZENERGY - PŁYTA MONTAŻOWA 2X INS/INV100-250 RZR, W850, 6M, POZIOMO",180.7,"1-ZE-01","2019-10-02","SZT"]
["34909","ZENERGY - PŁYTA MONTAŻOWA 2X INS/INV320-630 RZR, W850, 9M, POZIOMO",256.2,"1-ZE-01","2019-10-02","SZT"]
["34910","ZENERGY - PODPORA PŁYTY MONTAŻOWEJ DLA VIGI, W850",67.599999999999994,"1-ZE-01","2020-05-04","SZT"]
["34911","ZENERGY - OSŁONA CZOŁOWA 4X INS/INV100-250, W850, 5M / 700, PIONOWO",80.599999999999994,"1-ZE-01","2019-10-02","SZT"]
["34912","ZENERGY - OSŁONA CZOŁOWA INS/INV100-250, W850, 4M / 700, POZIOMO",71.599999999999994,"1-ZE-01","2019-10-02","SZT"]
["34913","ZENERGY - OSŁONA CZOŁOWA 3X INS/INV320-630, 1X INS/INV320-630 RZR, W850, 7M / 700, PIONOWO",109.9,"1-ZE-01","2019-10-02","SZT"]
["34914","ZENERGY - OSŁONA CZOŁOWA INS/INV320-630, W850, 5M / 700, POZIOMO",80.599999999999994,"1-ZE-01","2019-10-02","SZT"]
["34916","ZENERGY - OSŁONA CZOŁOWA INS/INV1600, W850, 6M / 700, PIONOWO",88.4,"1-ZE-01","2019-10-02","SZT"]
["34917","ZENERGY - OSŁONA CZOŁOWA INS/INV1600, W850, 6M / 700, POZIOMO",88.4,"1-ZE-01","2019-10-02","SZT"]
["34918","ZENERGY - OSŁONA CZOŁOWA 2X INS/INV100-250 RZR, W850, 5M / 700, PIONOWO, DŹWIGNIA",80.599999999999994,"1-ZE-01","2019-10-02","SZT"]
["34919","ZENERGY - OSŁONA CZOŁOWA 2X INS/INV100-250 RZR, W850, 6M / 700, POZIOMO, DŹWIGNIA",88.4,"1-ZE-01","2019-10-02","SZT"]
["34921","ZENERGY - OSŁONA CZOŁOWA 2X INS/INV320-630 RZR, W850, 10M / 700, POZIOMO",142,"1-ZE-01","2019-10-02","SZT"]
["34922","ZENERGY - PŁYTA MONTAŻOWA ?/?x NSXm100-160 3/4P, W850, 3M, PIONOWO, DŹWIGNIA",149.4,"1-ZE-01","2021-12-01","SZT"]
["34924","ZENERGY - PŁYTA MONTAŻOWA 6/4X NSX100-250 3/4P, W850, 3M, PIONOWO, DŹWIGNIA",149.4,"1-ZE-01","2019-10-02","SZT"]
["34926","ZENERGY - PŁYTA MONTAŻOWA 6/4X NSX100-250 3/4P, W850, 3M, PIONOWO, WTYKOWY, WYSUWNY",149.4,"1-ZE-01","2019-10-02","SZT"]
["34927","ZENERGY - PŁYTA MONTAŻOWA NSX100-250 3P, W850, 3M, POZIOMO, DŹWIGNIA",149.4,"1-ZE-01","2019-10-02","SZT"]
["34928","ZENERGY - PŁYTA MONTAŻOWA NSX100-250 4P, W850, 4M, POZIOMO, DŹWIGNIA",156.5,"1-ZE-01","2019-10-02","SZT"]
["34929","ZENERGY - PŁYTA MONTAŻOWA 2X NSX100-250 3/4P SZR, W850, BLOKADA PŁYTOWA, PIONOWO, SILNIK",148.9,"1-ZE-01","2019-10-02","SZT"]
["34930","ZENERGY - PŁYTA MONTAŻOWA 2X NSX100-250 3/4P SZR, W850, BLOKADA PŁYTOWA, POZIOMO, SILNIK",148.9,"1-ZE-01","2019-10-02","SZT"]
["34933","ZENERGY - OSŁONA CZOŁOWA 6/4X NSX100-250 3/4P, W850, 5M / 700, PIONOWO, DŹWIGNIA",80.599999999999994,"1-ZE-01","2019-10-02","SZT"]
["34934","ZENERGY - OSŁONA CZOŁOWA 6x NSX100-250 3P, W850, 5M / 700, PIONOWO, SILNIK, OBROTOWY",80.599999999999994,"1-ZE-01","2019-10-02","SZT"]
["34935","ZENERGY - OSŁONA CZOŁOWA 6/4X NSX100-250 VIGI 3/4P, W850, 7M / 700, PIONOWO, DŹWIGNIA",109.9,"1-ZE-01","2019-10-02","SZT"]
["34936","ZENERGY - OSŁONA CZOŁOWA 4x NSX100-250 4P, W850, 5M / 700, PIONOWO, SILNIK, OBROTOWY",70.099999999999994,"1-ZE-01","2021-12-01","SZT"]
["34937","ZENERGY - OSŁONA CZOŁOWA NSX100-250 3P, W850, 3M / 700, POZIOMO, DŹWIGNIA",65.3,"1-ZE-01","2019-10-02","SZT"]
["34938","ZENERGY - OSŁONA CZOŁOWA NSX100-250 3P, W850, 3M / 700, POZIOMO, SILNIK, OBROTOWY",65.3,"1-ZE-01","2019-10-02","SZT"]
["34939","ZENERGY - OSŁONA CZOŁOWA NSX100-250 VIGI 3P, W850, 3M / 700, POZIOMO, DŹWIGNIA",65.3,"1-ZE-01","2019-10-02","SZT"]
["34940","ZENERGY - OSŁONA CZOŁOWA NSX100-250 3P, W850, 4M / 700, POZIOMO, WYSUWNY",71.599999999999994,"1-ZE-01","2019-10-02","SZT"]
["34941","ZENERGY - OSŁONA CZOŁOWA NSX100-250 4P, W850, 4M / 700, POZIOMO, DŹWIGNIA",71.599999999999994,"1-ZE-01","2019-10-02","SZT"]
["34942","ZENERGY - OSŁONA CZOŁOWA NSX100-250 4P, W850, 4M / 700, POZIOMO, SILNIK, OBROTOWY",71.599999999999994,"1-ZE-01","2019-10-02","SZT"]
["34943","ZENERGY - OSŁONA CZOŁOWA NSX100-250 VIGI 4P, W850, 4M / 700, POZIOMO, DŹWIGNIA",71.599999999999994,"1-ZE-01","2019-10-02","SZT"]
["34944","ZENERGY - OSŁONA CZOŁOWA NSX100-250 4P, W850, 5M / 700, POZIOMO, WYSUWNY",80.599999999999994,"1-ZE-01","2019-10-02","SZT"]
["34945","ZENERGY - OSŁONA CZOŁOWA 2X NSX100-250 3/4P SZR, W850, 7M / 700, BLOKADA PŁYTOWA, PIONOWO, SILNIK",109.9,"1-ZE-01","2019-10-02","SZT"]
["34946","ZENERGY - OSŁONA CZOŁOWA 2X NSX100-250 3/4P SZR, W850, 8M / 700, BLOKADA PŁYTOWA, POZIOMO, SILNIK",115.4,"1-ZE-01","2019-10-02","SZT"]
["34949","ZENERGY - PŁYTA MONTAŻOWA NSX400-630 3/4P, W850, 6M, PIONOWO, DŹWIGNIA",198.4,"1-ZE-01","2019-10-02","SZT"]
["34950","ZENERGY - PŁYTA MONTAŻOWA NSX400-630 3P, W850, 4M, POZIOMO, DŹWIGNIA",156.5,"1-ZE-01","2019-10-02","SZT"]
["34951","ZENERGY - PŁYTA MONTAŻOWA NSX400-630 4P, W850, 5M, POZIOMO, DŹWIGNIA",172.6,"1-ZE-01","2019-10-02","SZT"]
["34952","ZENERGY - PŁYTA MONTAŻOWA 2X NSX400-630 3/4P SZR, W850, BLOKADA PŁYTOWA, PIONOWO, SILNIK",156.5,"1-ZE-01","2021-12-01","SZT"]
["34953","ZENERGY - PŁYTA MONTAŻOWA 2X NSX400-630 3/4P SZR, W850, BLOKADA PŁYTOWA, POZIOMO, SILNIK",156.5,"1-ZE-01","2019-10-02","SZT"]
["34959","ZENERGY - OSŁONA CZOŁOWA 3X NSX400-630 3/4P, W850, 9M / 700, PIONOWO, DŹWIGNIA",128.19999999999999,"1-ZE-01","2019-10-02","SZT"]
["34960","ZENERGY - OSŁONA CZOŁOWA 3X NSX400-630 3/4P, W850, 9M / 700, PIONOWO, SILNIK, OBROTOWY",128.19999999999999,"1-ZE-01","2019-10-02","SZT"]
["34961","ZENERGY - OSŁONA CZOŁOWA 3X NSX400-630 VIGI 3/4P, W850, 9M / 700, PIONOWO, DŹWIGNIA",128.19999999999999,"1-ZE-01","2019-10-02","SZT"]
["34962","ZENERGY - OSŁONA CZOŁOWA NSX400-630 3P, W850, 4M / 700, POZIOMO, DŹWIGNIA",71.599999999999994,"1-ZE-01","2019-10-02","SZT"]
["34963","ZENERGY - OSŁONA CZOŁOWA NSX400-630 3P, W850, 4M / 700, POZIOMO, SILNIK, OBROTOWY",71.599999999999994,"1-ZE-01","2019-10-02","SZT"]
["34964","ZENERGY - OSŁONA CZOŁOWA NSX400-630 VIGI 3P, W850, 4M / 700, POZIOMO, DŹWIGNIA",71.599999999999994,"1-ZE-01","2019-10-02","SZT"]
["34965","ZENERGY - OSŁONA CZOŁOWA NSX400-630 3P, W850, 6M / 700, POZIOMO, WYSUWNY, SILNIK",88.4,"1-ZE-01","2019-10-02","SZT"]
["34966","ZENERGY - OSŁONA CZOŁOWA NSX400-630 4P, W850, 5M / 700, POZIOMO, DŹWIGNIA",80.599999999999994,"1-ZE-01","2019-10-02","SZT"]
["34967","ZENERGY - OSŁONA CZOŁOWA NSX400-630 4P, W850, 5M / 700, POZIOMO, SILNIK, OBROTOWY",80.599999999999994,"1-ZE-01","2019-10-02","SZT"]
["34968","ZENERGY - OSŁONA CZOŁOWA NSX400-630 VIGI 4P, W850, 5M / 700, POZIOMO, DŹWIGNIA",80.599999999999994,"1-ZE-01","2019-10-02","SZT"]
["34969","ZENERGY - OSŁONA CZOŁOWA NSX400-630 4P, W850, 7M / 700, POZIOMO, WYSUWNY, SILNIK",109.9,"1-ZE-01","2019-10-02","SZT"]
["34970","ZENERGY - OSŁONA CZOŁOWA 2X NSX400-630 3/4P SZR, W850, 9M / 700, BLOKADA PŁYTOWA, PIONOWO, SILNIK",128.19999999999999,"1-ZE-01","2019-10-02","SZT"]
["34971","ZENERGY - OSŁONA CZOŁOWA 2X NSX400-630 3/4P SZR, W850, 10M / 700, BLOKADA PŁYTOWA, POZIOMO, SILNIK",142,"1-ZE-01","2019-10-02","SZT"]
["34972","ZENERGY - PŁYTA MONTAŻOWA SIRCO1250 3P, W850, 4M, PIONOWO, BEZ WSPORNIKÓW",156.5,"1-ZE-01","2021-12-01","SZT"]
["34975","ZENERGY - PŁYTA MONTAŻOWA NS1600, W850, 6M, PIONOWO, NA STAŁE, BEZ WSPORNIKÓW",216.8,"1-ZE-01","2019-10-02","SZT"]
["34976","ZENERGY - PŁYTA MONTAŻOWA NS1600, W850, 7M, POZIOMO, NA STAŁE",239.9,"1-ZE-01","2019-10-02","SZT"]
["34977","ZENERGY - PŁYTA MONTAŻOWA NS1600/NT16, W850, WYSUWNY, BEZ WSPORNIKÓW",159.30000000000001,"1-ZE-01","2019-10-02","SZT"]
["34978","ZENERGY - PŁYTA MONTAŻOWA NT16, W850, NA STAŁE, BEZ WSPORNIKÓW",141.5,"1-ZE-01","2019-10-02","SZT"]
["34979","ZENERGY - PŁYTA MONTAŻOWA NW40, W850, WYSUWNY, BEZ WSPORNIKÓW",249.5,"1-ZE-01","2019-10-02","SZT"]
["34980","ZENERGY - PŁYTA MONTAŻOWA NW40, W850, NA STAŁE, BEZ WSPORNIKÓW",238.2,"1-ZE-01","2019-10-02","SZT"]
["34983","ZENERGY - OSŁONA CZOŁOWA NS1600 3/4P, W850, 8M / 700, PIONOWO, DŹWIGNIA, NA STAŁE",124.8,"1-ZE-01","2019-10-02","SZT"]
["34984","ZENERGY - OSŁONA CZOŁOWA NS1600 3/4P, W850, 8M / 700, PIONOWO, SILNIK, NA STAŁE",124.8,"1-ZE-01","2019-10-02","SZT"]
["34985","ZENERGY - OSŁONA CZOŁOWA NS1600 3/4P, W850, 8M / 700, PIONOWO, NAPĘD OBROTOWY, NA STAŁE",124.8,"1-ZE-01","2019-10-02","SZT"]
["34986","ZENERGY - OSŁONA CZOŁOWA NS1600 3/4P, W850, 8M / 700, POZIOMO, DŹWIGNIA, NA STAŁE",124.8,"1-ZE-01","2019-10-02","SZT"]
["34987","ZENERGY - OSŁONA CZOŁOWA NS1600 3/4P, W850, 8M / 700, POZIOMO, SILNIK, NA STAŁE",124.8,"1-ZE-01","2019-10-02","SZT"]
["34988","ZENERGY - OSŁONA CZOŁOWA NS1600 3/4P, W850, 8M / 700, POZIOMO, NAPĘD OBROTOWY, NA STAŁE",124.8,"1-ZE-01","2019-10-02","SZT"]
["34989","ZENERGY - OSŁONA CZOŁOWA NS1600/NT16 3/4P, W850, 7M / 700, WYSUWNY",124.8,"1-ZE-01","2019-10-02","SZT"]
["34990","ZENERGY - OSŁONA CZOŁOWA NT16 3/4P, W850, 7M / 700, NA STAŁE",117.8,"1-ZE-01","2019-10-02","SZT"]
["34991","ZENERGY - OSŁONA CZOŁOWA NW40 3/4P, W850, 9M / 700, PIONOWO, WYSUWNY",243.2,"1-ZE-01","2019-10-02","SZT"]
["34992","ZENERGY - OSŁONA CZOŁOWA NW40 3/4P, W850, 8M / 700, PIONOWO, NA STAŁE",226.5,"1-ZE-01","2019-10-02","SZT"]
["34993","ZENERGY - OSŁONA CZOŁOWA NW40B 3P, W850, 8M / 700, PIONOWO, NA STAŁE",226.5,"1-ZE-01","2019-10-02","SZT"]
["34999","ZENERGY - OSŁONA CZOŁOWA NS1600/NT16 3/4P, W850, 11M / 700, WYSUWNY + ANALIZATOR",236.1,"1-ZE-01","2021-12-01","SZT"]
["35100","ZENERGY - WSPORNIK DLA UCHWYTU KABLOWEGO TYPU UKR1/UKR2 80MM, W400",39.1,"1-ZE-01","2019-10-02","SZT"]
["35101","ZENERGY - WSPORNIK DLA UCHWYTU KABLOWEGO TYPU UKR1/UKR2 80MM, W450",41.5,"1-ZE-01","2019-10-02","SZT"]
["35102","ZENERGY - WSPORNIK DLA UCHWYTU KABLOWEGO TYPU UKR1/UKR2 80MM, W600",56.1,"1-ZE-01","2019-10-02","SZT"]
["35103","ZENERGY - WSPORNIK DLA UCHWYTU KABLOWEGO TYPU UKR1/UKR2 80MM, W650",59.8,"1-ZE-01","2019-10-02","SZT"]
["35104","ZENERGY - WSPORNIK DLA UCHWYTU KABLOWEGO TYPU UKR1/UKR2 80MM, W800",65.8,"1-ZE-01","2019-10-02","SZT"]
["35105","ZENERGY - WSPORNIK DLA UCHWYTU KABLOWEGO TYPU UKR1/UKR2 80MM, W850",68.900000000000006,"1-ZE-01","2019-10-02","SZT"]
["35106","ZENERGY - WSPORNIK DLA UCHWYTU KABLOWEGO TYPU UKR1/UKR2 80MM, W1000",76.7,"1-ZE-01","2019-10-02","SZT"]
["35107","ZENERGY - WSPORNIK DLA UCHWYTU KABLOWEGO TYPU UKR1/UKR2 80MM, W1200",83.1,"1-ZE-01","2019-10-02","SZT"]
["35108","ZENERGY - WSPORNIK DLA CZUJNIKA PROSTOKĄTNEGO 56053, W650 - 2 SZT.",19.5,"1-ZE-01","2019-10-02","SZT"]
["35109","ZENERGY - WSPORNIK DLA CZUJNIKA PROSTOKĄTNEGO 56053, W850 - 2 SZT.",26.8,"1-ZE-01","2019-10-02","SZT"]
["35210","ZENERGY - POŁĄCZENIE POZIOME MCCB Z MOSTEM 3P 160A-250A FLEX 20X3",167.4,"1-ZE-01","2019-10-02","SZT"]
["35211","ZENERGY - POŁĄCZENIE POZIOME MCCB Z MOSTEM 3P 400A-630A FLEX 24X8",279.10000000000002,"1-ZE-01","2019-10-02","SZT"]
["35212","ZENERGY - POŁĄCZENIE POZIOME MCCB Z MOSTEM 3P 630A IP-55 FLEX 32X8",320.8,"1-ZE-01","2019-10-02","SZT"]
["35213","ZENERGY - POŁĄCZENIE POZIOME MCCB Z MOSTEM 4P 160A-250A FLEX 20X3",228.2,"1-ZE-01","2019-10-02","SZT"]
["35214","ZENERGY - POŁĄCZENIE POZIOME MCCB Z MOSTEM 4P 400A-630A FLEX 24X8",373.9,"1-ZE-01","2019-10-02","SZT"]
["35215","ZENERGY - POŁĄCZENIE POZIOME MCCB Z MOSTEM 4P 630A IP-55 FLEX 32X8",429.8,"1-ZE-01","2019-10-02","SZT"]
["35216","ZENERGY - POŁĄCZENIE POZIOME MCCB Z TRANSFEREM 3P 160A-250A FLEX 20X3",199.3,"1-ZE-01","2019-10-02","SZT"]
["35217","ZENERGY - POŁĄCZENIE POZIOME MCCB Z TRANSFEREM 3P 400A-630A FLEX 24X8",373.1,"1-ZE-01","2019-10-02","SZT"]
["35218","ZENERGY - POŁĄCZENIE POZIOME MCCB Z TRANSFEREM 3P 630A IP-55 FLEX 32X8",429,"1-ZE-01","2019-10-02","SZT"]
["35219","ZENERGY - POŁĄCZENIE POZIOME MCCB Z TRANSFEREM 4P 160A-250A FLEX 20X3",272.60000000000002,"1-ZE-01","2019-10-02","SZT"]
["35220","ZENERGY - POŁĄCZENIE POZIOME MCCB Z TRANSFEREM 4P 400A-630A FLEX 24X8",497.5,"1-ZE-01","2019-10-02","SZT"]
["35221","ZENERGY - POŁĄCZENIE POZIOME MCCB Z TRANSFEREM 4P 630A IP-55 FLEX 32X8",572.4,"1-ZE-01","2019-10-02","SZT"]
["35222","ZENERGY - POŁĄCZENIE POZIOME MCCB Z MOSTEM 3P 800A-1000A CU 50X10",382.6,"1-ZE-01","2019-10-02","SZT"]
["35223","ZENERGY - POŁĄCZENIE POZIOME MCCB Z MOSTEM 3P 1250A-1600A CU 2X50X10",573.9,"1-ZE-01","2019-10-02","SZT"]
["35224","ZENERGY - POŁĄCZENIE POZIOME MCCB Z MOSTEM 4P 800A-1000A CU 50X10",504.8,"1-ZE-01","2019-10-02","SZT"]
["35225","ZENERGY - POŁĄCZENIE POZIOME MCCB Z MOSTEM 4P 1250A-1600A CU 2X50X10",766.8,"1-ZE-01","2019-10-02","SZT"]
["35226","ZENERGY - POŁĄCZENIE POZIOME MCCB Z TRANSFEREM 3P 800A-1000A CU 50X10",467.1,"1-ZE-01","2019-10-02","SZT"]
["35227","ZENERGY - POŁĄCZENIE POZIOME MCCB Z TRANSFEREM 3P 1250A-1600A CU 2X50X10",701.5,"1-ZE-01","2019-10-02","SZT"]
["35228","ZENERGY - POŁĄCZENIE POZIOME MCCB Z TRANSFEREM 4P 800A-1000A CU 50X10",617,"1-ZE-01","2019-10-02","SZT"]
["35229","ZENERGY - POŁĄCZENIE POZIOME MCCB Z TRANSFEREM 4P 1250A-1600A CU 2X50X10",935.9,"1-ZE-01","2019-10-02","SZT"]
["35230","ZENERGY - POŁĄCZENIE POZIOME MCCB+MOTOR Z MOSTEM 3P 160A-250A FLEX 20X3",184.1,"1-ZE-01","2019-10-02","SZT"]
["35231","ZENERGY - POŁĄCZENIE POZIOME MCCB+MOTOR Z MOSTEM 3P 400A-630A FLEX 24X8",307,"1-ZE-01","2019-10-02","SZT"]
["35236","ZENERGY - POŁĄCZENIE POZIOME MCCB+MOTOR Z TRANSFEREM 3P 160A-250A FLEX 20X3",219.2,"1-ZE-01","2019-10-02","SZT"]
["35737","ZENERGY - OSŁONA CZOŁOWA NSX100-250 3P, W650, 3M / 500, POZIOMO, DŹWIGNIA+POMIAR",55.8,"1-ZE-01","2019-10-02","SZT"]
["35738","ZENERGY - OSŁONA CZOŁOWA NSX100-250 3P, W650, 3M / 500, POZIOMO, SILNIK+POMIAR",55.8,"1-ZE-01","2019-10-02","SZT"]
["35741","ZENERGY - OSŁONA CZOŁOWA NSX100-250 4P, W650, 4M / 500, POZIOMO, DŹWIGNIA+POMIAR",61.5,"1-ZE-01","2019-10-02","SZT"]
["35742","ZENERGY - OSŁONA CZOŁOWA NSX100-250 4P, W650, 4M / 500, POZIOMO, SILNIK+POMIAR",61.5,"1-ZE-01","2019-10-02","SZT"]
["35762","ZENERGY - OSŁONA CZOŁOWA NSX400-630 3P, W650, 4M / 500, POZIOMO, DŹWIGNIA+MOTOR",61.5,"1-ZE-01","2019-10-02","SZT"]
["35763","ZENERGY - OSŁONA CZOŁOWA NSX400-630 3P, W650, 4M / 500, POZIOMO, SILNIK+POMIAR",61.5,"1-ZE-01","2019-10-02","SZT"]
["35766","ZENERGY - OSŁONA CZOŁOWA NSX400-630 4P, W650, 5M / 500, POZIOMO, DŹWIGNIA+POMIAR",67.3,"1-ZE-01","2019-10-02","SZT"]
["35767","ZENERGY - OSŁONA CZOŁOWA NSX400-630 4P, W650, 5M / 500, POZIOMO, MOTOR+POMIAR",67.3,"1-ZE-01","2019-10-02","SZT"]
["35786","ZENERGY - OSŁONA CZOŁOWA DLA NSB I ANALIZATORA 92X92MM W650, 7M / 500",105,"1-ZE-01","2019-10-02","SZT"]
["36001","ZENERGY - ZAŚLEPKA ROZŁĄCZNIKA LISTWOWEGO 1/2 EFEN 250-630A",41.3,"1-ZE-01","2019-10-02","SZT"]
["36002","ZENERGY - ZAŚLEPKA ROZŁĄCZNIKA LISTWOWEGO EFEN 250-630A",49.7,"1-ZE-01","2019-10-02","SZT"]
["36003","ZENERGY - ZAŚLEPKA ROZŁĄCZNIKA SKRZYNKOWEGO EFEN 160A",30.9,"1-ZE-01","2019-10-02","SZT"]
["36004","ZENERGY - ZAŚLEPKA ROZŁĄCZNIKA SKRZYNKOWEGO 100A",26,"1-ZE-01","2019-10-02","SZT"]
["36005","ZENERGY - ZAŚLEPKA ROZŁĄCZNIKA LISTWOWEGO EFEN 160A, ROZSTAW SZYN100MM",26,"1-ZE-01","2019-10-02","SZT"]
["36006","ZENERGY - ZAŚLEPKA ROZŁĄCZNIKA LISTWOWEGO EFEN 100A, ROZSTAW SZYN 60MM",20.7,"1-ZE-01","2019-10-02","SZT"]
["36007","ZENERGY - ZAŚLEPKA ROZŁĄCZNIKA SKRZYNKOWEGO EFEN 250A",37.9,"1-ZE-01","2019-10-02","SZT"]
["36008","ZENERGY - ZAŚLEPKA ROZŁĄCZNIKA SKRZYNKOWEGO EFEN 400A",39.4,"1-ZE-01","2019-10-02","SZT"]
["36009","ZENERGY - ZAŚLEPKA NSX 160-250 3P",26.2,"1-ZE-01","2019-10-02","SZT"]
["36010","ZENERGY - PŁYTA MONTAŻOWA ROZŁĄCZNIK LISTWOWY EFEN 250-630, ROZSTAW 185MM + 1 IZOLATOR + WSPORNIKI",334.3,"1-ZE-01","2019-10-02","SZT"]
["36011","ZENERGY - ZAŚLEPKA NSX 400-630 3P",29.6,"1-ZE-01","2019-10-02","SZT"]
["36012","ZENERGY - ADAPTER DO SZYNY TS",16.100000000000001,"1-ZE-01","2019-10-02","SZT"]
["36013","ZENERGY - ZAŚLEPKA ROZŁĄCZNIKA SKRZYNKOWEGO HYUN 160A 3P",30.9,"1-ZE-01","2019-10-02","SZT"]
["36014","ZENERGY - SZYNA DIN TS-35 7MM / 140MM",13.4,"1-ZE-01","2019-10-15","SZT"]
["36015","ZENERGY - ADAPTER ROZŁĄCZNIK SKRZYNKOWY EFEN 160",50.9,"1-ZE-01","2019-10-02","SZT"]
["36016","ZENERGY - ZAŚLEPKA UCB 100 4P",26.2,"1-ZE-01","2019-10-02","SZT"]
["36017","ZENERGY - ZAŚLEPKA UCB 160-250 4P",26.2,"1-ZE-01","2019-10-02","SZT"]
["36018","ZENERGY - ZAŚLEPKA UCB 400 4P",29.6,"1-ZE-01","2019-10-02","SZT"]
["36019","ZENERGY - ZAŚLEPKA UCB 630-800 4P",30.9,"1-ZE-01","2019-10-02","SZT"]
["36020","ZENERGY - PŁYTA MONTAŻOWA ROZŁĄCZNIK SKRZYNKOWY EFEN 100A, MONTAŻ NA SZYNACH, ROZSTAW 60MM + 2 IZOLATORY, BEZ WSPORNIKÓW (ZAMIENNIK REF. ZENE36040)",261.10000000000002,"1-ZE-01","2019-10-02","SZT"]
["36021","ZENERGY - ZAŚLEPKA UPB 100-250 4P",26.2,"1-ZE-01","2019-10-02","SZT"]
["36022","ZENERGY - ZAŚLEPKA UPB 400-630 4P",29.6,"1-ZE-01","2019-10-02","SZT"]
["36025","ZENERGY - ZAŚLEPKA HGM 100 3P",26,"1-ZE-01","2019-10-02","SZT"]
["36026","ZENERGY - ZAŚLEPKA HGM 125 3P",26,"1-ZE-01","2019-10-02","SZT"]
["36027","ZENERGY - ZAŚLEPKA HGM 160-250 3P",26,"1-ZE-01","2019-10-02","SZT"]
["36028","ZENERGY - ZAŚLEPKA HGM 400 3P",29.3,"1-ZE-01","2019-10-02","SZT"]
["36029","ZENERGY - ZAŚLEPKA HGM 630-800 3P",30.9,"1-ZE-01","2019-10-02","SZT"]
["36030","ZENERGY - PŁYTA MONTAŻOWA ROZŁĄCZNIK LISTWOWY EFEN 160, ROZSTAW 100MM + 3 IZOLATORY ZE WSPORNIKAMI BOCZNYMI",247.8,"1-ZE-01","2019-10-02","SZT"]
["36035","ZENERGY - ZAŚLEPKA HGM 100 4P",26.2,"1-ZE-01","2019-10-02","SZT"]
["36036","ZENERGY - ZAŚLEPKA HGM 125 4P",26.2,"1-ZE-01","2019-10-02","SZT"]
["36037","ZENERGY - ZAŚLEPKA HGM 160-250 4P",26.2,"1-ZE-01","2019-10-02","SZT"]
["36038","ZENERGY - ZAŚLEPKA HGM 400 4P",29.6,"1-ZE-01","2019-10-02","SZT"]
["36039","ZENERGY - ZAŚLEPKA HGM 630-800 4P",31.1,"1-ZE-01","2019-10-02","SZT"]
["36040","ZENERGY - PŁYTA MONTAŻOWA ROZŁĄCZNIK SKRZYNKOWY EFEN 100-160A, MONTAŻ NA SZYNACH, ROZSTAW 60MM + 2 IZOLATORY, BEZ WSPORNIKÓW",261.10000000000002,"1-ZE-01","2019-10-02","SZT"]
["36051","ZENERGY - ZAŚLEPKA NSX 160-250 4P",26.4,"1-ZE-01","2019-10-02","SZT"]
["36052","ZENERGY - ZAŚLEPKA NSX 400-630 4P",29.8,"1-ZE-01","2019-10-02","SZT"]
["36107","ZENERGY - WSPORNIKI POZIOME PŁYTY MONTAŻOWEJ ROZŁĄCZNIKA LISTWOWEGO EFEN, W650 - 2szt.",109.3,"1-ZE-01","2019-10-02","SZT"]
["36110","ZENERGY - PŁYTA MONTAŻOWA ROZŁĄCZNIK LISTWOWY EFEN 250-630 DLA ALCUBAR H50R, ROZSTAW 185MM + IZOLATORY + WSPORNIKI",333.1,"1-ZE-01","2019-10-02","SZT"]
["36111","ZENERGY - PŁYTA MONTAŻOWA ROZŁĄCZNIK LISTWOWY EFEN 250-630 DLA ALCUBAR H50R, ROZSTAW 185MM + IZOLATORY + WSPORNIKI, DLA ŁĄCZNIKA SZYN",333.1,"1-ZE-01","2019-10-02","SZT"]
["36115","ZENERGY - PŁYTA MONTAŻOWA ROZŁĄCZNIK LISTWOWY EFEN 250-630 DLA ALCUBAR H100R, ROZSTAW 185MM + IZOLATORY + WSPORNIKI",333.1,"1-ZE-01","2019-10-02","SZT"]
["36116","ZENERGY - PŁYTA MONTAŻOWA ROZŁĄCZNIK LISTWOWY EFEN 250-630 DLA ALCUBAR H100R, ROZSTAW 185MM + IZOLATORY + WSPORNIKI, DLA ŁĄCZNIKA SZYN",333.1,"1-ZE-01","2019-10-02","SZT"]
["36117","ZENERGY - PŁYTA MONTAŻOWA ROZŁĄCZNIK LISTWOWY EFEN 250-630 DLA ALCUBAR H100R (środek pola), ROZSTAW 185MM + IZOLATORY + WSPORNIK/KĄTOWNIK",333.1,"1-ZE-01","2019-10-02","SZT"]
["36118","ZENERGY - PŁYTA MONTAŻOWA ROZŁĄCZNIK LISTWOWY EFEN 250-630 DLA ALCUBAR H100R+50R (3200A), rozstaw 185mm +izolatory +wsporniki",333.1,"1-ZE-01","2019-10-02","SZT"]
["36120","ZENERGY - PŁYTA MONTAŻOWA ROZŁĄCZNIK SKRZYNKOWY EFEN 160A, W1000, PIONOWO",153.30000000000001,"1-ZE-01","2019-10-02","SZT"]
["36130","ZENERGY - PŁYTA MONTAŻOWA ROZŁĄCZNIK SKRZYNKOWY EFEN 250A, W1000, PIONOWO + WSPORNIKI",195.3,"1-ZE-01","2019-10-02","SZT"]
["36140","ZENERGY - PŁYTA MONTAŻOWA ROZŁĄCZNIK SKRZYNKOWY EFEN 400-630A, W1000, PIONOWO + WSPORNIKI",231.6,"1-ZE-01","2019-10-02","SZT"]
["36160","ZENERGY - OSŁONA ROZŁĄCZNIK SKRZYNKOWY 7X EFEN NT-IN 160A, W1000, 6M / 850, PIONOWO",97.3,"1-ZE-01","2019-10-02","SZT"]
["36165","ZENERGY - OSŁONA ROZŁĄCZNIK SKRZYNKOWY 7X EFEN SILAS; SCHN LV4 160A, W1000, 6M / 850, PIONOWO",97.3,"1-ZE-01","2021-12-01","SZT"]
["36170","ZENERGY - OSŁONA ROZŁĄCZNIK SKRZYNKOWY 4X EFEN 250A, W1000, 9M / 850, PIONOWO",120,"1-ZE-01","2019-10-02","SZT"]
["36182","ZENERGY - OSŁONA ROZŁĄCZNIK LISTWOWY SILAS 14X EFEN 100, W1000, 6M / 850, ROZSTAW SZYN 60MM",134.9,"1-ZE-01","2019-10-02","SZT"]
["36410","ZENERGY - PŁYTA MONTAŻOWA ROZŁĄCZNIK SKRZYNKOWY EFEN NT-IN; SCHN LV4 100A, W400, PIONOWO",75.7,"1-ZE-01","2019-10-02","SZT"]
["36420","ZENERGY - PŁYTA MONTAŻOWA ROZŁĄCZNIK SKRZYNKOWY EFEN NT-IN, SILAS; SCHN LV4 160A, W400, PIONOWO",75.900000000000006,"1-ZE-01","2019-10-02","SZT"]
["36460","ZENERGY - OSŁONA ROZŁĄCZNIK SKRZYNKOWY EFEN NT-IN 160A, W400, 6M / 250, PIONOWO",50.5,"1-ZE-01","2019-10-02","SZT"]
["36465","ZENERGY - OSŁONA ROZŁĄCZNIK SKRZYNKOWY 4X EFEN SILAS; SCHN LV4 160A, W400, 6M / 250, PIONOWO",43.9,"1-ZE-01","2021-12-01","SZT"]
["36510","ZENERGY - PŁYTA MONTAŻOWA ROZŁĄCZNIK SKRZYNKOWY EFEN NT-IN; SCHN LV4 100A, W450, PIONOWO",87.9,"1-ZE-01","2019-10-02","SZT"]
["36520","ZENERGY - PŁYTA MONTAŻOWA ROZŁĄCZNIK SKRZYNKOWY EFEN NT-IN, SILAS; SCHN LV4 160A, W450, PIONOWO",88.2,"1-ZE-01","2019-10-02","SZT"]
["36530","ZENERGY - PŁYTA MONTAŻOWA ROZŁĄCZNIK SKRZYNKOWY EFEN NT-IN 250A, W450, PIONOWO",112.6,"1-ZE-01","2019-10-02","SZT"]
["36536","ZENERGY - PŁYTA MONTAŻOWA ROZŁĄCZNIK SKRZYNKOWY EFEN SILAS, SCHN LV4: 250A-400A, W450, PIONOWO",112.6,"1-ZE-01","2019-10-02","SZT"]
["36540","ZENERGY - PŁYTA MONTAŻOWA ROZŁĄCZNIK SKRZYNKOWY EFEN NT-IN 400A, W450, PIONOWO",139.80000000000001,"1-ZE-01","2019-10-02","SZT"]
["36550","ZENERGY - OSŁONA ROZŁĄCZNIK SKRZYNKOWY 2X EFEN NT-IN; SCHN LV4 100A, W450, 6M / 300, PIONOWO",48.3,"1-ZE-01","2019-10-02","SZT"]
["36560","ZENERGY - OSŁONA ROZŁĄCZNIK SKRZYNKOWY 2X EFEN NT-IN 160A, W450, 6M / 300, PIONOWO",52.9,"1-ZE-01","2019-10-02","SZT"]
["36565","ZENERGY - OSŁONA ROZŁĄCZNIK SKRZYNKOWY 2X EFEN SILAS; SCHN LV4 160A, W450, 6M / 300, PIONOWO",46,"1-ZE-01","2021-12-01","SZT"]
["36570","ZENERGY - OSŁONA ROZŁĄCZNIK SKRZYNKOWY EFEN NT-IN 250A, W450, 9M / 300, PIONOWO",69.900000000000006,"1-ZE-01","2019-10-02","SZT"]
["36580","ZENERGY - OSŁONA ROZŁĄCZNIK SKRZYNKOWY EFEN NT-IN 400A, W450, 9M / 300, PIONOWO",69.900000000000006,"1-ZE-01","2019-11-18","SZT"]
["36610","ZENERGY - PŁYTA MONTAŻOWA ROZŁĄCZNIK SKRZYNKOWY EFEN NT-IN; SCHN LV4 100A, W650, PIONOWO",114.9,"1-ZE-01","2019-10-02","SZT"]
["36620","ZENERGY - PŁYTA MONTAŻOWA ROZŁĄCZNIK SKRZYNKOWY EFEN NT-IN, SILAS; SCHN LV4 160A, W650, PIONOWO",114.9,"1-ZE-01","2019-10-02","SZT"]
["36621","ZENERGY - PŁYTA MONTAŻOWA ROZŁĄCZNIK SKRZYNKOWY EFEN NT-IN, SILAS; SCHN LV4 160A + OCHRONNIK, W650, 3M, POZIOMO",129.4,"1-ZE-01","2019-10-02","SZT"]
["36630","ZENERGY - PŁYTA MONTAŻOWA ROZŁĄCZNIK SKRZYNKOWY 2X EFEN NT-IN 250A, W650, PIONOWO",149.9,"1-ZE-01","2019-10-02","SZT"]
["36631","ZENERGY - PŁYTA MONTAŻOWA ROZŁĄCZNIK SKRZYNKOWY EFEN NT-IN 250A + OCHRONNIK, W650, 5M, POZIOMO",161,"1-ZE-01","2019-10-02","SZT"]
["36632","ZENERGY - PŁYTA MONTAŻOWA ROZŁĄCZNIK SKRZYNKOWY EFEN NT-IN, SILAS; SCHN LV4 250-400A, W650, 5M, POZIOMO",161,"1-ZE-01","2001-01-01","SZT"]
["36636","ZENERGY - PŁYTA MONTAŻOWA ROZŁĄCZNIK SKRZYNKOWY EFEN SILAS, SCHN LV4: 2X250A-400A, 1X630A W650, PIONOWO",145.5,"1-ZE-01","2019-10-02","SZT"]
["36640","ZENERGY - PŁYTA MONTAŻOWA ROZŁĄCZNIK SKRZYNKOWY EFEN NT-IN 2X400A -1X630A, W650, PIONOWO",183.9,"1-ZE-01","2019-10-02","SZT"]
["36642","ZENERGY - PŁYTA MONTAŻOWA ROZŁĄCZNIK SKRZYNKOWY EFEN NT-IN, SILAS; SCHN LV4 630A, W650, 6M, POZIOMO",183.9,"1-ZE-01","2001-01-01","SZT"]
["36650","ZENERGY - OSŁONA ROZŁĄCZNIK SKRZYNKOWY 5X EFEN NT-IN; SCHN LV4 100A, W650, 6M / 500, PIONOWO",71.599999999999994,"1-ZE-01","2019-10-02","SZT"]
["36660","ZENERGY - OSŁONA ROZŁĄCZNIK SKRZYNKOWY 4X EFEN NT-IN 160A, W650, 6M / 500, PIONOWO",68.400000000000006,"1-ZE-01","2019-10-02","SZT"]
["36661","ZENERGY - OSŁONA ROZŁĄCZNIK SKRZYNKOWY EFEN NT-IN 160A + ochronnik, W650, 3M / 500, POZIOMO",58.8,"1-ZE-01","2019-10-02","SZT"]
["36662","ZENERGY - OSŁONA ROZŁĄCZNIK SKRZYNKOWY EFEN SILAS; SCHN LV4 160A + ochronnik, W650, 3M / 500, POZIOMO",58.8,"1-ZE-01","2001-01-01","SZT"]
["36665","ZENERGY - OSŁONA ROZŁĄCZNIK SKRZYNKOWY 4X EFEN SILAS; SCHN LV4 160A, W650, 6M / 500, PIONOWO",68.400000000000006,"1-ZE-01","2019-10-02","SZT"]
["36670","ZENERGY - OSŁONA ROZŁĄCZNIK SKRZYNKOWY 2x EFEN NT-IN 250A, W650, 9M / 500, PIONOWO",91.4,"1-ZE-01","2019-10-02","SZT"]
["36671","ZENERGY - OSŁONA ROZŁĄCZNIK SKRZYNKOWY EFEN NT-IN 250A + ochronnik, W650, 5M / 500, POZIOMO",58.8,"1-ZE-01","2019-10-02","SZT"]
["36672","ZENERGY - OSŁONA ROZŁĄCZNIK SKRZYNKOWY EFEN SILAS; SCHN LV4 250A, W650, 5M / 500, POZIOMO",58.8,"1-ZE-01","2001-01-01","SZT"]
["36675","ZENERGY - OSŁONA ROZŁĄCZNIK SKRZYNKOWY 2x EFEN SILAS; SCHN LV4 250A, W650, 9M / 500, PIONOWO",91.4,"1-ZE-01","2019-10-02","SZT"]
["36680","ZENERGY - OSŁONA ROZŁĄCZNIK SKRZYNKOWY 2x EFEN NT-IN 400A, W650, 9M / 500, PIONOWO",91.4,"1-ZE-01","2019-10-02","SZT"]
["36681","ZENERGY - OSŁONA ROZŁĄCZNIK SKRZYNKOWY EFEN NT-IN 400A, W650, 5M / 500, POZIOMO",58.8,"1-ZE-01","2001-01-01","SZT"]
["36682","ZENERGY - OSŁONA ROZŁĄCZNIK LISTWOWY SILAS 8X EFEN 100, W650, 6M / 500, ROZSTAW SZYN 60MM",74.7,"1-ZE-01","2019-10-02","SZT"]
["36683","ZENERGY - OSŁONA ROZŁĄCZNIK LISTWOWY 9X EFEN 160, W650, 11M / 500, ROZSTAW SZYN 100MM",98.1,"1-ZE-01","2019-10-02","SZT"]
["36684","ZENERGY - OSŁONA ROZŁĄCZNIK SKRZYNKOWY EFEN SILAS; SCHN LV4 400A, W650, 5M / 500, POZIOMO",58.8,"1-ZE-01","2001-01-01","SZT"]
["36685","ZENERGY - OSŁONA ROZŁĄCZNIK SKRZYNKOWY 2x EFEN SILAS; SCHN LV4 400A, W650, 9M / 500, PIONOWO",91.4,"1-ZE-01","2019-10-02","SZT"]
["36690","ZENERGY - OSŁONA ROZŁĄCZNIK SKRZYNKOWY 1x EFEN NT-IN 630A, W650, 9M / 500, PIONOWO",98.1,"1-ZE-01","2019-10-02","SZT"]
["36691","ZENERGY - OSŁONA ROZŁĄCZNIK SKRZYNKOWY EFEN NT-IN 630A, W650, 6M / 500, POZIOMO",68.400000000000006,"1-ZE-01","2001-01-01","SZT"]
["36694","ZENERGY - OSŁONA ROZŁĄCZNIK SKRZYNKOWY EFEN SILAS; SCHN LV4 630A, W650, 6M / 500, POZIOMO",68.400000000000006,"1-ZE-01","2001-01-01","SZT"]
["36695","ZENERGY - OSŁONA ROZŁĄCZNIK SKRZYNKOWY 1x EFEN SILAS; SCHN LV4 630A, W650, 9M / 500, PIONOWO",98.1,"1-ZE-01","2001-01-01","SZT"]
["36910","ZENERGY - PŁYTA MONTAŻOWA ROZŁĄCZNIK SKRZYNKOWY EFEN NT-IN; SCHN LV4 100A, W850, PIONOWO",139.30000000000001,"1-ZE-01","2019-10-02","SZT"]
["36920","ZENERGY - PŁYTA MONTAŻOWA ROZŁĄCZNIK SKRZYNKOWY EFEN NT-IN, SILAS; SCHN LV4 160A, W850, PIONOWO",139.30000000000001,"1-ZE-01","2019-10-02","SZT"]
["36921","ZENERGY - PŁYTA MONTAŻOWA ROZŁĄCZNIK SKRZYNKOWY EFEN NT-IN, SILAS; SCHN LV4 160A + OCHRONNIK, W850, 3M, POZIOMO",142.80000000000001,"1-ZE-01","2021-12-01","SZT"]
["36930","ZENERGY - PŁYTA MONTAŻOWA ROZŁĄCZNIK SKRZYNKOWY 3X EFEN NT-IN 250A, W850, PIONOWO",166.7,"1-ZE-01","2019-10-02","SZT"]
["36931","ZENERGY - PŁYTA MONTAŻOWA ROZŁĄCZNIK SKRZYNKOWY EFEN NT-IN 250A + OCHRONNIK, W850, 5M, POZIOMO",166.7,"1-ZE-01","2021-12-01","SZT"]
["36932","ZENERGY - PŁYTA MONTAŻOWA ROZŁĄCZNIK SKRZYNKOWY EFEN NT-IN, SILAS; SCHN LV4 250-400A, W850, 5M, POZIOMO",166.7,"1-ZE-01","2021-12-01","SZT"]
["36936","ZENERGY - PŁYTA MONTAŻOWA ROZŁĄCZNIK SKRZYNKOWY 3X EFEN SILAS, SCHN LV4: 250A-630A, W850, PIONOWO",174.5,"1-ZE-01","2019-10-10","SZT"]
["36940","ZENERGY - PŁYTA MONTAŻOWA ROZŁĄCZNIK SKRZYNKOWY EFEN NT-IN 400-630A, W850, PIONOWO",198,"1-ZE-01","2019-10-02","SZT"]
["36942","ZENERGY - PŁYTA MONTAŻOWA ROZŁĄCZNIK SKRZYNKOWY EFEN NT-IN, SILAS; SCHN LV4 630A, W850, 6M, POZIOMO",198,"1-ZE-01","2001-01-01","SZT"]
["36950","ZENERGY - OSŁONA ROZŁĄCZNIK SKRZYNKOWY 7X EFEN NT-IN; SCHN LV4 100A, W850, 6M / 700, PIONOWO",81.900000000000006,"1-ZE-01","2019-10-02","SZT"]
["36960","ZENERGY - OSŁONA ROZŁĄCZNIK SKRZYNKOWY 6X EFEN NT-IN 160A, W850, 6M / 700, PIONOWO",81.900000000000006,"1-ZE-01","2019-10-02","SZT"]
["36961","ZENERGY - OSŁONA ROZŁĄCZNIK SKRZYNKOWY EFEN NT-IN 160A + ochronnik, W850, 3M / 700, POZIOMO",63.4,"1-ZE-01","2021-12-01","SZT"]
["36962","ZENERGY - OSŁONA ROZŁĄCZNIK SKRZYNKOWY EFEN SILAS; SCHN LV4 160A + ochronnik, W850, 3M / 700, POZIOMO",63.4,"1-ZE-01","2021-12-01","SZT"]
["36965","ZENERGY - OSŁONA ROZŁĄCZNIK SKRZYNKOWY 6X EFEN SILAS; SCHN LV4 160A, W850, 6M / 700, PIONOWO",81.900000000000006,"1-ZE-01","2019-10-10","SZT"]
["36970","ZENERGY - OSŁONA ROZŁĄCZNIK SKRZYNKOWY 3x EFEN NT-IN 250A, W850, 9M / 700, PIONOWO",109.5,"1-ZE-01","2019-10-02","SZT"]
["36971","ZENERGY - OSŁONA ROZŁĄCZNIK SKRZYNKOWY EFEN NT-IN 250A + ochronnik, W850, 5M / 700, POZIOMO",77.099999999999994,"1-ZE-01","2021-12-01","SZT"]
["36972","ZENERGY - OSŁONA ROZŁĄCZNIK SKRZYNKOWY EFEN SILAS; SCHN LV4 250A + ochronnik, W850, 5M / 700, POZIOMO",77.099999999999994,"1-ZE-01","2021-12-01","SZT"]
["36975","ZENERGY - OSŁONA ROZŁĄCZNIK SKRZYNKOWY 3x EFEN SILAS; SCHN LV4 250A, W850, 9M / 700, PIONOWO",109.5,"1-ZE-01","2019-10-10","SZT"]
["36980","ZENERGY - OSŁONA ROZŁĄCZNIK SKRZYNKOWY 3x EFEN NT-IN 400A, W850, 9M / 700, PIONOWO",109.5,"1-ZE-01","2019-10-02","SZT"]
["36981","ZENERGY - OSŁONA ROZŁĄCZNIK SKRZYNKOWY EFEN NT-IN 400A + ochronnik, W850, 5M / 700, POZIOMO",77.099999999999994,"1-ZE-01","2021-12-01","SZT"]
["36982","ZENERGY - OSŁONA ROZŁĄCZNIK LISTWOWY SILAS 12X EFEN 100, W850, 6M / 700, ROZSTAW SZYN 60MM",81.900000000000006,"1-ZE-01","2019-10-10","SZT"]
["36983","ZENERGY - OSŁONA ROZŁĄCZNIK LISTWOWY 13X EFEN 160, W850, 11M / 700, ROZSTAW SZYN 100MM",115.9,"1-ZE-01","2019-10-02","SZT"]
["36984","ZENERGY - OSŁONA ROZŁĄCZNIK SKRZYNKOWY EFEN SILAS; SCHN LV4 400A + ochronnik, W850, 5M / 700, POZIOMO",77.099999999999994,"1-ZE-01","2021-12-01","SZT"]
["36985","ZENERGY - OSŁONA ROZŁĄCZNIK SKRZYNKOWY 3x EFEN SILAS; SCHN LV4 400A, W850, 9M / 700, PIONOWO",109.5,"1-ZE-01","2019-10-10","SZT"]
["36990","ZENERGY - OSŁONA ROZŁĄCZNIK SKRZYNKOWY 2x EFEN NT-IN 630A, W850, 9M / 700, PIONOWO",109.5,"1-ZE-01","2019-10-10","SZT"]
["36991","ZENERGY - OSŁONA ROZŁĄCZNIK SKRZYNKOWY EFEN NT-IN 630A + ochronnik, W850, 6M / 700, POZIOMO",81.900000000000006,"1-ZE-01","2019-10-10","SZT"]
["36994","ZENERGY - OSŁONA ROZŁĄCZNIK SKRZYNKOWY EFEN SILAS; SCHN LV4 630A + ochronnik, W850, 6M / 700, POZIOMO",81.900000000000006,"1-ZE-01","2019-10-10","SZT"]
["36995","ZENERGY - OSŁONA ROZŁĄCZNIK SKRZYNKOWY 2x EFEN SILAS; SCHN LV4 630A, W850, 9M / 700, PIONOWO",109.5,"1-ZE-01","2019-10-10","SZT"]
["37010","ZENERGY - COKÓŁ H100, PEŁNE OSŁONY PRZÓD,TYŁ, W1000",217.6,"1-ZE-01","2019-10-02","SZT"]
["37011","ZENERGY - COKÓŁ H100, PEŁNE OSŁONY PRZÓD,TYŁ, W1100",225.2,"1-ZE-01","2021-12-01","SZT"]
["37012","ZENERGY - COKÓŁ H100, PEŁNE OSŁONY PRZÓD,TYŁ, W1200",232.4,"1-ZE-01","2001-01-01","SZT"]
["37015","ZENERGY - COKÓŁ H100, PEŁNE OSŁONY PRZÓD,TYŁ, W1050",221.3,"1-ZE-01","2021-12-01","SZT"]
["37030","ZENERGY - COKÓŁ H100, PEŁNE OSŁONY PRZÓD,TYŁ, W300",143.80000000000001,"1-ZE-01","2019-10-02","SZT"]
["37040","ZENERGY - COKÓŁ H100, PEŁNE OSŁONY PRZÓD,TYŁ, W400",159,"1-ZE-01","2019-10-02","SZT"]
["37045","ZENERGY - COKÓŁ H100, PEŁNE OSŁONY PRZÓD,TYŁ, W450",162.69999999999999,"1-ZE-01","2019-10-02","SZT"]
["37060","ZENERGY - COKÓŁ H100, PEŁNE OSŁONY PRZÓD,TYŁ, W600",170.2,"1-ZE-01","2019-10-02","SZT"]
["37065","ZENERGY - COKÓŁ H100, PEŁNE OSŁONY PRZÓD,TYŁ, W650",173.8,"1-ZE-01","2019-10-02","SZT"]
["37080","ZENERGY - COKÓŁ H100, PEŁNE OSŁONY PRZÓD,TYŁ, W800",185.1,"1-ZE-01","2019-10-02","SZT"]
["37085","ZENERGY - COKÓŁ H100, PEŁNE OSŁONY PRZÓD,TYŁ, W850",200,"1-ZE-01","2019-10-02","SZT"]
["37110","ZENERGY - COKÓŁ H200, PEŁNE OSŁONY PRZÓD,TYŁ, W1000",339.3,"1-ZE-01","2021-12-01","SZT"]
["37112","ZENERGY - COKÓŁ H200, PEŁNE OSŁONY PRZÓD,TYŁ, W1200",362.8,"1-ZE-01","2021-12-01","SZT"]
["37130","ZENERGY - COKÓŁ H200, PEŁNE OSŁONY PRZÓD,TYŁ, W300",164.7,"1-ZE-01","2021-12-01","SZT"]
["37140","ZENERGY - COKÓŁ H200, PEŁNE OSŁONY PRZÓD,TYŁ, W400",232.4,"1-ZE-01","2021-12-01","SZT"]
["37145","ZENERGY - COKÓŁ H200, PEŁNE OSŁONY PRZÓD,TYŁ, W450",237.7,"1-ZE-01","2021-12-01","SZT"]
["37160","ZENERGY - COKÓŁ H200, PEŁNE OSŁONY PRZÓD,TYŁ, W600",248.6,"1-ZE-01","2021-12-01","SZT"]
["37165","ZENERGY - COKÓŁ H200, PEŁNE OSŁONY PRZÓD,TYŁ, W650",255.7,"1-ZE-01","2021-12-01","SZT"]
["37180","ZENERGY - COKÓŁ H200, PEŁNE OSŁONY PRZÓD,TYŁ, W800",281.10000000000002,"1-ZE-01","2021-12-01","SZT"]
["37185","ZENERGY - COKÓŁ H200, PEŁNE OSŁONY PRZÓD,TYŁ, W850",299.3,"1-ZE-01","2021-12-01","SZT"]
["37431","ZENERGY - PŁYTA MONTAŻOWA UCB/UCD100-250 3/4P, W400, 3M, PIONOWO",87.1,"1-ZE-01","2019-10-02","SZT"]
["37440","ZENERGY - PŁYTA MONTAŻOWA UPB/UPD100-250 3/4P, W400, 4M, PIONOWO",102,"1-ZE-01","2019-10-02","SZT"]
["37461","ZENERGY - PŁYTA MONTAŻOWA UCB/UCD400, UPB/UPD400-630, W400, 6M, PIONOWO",121.4,"1-ZE-01","2019-10-02","SZT"]
["37462","ZENERGY - PŁYTA MONTAŻOWA UCB/UCD630-800 3/4P, W400, 6M, PIONOWO",121.4,"1-ZE-01","2019-10-02","SZT"]
["37473","ZENERGY - PŁYTA MONTAŻOWA UCB/UCD1000-1250 3/4P, W400, 7M, PIONOWO",130.6,"1-ZE-01","2019-10-02","SZT"]
["37474","ZENERGY - PŁYTA MONTAŻOWA UCB1600 3P, W400, 7M, PIONOWO",130.6,"1-ZE-01","2019-10-02","SZT"]
["37531","ZENERGY - PŁYTA MONTAŻOWA UCB/UCD100-250 3/4P, W450, 3M, PIONOWO",98.6,"1-ZE-01","2019-10-02","SZT"]
["37540","ZENERGY - PŁYTA MONTAŻOWA UPB/UPD100-250 3/4P, W450, 4M, PIONOWO",110,"1-ZE-01","2019-10-02","SZT"]
["37554","ZENERGY - PŁYTA MONTAŻOWA UAN06-40 3/4P, A/B, W450, NA STAŁE, BEZ WSPORNIKÓW",125.7,"1-ZE-01","2021-12-01","SZT"]
["37561","ZENERGY - PŁYTA MONTAŻOWA UCB/UCD400, UPB/UPD400-630, W450, 6M, PIONOWO",137.5,"1-ZE-01","2019-10-02","SZT"]
["37562","ZENERGY - PŁYTA MONTAŻOWA UCB/UCD630-800 3/4P, W450, 6M, PIONOWO",137.5,"1-ZE-01","2019-10-02","SZT"]
["37573","ZENERGY - PŁYTA MONTAŻOWA UCB/UCD1000-1250 3/4P, W450, 7M, PIONOWO",144.5,"1-ZE-01","2019-10-02","SZT"]
["37574","ZENERGY - PŁYTA MONTAŻOWA UCB1600 3P, W450, 7M, PIONOWO",144.5,"1-ZE-01","2019-10-02","SZT"]
["37731","ZENERGY - PŁYTA MONTAŻOWA UCB/UCD100-250 3/4P, W650, 3M, PIONOWO",112.3,"1-ZE-01","2019-10-02","SZT"]
["37735","ZENERGY - PŁYTA MONTAŻOWA UCB/UCD/UPB/UPD100-250 3P, W650, 3M, POZIOMO",112.3,"1-ZE-01","2019-10-02","SZT"]
["37740","ZENERGY - PŁYTA MONTAŻOWA UPB/UPD100-250 3/4P, W650, 4M, PIONOWO",135.1,"1-ZE-01","2019-10-02","SZT"]
["37745","ZENERGY - PŁYTA MONTAŻOWA UCB/UCD/UPB/UPD100-250 4P, W650, 4M, POZIOMO",135.1,"1-ZE-01","2019-10-02","SZT"]
["37746","ZENERGY - PŁYTA MONTAŻOWA UPB/UPD400-630, UCB/UCD400 3P, W650, 4M, POZIOMO",135.1,"1-ZE-01","2019-10-02","SZT"]
["37749","ZENERGY - PŁYTA MONTAŻOWA UPB/UPD400-630 3P, W650, 4M, WTYKOWY, POZIOMO",135.1,"1-ZE-01","2019-10-02","SZT"]
["37754","ZENERGY - PŁYTA MONTAŻOWA UAN06-40 3/4P, A/B, W650, NA STAŁE, BEZ WSPORNIKÓW",178.8,"1-ZE-01","2019-10-02","SZT"]
["37756","ZENERGY - PŁYTA MONTAŻOWA UPB/UPD400-630, UCB/UCD400 4P, W650, 5M, POZIOMO",147,"1-ZE-01","2019-10-02","SZT"]
["37761","ZENERGY - PŁYTA MONTAŻOWA UCB/UCD400, UPB/UPD400-630, W650, 6M, PIONOWO",158.30000000000001,"1-ZE-01","2019-10-02","SZT"]
["37762","ZENERGY - PŁYTA MONTAŻOWA UCB/UCD630-800 3/4P, W650, 6M, PIONOWO",158.30000000000001,"1-ZE-01","2019-10-02","SZT"]
["37764","ZENERGY - PŁYTA MONTAŻOWA UAN06-40 3/4P, W650, WYSUWNY, BEZ WSPORNIKÓW",184.5,"1-ZE-01","2019-10-02","SZT"]
["37767","ZENERGY - PŁYTA MONTAŻOWA UCB/UCD630-800 3P, W650, 6M, POZIOMO",158.30000000000001,"1-ZE-01","2019-10-02","SZT"]
["37768","ZENERGY - PŁYTA MONTAŻOWA UCB/UCD1000-1250 3P, W650, 6M, POZIOMO",158.30000000000001,"1-ZE-01","2019-10-02","SZT"]
["37769","ZENERGY - PŁYTA MONTAŻOWA UCB/UCD630-800 3P, W650, 6M, WTYKOWY, POZIOMO",134.6,"1-ZE-01","2019-10-02","SZT"]
["37773","ZENERGY - PŁYTA MONTAŻOWA UCB/UCD1000-1250 3/4P, W650, 7M, PIONOWO",169.6,"1-ZE-01","2019-10-02","SZT"]
["37774","ZENERGY - PŁYTA MONTAŻOWA UCB1600 3P, W650, 7M, PIONOWO",169.6,"1-ZE-01","2019-10-02","SZT"]
["37777","ZENERGY - PŁYTA MONTAŻOWA UCB/UCD630-800 4P, W650, 7M, POZIOMO",169.6,"1-ZE-01","2019-10-02","SZT"]
["37778","ZENERGY - PŁYTA MONTAŻOWA UCB/UCD1000-1250 4P, W650, 7M, POZIOMO",169.6,"1-ZE-01","2019-10-02","SZT"]
["37931","ZENERGY - PŁYTA MONTAŻOWA UCB/UCD100-250 3/4P, W850, 3M, PIONOWO",139.9,"1-ZE-01","2019-10-02","SZT"]
["37935","ZENERGY - PŁYTA MONTAŻOWA UCB/UCD/UPB/UPD100-250 3P, W850, 3M, POZIOMO",139.9,"1-ZE-01","2019-10-02","SZT"]
["37940","ZENERGY - PŁYTA MONTAŻOWA UPB/UPD100-250 3/4P, W850, 4M, PIONOWO",146.6,"1-ZE-01","2019-10-02","SZT"]
["37945","ZENERGY - PŁYTA MONTAŻOWA UCB/UCD/UPB/UPD100-250 4P, W850, 4M, POZIOMO",146.6,"1-ZE-01","2019-10-02","SZT"]
["37946","ZENERGY - PŁYTA MONTAŻOWA UPB/UPD400-630, UCB/UCD400 3P, W850, 4M, POZIOMO",146.6,"1-ZE-01","2019-10-02","SZT"]
["37949","ZENERGY - PŁYTA MONTAŻOWA UPB/UPD400-630 3P, W850, 4M, WTYKOWY, POZIOMO",146.6,"1-ZE-01","2019-10-02","SZT"]
["37954","ZENERGY - PŁYTA MONTAŻOWA UAN06-40 3/4P, A/B, W850, NA STAŁE, BEZ WSPORNIKÓW",218.5,"1-ZE-01","2019-10-02","SZT"]
["37956","ZENERGY - PŁYTA MONTAŻOWA UPB/UPD400-630, UCB/UCD400 4P, W850, 5M, POZIOMO",161.5,"1-ZE-01","2019-10-02","SZT"]
["37961","ZENERGY - PŁYTA MONTAŻOWA UCB/UCD400, UPB/UPD400-630, W850, 6M, PIONOWO",169.5,"1-ZE-01","2019-10-02","SZT"]
["37962","ZENERGY - PŁYTA MONTAŻOWA UCB/UCD630-800 3/4P, W850, 6M, PIONOWO",169.5,"1-ZE-01","2019-10-02","SZT"]
["37964","ZENERGY - PŁYTA MONTAŻOWA UAN06-40 3/4P, W850, WYSUWNY, BEZ WSPORNIKÓW",226.1,"1-ZE-01","2019-10-02","SZT"]
["37967","ZENERGY - PŁYTA MONTAŻOWA UCB/UCD630-800 3P, W850, 6M, POZIOMO",169.5,"1-ZE-01","2019-10-02","SZT"]
["37968","ZENERGY - PŁYTA MONTAŻOWA UCB/UCD1000-1250 3P, W850, 6M, POZIOMO",169.5,"1-ZE-01","2019-10-02","SZT"]
["37969","ZENERGY - PŁYTA MONTAŻOWA UCB/UCD630-800 3P, W850, 6M, WTYKOWY, POZIOMO",160.4,"1-ZE-01","2019-10-02","SZT"]
["37973","ZENERGY - PŁYTA MONTAŻOWA UCB/UCD1000-1250 3/4P, W850, 7M, PIONOWO",185.7,"1-ZE-01","2019-10-02","SZT"]
["37974","ZENERGY - PŁYTA MONTAŻOWA UCB1600 3P, W850, 7M, PIONOWO",185.7,"1-ZE-01","2019-10-02","SZT"]
["37977","ZENERGY - PŁYTA MONTAŻOWA UCB/UCD630-800 4P, W850, 7M, POZIOMO",185.7,"1-ZE-01","2019-10-02","SZT"]
["37978","ZENERGY - PŁYTA MONTAŻOWA UCB/UCD1000-1250 4P, W850, 7M, POZIOMO",185.7,"1-ZE-01","2019-10-02","SZT"]
["38035","ZENERGY OM - OSŁONA CZOŁOWA UPB 100-250 3P, W1000, 3M / 900, POZIOMO, DŹWIGNIA",60.3,"1-ZE-01","2019-10-02","SZT"]
["38035","ZENERGY OM - OSŁONA CZOŁOWA UPB 100-250 3P, W1000, 3M / 900, POZIOMO, DŹWIGNIA",60.3,"1-ZE-09","2019-10-02","SZT"]
["38045","ZENERGY OM - OSŁONA CZOŁOWA UPB 100-250 4P, W1000, 4M / 900, POZIOMO, DŹWIGNIA",67.2,"1-ZE-01","2019-10-02","SZT"]
["38045","ZENERGY OM - OSŁONA CZOŁOWA UPB 100-250 4P, W1000, 4M / 900, POZIOMO, DŹWIGNIA",67.2,"1-ZE-09","2019-10-02","SZT"]
["38046","ZENERGY OM - OSŁONA CZOŁOWA UPB 400-630 3P, W1000, 4M / 900, POZIOMO, DŹWIGNIA",67.2,"1-ZE-01","2019-10-02","SZT"]
["38046","ZENERGY OM - OSŁONA CZOŁOWA UPB 400-630 3P, W1000, 4M / 900, POZIOMO, DŹWIGNIA",67.2,"1-ZE-09","2019-10-02","SZT"]
["38050","ZENERGY OM - OSŁONA CZOŁOWA UPB 100-250 3/4P, W1000, 5M / 900, PIONOWO, DŹWIGNIA",74.7,"1-ZE-01","2019-10-02","SZT"]
["38050","ZENERGY OM - OSŁONA CZOŁOWA UPB 100-250 3/4P, W1000, 5M / 900, PIONOWO, DŹWIGNIA",74.7,"1-ZE-09","2019-10-02","SZT"]
["38056","ZENERGY OM - OSŁONA CZOŁOWA UPB 400-630 4P, W1000, 5M / 900, POZIOMO, DŹWIGNIA",74.7,"1-ZE-01","2019-10-02","SZT"]
["38056","ZENERGY OM - OSŁONA CZOŁOWA UPB 400-630 4P, W1000, 5M / 900, POZIOMO, DŹWIGNIA",74.7,"1-ZE-09","2019-10-02","SZT"]
["38091","ZENERGY OM - OSŁONA CZOŁOWA UPB 400-630 3/4P, W1000, 9M / 900, PIONOWO, DŹWIGNIA",117.9,"1-ZE-01","2019-10-02","SZT"]
["38091","ZENERGY OM - OSŁONA CZOŁOWA UPB 400-630 3/4P, W1000, 9M / 900, PIONOWO, DŹWIGNIA",117.9,"1-ZE-09","2019-10-02","SZT"]
["38134","ZENERGY OM - OSŁONA CZOŁOWA UCB 100 3P, W1000, 3M / 900, POZIOMO, DŹWIGNIA",64.2,"1-ZE-01","2019-10-02","SZT"]
["38134","ZENERGY OM - OSŁONA CZOŁOWA UCB 100 3P, W1000, 3M / 900, POZIOMO, DŹWIGNIA",64.2,"1-ZE-09","2019-10-02","SZT"]
["38135","ZENERGY OM - OSŁONA CZOŁOWA UCB 160-250 3P, W1000, 3M / 900, POZIOMO, DŹWIGNIA",64.2,"1-ZE-01","2019-10-02","SZT"]
["38135","ZENERGY OM - OSŁONA CZOŁOWA UCB 160-250 3P, W1000, 3M / 900, POZIOMO, DŹWIGNIA",64.2,"1-ZE-09","2019-10-02","SZT"]
["38144","ZENERGY OM - OSŁONA CZOŁOWA UCB 100 4P, W1000, 4M / 900, POZIOMO, DŹWIGNIA",71.8,"1-ZE-01","2019-10-02","SZT"]
["38144","ZENERGY OM - OSŁONA CZOŁOWA UCB 100 4P, W1000, 4M / 900, POZIOMO, DŹWIGNIA",71.8,"1-ZE-09","2019-10-02","SZT"]
["38145","ZENERGY OM - OSŁONA CZOŁOWA UCB 160-250 4P, W1000, 4M / 900, POZIOMO, DŹWIGNIA",71.8,"1-ZE-01","2019-10-02","SZT"]
["38145","ZENERGY OM - OSŁONA CZOŁOWA UCB 160-250 4P, W1000, 4M / 900, POZIOMO, DŹWIGNIA",71.8,"1-ZE-09","2019-10-02","SZT",236]
["38146","ZENERGY OM - OSŁONA CZOŁOWA UCB 400 3P, W1000, 4M / 900, POZIOMO, DŹWIGNIA",71.8,"1-ZE-01","2019-10-02","SZT"]
["38146","ZENERGY OM - OSŁONA CZOŁOWA UCB 400 3P, W1000, 4M / 900, POZIOMO, DŹWIGNIA",71.8,"1-ZE-09","2019-10-02","SZT"]
["38149","ZENERGY OM - OSŁONA CZOŁOWA UCB 100 3/4P, W1000, 5M / 900, PIONOWO, DŹWIGNIA",78,"1-ZE-01","2019-10-02","SZT"]
["38149","ZENERGY OM - OSŁONA CZOŁOWA UCB 100 3/4P, W1000, 5M / 900, PIONOWO, DŹWIGNIA",78,"1-ZE-09","2019-10-02","SZT"]
["38150","ZENERGY OM - OSŁONA CZOŁOWA UCB 160-250 3/4P, W1000, 5M / 900, PIONOWO, DŹWIGNIA",78,"1-ZE-01","2019-10-02","SZT"]
["38150","ZENERGY OM - OSŁONA CZOŁOWA UCB 160-250 3/4P, W1000, 5M / 900, PIONOWO, DŹWIGNIA",78,"1-ZE-09","2019-10-02","SZT"]
["38156","ZENERGY OM - OSŁONA CZOŁOWA UCB 400 4P, W1000, 5M / 900, POZIOMO, DŹWIGNIA",78,"1-ZE-01","2019-10-02","SZT"]
["38156","ZENERGY OM - OSŁONA CZOŁOWA UCB 400 4P, W1000, 5M / 900, POZIOMO, DŹWIGNIA",78,"1-ZE-09","2019-10-02","SZT"]
["38167","ZENERGY OM - OSŁONA CZOŁOWA UCB 630-800 3P, W1000, 6M / 900, POZIOMO, DŹWIGNIA",85.2,"1-ZE-01","2019-10-02","SZT"]
["38167","ZENERGY OM - OSŁONA CZOŁOWA UCB 630-800 3P, W1000, 6M / 900, POZIOMO, DŹWIGNIA",85.2,"1-ZE-09","2019-10-02","SZT"]
["38177","ZENERGY OM - OSŁONA CZOŁOWA UCB 630-800 4P, W1000, 7M / 900, POZIOMO, DŹWIGNIA",104.2,"1-ZE-01","2019-10-02","SZT"]
["38177","ZENERGY OM - OSŁONA CZOŁOWA UCB 630-800 4P, W1000, 7M / 900, POZIOMO, DŹWIGNIA",104.2,"1-ZE-09","2019-10-02","SZT"]
["38191","ZENERGY OM - OSŁONA CZOŁOWA UCB 400 3/4P, W1000, 9M / 900, PIONOWO, DŹWIGNIA",122.6,"1-ZE-01","2019-10-02","SZT"]
["38191","ZENERGY OM - OSŁONA CZOŁOWA UCB 400 3/4P, W1000, 9M / 900, PIONOWO, DŹWIGNIA",122.6,"1-ZE-09","2019-10-02","SZT"]
["38192","ZENERGY OM - OSŁONA CZOŁOWA UCB 630-800 3P, W1000, 9M / 900, PIONOWO, DŹWIGNIA",122.6,"1-ZE-01","2019-10-02","SZT"]
["38192","ZENERGY OM - OSŁONA CZOŁOWA UCB 630-800 3P, W1000, 9M / 900, PIONOWO, DŹWIGNIA",122.6,"1-ZE-09","2019-10-02","SZT"]
["38193","ZENERGY OM - OSŁONA CZOŁOWA UCB 630-800 4P, W1000, 9M / 900, PIONOWO, DŹWIGNIA",122.6,"1-ZE-01","2019-10-02","SZT"]
["38193","ZENERGY OM - OSŁONA CZOŁOWA UCB 630-800 4P, W1000, 9M / 900, PIONOWO, DŹWIGNIA",122.6,"1-ZE-09","2019-10-02","SZT"]
["38235","ZENERGY - OSŁONA CZOŁOWA UPB 100-250 3P, W400, 3M / 250, POZIOMO, DŹWIGNIA",41.3,"1-ZE-01","2019-10-02","SZT"]
["38245","ZENERGY - OSŁONA CZOŁOWA UPB 100-250 4P, W400, 4M / 250, POZIOMO, DŹWIGNIA",43.1,"1-ZE-01","2019-10-02","SZT"]
["38250","ZENERGY - OSŁONA CZOŁOWA UPB 100-250 3/4P, W400, 5M / 250, PIONOWO, DŹWIGNIA",46.4,"1-ZE-01","2019-10-02","SZT"]
["38256","ZENERGY - OSŁONA CZOŁOWA UPB 400-630 4P, W400, 5M / 250, POZIOMO, DŹWIGNIA",46.4,"1-ZE-01","2019-10-02","SZT"]
["38291","ZENERGY - OSŁONA CZOŁOWA UPB 400-630 3/4P, W400, 9M / 250, PIONOWO, DŹWIGNIA",77.5,"1-ZE-01","2019-10-02","SZT",236]
["38323","ZENERGY - OSŁONA CZOŁOWA UCB 1000-1250 4P, W400, 12M / 250, PIONOWO, DŹWIGNIA",86.1,"1-ZE-01","2019-10-02","SZT"]
["38324","ZENERGY - OSŁONA CZOŁOWA UCB 1600 3P, W400, 12M / 250, PIONOWO, DŹWIGNIA",86.1,"1-ZE-01","2019-10-02","SZT"]
["38334","ZENERGY - OSŁONA CZOŁOWA UCB 100 3P, W400, 3M / 250, POZIOMO, DŹWIGNIA",41.3,"1-ZE-01","2019-10-02","SZT"]
["38335","ZENERGY - OSŁONA CZOŁOWA UCB 160-250 3P, W400, 3M / 250, POZIOMO, DŹWIGNIA",41.3,"1-ZE-01","2019-10-02","SZT"]
["38344","ZENERGY - OSŁONA CZOŁOWA UCB 100 4P, W400, 4M / 250, POZIOMO, DŹWIGNIA",43.1,"1-ZE-01","2019-10-02","SZT"]
["38345","ZENERGY - OSŁONA CZOŁOWA UCB 160-250 4P, W400, 4M / 250, POZIOMO, DŹWIGNIA",43.1,"1-ZE-01","2019-10-02","SZT"]
["38348","ZENERGY - OSŁONA CZOŁOWA UCB 100 3P, W400, 5M / 250, PIONOWO, DŹWIGNIA",46.4,"1-ZE-01","2019-10-02","SZT"]
["38349","ZENERGY - OSŁONA CZOŁOWA UCB 100 4P, W400, 5M / 250, PIONOWO, DŹWIGNIA",48.7,"1-ZE-01","2019-10-02","SZT"]
["38350","ZENERGY - OSŁONA CZOŁOWA UCB 160-250 3P, W400, 5M / 250, PIONOWO, DŹWIGNIA",48.7,"1-ZE-01","2019-10-02","SZT"]
["38351","ZENERGY - OSŁONA CZOŁOWA UCB 160-250 4P, W400, 5M / 250, PIONOWO, DŹWIGNIA",46.4,"1-ZE-01","2019-10-02","SZT"]
["38356","ZENERGY - OSŁONA CZOŁOWA UCB 400 4P, W400, 5M / 250, POZIOMO, DŹWIGNIA",46.4,"1-ZE-01","2019-10-02","SZT"]
["38390","ZENERGY - OSŁONA CZOŁOWA UCB 400 3P, W400, 9M / 250, PIONOWO, DŹWIGNIA",77.5,"1-ZE-01","2019-10-02","SZT"]
["38391","ZENERGY - OSŁONA CZOŁOWA UCB 400 4P, W400, 9M / 250, PIONOWO, DŹWIGNIA",81.099999999999994,"1-ZE-01","2019-10-02","SZT"]
["38392","ZENERGY - OSŁONA CZOŁOWA UCB 630-800 3P, W400, 9M / 250, PIONOWO, DŹWIGNIA",81.099999999999994,"1-ZE-01","2019-10-02","SZT"]
["38435","ZENERGY - OSŁONA CZOŁOWA UPB 100-250 3P, W450, 3M / 300, POZIOMO, DŹWIGNIA",46.4,"1-ZE-01","2019-10-02","SZT"]
["38445","ZENERGY - OSŁONA CZOŁOWA UPB 100-250 4P, W450, 4M / 300, POZIOMO, DŹWIGNIA",48.2,"1-ZE-01","2019-10-02","SZT"]
["38450","ZENERGY - OSŁONA CZOŁOWA UPB 100-250 3/4P, W450, 5M / 300, PIONOWO, DŹWIGNIA",54.1,"1-ZE-01","2019-10-02","SZT"]
["38491","ZENERGY - OSŁONA CZOŁOWA UPB 400-630 3/4P, W450, 9M / 300, PIONOWO, DŹWIGNIA",91.9,"1-ZE-01","2019-10-02","SZT"]
["38522","ZENERGY - OSŁONA CZOŁOWA UCB 1000-1250 3P, W450, 12M / 300, PIONOWO, DŹWIGNIA",95.6,"1-ZE-01","2019-10-02","SZT"]
["38534","ZENERGY - OSŁONA CZOŁOWA UCB 100 3P, W450, 3M / 300, POZIOMO, DŹWIGNIA",46.4,"1-ZE-01","2019-10-02","SZT"]
["38535","ZENERGY - OSŁONA CZOŁOWA UCB 160-250 3P, W450, 3M / 300, POZIOMO, DŹWIGNIA",46.4,"1-ZE-01","2019-10-02","SZT"]
["38544","ZENERGY - OSŁONA CZOŁOWA UCB 100 4P, W450, 4M / 300, POZIOMO, DŹWIGNIA",48.2,"1-ZE-01","2019-10-02","SZT"]
["38545","ZENERGY - OSŁONA CZOŁOWA UCB 160-250 4P, W450, 4M / 300, POZIOMO, DŹWIGNIA",48.2,"1-ZE-01","2019-10-02","SZT"]
["38549","ZENERGY - OSŁONA CZOŁOWA UCB 100 3/4P, W450, 5M / 300, PIONOWO, DŹWIGNIA",51.6,"1-ZE-01","2019-10-02","SZT"]
["38550","ZENERGY - OSŁONA CZOŁOWA UCB 160-250 3P, W450, 5M / 300, PIONOWO, DŹWIGNIA",54.1,"1-ZE-01","2019-10-02","SZT"]
["38551","ZENERGY - OSŁONA CZOŁOWA UCB 160-250 4P, W450, 5M / 300, PIONOWO, DŹWIGNIA",54.1,"1-ZE-01","2019-10-02","SZT"]
["38590","ZENERGY - OSŁONA CZOŁOWA UCB 400 3P, W450, 9M / 300, PIONOWO, DŹWIGNIA",87.7,"1-ZE-01","2019-10-02","SZT"]
["38591","ZENERGY - OSŁONA CZOŁOWA UCB 400 4P, W450, 9M / 300, PIONOWO, DŹWIGNIA",87.7,"1-ZE-01","2019-10-02","SZT"]
["38592","ZENERGY - OSŁONA CZOŁOWA UCB 630-800 3P, W450, 9M / 300, PIONOWO, DŹWIGNIA",87.7,"1-ZE-01","2019-10-02","SZT"]
["38594","ZENERGY - OSŁONA CZOŁOWA UAN 06-20 3/4P, A, W450, 9M / 300, NA STAŁE",81.400000000000006,"1-ZE-01","2021-12-01","SZT"]
["38635","ZENERGY - OSŁONA CZOŁOWA UPB 100-250 3P, W650, 3M / 500, POZIOMO, DŹWIGNIA",52.4,"1-ZE-01","2019-10-02","SZT"]
["38642","ZENERGY - OSŁONA CZOŁOWA UAB 100 3/4P, W650, 4M / 500, PIONOWO, DŹWIGNIA",57.8,"1-ZE-01","2019-10-02","SZT"]
["38645","ZENERGY - OSŁONA CZOŁOWA UPB 100-250 4P, W650, 4M / 500, POZIOMO, DŹWIGNIA",57.8,"1-ZE-01","2019-10-02","SZT"]
["38646","ZENERGY - OSŁONA CZOŁOWA UPB 400-630 3P, W650, 4M / 500, POZIOMO, DŹWIGNIA",57.8,"1-ZE-01","2019-10-02","SZT"]
["38650","ZENERGY - OSŁONA CZOŁOWA UPB 100-250 3/4P, W650, 5M / 500, PIONOWO, DŹWIGNIA",63.1,"1-ZE-01","2019-10-02","SZT"]
["38652","ZENERGY - OSŁONA CZOŁOWA UAB 100 3/4P, W650, 5M / 500, PIONOWO, DŹWIGNIA",64.5,"1-ZE-01","2021-12-01","SZT"]
["38656","ZENERGY - OSŁONA CZOŁOWA UPB 400-630 4P, W650, 5M / 500, POZIOMO, DŹWIGNIA",63.1,"1-ZE-01","2019-10-02","SZT"]
["38690","ZENERGY - OSŁONA CZOŁOWA 1x UPB 400-630 3/4P, W650, 9M / 500, PIONOWO, DŹWIGNIA",103.5,"1-ZE-01","2019-10-02","SZT"]
["38691","ZENERGY - OSŁONA CZOŁOWA 2x UPB 400-630 3/4P, W650, 9M / 500, PIONOWO, DŹWIGNIA",111.8,"1-ZE-01","2019-10-02","SZT"]
["38706","ZENERGY - OSŁONA CZOŁOWA UCB 1000-1250 3/4P, W650, 12M / 500, PIONOWO, SILNIK",111.9,"1-ZE-01","2019-10-02","SZT"]
["38709","ZENERGY - OSŁONA CZOŁOWA UAN 06-32 3/4P, A, W650, 10M / 500, WYSUWNY",117.2,"1-ZE-01","2019-10-02","SZT"]
["38710","ZENERGY - OSŁONA CZOŁOWA UAN 06-32 3/4P, B, W650, 10M / 500, WYSUWNY",117.2,"1-ZE-01","2019-10-02","SZT"]
["38722","ZENERGY - OSŁONA CZOŁOWA UCB/UCD 1000-1250 3P, W650, 12M / 500, PIONOWO, DŹWIGNIA",126.2,"1-ZE-01","2019-10-02","SZT"]
["38723","ZENERGY - OSŁONA CZOŁOWA UCB 1000-1250 4P, W650, 12M / 500, PIONOWO, DŹWIGNIA",126.2,"1-ZE-01","2019-10-02","SZT"]
["38724","ZENERGY - OSŁONA CZOŁOWA UCB 1600 3P, W650, 12M / 500, PIONOWO, DŹWIGNIA",120.5,"1-ZE-01","2019-10-02","SZT"]
["38734","ZENERGY - OSŁONA CZOŁOWA UCB 100 3P, W650, 3M / 500, POZIOMO, DŹWIGNIA",52.4,"1-ZE-01","2019-10-02","SZT"]
["38735","ZENERGY - OSŁONA CZOŁOWA UCB 160-250 3P, W650, 3M / 500, POZIOMO, DŹWIGNIA",52.4,"1-ZE-01","2019-10-02","SZT"]
["38744","ZENERGY - OSŁONA CZOŁOWA UCB 100 4P, W650, 4M / 500, POZIOMO, DŹWIGNIA",57.8,"1-ZE-01","2019-10-02","SZT"]
["38745","ZENERGY - OSŁONA CZOŁOWA UCB 160-250 4P, W650, 4M / 500, POZIOMO, DŹWIGNIA",57.8,"1-ZE-01","2019-10-02","SZT"]
["38746","ZENERGY - OSŁONA CZOŁOWA UCB 400 3P, W650, 4M / 500, POZIOMO, DŹWIGNIA",57.8,"1-ZE-01","2019-10-02","SZT"]
["38749","ZENERGY - OSŁONA CZOŁOWA UCB 100 3/4P, W650, 5M / 500, PIONOWO, DŹWIGNIA",63.1,"1-ZE-01","2019-10-02","SZT"]
["38750","ZENERGY - OSŁONA CZOŁOWA UCB 160-250 3/4P, W650, 5M / 500, PIONOWO, DŹWIGNIA",63.1,"1-ZE-01","2019-10-02","SZT"]
["38756","ZENERGY - OSŁONA CZOŁOWA UCB 400 4P, W650, 5M / 500, POZIOMO, DŹWIGNIA",63.1,"1-ZE-01","2019-10-02","SZT"]
["38767","ZENERGY - OSŁONA CZOŁOWA UCB 630-800 3P, W650, 6M / 500, POZIOMO, DŹWIGNIA",68.400000000000006,"1-ZE-01","2019-10-02","SZT"]
["38768","ZENERGY - OSŁONA CZOŁOWA UCB 1000-1250 3P, W650, 6M / 500, POZIOMO, DŹWIGNIA",68.400000000000006,"1-ZE-01","2019-10-02","SZT"]
["38769","ZENERGY - OSŁONA CZOŁOWA UCB 630-800 3P, W650, 6M / 500, POZIOMO, SILNIK",68.400000000000006,"1-ZE-01","2019-10-02","SZT"]
["38777","ZENERGY - OSŁONA CZOŁOWA UCB 630-800 4P, W650, 7M / 500, POZIOMO, DŹWIGNIA",89.4,"1-ZE-01","2019-10-02","SZT"]
["38778","ZENERGY - OSŁONA CZOŁOWA UCB 1000-1250 4P, W650, 7M / 500, POZIOMO, DŹWIGNIA",89.4,"1-ZE-01","2019-10-02","SZT"]
["38779","ZENERGY - OSŁONA CZOŁOWA UCB 630-800 4P, W650, 7M / 500, POZIOMO, SILNIK",89.4,"1-ZE-01","2019-10-02","SZT"]
["38787","ZENERGY - OSŁONA CZOŁOWA UCB 1000-1250 3P, W650, 6M / 500, POZIOMO, SILNIK",65.3,"1-ZE-01","2019-10-02","SZT"]
["38790","ZENERGY - OSŁONA CZOŁOWA 1x UCB 400 3/4P, W650, 9M / 500, PIONOWO, DŹWIGNIA",103.5,"1-ZE-01","2019-10-02","SZT"]
["38791","ZENERGY - OSŁONA CZOŁOWA 2x UCB 400 3/4P, W650, 9M / 500, PIONOWO, DŹWIGNIA",111.8,"1-ZE-01","2019-10-02","SZT"]
["38792","ZENERGY - OSŁONA CZOŁOWA UCB 630-800 3P, W650, 9M / 500, PIONOWO, DŹWIGNIA",111.8,"1-ZE-01","2019-10-02","SZT"]
["38793","ZENERGY - OSŁONA CZOŁOWA UCB 630-800 4P, W650, 9M / 500, PIONOWO, DŹWIGNIA",111.8,"1-ZE-01","2019-10-02","SZT"]
["38794","ZENERGY - OSŁONA CZOŁOWA UAN 06-20 3/4P, A, W650, 9M / 500, NA STAŁE",111.8,"1-ZE-01","2019-10-02","SZT"]
["38795","ZENERGY - OSŁONA CZOŁOWA UAN 08-40 3/4P, B, W650, 9M / 500, NA STAŁE",111.8,"1-ZE-01","2019-10-02","SZT"]
["38835","ZENERGY - OSŁONA CZOŁOWA UPB 100-250 3P, W850, 3M / 700, POZIOMO, DŹWIGNIA",61.3,"1-ZE-01","2019-10-02","SZT"]
["38845","ZENERGY - OSŁONA CZOŁOWA UPB 100-250 4P, W850, 4M / 700, POZIOMO, DŹWIGNIA",70.3,"1-ZE-01","2019-10-02","SZT"]
["38846","ZENERGY - OSŁONA CZOŁOWA UPB 400-630 3P, W850, 4M / 700, POZIOMO, DŹWIGNIA",70.3,"1-ZE-01","2019-10-02","SZT"]
["38850","ZENERGY - OSŁONA CZOŁOWA UPB 100-250 3/4P, W850, 5M / 700, PIONOWO, DŹWIGNIA",72.3,"1-ZE-01","2019-10-02","SZT"]
["38856","ZENERGY - OSŁONA CZOŁOWA UPB 400-630 4P, W850, 5M / 700, POZIOMO, DŹWIGNIA",72.3,"1-ZE-01","2019-10-02","SZT"]
["38891","ZENERGY - OSŁONA CZOŁOWA UPB 400-630 3/4P, W850, 9M / 700, PIONOWO, DŹWIGNIA",126.2,"1-ZE-01","2019-10-02","SZT"]
["38909","ZENERGY - OSŁONA CZOŁOWA UAN 06-32 3/4P, W850, 10M / 700, WYSUWNY",133.4,"1-ZE-01","2019-10-02","SZT"]
["38920","ZENERGY - OSŁONA CZOŁOWA 2X UCB 1000-1250 3P, W850, 12M / 700, PIONOWO, DŹWIGNIA",139.30000000000001,"1-ZE-01","2019-10-02","SZT"]
["38921","ZENERGY - OSŁONA CZOŁOWA 2X UCB 1000-1250 4P, W850, 12M / 700, PIONOWO, DŹWIGNIA",139.30000000000001,"1-ZE-01","2019-10-02","SZT"]
["38922","ZENERGY - OSŁONA CZOŁOWA UCB 1000-1250 3P, W850, 12M / 700, PIONOWO, DŹWIGNIA",139.30000000000001,"1-ZE-01","2019-10-02","SZT"]
["38923","ZENERGY - OSŁONA CZOŁOWA UCB 1000-1250 4P, W850, 12M / 700, PIONOWO, DŹWIGNIA",139.30000000000001,"1-ZE-01","2019-10-02","SZT"]
["38924","ZENERGY - OSŁONA CZOŁOWA UCB 1600 3P, W850, 12M / 700, PIONOWO, DŹWIGNIA",139.30000000000001,"1-ZE-01","2019-10-02","SZT"]
["38934","ZENERGY - OSŁONA CZOŁOWA UCB 100 3P, W850, 3M / 700, POZIOMO, DŹWIGNIA",61.3,"1-ZE-01","2019-10-02","SZT"]
["38935","ZENERGY - OSŁONA CZOŁOWA UCB 160-250 3P, W850, 3M / 700, POZIOMO, DŹWIGNIA",61.3,"1-ZE-01","2019-10-02","SZT"]
["38944","ZENERGY - OSŁONA CZOŁOWA UCB 100 4P, W850, 4M / 700, POZIOMO, DŹWIGNIA",67.2,"1-ZE-01","2019-10-02","SZT"]
["38945","ZENERGY - OSŁONA CZOŁOWA UCB 160-250 4P, W850, 4M / 700, POZIOMO, DŹWIGNIA",67.2,"1-ZE-01","2019-10-02","SZT"]
["38946","ZENERGY - OSŁONA CZOŁOWA UCB 400 3P, W850, 4M / 700, POZIOMO, DŹWIGNIA",67.2,"1-ZE-01","2019-10-02","SZT"]
["38949","ZENERGY - OSŁONA CZOŁOWA UCB 100 3/4P, W850, 5M / 700, PIONOWO, DŹWIGNIA",67.2,"1-ZE-01","2019-10-02","SZT"]
["38950","ZENERGY - OSŁONA CZOŁOWA UCB 160-250 3/4P, W850, 5M / 700, PIONOWO, DŹWIGNIA",75.7,"1-ZE-01","2019-10-02","SZT"]
["38956","ZENERGY - OSŁONA CZOŁOWA UCB 400 4P, W850, 5M / 700, POZIOMO, DŹWIGNIA",75.7,"1-ZE-01","2019-10-02","SZT"]
["38967","ZENERGY - OSŁONA CZOŁOWA UCB 630-800 3P, W850, 6M / 700, POZIOMO, DŹWIGNIA",83,"1-ZE-01","2019-10-02","SZT"]
["38968","ZENERGY - OSŁONA CZOŁOWA UCB 1000-1250 3P, W850, 6M / 700, POZIOMO, DŹWIGNIA",83,"1-ZE-01","2019-10-02","SZT"]
["38977","ZENERGY - OSŁONA CZOŁOWA UCB 630-800 4P, W850, 7M / 700, POZIOMO, DŹWIGNIA",103.2,"1-ZE-01","2019-10-02","SZT"]
["38978","ZENERGY - OSŁONA CZOŁOWA UCB 1000-1250 4P, W850, 7M / 700, POZIOMO, DŹWIGNIA",103.2,"1-ZE-01","2019-10-02","SZT"]
["38979","ZENERGY - OSŁONA CZOŁOWA UCB 630-800 4P, W850, 7M / 700, POZIOMO, SILNIK",103.2,"1-ZE-01","2019-10-02","SZT"]
["38991","ZENERGY - OSŁONA CZOŁOWA UCB 400 3/4P, W850, 9M / 700, PIONOWO, DŹWIGNIA",120.5,"1-ZE-01","2019-10-02","SZT"]
["38992","ZENERGY - OSŁONA CZOŁOWA UCB 630-800 3P, W850, 9M / 700, PIONOWO, DŹWIGNIA",120.5,"1-ZE-01","2019-10-02","SZT"]
["38993","ZENERGY - OSŁONA CZOŁOWA UCB 630-800 4P, W850, 9M / 700, PIONOWO, DŹWIGNIA",120.5,"1-ZE-01","2019-10-02","SZT"]
["38994","ZENERGY - OSŁONA CZOŁOWA UAN 06-20 3/4P, A, W850, 9M / 700, NA STAŁE",126.2,"1-ZE-01","2019-10-02","SZT"]
["38996","ZENERGY - OSŁONA CZOŁOWA UAN 06-40 3/4P, B, W850, 9M / 700, NA STAŁE",126.2,"1-ZE-01","2019-10-02","SZT"]
["39036","ZENERGY - PŁYTA MONTAŻOWA HGM, UCB:100-250 PIONOWO / HGM, UCB:100, 160-250 3P; UPB:100-250 3P POZIOMO, W1000, 3M, BEZ WSPORNIKÓW",148.69999999999999,"1-ZE-01","2019-10-02","SZT"]
["39046","ZENERGY - PŁYTA MONTAŻOWA UPB:100-250 PIONOWO / HGM, UCB:160-250 4P, 400 3P; UPB:100-250, 400-630 3P POZIOMO, W1000, 4M, BEZ WSPORNIKÓW",161.19999999999999,"1-ZE-01","2019-10-02","SZT"]
["39056","ZENERGY - PŁYTA MONTAŻOWA HGM, UCB:400; UPB:400-630 PIONOWO / HGM, UCB:400 4P; UPB:400-630 4P POZIOMO, W1000, 5M, BEZ WSPORNIKÓW",178.1,"1-ZE-01","2019-10-02","SZT"]
["39066","ZENERGY - PŁYTA MONTAŻOWA HGM, UCB:630-800 PIONOWO / HGM, UCB:630-800 3P POZIOMO, W1000, 6M, BEZ WSPORNIKÓW",186.5,"1-ZE-01","2019-10-02","SZT"]
["39076","ZENERGY - PŁYTA MONTAŻOWA HGM, UCB:630-800 4P POZIOMO, W1000, 7M, BEZ WSPORNIKÓW",202.8,"1-ZE-01","2019-10-02","SZT"]
["39200","ZENERGY - IZOLATOR WSPORCZY ROZSTAW 60MM SZYN 30X10MM 3P",49.6,"1-ZE-01","2019-10-02","SZT"]
["39201","Zenergy - Uchwyt kablowy UK-1627 średnica kabla 16-27mm",20.100000000000001,"1-ZE-01","2020-05-25","SZT"]
["39202","Zenergy - Uchwyt kablowy UK-2646 średnica kabla 26-46mm",22.1,"1-ZE-01","2020-05-25","SZT"]
["39203","Zenergy - Uchwyt kablowy UK-4675 średnica kabla 46-75mm",26.8,"1-ZE-01","2020-05-25","SZT"]
["39220","ZENERGY MCC - RUCHOMY STYK STEROWANIA",3.2,"1-ZE-01","2021-12-01","SZT"]
["39221","ZENERGY MCC - STAŁY STYK STEROWANIA",7,"1-ZE-01","2021-12-01","SZT"]
["39222","ZENERGY MCC - PŁYTKA KOŃCOWA RUCHOMEGO STYKU STEROWANIA",1,"1-ZE-01","2021-12-01","SZT"]
["39223","ZENERGY MCC - PŁYTKA KOŃCOWA STAŁEGO STYKU STEROWANIA",2.4,"1-ZE-01","2021-12-01","SZT"]
["39224","ZENERGY MCC - SZCZĘKA ZASILAJĄCA 250A - CZERWONA",27.3,"1-ZE-01","2021-12-01","SZT"]
["39225","ZENERGY MCC - SZCZĘKA ODPŁYWOWA 250A - CZARNA",27.3,"1-ZE-01","2021-12-01","SZT"]
["39226","ZENERGY MCC - SZCZĘKA ZASILAJĄCA 400A - CZERWONA",49.7,"1-ZE-01","2021-12-01","SZT"]
["39227","ZENERGY MCC - SZCZĘKA ODPŁYWOWA 400A - CZARNA",49.7,"1-ZE-01","2021-12-01","SZT"]
["39228","ZENERGY MCC - SZCZĘKA ZASILAJĄCA 800A - CZERWONA",72.3,"1-ZE-01","2021-12-01","SZT"]
["39229","ZENERGY MCC - SZCZĘKA ODPŁYWOWA 800A - CZARNA",72.3,"1-ZE-01","2021-12-01","SZT"]
["39230","ZENERGY - IZOLATOR WSPORCZY ALCUBAR 1R - 1 SZT",18.600000000000001,"1-ZE-01","2019-10-02","SZT"]
["39231","ZENERGY - IZOLATOR WSPORCZY ALCUBAR 2R - 1 SZT",18.600000000000001,"1-ZE-01","2019-10-02","SZT"]
["39232","ZENERGY - IZOLATOR WSPORCZY ALCUBAR 630A, 27 X 27 MM -  KPL. 2 ELEMENTY",20.8,"1-ZE-01","2019-10-02","KPL"]
["39233","ZENERGY - IZOLATOR WSPORCZY, 3X10MM 124X35X40MM",19.8,"1-ZE-01","2019-10-02","SZT"]
["39235","ZENERGY - IZOLATOR WSPORCZY, 1 LUB 2 SZYNY LITE 30 DO 120MM X 10MM - 1 SZT",18.600000000000001,"1-ZE-01","2019-10-02","SZT"]
["39236","ZENERGY - PŁYTA MONTAŻOWA HGM, UCB:100-250 PIONOWO / HGM, UCB:100, 160-250 3P; UPB:100-250 3P POZIOMO, W400, 3M, BEZ WSPORNIKÓW",81,"1-ZE-01","2019-10-02","SZT"]
["39246","ZENERGY - PŁYTA MONTAŻOWA UPB:100-250 PIONOWO / HGM, UCB:160-250 4P; UPB:100-250 POZIOMO, W400, 4M, BEZ WSPORNIKÓW",91.8,"1-ZE-01","2019-10-02","SZT"]
["39255","ZENERGY - IZOLATOR WSPORCZY H25X6MM; ŚREDNICA 22-30MM; UN=500VAC",5.5,"1-ZE-01","2019-10-02","SZT"]
["39256","ZENERGY - PŁYTA MONTAŻOWA HGM, UCB:400; UPB:400-630 PIONOWO, W400, 5M, BEZ WSPORNIKÓW",96.2,"1-ZE-01","2019-10-02","SZT"]
["39266","ZENERGY - PŁYTA MONTAŻOWA HGM, UCB:630-800 3P PIONOWO, W400, 6M, BEZ WSPORNIKÓW",101,"1-ZE-01","2019-10-02","SZT"]
["39306","ZENERGY - IZOLATOR WSPORCZY H30X6MM; ŚREDNICA 22-30MM; UN=750VAC",10.3,"1-ZE-01","2019-10-02","SZT"]
["39350","ZENERGY - OSŁONA CZOŁOWA HGM 100 3/4P, W400, 5M / 250, PIONOWO, DŹWIGNIA",46.4,"1-ZE-01","2019-10-02","SZT"]
["39351","ZENERGY - OSŁONA CZOŁOWA HGM 125 4P, W400, 5M / 250, PIONOWO, DŹWIGNIA",46.4,"1-ZE-01","2019-10-02","SZT"]
["39352","ZENERGY - OSŁONA CZOŁOWA HGM 160-250 4P, W400, 5M / 250, PIONOWO, DŹWIGNIA",48.7,"1-ZE-01","2019-10-02","SZT"]
["39393","ZENERGY - OSŁONA CZOŁOWA HGM 400 3/4P, W400, 9M / 250, PIONOWO, DŹWIGNIA",81.099999999999994,"1-ZE-01","2019-10-02","SZT"]
["39394","ZENERGY - OSŁONA CZOŁOWA HGM 630-800 3P, W400, 9M / 250, PIONOWO, DŹWIGNIA",77.5,"1-ZE-01","2019-10-02","SZT"]
["39395","ZENERGY - OSŁONA CZOŁOWA HGM 630-800 4P, W400, 9M / 250, PIONOWO, DŹWIGNIA",77.5,"1-ZE-01","2019-10-02","SZT"]
["39408","ZENERGY - IZOLATOR WSPORCZY H40X8MM; ŚREDNICA 31-40MM; UN=1200VAC",12.4,"1-ZE-01","2019-10-02","SZT"]
["39436","ZENERGY - PŁYTA MONTAŻOWA HGM, UCB:100-250 PIONOWO / HGM, UCB:100, 160-250 3P; UPB:100-250 3P POZIOMO, W450, 3M, BEZ WSPORNIKÓW",92.9,"1-ZE-01","2019-10-02","SZT"]
["39446","ZENERGY - PŁYTA MONTAŻOWA UPB:100-250 PIONOWO / HGM, UCB:160-250 4P; UPB:100-250 POZIOMO, W450, 4M, BEZ WSPORNIKÓW",105.3,"1-ZE-01","2019-10-02","SZT"]
["39456","ZENERGY - PŁYTA MONTAŻOWA HGM, UCB:400; UPB:400-630 PIONOWO, W450, 5M, BEZ WSPORNIKÓW",110.7,"1-ZE-01","2019-10-02","SZT"]
["39466","ZENERGY - PŁYTA MONTAŻOWA HGM, UCB:630-800 PIONOWO, W450, 6M, BEZ WSPORNIKÓW",120.8,"1-ZE-01","2019-10-02","SZT"]
["39510","ZENERGY - IZOLATOR WSPORCZY H50X10MM; ŚREDNICA 40-50MM; UN=1500VAC",19,"1-ZE-01","2019-10-02","SZT"]
["39545","ZENERGY - OSŁONA CZOŁOWA HGM 100 4P, W450, 3M / 300, POZIOMO, DŹWIGNIA",46.4,"1-ZE-01","2019-10-02","SZT"]
["39546","ZENERGY - OSŁONA CZOŁOWA HGM 125 4P, W450, 3M / 300, POZIOMO, DŹWIGNIA",46.4,"1-ZE-01","2019-10-02","SZT"]
["39547","ZENERGY - OSŁONA CZOŁOWA HGM 160-250 4P, W450, 4M / 300, POZIOMO, DŹWIGNIA",48.2,"1-ZE-01","2019-10-02","SZT"]
["39550","ZENERGY - OSŁONA CZOŁOWA HGM 100 3/4P, W450, 5M / 300, PIONOWO, DŹWIGNIA",51.6,"1-ZE-01","2019-10-02","SZT"]
["39551","ZENERGY - OSŁONA CZOŁOWA HGM 125 4P, W450, 5M / 300, PIONOWO, DŹWIGNIA",54.1,"1-ZE-01","2019-10-02","SZT"]
["39552","ZENERGY - OSŁONA CZOŁOWA HGM 160-250 4P, W450, 5M / 300, PIONOWO, DŹWIGNIA",54.1,"1-ZE-01","2019-10-02","SZT"]
["39593","ZENERGY - OSŁONA CZOŁOWA HGM 400 3/4P, W450, 9M / 300, PIONOWO, DŹWIGNIA",87.7,"1-ZE-01","2019-11-15","SZT"]
["39594","ZENERGY - OSŁONA CZOŁOWA HGM 630-800 3P, W450, 9M / 300, PIONOWO, DŹWIGNIA",87.7,"1-ZE-01","2019-10-02","SZT"]
["39595","ZENERGY - OSŁONA CZOŁOWA HGM 630-800 4P, W450, 9M / 300, PIONOWO, DŹWIGNIA",87.7,"1-ZE-01","2019-11-15","SZT"]
["39636","ZENERGY - PŁYTA MONTAŻOWA HGM, UCB:100-250 PIONOWO / HGM, UCB:100, 160-250 3P; UPB:100-250 3P POZIOMO, W650, 3M, BEZ WSPORNIKÓW",113.1,"1-ZE-01","2019-10-02","SZT"]
["39646","ZENERGY - PŁYTA MONTAŻOWA UPB:100-250 PIONOWO / HGM, UCB:160-250 4P, 400 3P; UPB:100-250, 400-630 3P POZIOMO, W650, 4M, BEZ WSPORNIKÓW",135.80000000000001,"1-ZE-01","2019-10-02","SZT"]
["39656","ZENERGY - PŁYTA MONTAŻOWA HGM, UCB:400; UPB:400-630 PIONOWO / HGM, UCB:400 4P; UPB:400-630 4P POZIOMO, W650, 5M, BEZ WSPORNIKÓW",147,"1-ZE-01","2019-10-02","SZT"]
["39666","ZENERGY - PŁYTA MONTAŻOWA HGM, UCB:630-800 PIONOWO / HGM, UCB:630-800 3P POZIOMO, W650, 6M, BEZ WSPORNIKÓW",158.30000000000001,"1-ZE-01","2019-10-02","SZT"]
["39676","ZENERGY - PŁYTA MONTAŻOWA HGM, UCB:630-800 4P POZIOMO, W650, 7M, BEZ WSPORNIKÓW",169.6,"1-ZE-01","2019-10-02","SZT"]
["39735","ZENERGY - OSŁONA CZOŁOWA HGM 100 3P, W650, 3M / 500, POZIOMO, DŹWIGNIA",51.6,"1-ZE-01","2019-10-02","SZT"]
["39736","ZENERGY - OSŁONA CZOŁOWA HGM 125 3P, W650, 3M / 500, POZIOMO, DŹWIGNIA",51.6,"1-ZE-01","2019-10-02","SZT"]
["39737","ZENERGY - OSŁONA CZOŁOWA HGM 160-250 3P, W650, 3M / 500, POZIOMO, DŹWIGNIA",51.6,"1-ZE-01","2019-10-02","SZT"]
["39745","ZENERGY - OSŁONA CZOŁOWA HGM 100 4P, W650, 3M / 500, POZIOMO, DŹWIGNIA",51.6,"1-ZE-01","2019-10-02","SZT"]
["39746","ZENERGY - OSŁONA CZOŁOWA HGM 125 4P, W650, 3M / 500, POZIOMO, DŹWIGNIA",54.1,"1-ZE-01","2019-10-02","SZT"]
["39747","ZENERGY - OSŁONA CZOŁOWA HGM 160-250 4P, W650, 4M / 500, POZIOMO, DŹWIGNIA",57.8,"1-ZE-01","2019-10-02","SZT"]
["39748","ZENERGY - OSŁONA CZOŁOWA HGM 400 3P, W650, 4M / 500, POZIOMO, DŹWIGNIA",55.1,"1-ZE-01","2019-10-02","SZT"]
["39750","ZENERGY - OSŁONA CZOŁOWA HGM 100 3/4P, W650, 5M / 500, PIONOWO, DŹWIGNIA",63.1,"1-ZE-01","2019-10-02","SZT"]
["39751","ZENERGY - OSŁONA CZOŁOWA HGM 125 3/4P, W650, 5M / 500, PIONOWO, DŹWIGNIA",63.1,"1-ZE-01","2019-10-02","SZT"]
["39752","ZENERGY - OSŁONA CZOŁOWA HGM 160-250 3/4P, W650, 5M / 500, PIONOWO, DŹWIGNIA",63.1,"1-ZE-01","2019-10-02","SZT"]
["39758","ZENERGY - OSŁONA CZOŁOWA HGM 400 4P, W650, 5M / 500, POZIOMO, DŹWIGNIA",63.1,"1-ZE-01","2019-10-02","SZT"]
["39769","ZENERGY - OSŁONA CZOŁOWA HGM 630-800 3P, W650, 6M / 500, POZIOMO, DŹWIGNIA",65.3,"1-ZE-01","2019-10-02","SZT"]
["39779","ZENERGY - OSŁONA CZOŁOWA HGM 630-800 4P, W650, 7M / 500, POZIOMO, DŹWIGNIA",93.7,"1-ZE-01","2019-10-02","SZT"]
["39793","ZENERGY - OSŁONA CZOŁOWA HGM 400 3/4P, W650, 9M / 500, PIONOWO, DŹWIGNIA",111.8,"1-ZE-01","2019-10-02","SZT"]
["39794","ZENERGY - OSŁONA CZOŁOWA HGM 630-800 3P, W650, 9M / 500, PIONOWO, DŹWIGNIA",106.7,"1-ZE-01","2019-10-02","SZT"]
["39795","ZENERGY - OSŁONA CZOŁOWA HGM 630-800 4P, W650, 9M / 500, PIONOWO, DŹWIGNIA",111.8,"1-ZE-01","2019-10-02","SZT"]
["39836","ZENERGY - PŁYTA MONTAŻOWA HGM, UCB:100-250 PIONOWO / HGM, UCB:100, 160-250 3P; UPB:100-250 3P POZIOMO, W850, 3M, BEZ WSPORNIKÓW",135.80000000000001,"1-ZE-01","2019-10-02","SZT"]
["39846","ZENERGY - PŁYTA MONTAŻOWA UPB:100-250 PIONOWO / HGM, UCB:160-250 4P, 400 3P; UPB:100-250, 400-630 3P POZIOMO, W850, 4M, BEZ WSPORNIKÓW",147,"1-ZE-01","2019-10-02","SZT"]
["39856","ZENERGY - PŁYTA MONTAŻOWA HGM, UCB:400; UPB:400-630 PIONOWO / HGM, UCB:400 4P; UPB:400-630 4P POZIOMO, W850, 5M, BEZ WSPORNIKÓW",162.1,"1-ZE-01","2019-10-02","SZT"]
["39866","ZENERGY - PŁYTA MONTAŻOWA HGM, UCB:630-800 PIONOWO / HGM, UCB:630-800 3P POZIOMO, W850, 6M, BEZ WSPORNIKÓW",169.6,"1-ZE-01","2019-10-02","SZT"]
["39876","ZENERGY - PŁYTA MONTAŻOWA HGM, UCB:630-800 4P POZIOMO, W850, 7M, BEZ WSPORNIKÓW",184.7,"1-ZE-01","2019-10-02","SZT"]
["39935","ZENERGY - OSŁONA CZOŁOWA HGM 100 3P, W850, 3M / 700, POZIOMO, DŹWIGNIA",58.4,"1-ZE-01","2019-10-02","SZT"]
["39936","ZENERGY - OSŁONA CZOŁOWA HGM 125 3P, W850, 3M / 700, POZIOMO, DŹWIGNIA",58.4,"1-ZE-01","2019-10-02","SZT"]
["39937","ZENERGY - OSŁONA CZOŁOWA HGM 160-250 3P, W850, 3M / 700, POZIOMO, DŹWIGNIA",58.4,"1-ZE-01","2019-10-02","SZT"]
["39945","ZENERGY - OSŁONA CZOŁOWA HGM 100 4P, W850, 3M / 700, POZIOMO, DŹWIGNIA",58.4,"1-ZE-01","2019-10-02","SZT"]
["39946","ZENERGY - OSŁONA CZOŁOWA HGM 125 4P, W850, 3M / 700, POZIOMO, DŹWIGNIA",58.4,"1-ZE-01","2019-10-02","SZT"]
["39947","ZENERGY - OSŁONA CZOŁOWA HGM 160-250 4P, W850, 4M / 700, POZIOMO, DŹWIGNIA",67.2,"1-ZE-01","2019-10-02","SZT"]
["39948","ZENERGY - OSŁONA CZOŁOWA HGM 400 3P, W850, 4M / 700, POZIOMO, DŹWIGNIA",67.2,"1-ZE-01","2019-10-02","SZT"]
["39950","ZENERGY - OSŁONA CZOŁOWA HGM 100 3/4P, W850, 5M / 700, PIONOWO, DŹWIGNIA",75.7,"1-ZE-01","2019-10-02","SZT"]
["39951","ZENERGY - OSŁONA CZOŁOWA HGM 125 3/4P, W850, 5M / 700, PIONOWO, DŹWIGNIA",75.7,"1-ZE-01","2019-10-02","SZT"]
["39952","ZENERGY - OSŁONA CZOŁOWA HGM 160-250 3/4P, W850, 5M / 700, PIONOWO, DŹWIGNIA",75.7,"1-ZE-01","2019-10-02","SZT"]
["39958","ZENERGY - OSŁONA CZOŁOWA HGM 400 4P, W850, 5M / 700, POZIOMO, DŹWIGNIA",75.7,"1-ZE-01","2019-10-02","SZT"]
["39969","ZENERGY - OSŁONA CZOŁOWA HGM 630-800 3P, W850, 6M / 700, POZIOMO, DŹWIGNIA",79.2,"1-ZE-01","2019-10-02","SZT"]
["39979","ZENERGY - OSŁONA CZOŁOWA HGM 630-800 4P, W850, 7M / 700, POZIOMO, DŹWIGNIA",108.2,"1-ZE-01","2019-10-02","SZT"]
["39993","ZENERGY - OSŁONA CZOŁOWA HGM 400 3/4P, W850, 9M / 700, PIONOWO, DŹWIGNIA",126.2,"1-ZE-01","2019-10-02","SZT"]
["39994","ZENERGY - OSŁONA CZOŁOWA HGM 630-800 3P, W850, 9M / 700, PIONOWO, DŹWIGNIA",120.5,"1-ZE-01","2019-10-02","SZT"]
["39995","ZENERGY - OSŁONA CZOŁOWA 2X HGM 630-800 4P, W850, 9M / 700, PIONOWO, DŹWIGNIA",126.2,"1-ZE-01","2019-10-02","SZT"]
["40110","ZENERGY - RAMA OSŁON CZOŁOWYCH NA ZAWIASACH H1200 W1000",339.7,"1-ZE-01","2019-10-02","SZT"]
["40111","ZENERGY - RAMA OSŁON CZOŁOWYCH NA ZAWIASACH H1200 W1000 DO PLOMBOWANIA",359.6,"1-ZE-01","2019-10-02","SZT"]
["40140","ZENERGY - RAMA OSŁON CZOŁOWYCH NA ZAWIASACH H1200 W400",225.4,"1-ZE-01","2019-10-02","SZT"]
["40141","ZENERGY - RAMA OSŁON CZOŁOWYCH NA ZAWIASACH H1200 W400 DO PLOMBOWANIA",239.3,"1-ZE-01","2019-10-02","SZT"]
["40145","ZENERGY - RAMA OSŁON CZOŁOWYCH NA ZAWIASACH H1200 W450",236.8,"1-ZE-01","2019-10-02","SZT"]
["40146","ZENERGY - RAMA OSŁON CZOŁOWYCH NA ZAWIASACH H1200 W450 DO PLOMBOWANIA",251,"1-ZE-01","2019-10-02","SZT"]
["40165","ZENERGY - RAMA OSŁON CZOŁOWYCH NA ZAWIASACH H1200 W650",264.60000000000002,"1-ZE-01","2019-10-02","SZT"]
["40166","ZENERGY - RAMA OSŁON CZOŁOWYCH NA ZAWIASACH H1200 W650 DO PLOMBOWANIA",281,"1-ZE-01","2019-10-02","SZT"]
["40170","ZENERGY IT - DWA WSPORNIKI PIONOWE MODUŁU \"U\" 19-CALI NA WKRĘTY SAMOFORMUJĄCE, SZAFY H1200 W650",294.7,"1-ZE-01","2019-10-02","SZT"]
["40185","ZENERGY - RAMA OSŁON CZOŁOWYCH NA ZAWIASACH H1200 W850",308.5,"1-ZE-01","2019-10-02","SZT"]
["40186","ZENERGY - RAMA OSŁON CZOŁOWYCH NA ZAWIASACH H1200 W850 DO PLOMBOWANIA",326.2,"1-ZE-01","2019-10-02","SZT"]
["40210","ZENERGY - DRZWI WENTYLOWANE IP30, H1200 X W1000",1094.4000000000001,"1-ZE-01","2019-10-02","SZT"]
["40212","ZENERGY - DRZWI WENTYLOWANE IP30, H1200 X W1200, PODWÓJNE",1752.2,"1-ZE-01","2019-10-02","SZT"]
["40213","ZENERGY - DRZWI WENTYLOWANE IP30, H1200 X W1300, PODWÓJNE",1766.6,"1-ZE-01","2019-10-02","SZT"]
["40230","ZENERGY - DRZWI WENTYLOWANE IP30, H1200 X W300",657.9,"1-ZE-01","2019-10-02","SZT"]
["40240","ZENERGY - DRZWI WENTYLOWANE IP30, H1200 X W400",721.5,"1-ZE-01","2019-10-02","SZT"]
["40245","ZENERGY - DRZWI WENTYLOWANE IP30, H1200 X W450",756.7,"1-ZE-01","2019-10-02","SZT"]
["40260","ZENERGY - DRZWI WENTYLOWANE IP30, H1200 X W600",848.9,"1-ZE-01","2019-10-02","SZT"]
["40265","ZENERGY - DRZWI WENTYLOWANE IP30, H1200 X W650",876.1,"1-ZE-01","2019-10-02","SZT"]
["40280","ZENERGY - DRZWI WENTYLOWANE IP30, H1200 X W800",970.1,"1-ZE-01","2019-10-02","SZT"]
["40285","ZENERGY - DRZWI WENTYLOWANE IP30, H1200 X W850",1000.3,"1-ZE-01","2019-10-02","SZT"]
["40295","ZENERGY - DRZWI WENTYLOWANE IP30, H1200 X W950",1040.0999999999999,"1-ZE-01","2019-10-02","SZT"]
["40310","ZENERGY - DRZWI PEŁNE IP30, H1200 X W1000",1057.8,"1-ZE-01","2019-10-02","SZT"]
["40312","ZENERGY - DRZWI PEŁNE IP30, H1200 X W1200, PODWÓJNE",1680.5,"1-ZE-01","2019-10-02","SZT"]
["40313","ZENERGY - DRZWI PEŁNE IP30, H1200 X W1300, PODWÓJNE",1695,"1-ZE-01","2019-10-02","SZT"]
["40330","ZENERGY - DRZWI PEŁNE IP30, H1200 X W300",622.79999999999995,"1-ZE-01","2019-10-02","SZT"]
["40340","ZENERGY - DRZWI PEŁNE IP30, H1200 X W400",685.1,"1-ZE-01","2019-10-02","SZT"]
["40345","ZENERGY - DRZWI PEŁNE IP30, H1200 X W450",718.4,"1-ZE-01","2019-10-02","SZT"]
["40360","ZENERGY - DRZWI PEŁNE IP30, H1200 X W600",807.7,"1-ZE-01","2019-10-02","SZT"]
["40365","ZENERGY - DRZWI PEŁNE IP30, H1200 X W650",839.6,"1-ZE-01","2019-10-02","SZT"]
["40380","ZENERGY - DRZWI PEŁNE IP30, H1200 X W800",917.3,"1-ZE-01","2019-10-02","SZT"]
["40385","ZENERGY - DRZWI PEŁNE IP30, H1200 X W850",965.3,"1-ZE-01","2019-10-02","SZT"]
["40395","ZENERGY - DRZWI PEŁNE IP30, H1200 X W950",1005.1,"1-ZE-01","2019-10-02","SZT"]
["40410","ZENERGY - DRZWI WENTYLOWANE IP43, H1200 X W1000",1161.3,"1-ZE-01","2019-10-02","SZT"]
["40412","ZENERGY - DRZWI WENTYLOWANE IP43, H1200 X W1200, PODWÓJNE",1873.3,"1-ZE-01","2019-10-02","SZT"]
["40413","ZENERGY - DRZWI WENTYLOWANE IP43, H1200 X W1300, PODWÓJNE",1882.8,"1-ZE-01","2019-10-02","SZT"]
["40430","ZENERGY - DRZWI WENTYLOWANE IP43, H1200 X W300",710.5,"1-ZE-01","2019-10-02","SZT"]
["40440","ZENERGY - DRZWI WENTYLOWANE IP43, H1200 X W400",774.1,"1-ZE-01","2019-10-02","SZT"]
["40445","ZENERGY - DRZWI WENTYLOWANE IP43, H1200 X W450",992.4,"1-ZE-01","2019-10-02","SZT"]
["40460","ZENERGY - DRZWI WENTYLOWANE IP43, H1200 X W600",912.8,"1-ZE-01","2019-10-02","SZT"]
["40465","ZENERGY - DRZWI WENTYLOWANE IP43, H1200 X W650",936.7,"1-ZE-01","2019-10-02","SZT"]
["40480","ZENERGY - DRZWI WENTYLOWANE IP43, H1200 X W800",1033.9000000000001,"1-ZE-01","2019-10-02","SZT"]
["40485","ZENERGY - DRZWI WENTYLOWANE IP43, H1200 X W850",1065.7,"1-ZE-01","2019-10-02","SZT"]
["40495","ZENERGY - DRZWI WENTYLOWANE IP43, H1200 X W950",1103.9000000000001,"1-ZE-01","2019-10-02","SZT"]
["40510","ZENERGY - DRZWI PEŁNE IP55, H1200 X W1000",1126.3,"1-ZE-01","2019-10-02","SZT"]
["40512","ZENERGY - DRZWI PEŁNE IP55, H1200 X W1200, PODWÓJNE",1639.1,"1-ZE-01","2019-10-02","SZT"]
["40513","ZENERGY - DRZWI PEŁNE IP55, H1200 X W1300, PODWÓJNE",1811.3,"1-ZE-01","2019-10-02","SZT"]
["40530","ZENERGY - DRZWI PEŁNE IP55, H1200 X W300",673.8,"1-ZE-01","2019-10-02","SZT"]
["40540","ZENERGY - DRZWI PEŁNE IP55, H1200 X W400",739.1,"1-ZE-01","2019-10-02","SZT"]
["40545","ZENERGY - DRZWI PEŁNE IP55, H1200 X W450",775.8,"1-ZE-01","2019-10-02","SZT"]
["40560","ZENERGY - DRZWI PEŁNE IP55, H1200 X W600",872.8,"1-ZE-01","2019-10-02","SZT"]
["40565","ZENERGY - DRZWI PEŁNE IP55, H1200 X W650",901.7,"1-ZE-01","2019-10-02","SZT"]
["40580","ZENERGY - DRZWI PEŁNE IP55, H1200 X W800",997.1,"1-ZE-01","2019-10-02","SZT"]
["40585","ZENERGY - DRZWI PEŁNE IP55, H1200 X W850",1029.0999999999999,"1-ZE-01","2019-10-02","SZT"]
["40595","ZENERGY - DRZWI PEŁNE IP55, H1200 X W950",1070.5,"1-ZE-01","2019-10-02","SZT"]
["40610","ZENERGY - DRZWI PRZESZKLONE IP55, H1200 X W1000",1397,"1-ZE-01","2019-10-02","SZT"]
["40612","ZENERGY - DRZWI PRZESZKLONE IP55, H1200 X W1200, PODWÓJNE",2123.3000000000002,"1-ZE-01","2019-10-02","SZT"]
["40613","ZENERGY - DRZWI PRZESZKLONE IP55, H1200 X W1300, PODWÓJNE",2152,"1-ZE-01","2019-10-02","SZT"]
["40640","ZENERGY - DRZWI PRZESZKLONE IP55, H1200 X W400",834.8,"1-ZE-01","2019-10-02","SZT"]
["40645","ZENERGY - DRZWI PRZESZKLONE IP55, H1200 X W450",876.1,"1-ZE-01","2019-10-02","SZT"]
["40660","ZENERGY - DRZWI PRZESZKLONE IP55, H1200 X W600",1038.7,"1-ZE-01","2019-10-02","SZT"]
["40665","ZENERGY - DRZWI PRZESZKLONE IP55, H1200 X W650",1075.2,"1-ZE-01","2019-10-02","SZT"]
["40680","ZENERGY - DRZWI PRZESZKLONE IP55, H1200 X W800",1213.8,"1-ZE-01","2019-10-02","SZT"]
["40685","ZENERGY - DRZWI PRZESZKLONE IP55, H1200 X W850",1260,"1-ZE-01","2019-10-02","SZT"]
["40695","ZENERGY - DRZWI PRZESZKLONE IP55, H1200 X W950",1326.8,"1-ZE-01","2019-10-02","SZT"]
["40910","ZENERGY - PŁYTA MONTAŻOWA PEŁNA H1200 X W1000 + WSPORNIKI,  ( 1050 X 900 )",673.4,"1-ZE-01","2019-10-02","SZT"]
["40912","ZENERGY - PŁYTA MONTAŻOWA PEŁNA H1200 X W1200 + WSPORNIKI,  ( 1050 X 1100 )",819.5,"1-ZE-01","2019-10-02","SZT"]
["40913","ZENERGY - PŁYTA MONTAŻOWA PEŁNA H1200 X W1300 + WSPORNIKI,  ( 1100 X 1200 )",881.8,"1-ZE-01","2019-10-02","SZT"]
["40930","ZENERGY - PŁYTA MONTAŻOWA PEŁNA H1200 X W300 + WSPORNIKI,  ( 1050 X 200 )",272.5,"1-ZE-01","2019-10-02","SZT"]
["40940","ZENERGY - PŁYTA MONTAŻOWA PEŁNA H1200 X W400 + WSPORNIKI,  ( 1100 X 300 )",334.9,"1-ZE-01","2019-10-02","SZT"]
["40945","ZENERGY - PŁYTA MONTAŻOWA PEŁNA H1200 X W450 + WSPORNIKI,  ( 1100 X 350 )",359.9,"1-ZE-01","2019-10-02","SZT"]
["40960","ZENERGY - PŁYTA MONTAŻOWA PEŁNA H1200 X W600 + WSPORNIKI,  ( 1050 X 500 )",463.1,"1-ZE-01","2019-10-02","SZT"]
["40965","ZENERGY - PŁYTA MONTAŻOWA PEŁNA H1200 X W650 + WSPORNIKI,  ( 1050 X 550 )",486.4,"1-ZE-01","2019-10-02","SZT"]
["40980","ZENERGY - PŁYTA MONTAŻOWA PEŁNA H1200 X W800 + WSPORNIKI,  ( 1050 X 700 )",577.1,"1-ZE-01","2019-10-02","SZT"]
["40985","ZENERGY - PŁYTA MONTAŻOWA PEŁNA H1200 X W850 + WSPORNIKI,  ( 1050 X 750 )",609.20000000000005,"1-ZE-01","2019-10-02","SZT"]
["40992","Zenergy - Podpora płyty montażowej pełnej D230 - 1 kpl.",37.700000000000003,"1-ZE-01","2021-12-01","SZT"]
["40993","Zenergy - Podpora płyty montażowej pełnej D300 - 1 kpl.",39.1,"1-ZE-01","2021-12-01","SZT"]
["40994","Zenergy - Podpora płyty montażowej pełnej D400 - 1 kpl.",41.2,"1-ZE-01","2021-12-01","SZT"]
["40995","ZENERGY - PEŁNY ŁĄCZNIK PŁYT MONTAŻOWYCH H1200,  ( 1100 X 98 )",151.5,"1-ZE-01","2019-10-02","SZT"]
["40996","Zenergy - Podpora płyty montażowej pełnej D600 - 1 kpl.",46.4,"1-ZE-01","2019-10-02","SZT"]
["40997","Zenergy - Podpora płyty montażowej pełnej D800 - 1 kpl.",51.5,"1-ZE-01","2021-12-01","SZT"]
["40999","ZENERGY - UCHWYT PŁYTY MONTAŻOWEJ PEŁNEJ - 1 SZT.",5.4,"1-ZE-01","2021-12-01","SZT"]
["41110","ZENERGY - DRZWI PRZESZKLONE IP30, H1200 X W1000",1257.3,"1-ZE-01","2019-10-02","SZT"]
["41112","ZENERGY - DRZWI PRZESZKLONE IP30, H1200 X W1200, PODWÓJNE",1911.1,"1-ZE-01","2019-10-02","SZT"]
["41113","ZENERGY - DRZWI PRZESZKLONE IP30, H1200 X W1300, PODWÓJNE",1937.2,"1-ZE-01","2019-10-02","SZT"]
["41140","ZENERGY - DRZWI PRZESZKLONE IP30, H1200 X W400",751.5,"1-ZE-01","2019-10-02","SZT"]
["41145","ZENERGY - DRZWI PRZESZKLONE IP30, H1200 X W450",788.7,"1-ZE-01","2019-10-02","SZT"]
["41160","ZENERGY - DRZWI PRZESZKLONE IP30, H1200 X W600",934.7,"1-ZE-01","2019-10-02","SZT"]
["41165","ZENERGY - DRZWI PRZESZKLONE IP30, H1200 X W650",967.8,"1-ZE-01","2019-10-02","SZT"]
["41180","ZENERGY - DRZWI PRZESZKLONE IP30, H1200 X W800",1092.4000000000001,"1-ZE-01","2019-10-02","SZT"]
["41185","ZENERGY - DRZWI PRZESZKLONE IP30, H1200 X W850",1134.0999999999999,"1-ZE-01","2019-10-02","SZT"]
["41195","ZENERGY - DRZWI PRZESZKLONE IP30, H1200 X W950",1194.2,"1-ZE-01","2019-10-02","SZT"]
["41210","ZENERGY - OSŁONA TYLNA PEŁNA IP30, H1200 X W1000",548.6,"1-ZE-01","2019-10-02","SZT"]
["41211","ZENERGY - OSŁONA TYLNA PEŁNA IP30, H1200 X W850+200",578,"1-ZE-01","2019-10-02","SZT"]
["41212","ZENERGY - OSŁONA TYLNA PEŁNA IP30, H1200 X W1200",804.8,"1-ZE-01","2019-10-02","SZT"]
["41213","ZENERGY - OSŁONA TYLNA PEŁNA IP30, H1200 X W1300",866,"1-ZE-01","2019-10-02","SZT"]
["41230","ZENERGY - OSŁONA TYLNA PEŁNA IP30, H1200 X W300",215.5,"1-ZE-01","2019-10-02","SZT"]
["41240","ZENERGY - OSŁONA TYLNA PEŁNA IP30, H1200 X W400",308.5,"1-ZE-01","2019-10-02","SZT"]
["41245","ZENERGY - OSŁONA TYLNA PEŁNA IP30, H1200 X W450",323.2,"1-ZE-01","2019-10-02","SZT"]
["41260","ZENERGY - OSŁONA TYLNA PEŁNA IP30, H1200 X W600",398.4,"1-ZE-01","2019-10-02","SZT"]
["41265","ZENERGY - OSŁONA TYLNA PEŁNA IP30, H1200 X W650",421.3,"1-ZE-01","2019-10-02","SZT"]
["41280","ZENERGY - OSŁONA TYLNA PEŁNA IP30, H1200 X W800",475.1,"1-ZE-01","2019-10-02","SZT"]
["41285","ZENERGY - OSŁONA TYLNA PEŁNA IP30, H1200 X W850",493.1,"1-ZE-01","2019-10-02","SZT"]
["41295","ZENERGY - OSŁONA TYLNA PEŁNA IP30, H1200 X W650+300",506.2,"1-ZE-01","2019-10-02","SZT"]
["41310","ZENERGY - OSŁONA TYLNA WENTYLOWANA IP30, H1200 X W1000",584.5,"1-ZE-01","2019-10-02","SZT"]
["41311","ZENERGY - OSŁONA TYLNA WENTYLOWANA IP30, H1200 X W850+200",651.5,"1-ZE-01","2019-10-02","SZT"]
["41312","ZENERGY - OSŁONA TYLNA WENTYLOWANA IP30, H1200 X W1200",878.4,"1-ZE-01","2019-10-02","SZT"]
["41313","ZENERGY - OSŁONA TYLNA WENTYLOWANA IP30, H1200 X W1300",914.3,"1-ZE-01","2019-10-02","SZT"]
["41330","ZENERGY - OSŁONA TYLNA WENTYLOWANA IP30, H1200 X W300",271.10000000000002,"1-ZE-01","2019-10-02","SZT"]
["41340","ZENERGY - OSŁONA TYLNA WENTYLOWANA IP30, H1200 X W400",364.1,"1-ZE-01","2019-10-02","SZT"]
["41345","ZENERGY - OSŁONA TYLNA WENTYLOWANA IP30, H1200 X W450",382,"1-ZE-01","2019-10-02","SZT"]
["41360","ZENERGY - OSŁONA TYLNA WENTYLOWANA IP30, H1200 X W600",452.3,"1-ZE-01","2019-10-02","SZT"]
["41365","ZENERGY - OSŁONA TYLNA WENTYLOWANA IP30, H1200 X W650",475.1,"1-ZE-01","2019-10-02","SZT"]
["41380","ZENERGY - OSŁONA TYLNA WENTYLOWANA IP30, H1200 X W800",530.70000000000005,"1-ZE-01","2019-10-02","SZT"]
["41385","ZENERGY - OSŁONA TYLNA WENTYLOWANA IP30, H1200 X W850",548.6,"1-ZE-01","2019-10-02","SZT"]
["41395","ZENERGY - OSŁONA TYLNA WENTYLOWANA IP30, H1200 X W650+300",578,"1-ZE-01","2019-10-02","SZT"]
["41410","ZENERGY - OSŁONA TYLNA WENTYLOWANA IP43, H1200 X W1000",654.70000000000005,"1-ZE-01","2019-10-02","SZT"]
["41411","ZENERGY - OSŁONA TYLNA WENTYLOWANA IP43, H1200 X W850+200",764.1,"1-ZE-01","2019-10-02","SZT"]
["41412","ZENERGY - OSŁONA TYLNA WENTYLOWANA IP43, H1200 X W1200",995.9,"1-ZE-01","2019-10-02","SZT"]
["41413","ZENERGY - OSŁONA TYLNA WENTYLOWANA IP43, H1200 X W1300",1036.8,"1-ZE-01","2019-10-02","SZT"]
["41430","ZENERGY - OSŁONA TYLNA WENTYLOWANA IP43, H1200 X W300",323.2,"1-ZE-01","2019-10-02","SZT"]
["41440","ZENERGY - OSŁONA TYLNA WENTYLOWANA IP43, H1200 X W400",419.6,"1-ZE-01","2019-10-02","SZT"]
["41445","ZENERGY - OSŁONA TYLNA WENTYLOWANA IP43, H1200 X W450",439.2,"1-ZE-01","2019-10-02","SZT"]
["41460","ZENERGY - OSŁONA TYLNA WENTYLOWANA IP43, H1200 X W600",507.8,"1-ZE-01","2019-10-02","SZT"]
["41465","ZENERGY - OSŁONA TYLNA WENTYLOWANA IP43, H1200 X W650",535.70000000000005,"1-ZE-01","2019-10-02","SZT"]
["41480","ZENERGY - OSŁONA TYLNA WENTYLOWANA IP43, H1200 X W800",594.4,"1-ZE-01","2019-10-02","SZT"]
["41485","ZENERGY - OSŁONA TYLNA WENTYLOWANA IP43, H1200 X W850",614,"1-ZE-01","2019-10-02","SZT"]
["41495","ZENERGY - OSŁONA TYLNA WENTYLOWANA IP43, H1200 X W650+300",687.5,"1-ZE-01","2019-10-02","SZT"]
["41510","ZENERGY - OSŁONA TYLNA PEŁNA IP55, H1200 X W1000",618.79999999999995,"1-ZE-01","2019-10-02","SZT"]
["41511","ZENERGY - OSŁONA TYLNA PEŁNA IP55, H1200 X W850+200",676.1,"1-ZE-01","2019-10-02","SZT"]
["41512","ZENERGY - OSŁONA TYLNA PEŁNA IP55, H1200 X W1200",690.7,"1-ZE-01","2019-10-02","SZT"]
["41513","ZENERGY - OSŁONA TYLNA PEŁNA IP55, H1200 X W1300",963.4,"1-ZE-01","2019-10-02","SZT"]
["41530","ZENERGY - OSŁONA TYLNA PEŁNA IP55, H1200 X W300",269.39999999999998,"1-ZE-01","2019-10-02","SZT"]
["41540","ZENERGY - OSŁONA TYLNA PEŁNA IP55, H1200 X W400",364.1,"1-ZE-01","2019-10-02","SZT"]
["41545","ZENERGY - OSŁONA TYLNA PEŁNA IP55, H1200 X W450",382,"1-ZE-01","2019-10-02","SZT"]
["41560","ZENERGY - OSŁONA TYLNA PEŁNA IP55, H1200 X W600",457.3,"1-ZE-01","2019-10-02","SZT"]
["41565","ZENERGY - OSŁONA TYLNA PEŁNA IP55, H1200 X W650",481.7,"1-ZE-01","2019-10-02","SZT"]
["41580","ZENERGY - OSŁONA TYLNA PEŁNA IP55, H1200 X W800",538.9,"1-ZE-01","2019-10-02","SZT"]
["41585","ZENERGY - OSŁONA TYLNA PEŁNA IP55, H1200 X W850",560,"1-ZE-01","2019-10-02","SZT"]
["41595","ZENERGY - OSŁONA TYLNA PEŁNA IP55, H1200 X W650+300",600.79999999999995,"1-ZE-01","2019-10-02","SZT"]
["41910","Zenergy - Pokrywa górna IP30, W1000, D1000",439.5,"1-ZE-01","2021-12-01","SZT"]
["41912","Zenergy - Pokrywa górna IP30, W1200, D1000",437.9,"1-ZE-01","2021-12-01","SZT"]
["41930","Zenergy - Pokrywa górna IP30, W300, D1000",177.6,"1-ZE-01","2021-12-01","SZT"]
["41940","Zenergy - Pokrywa górna IP30, W400, D1000",222,"1-ZE-01","2021-12-01","SZT"]
["41945","Zenergy - Pokrywa górna IP30, W450, D1000",268.89999999999998,"1-ZE-01","2021-12-01","SZT"]
["41960","Zenergy - Pokrywa górna IP30, W600, D1000",297.2,"1-ZE-01","2021-12-01","SZT"]
["41965","ZENERGY - POKRYWA GÓRNA IP30, W650, D1000",271.39999999999998,"1-ZE-01","2021-12-01","SZT"]
["41980","Zenergy - Pokrywa górna IP30, W800, D1000",309.10000000000002,"1-ZE-01","2021-12-01","SZT"]
["41985","Zenergy - Pokrywa górna IP30, W850, D1000",371.4,"1-ZE-01","2021-12-01","SZT"]
["42030","ZENERGY - RAMA, H1200 X D230 X W300",532.29999999999995,"1-ZE-01","2019-10-02","SZT"]
["42040","ZENERGY - RAMA, H1200 X D230 X W400",565,"1-ZE-01","2019-10-02","SZT"]
["42045","ZENERGY - RAMA, H1200 X D230 X W450",581.20000000000005,"1-ZE-01","2019-10-02","SZT"]
["42060","ZENERGY - RAMA, H1200 X D230 X W600",599.29999999999995,"1-ZE-01","2019-10-02","SZT"]
["42065","ZENERGY - RAMA, H1200 X D230 X W650",615.5,"1-ZE-01","2019-10-02","SZT"]
["42080","ZENERGY - RAMA, H1200 X D230 X W800",649.79999999999995,"1-ZE-01","2019-10-02","SZT"]
["42081","ZENERGY - RAMA, H1200 X D230 X W800, 650+150",860.4,"1-ZE-01","2019-10-02","SZT"]
["42085","ZENERGY - RAMA, H1200 X D230 X W850",666.2,"1-ZE-01","2019-10-02","SZT"]
["42086","ZENERGY - RAMA, H1200 X D230 X W850, 650+200",888.2,"1-ZE-01","2019-10-02","SZT"]
["42095","ZENERGY - RAMA, H1200 X D230 X W950, 650+300",917.6,"1-ZE-01","2019-10-02","SZT"]
["42100","ZENERGY - RAMA, H1200 X D230 X W1000",698.9,"1-ZE-01","2019-10-02","SZT"]
["42105","ZENERGY - RAMA, H1200 X D230 X W1050, 650+400",943.8,"1-ZE-01","2019-10-02","SZT"]
["42110","ZENERGY - RAMA, H1200 X D230 X W1100, 150+650+300",1113.5,"1-ZE-01","2019-10-02","SZT"]
["42115","ZENERGY - RAMA, H1200 X D230 X W1150, 850+300",958.4,"1-ZE-01","2019-10-02","SZT"]
["42120","ZENERGY - RAMA, H1200 X D230 X W1200",747.8,"1-ZE-01","2019-10-02","SZT"]
["42121","ZENERGY - RAMA, H1200 X D230 X W1200, 150+650+400",1139.7,"1-ZE-01","2019-10-02","SZT"]
["42125","ZENERGY - RAMA, H1200 X D230 X W1250, 850+400",984.6,"1-ZE-01","2019-10-02","SZT"]
["42130","ZENERGY - RAMA, H1200 X D230 X W1300",764.1,"1-ZE-01","2019-10-02","SZT"]
["42131","ZENERGY - RAMA, H1200 X D230 X W1300, 650+650",986.1,"1-ZE-01","2019-10-02","SZT"]
["42150","ZENERGY - RAMA, H1200 X D230 X W1500, 650+850",1022.1,"1-ZE-01","2019-10-02","SZT"]
["42170","ZENERGY - RAMA, H1200 X D230 X W1700, 850+850",1059.5999999999999,"1-ZE-01","2019-10-02","SZT"]
["43030","ZENERGY - RAMA, H1200 X D300 X W300",560,"1-ZE-01","2019-10-02","SZT"]
["43040","ZENERGY - RAMA, H1200 X D300 X W400",596,"1-ZE-01","2019-10-02","SZT"]
["43045","ZENERGY - RAMA, H1200 X D300 X W450",612.20000000000005,"1-ZE-01","2019-10-02","SZT"]
["43060","ZENERGY - RAMA, H1200 X D300 X W600",630.20000000000005,"1-ZE-01","2019-10-02","SZT"]
["43065","ZENERGY - RAMA, H1200 X D300 X W650",648.29999999999995,"1-ZE-01","2019-10-02","SZT"]
["43080","ZENERGY - RAMA, H1200 X D300 X W800",682.5,"1-ZE-01","2019-10-02","SZT"]
["43081","ZENERGY - RAMA, H1200 X D300 X W800, 650+150",906.2,"1-ZE-01","2019-10-02","SZT"]
["43085","ZENERGY - RAMA, H1200 X D300 X W850",700.4,"1-ZE-01","2019-10-02","SZT"]
["43086","ZENERGY - RAMA, H1200 X D300 X W850, 650+200",933.9,"1-ZE-01","2019-10-02","SZT"]
["43095","ZENERGY - RAMA, H1200 X D300 X W950, 650+300",966.4,"1-ZE-01","2019-10-02","SZT"]
["43100","ZENERGY - RAMA, H1200 X D300 X W1000",734.8,"1-ZE-01","2019-10-02","SZT"]
["43105","ZENERGY - RAMA, H1200 X D300 X W1050, 650+400",995.9,"1-ZE-01","2019-10-02","SZT"]
["43110","ZENERGY - RAMA, H1200 X D300 X W1100, 150+650+300",1172.2,"1-ZE-01","2019-10-02","SZT"]
["43115","ZENERGY - RAMA, H1200 X D300 X W1150, 850+300",1009.1,"1-ZE-01","2019-10-02","SZT"]
["43120","ZENERGY - RAMA, H1200 X D300 X W1200",788.7,"1-ZE-01","2019-10-02","SZT"]
["43121","ZENERGY - RAMA, H1200 X D300 X W1200, 150+650+400",1201.7,"1-ZE-01","2019-10-02","SZT"]
["43125","ZENERGY - RAMA, H1200 X D300 X W1250, 850+400",1036.8,"1-ZE-01","2019-10-02","SZT"]
["43130","ZENERGY - RAMA, H1200 X D300 X W1300",804.8,"1-ZE-01","2019-10-02","SZT"]
["43131","ZENERGY - RAMA, H1200 X D300 X W1300, 650+650",1035.2,"1-ZE-01","2019-10-02","SZT"]
["43150","ZENERGY - RAMA, H1200 X D300 X W1500, 650+850",1071,"1-ZE-01","2019-10-02","SZT"]
["43170","ZENERGY - RAMA, H1200 X D300 X W1700, 850+850",1108.7,"1-ZE-01","2019-10-02","SZT"]
["44010","ZENERGY - RAMA, H1200 X D400 X W1200",788.7,"1-ZE-01","2019-10-02","SZT"]
["44030","ZENERGY - RAMA, H1200 X D400 X W300",591.1,"1-ZE-01","2019-10-02","SZT"]
["44040","ZENERGY - RAMA, H1200 X D400 X W400",627,"1-ZE-01","2019-10-02","SZT"]
["44045","ZENERGY - RAMA, H1200 X D400 X W450",643.29999999999995,"1-ZE-01","2019-10-02","SZT"]
["44060","ZENERGY - RAMA, H1200 X D400 X W600",666.2,"1-ZE-01","2019-10-02","SZT"]
["44065","ZENERGY - RAMA, H1200 X D400 X W650",682.5,"1-ZE-01","2019-10-02","SZT"]
["44080","ZENERGY - RAMA, H1200 X D400 X W800",718.4,"1-ZE-01","2019-10-02","SZT"]
["44081","ZENERGY - RAMA, H1200 X D400 X W800 650+150",945.3,"1-ZE-01","2019-10-02","SZT"]
["44085","ZENERGY - RAMA, H1200 X D400 X W850",736.5,"1-ZE-01","2019-10-02","SZT"]
["44086","ZENERGY - RAMA, H1200 X D400 X W850 650+200",973.1,"1-ZE-01","2019-10-02","SZT"]
["44095","ZENERGY - RAMA, H1200 X D400 X W950, 650+300",1005.8,"1-ZE-01","2019-10-02","SZT"]
["44100","ZENERGY - RAMA, H1200 X D400 X W1000",773.9,"1-ZE-01","2019-10-02","SZT"]
["44105","ZENERGY - RAMA, H1200 X D400 X W1050, 650+400",1035.2,"1-ZE-01","2019-10-02","SZT"]
["44110","ZENERGY - RAMA, H1200 X D400 X W1100, 150+650+300",1213.0999999999999,"1-ZE-01","2019-10-02","SZT"]
["44115","ZENERGY - RAMA, H1200 X D400 X W1150, 850+300",1048.2,"1-ZE-01","2019-10-02","SZT"]
["44120","ZENERGY - RAMA, H1200 X D400 X W1200",831.1,"1-ZE-01","2019-10-02","SZT"]
["44121","ZENERGY - RAMA, H1200 X D400 X W1200, 150+650+400",1242.5,"1-ZE-01","2019-10-02","SZT"]
["44125","ZENERGY - RAMA, H1200 X D400 X W1250, 850+400",1077.7,"1-ZE-01","2019-10-02","SZT"]
["44130","ZENERGY - RAMA, H1200 X D400 X W1300",848.9,"1-ZE-01","2019-10-02","SZT"]
["44131","ZENERGY - RAMA, H1200 X D400 X W1300 650+650",1082.4000000000001,"1-ZE-01","2019-10-02","SZT"]
["44150","ZENERGY - RAMA, H1200 X D400 X W1500 650+850",1118.5,"1-ZE-01","2019-10-02","SZT"]
["44160","ZENERGY - RAMA, H1200 X D400 X W1600 800+800",1138.2,"1-ZE-01","2019-10-02","SZT"]
["44170","ZENERGY - RAMA, H1200 X D400 X W1700 850+850",1156,"1-ZE-01","2019-10-02","SZT"]
["45330","ZENERGY - DRZWI PRZEDZIAŁU KABLOWEGO IP30, H1200 X W300",220.5,"1-ZE-01","2019-10-02","SZT"]
["45340","ZENERGY - DRZWI PRZEDZIAŁU KABLOWEGO IP30, H1200 X W400",228.7,"1-ZE-01","2019-10-02","SZT"]
["46030","ZENERGY - RAMA, H1200 X D600 X W300",819.6,"1-ZE-01","2019-10-02","SZT"]
["46040","ZENERGY - RAMA, H1200 X D600 X W400",870.2,"1-ZE-01","2019-10-02","SZT"]
["46045","ZENERGY - RAMA, H1200 X D600 X W450",896.3,"1-ZE-01","2019-10-02","SZT"]
["46060","ZENERGY - RAMA, H1200 X D600 X W600",922.5,"1-ZE-01","2019-10-02","SZT"]
["46065","ZENERGY - RAMA, H1200 X D600 X W650",947,"1-ZE-01","2019-10-02","SZT"]
["46080","ZENERGY - RAMA, H1200 X D600 X W800",997.7,"1-ZE-01","2019-10-02","SZT"]
["46081","ZENERGY - RAMA, H1200 X D600 X W800, 650+150",1312.7,"1-ZE-01","2019-10-02","SZT"]
["46085","ZENERGY - RAMA, H1200 X D600 X W850",1023.8,"1-ZE-01","2019-10-02","SZT"]
["46086","ZENERGY - RAMA, H1200 X D600 X W850, 650+200",1340.5,"1-ZE-01","2019-10-02","SZT"]
["46095","ZENERGY - RAMA, H1200 X D600 X W950, 650+300",1360.2,"1-ZE-01","2019-10-02","SZT"]
["46100","ZENERGY - RAMA, H1200 X D600 X W1000",1076,"1-ZE-01","2019-10-02","SZT"]
["46105","ZENERGY - RAMA, H1200 X D600 X W1050, 650+400",1399.4,"1-ZE-01","2019-10-02","SZT"]
["46110","ZENERGY - RAMA, H1200 X D600 X W1100, 150+650+300",1642.5,"1-ZE-01","2019-10-02","SZT"]
["46115","ZENERGY - RAMA, H1200 X D600 X W1150, 850+300",1418.8,"1-ZE-01","2019-10-02","SZT"]
["46120","ZENERGY - RAMA, H1200 X D600 X W1200",1152.5999999999999,"1-ZE-01","2019-10-02","SZT"]
["46121","ZENERGY - RAMA, H1200 X D600 X W1200, 150+650+400",1680.1,"1-ZE-01","2019-10-02","SZT"]
["46125","ZENERGY - RAMA, H1200 X D600 X W1250, 850+400",1458.1,"1-ZE-01","2019-10-02","SZT"]
["46130","ZENERGY - RAMA, H1200 X D600 X W1300",1177.2,"1-ZE-01","2019-10-02","SZT"]
["46131","ZENERGY - RAMA, H1200 X D600 X W1300, 650+650",1474.3,"1-ZE-01","2019-10-02","SZT"]
["46150","ZENERGY - RAMA, H1200 X D600 X W1500, 650+850",1510.3,"1-ZE-01","2019-10-02","SZT"]
["46170","ZENERGY - RAMA, H1200 X D600 X W1700, 850+850",1546.3,"1-ZE-01","2019-10-02","SZT"]
["48030","ZENERGY - RAMA, H1200 X D800 X W300",876.8,"1-ZE-01","2019-10-02","SZT"]
["48040","ZENERGY - RAMA, H1200 X D800 X W400",930.6,"1-ZE-01","2019-10-02","SZT"]
["48045","ZENERGY - RAMA, H1200 X D800 X W450",958.4,"1-ZE-01","2019-10-02","SZT"]
["48060","ZENERGY - RAMA, H1200 X D800 X W600",986.1,"1-ZE-01","2019-10-02","SZT"]
["48065","ZENERGY - RAMA, H1200 X D800 X W650",1014,"1-ZE-01","2019-10-02","SZT"]
["48080","ZENERGY - RAMA, H1200 X D800 X W800",1068,"1-ZE-01","2019-10-02","SZT"]
["48081","ZENERGY - RAMA, H1200 X D800 X W800, 650+150",1404.2,"1-ZE-01","2019-10-02","SZT"]
["48085","ZENERGY - RAMA, H1200 X D800 X W850",1095.5999999999999,"1-ZE-01","2019-10-02","SZT"]
["48086","ZENERGY - RAMA, H1200 X D800 X W850, 650+200",1441.8,"1-ZE-01","2019-10-02","SZT"]
["48095","ZENERGY - RAMA, H1200 X D800 X W950, 650+300",1456.3,"1-ZE-01","2019-10-02","SZT"]
["48100","ZENERGY - RAMA, H1200 X D800 X W1000",1151.0999999999999,"1-ZE-01","2019-10-02","SZT"]
["48105","ZENERGY - RAMA, H1200 X D800 X W1050, 650+400",1497.3,"1-ZE-01","2019-10-02","SZT"]
["48110","ZENERGY - RAMA, H1200 X D800 X W1100, 150+650+300",1757,"1-ZE-01","2019-10-02","SZT"]
["48115","ZENERGY - RAMA, H1200 X D800 X W1150, 850+300",1518.4,"1-ZE-01","2019-10-02","SZT"]
["48120","ZENERGY - RAMA, H1200 X D800 X W1200",1232.7,"1-ZE-01","2019-10-02","SZT"]
["48121","ZENERGY - RAMA, H1200 X D800 X W1200, 150+650+400",1797.8,"1-ZE-01","2019-10-02","SZT"]
["48125","ZENERGY - RAMA, H1200 X D800 X W1250, 850+400",1561,"1-ZE-01","2019-10-02","SZT"]
["48130","ZENERGY - RAMA, H1200 X D800 X W1300",1260.5,"1-ZE-01","2019-10-02","SZT"]
["48131","ZENERGY - RAMA, H1200 X D800 X W1300, 650+650",1572.4,"1-ZE-01","2019-10-02","SZT"]
["48150","ZENERGY - RAMA, H1200 X D800 X W1500, 650+850",1624.6,"1-ZE-01","2019-10-02","SZT"]
["48170","ZENERGY - RAMA, H1200 X D800 X W1700, 850+850",1298.0999999999999,"1-ZE-01","2019-10-02","SZT"]
["49223","ZENERGY - OSŁONY BOCZNE WENTYLOWANE IP30, H1200 X D230",478.3,"1-ZE-01","2019-10-02","SZT"]
["49230","ZENERGY - OSŁONY BOCZNE WENTYLOWANE IP30, H1200 X D300",494.7,"1-ZE-01","2019-10-02","SZT"]
["49240","ZENERGY - OSŁONY BOCZNE WENTYLOWANE IP30, H1200 X D400",512.70000000000005,"1-ZE-01","2019-10-02","SZT"]
["49260","ZENERGY - OSŁONY BOCZNE WENTYLOWANE IP30, H1200 X D600",530.70000000000005,"1-ZE-01","2019-10-02","SZT"]
["49280","ZENERGY - OSŁONY BOCZNE WENTYLOWANE IP30, H1200 X D800",548.6,"1-ZE-01","2019-10-02","SZT"]
["49323","ZENERGY - OSŁONY BOCZNE PEŁNE IP30, H1200 X D230",424.6,"1-ZE-01","2019-10-02","SZT"]
["49324","ZENERGY - OSŁONY BOCZNE PEŁNE, STAŁE IP30, H1200 X D230",166.6,"1-ZE-01","2019-10-02","SZT"]
["49325","ZENERGY - OSŁONY BOCZNE PEŁNE, PŁASKIE, PRZYKRĘCANE IP30, H1200 X D230",166.6,"1-ZE-01","2019-10-02","SZT"]
["49330","ZENERGY - OSŁONY BOCZNE PEŁNE IP30, H1200 X D300",440.8,"1-ZE-01","2019-10-02","SZT"]
["49331","ZENERGY - OSŁONY BOCZNE PEŁNE, STAŁE IP30, H1200 X D300",182.8,"1-ZE-01","2019-10-02","SZT"]
["49340","ZENERGY - OSŁONY BOCZNE PEŁNE IP30, H1200 X D400",457.3,"1-ZE-01","2019-10-02","SZT"]
["49341","ZENERGY - OSŁONY BOCZNE PEŁNE, STAŁE IP30, H1200 X D400",199.2,"1-ZE-01","2019-10-02","SZT"]
["49342","ZENERGY - OSŁONY BOCZNE PEŁNE, PŁASKIE, PRZYKRĘCANE IP30, H1200 X D400",199.2,"1-ZE-01","2019-10-02","SZT"]
["49360","ZENERGY - OSŁONY BOCZNE PEŁNE IP30, H1200 X D600",493.1,"1-ZE-01","2019-10-02","SZT"]
["49361","ZENERGY - OSŁONY BOCZNE PEŁNE, STAŁE IP30, H1200 X D600",235.1,"1-ZE-01","2019-10-02","SZT"]
["49362","ZENERGY - OSŁONY BOCZNE PEŁNE, PŁASKIE, PRZYKRĘCANE IP30, H1200 X D600",235.1,"1-ZE-01","2019-10-02","SZT"]
["49380","ZENERGY - OSŁONY BOCZNE PEŁNE IP30, H1200 X D800",530.70000000000005,"1-ZE-01","2019-10-02","SZT"]
["49381","ZENERGY - OSŁONY BOCZNE PEŁNE, STAŁE IP30, H1200 X D800",272.60000000000002,"1-ZE-01","2019-10-02","SZT"]
["49382","ZENERGY - OSŁONY BOCZNE PEŁNE, PŁASKIE, PRZYKRĘCANE IP30, H1200 X D800",272.60000000000002,"1-ZE-01","2019-10-02","SZT"]
["49423","ZENERGY - OSŁONY BOCZNE WENTYLOWANE IP43, H1200 X D230",421.3,"1-ZE-01","2019-10-02","SZT"]
["49430","ZENERGY - OSŁONY BOCZNE WENTYLOWANE IP43, H1200 X D300",548.6,"1-ZE-01","2019-10-02","SZT"]
["49440","ZENERGY - OSŁONY BOCZNE WENTYLOWANE IP43, H1200 X D400",566.6,"1-ZE-01","2019-10-02","SZT"]
["49460","ZENERGY - OSŁONY BOCZNE WENTYLOWANE IP43, H1200 X D600",596,"1-ZE-01","2019-10-02","SZT"]
["49480","ZENERGY - OSŁONY BOCZNE WENTYLOWANE IP43, H1200 X D800",612.20000000000005,"1-ZE-01","2019-10-02","SZT"]
["49523","ZENERGY - OSŁONY BOCZNE PEŁNE IP55, H1200 X D230",475.1,"1-ZE-01","2019-10-02","SZT"]
["49530","ZENERGY - OSŁONY BOCZNE PEŁNE IP55, H1200 X D300",493.1,"1-ZE-01","2019-10-02","SZT"]
["49540","ZENERGY - OSŁONY BOCZNE PEŁNE IP55, H1200 X D400",512.70000000000005,"1-ZE-01","2019-10-02","SZT"]
["49560","ZENERGY - OSŁONY BOCZNE PEŁNE IP55, H1200 X D600",553.5,"1-ZE-01","2019-10-02","SZT"]
["49580","ZENERGY - OSŁONY BOCZNE PEŁNE IP55, H1200 X D800",594.4,"1-ZE-01","2019-10-02","SZT"]
["50110","ZENERGY - RAMA OSŁON CZOŁOWYCH NA ZAWIASACH H1400 W1000",356,"1-ZE-01","2019-10-02","SZT"]
["50111","ZENERGY - RAMA OSŁON CZOŁOWYCH NA ZAWIASACH H1400 W1000 DO PLOMBOWANIA",374.7,"1-ZE-01","2019-10-02","SZT"]
["50140","ZENERGY - RAMA OSŁON CZOŁOWYCH NA ZAWIASACH H1400 W400",235.1,"1-ZE-01","2019-10-02","SZT"]
["50141","ZENERGY - RAMA OSŁON CZOŁOWYCH NA ZAWIASACH H1400 W400 DO PLOMBOWANIA",251,"1-ZE-01","2019-10-02","SZT"]
["50145","ZENERGY - RAMA OSŁON CZOŁOWYCH NA ZAWIASACH H1400 W450",246.6,"1-ZE-01","2019-10-02","SZT"]
["50146","ZENERGY - RAMA OSŁON CZOŁOWYCH NA ZAWIASACH H1400 W450 DO PLOMBOWANIA",262.7,"1-ZE-01","2019-10-02","SZT"]
["50165","ZENERGY - RAMA OSŁON CZOŁOWYCH NA ZAWIASACH H1400 W650",277.5,"1-ZE-01","2019-10-02","SZT"]
["50166","ZENERGY - RAMA OSŁON CZOŁOWYCH NA ZAWIASACH H1400 W650 DO PLOMBOWANIA",294.39999999999998,"1-ZE-01","2019-10-02","SZT"]
["50170","ZENERGY IT - DWA WSPORNIKI PIONOWE MODUŁU \"U\" 19-CALI NA WKRĘTY SAMOFORMUJĄCE, SZAFY H1400 W650",309,"1-ZE-01","2019-10-02","SZT"]
["50180","ZENERGY - RAMA OSŁON CZOŁOWYCH NA ZAWIASACH H1400 W800",311.8,"1-ZE-01","2019-10-02","SZT"]
["50185","ZENERGY - RAMA OSŁON CZOŁOWYCH NA ZAWIASACH H1400 W850",323.2,"1-ZE-01","2019-10-02","SZT"]
["50186","ZENERGY - RAMA OSŁON CZOŁOWYCH NA ZAWIASACH H1400 W850 DO PLOMBOWANIA",341.2,"1-ZE-01","2019-10-02","SZT"]
["50210","ZENERGY - DRZWI WENTYLOWANE IP30, H1400 X W1000",1145.3,"1-ZE-01","2019-10-02","SZT"]
["50212","ZENERGY - DRZWI WENTYLOWANE IP30, H1400 X W1200, PODWÓJNE",1835.2,"1-ZE-01","2019-10-02","SZT"]
["50213","ZENERGY - DRZWI WENTYLOWANE IP30, H1400 X W1300, PODWÓJNE",1851,"1-ZE-01","2019-10-02","SZT"]
["50214","ZENERGY - DRZWI WENTYLOWANE IP30, H1400 X W1050",1202.7,"1-ZE-01","2019-10-02","SZT"]
["50230","ZENERGY - DRZWI WENTYLOWANE IP30, H1400 X W300",689.7,"1-ZE-01","2019-10-02","SZT"]
["50240","ZENERGY - DRZWI WENTYLOWANE IP30, H1400 X W400",755,"1-ZE-01","2019-10-02","SZT"]
["50245","ZENERGY - DRZWI WENTYLOWANE IP30, H1400 X W450",791.8,"1-ZE-01","2019-10-02","SZT"]
["50260","ZENERGY - DRZWI WENTYLOWANE IP30, H1400 X W600",890.4,"1-ZE-01","2019-10-02","SZT"]
["50265","ZENERGY - DRZWI WENTYLOWANE IP30, H1400 X W650",917.5,"1-ZE-01","2019-10-02","SZT"]
["50280","ZENERGY - DRZWI WENTYLOWANE IP30, H1400 X W800",1016.3,"1-ZE-01","2019-10-02","SZT"]
["50285","ZENERGY - DRZWI WENTYLOWANE IP30, H1400 X W850",1048.0999999999999,"1-ZE-01","2019-10-02","SZT"]
["50295","ZENERGY - DRZWI WENTYLOWANE IP30, H1400 X W950",1089.5999999999999,"1-ZE-01","2019-10-02","SZT"]
["50310","ZENERGY - DRZWI PEŁNE IP30, H1400 X W1000",1108.7,"1-ZE-01","2019-10-02","SZT"]
["50312","ZENERGY - DRZWI PEŁNE IP30, H1400 X W1200, PODWÓJNE",1760.2,"1-ZE-01","2019-10-02","SZT"]
["50313","ZENERGY - DRZWI PEŁNE IP30, H1400 X W1300, PODWÓJNE",1776.2,"1-ZE-01","2019-10-02","SZT"]
["50314","ZENERGY - DRZWI PEŁNE IP30, H1400 X W1050",1164.4000000000001,"1-ZE-01","2019-10-02","SZT"]
["50330","ZENERGY - DRZWI PEŁNE IP30, H1400 X W300",651.5,"1-ZE-01","2019-10-02","SZT"]
["50340","ZENERGY - DRZWI PEŁNE IP30, H1400 X W400",718.4,"1-ZE-01","2019-10-02","SZT"]
["50345","ZENERGY - DRZWI PEŁNE IP30, H1400 X W450",753.4,"1-ZE-01","2019-10-02","SZT"]
["50360","ZENERGY - DRZWI PEŁNE IP30, H1400 X W600",845.8,"1-ZE-01","2019-10-02","SZT"]
["50365","ZENERGY - DRZWI PEŁNE IP30, H1400 X W650",880.8,"1-ZE-01","2019-10-02","SZT"]
["50371","ZENERGY - SŁUPEK OCYNK, H1400, RAMA ZEWNĘTRZNA",44.4,"1-ZE-01","2019-10-02","SZT"]
["50372","ZENERGY - SŁUPEK OCYNK, H1400, RAMA WEWNĘTRZNA",50.5,"1-ZE-01","2019-10-02","SZT"]
["50373","ZENERGY - SŁUPEK INOX, H1400, RAMA ZEWNĘTRZNA",93.6,"1-ZE-01","2019-10-02","SZT"]
["50374","ZENERGY - SŁUPEK INOX, H1400, RAMA WEWNETRZNA",99.6,"1-ZE-01","2019-10-02","SZT"]
["50380","ZENERGY - DRZWI PEŁNE IP30, H1400 X W800",979.7,"1-ZE-01","2019-10-02","SZT"]
["50385","ZENERGY - DRZWI PEŁNE IP30, H1400 X W850",1011.6,"1-ZE-01","2019-10-02","SZT"]
["50395","ZENERGY - DRZWI PEŁNE IP30, H1400 X W950",1054.5,"1-ZE-01","2019-10-02","SZT"]
["50410","ZENERGY - DRZWI WENTYLOWANE IP43, H1400 X W1000",1217,"1-ZE-01","2019-10-02","SZT"]
["50412","ZENERGY - DRZWI WENTYLOWANE IP43, H1400 X W1200, PODWÓJNE",1962.6,"1-ZE-01","2019-10-02","SZT"]
["50413","ZENERGY - DRZWI WENTYLOWANE IP43, H1400 X W1300, PODWÓJNE",1972.1,"1-ZE-01","2019-10-02","SZT"]
["50414","ZENERGY - DRZWI WENTYLOWANE IP43, H1400 X W1050",1277.5,"1-ZE-01","2019-10-02","SZT"]
["50430","ZENERGY - DRZWI WENTYLOWANE IP43, H1400 X W300",744,"1-ZE-01","2019-10-02","SZT"]
["50440","ZENERGY - DRZWI WENTYLOWANE IP43, H1400 X W400",810.8,"1-ZE-01","2019-10-02","SZT"]
["50445","ZENERGY - DRZWI WENTYLOWANE IP43, H1400 X W450",1038.7,"1-ZE-01","2019-10-02","SZT"]
["50460","ZENERGY - DRZWI WENTYLOWANE IP43, H1400 X W600",957.4,"1-ZE-01","2019-10-02","SZT"]
["50465","ZENERGY - DRZWI WENTYLOWANE IP43, H1400 X W650",981.2,"1-ZE-01","2019-10-02","SZT"]
["50480","ZENERGY - DRZWI WENTYLOWANE IP43, H1400 X W800",1081.5999999999999,"1-ZE-01","2019-10-02","SZT"]
["50485","ZENERGY - DRZWI WENTYLOWANE IP43, H1400 X W850",1116.7,"1-ZE-01","2019-10-02","SZT"]
["50495","ZENERGY - DRZWI WENTYLOWANE IP43, H1400 X W950",1156.5,"1-ZE-01","2019-10-02","SZT"]
["50510","ZENERGY - DRZWI PEŁNE IP55, H1400 X W1000",1178.7,"1-ZE-01","2019-10-02","SZT"]
["50512","ZENERGY - DRZWI PEŁNE IP55, H1400 X W1200, PODWÓJNE",1707.6,"1-ZE-01","2019-10-02","SZT"]
["50513","ZENERGY - DRZWI PEŁNE IP55, H1400 X W1300, PODWÓJNE",1897.3,"1-ZE-01","2019-10-02","SZT"]
["50514","ZENERGY - DRZWI PEŁNE IP55, H1400 X W1050",1237.5999999999999,"1-ZE-01","2019-10-02","SZT"]
["50530","ZENERGY - DRZWI PEŁNE IP55, H1400 X W300",705.7,"1-ZE-01","2019-10-02","SZT"]
["50540","ZENERGY - DRZWI PEŁNE IP55, H1400 X W400",774.1,"1-ZE-01","2019-10-02","SZT"]
["50545","ZENERGY - DRZWI PEŁNE IP55, H1400 X W450",812.5,"1-ZE-01","2019-10-02","SZT"]
["50560","ZENERGY - DRZWI PEŁNE IP55, H1400 X W600",914.3,"1-ZE-01","2019-10-02","SZT"]
["50565","ZENERGY - DRZWI PEŁNE IP55, H1400 X W650",944.6,"1-ZE-01","2019-10-02","SZT"]
["50580","ZENERGY - DRZWI PEŁNE IP55, H1400 X W800",1044.9000000000001,"1-ZE-01","2019-10-02","SZT"]
["50585","ZENERGY - DRZWI PEŁNE IP55, H1400 X W850",1078.4000000000001,"1-ZE-01","2019-10-02","SZT"]
["50595","ZENERGY - DRZWI PEŁNE IP55, H1400 X W950",1119.8,"1-ZE-01","2019-10-02","SZT"]
["50610","ZENERGY - DRZWI PRZESZKLONE IP55, H1400 X W1000",1463.8,"1-ZE-01","2019-10-02","SZT"]
["50612","ZENERGY - DRZWI PRZESZKLONE IP55, H1400 X W1200, PODWÓJNE",2223.8000000000002,"1-ZE-01","2019-10-02","SZT"]
["50613","ZENERGY - DRZWI PRZESZKLONE IP55, H1400 X W1300, PODWÓJNE",2253.9,"1-ZE-01","2019-10-02","SZT"]
["50640","ZENERGY - DRZWI PRZESZKLONE IP55, H1400 X W400",874.6,"1-ZE-01","2019-10-02","SZT"]
["50645","ZENERGY - DRZWI PRZESZKLONE IP55, H1400 X W450",917.5,"1-ZE-01","2019-10-02","SZT"]
["50660","ZENERGY - DRZWI PRZESZKLONE IP55, H1400 X W600",1088,"1-ZE-01","2019-10-02","SZT"]
["50665","ZENERGY - DRZWI PRZESZKLONE IP55, H1400 X W650",1126.3,"1-ZE-01","2019-10-02","SZT"]
["50680","ZENERGY - DRZWI PRZESZKLONE IP55, H1400 X W800",1271.2,"1-ZE-01","2019-10-02","SZT"]
["50685","ZENERGY - DRZWI PRZESZKLONE IP55, H1400 X W850",1318.9,"1-ZE-01","2019-10-02","SZT"]
["50695","ZENERGY - DRZWI PRZESZKLONE IP55, H1400 X W950",1390.5,"1-ZE-01","2019-10-02","SZT"]
["50742","ZENERGY - SŁUPEK OCYNK, H1400, RAMA WEWNĘTRZNA, PODWÓJNA",58.6,"1-ZE-01","2019-10-02","SZT"]
["50744","ZENERGY - SŁUPEK INOX, H1400, RAMA WEWNĘTRZNA, PODWÓJNA",123,"1-ZE-01","2019-10-02","SZT"]
["50845","ZENERGY - RAMA UCHYLNA ROZŁĄCZNIKÓW LISTWOWYCH 3X EFEN 160-630, H1400 X W450, 20+4M",371.6,"1-ZE-01","2019-10-02","SZT"]
["50865","ZENERGY - RAMA UCHYLNA ROZŁĄCZNIKÓW LISTWOWYCH 5X EFEN 160-630, H1400 X W650, 20+4M",394.3,"1-ZE-01","2019-10-02","SZT"]
["50885","ZENERGY - RAMA UCHYLNA ROZŁĄCZNIKÓW LISTWOWYCH 7X EFEN 160-630, H1400 X W850, 20+4M",490.6,"1-ZE-01","2019-10-02","SZT"]
["50910","ZENERGY - PŁYTA MONTAŻOWA PEŁNA H1400 X W1000 + WSPORNIKI,  ( 1250 X 900 )",671.1,"1-ZE-01","2019-10-02","SZT"]
["50912","ZENERGY - PŁYTA MONTAŻOWA PEŁNA H1400 X W1200 + WSPORNIKI,  ( 1250 X 1100 )",787,"1-ZE-01","2019-10-02","SZT"]
["50913","ZENERGY - PŁYTA MONTAŻOWA PEŁNA H1400 X W1300 + WSPORNIKI,  ( 1250 X 1200 )",847.5,"1-ZE-01","2019-10-02","SZT"]
["50930","ZENERGY - PŁYTA MONTAŻOWA PEŁNA H1400 X W300 + WSPORNIKI,  ( 1250 X 200 )",262.89999999999998,"1-ZE-01","2019-10-02","SZT"]
["50940","ZENERGY - PŁYTA MONTAŻOWA PEŁNA H1400 X W400 + WSPORNIKI,  ( 1250 X 300 )",321.7,"1-ZE-01","2019-10-02","SZT"]
["50945","ZENERGY - PŁYTA MONTAŻOWA PEŁNA H1400 X W450 + WSPORNIKI,  ( 1250 X 350 )",344.6,"1-ZE-01","2019-10-02","SZT"]
["50960","ZENERGY - PŁYTA MONTAŻOWA PEŁNA H1400 X W600 + WSPORNIKI,  ( 1250 X 500 )",444,"1-ZE-01","2019-10-02","SZT"]
["50965","ZENERGY - PŁYTA MONTAŻOWA PEŁNA H1400 X W650 + WSPORNIKI,  ( 1250 X 550 )",467,"1-ZE-01","2019-10-02","SZT"]
["50980","ZENERGY - PŁYTA MONTAŻOWA PEŁNA H1400 X W800 + WSPORNIKI,  ( 1250 X 700 )",553.5,"1-ZE-01","2019-10-02","SZT"]
["50985","ZENERGY - PŁYTA MONTAŻOWA PEŁNA H1400 X W850 + WSPORNIKI,  ( 1250 X 750 )",584.5,"1-ZE-01","2019-10-02","SZT"]
["50995","ZENERGY - PEŁNY ŁĄCZNIK PŁYT MONTAŻOWYCH H1400,  ( 1250 X 98 )",145.19999999999999,"1-ZE-01","2019-10-02","SZT"]
["51110","ZENERGY - DRZWI PRZESZKLONE IP30, H1400 X W1000",1317.6,"1-ZE-01","2019-10-02","SZT"]
["51112","ZENERGY - DRZWI PRZESZKLONE IP30, H1400 X W1200, PODWÓJNE",2001.5,"1-ZE-01","2019-10-02","SZT"]
["51113","ZENERGY - DRZWI PRZESZKLONE IP30, H1400 X W1300, PODWÓJNE",2028.8,"1-ZE-01","2019-10-02","SZT"]
["51140","ZENERGY - DRZWI PRZESZKLONE IP30, H1400 X W400",787.1,"1-ZE-01","2019-10-02","SZT"]
["51145","ZENERGY - DRZWI PRZESZKLONE IP30, H1400 X W450",825.8,"1-ZE-01","2019-10-02","SZT"]
["51160","ZENERGY - DRZWI PRZESZKLONE IP30, H1400 X W600",979.2,"1-ZE-01","2019-10-02","SZT"]
["51165","ZENERGY - DRZWI PRZESZKLONE IP30, H1400 X W650",1013.7,"1-ZE-01","2019-10-02","SZT"]
["51180","ZENERGY - DRZWI PRZESZKLONE IP30, H1400 X W800",1144.0999999999999,"1-ZE-01","2019-10-02","SZT"]
["51185","ZENERGY - DRZWI PRZESZKLONE IP30, H1400 X W850",1187.0999999999999,"1-ZE-01","2019-10-02","SZT"]
["51195","ZENERGY - DRZWI PRZESZKLONE IP30, H1400 X W950",1251.7,"1-ZE-01","2019-10-02","SZT"]
["51210","ZENERGY - OSŁONA TYLNA PEŁNA IP30, H1400 X W1000",574.70000000000005,"1-ZE-01","2019-10-02","SZT"]
["51211","ZENERGY - OSŁONA TYLNA PEŁNA IP30, H1400 X W850+200",622.1,"1-ZE-01","2019-10-02","SZT"]
["51212","ZENERGY - OSŁONA TYLNA PEŁNA IP30, H1400 X W1200",842.6,"1-ZE-01","2019-10-02","SZT"]
["51213","ZENERGY - OSŁONA TYLNA PEŁNA IP30, H1400 X W1300",881.8,"1-ZE-01","2019-10-02","SZT"]
["51230","ZENERGY - OSŁONA TYLNA PEŁNA IP30, H1400 X W300",225.4,"1-ZE-01","2019-10-02","SZT"]
["51240","ZENERGY - OSŁONA TYLNA PEŁNA IP30, H1400 X W400",323.2,"1-ZE-01","2019-10-02","SZT"]
["51245","ZENERGY - OSŁONA TYLNA PEŁNA IP30, H1400 X W450",339.7,"1-ZE-01","2019-10-02","SZT"]
["51260","ZENERGY - OSŁONA TYLNA PEŁNA IP30, H1400 X W600",418,"1-ZE-01","2019-10-02","SZT"]
["51265","ZENERGY - OSŁONA TYLNA PEŁNA IP30, H1400 X W650",440.8,"1-ZE-01","2019-10-02","SZT"]
["51280","ZENERGY - OSŁONA TYLNA PEŁNA IP30, H1400 X W800",498,"1-ZE-01","2019-10-02","SZT"]
["51285","ZENERGY - OSŁONA TYLNA PEŁNA IP30, H1400 X W850",517.6,"1-ZE-01","2019-10-02","SZT"]
["51295","ZENERGY - OSŁONA TYLNA PEŁNA IP30, H1400 X W650+300",545.4,"1-ZE-01","2019-10-02","SZT"]
["51310","ZENERGY - OSŁONA TYLNA WENTYLOWANA IP30, H1400 X W1000",612.20000000000005,"1-ZE-01","2019-10-02","SZT"]
["51311","ZENERGY - OSŁONA TYLNA WENTYLOWANA IP30, H1400 X W850+200",698.9,"1-ZE-01","2019-10-02","SZT"]
["51312","ZENERGY - OSŁONA TYLNA WENTYLOWANA IP30, H1400 X W1200",919.2,"1-ZE-01","2019-10-02","SZT"]
["51313","ZENERGY - OSŁONA TYLNA WENTYLOWANA IP30, H1400 X W1300",958.4,"1-ZE-01","2019-10-02","SZT"]
["51330","ZENERGY - OSŁONA TYLNA WENTYLOWANA IP30, H1400 X W300",284.2,"1-ZE-01","2019-10-02","SZT"]
["51340","ZENERGY - OSŁONA TYLNA WENTYLOWANA IP30, H1400 X W400",380.5,"1-ZE-01","2019-10-02","SZT"]
["51345","ZENERGY - OSŁONA TYLNA WENTYLOWANA IP30, H1400 X W450",400.1,"1-ZE-01","2019-10-02","SZT"]
["51360","ZENERGY - OSŁONA TYLNA WENTYLOWANA IP30, H1400 X W600",473.5,"1-ZE-01","2019-10-02","SZT"]
["51365","ZENERGY - OSŁONA TYLNA WENTYLOWANA IP30, H1400 X W650",498,"1-ZE-01","2019-10-02","SZT"]
["51380","ZENERGY - OSŁONA TYLNA WENTYLOWANA IP30, H1400 X W800",555.29999999999995,"1-ZE-01","2019-10-02","SZT"]
["51385","ZENERGY - OSŁONA TYLNA WENTYLOWANA IP30, H1400 X W850",574.70000000000005,"1-ZE-01","2019-10-02","SZT"]
["51395","ZENERGY - OSŁONA TYLNA WENTYLOWANA IP30, H1400 X W650+300",622.1,"1-ZE-01","2019-10-02","SZT"]
["51410","ZENERGY - OSŁONA TYLNA WENTYLOWANA IP43, H1400 X W1000",685.8,"1-ZE-01","2019-10-02","SZT"]
["51411","ZENERGY - OSŁONA TYLNA WENTYLOWANA IP43, H1400 X W850+200",800,"1-ZE-01","2019-10-02","SZT"]
["51412","ZENERGY - OSŁONA TYLNA WENTYLOWANA IP43, H1400 X W1200",1043.4000000000001,"1-ZE-01","2019-10-02","SZT"]
["51413","ZENERGY - OSŁONA TYLNA WENTYLOWANA IP43, H1400 X W1300",1085.7,"1-ZE-01","2019-10-02","SZT"]
["51430","ZENERGY - OSŁONA TYLNA WENTYLOWANA IP43, H1400 X W300",339.7,"1-ZE-01","2019-10-02","SZT"]
["51440","ZENERGY - OSŁONA TYLNA WENTYLOWANA IP43, H1400 X W400",439.2,"1-ZE-01","2019-10-02","SZT"]
["51445","ZENERGY - OSŁONA TYLNA WENTYLOWANA IP43, H1400 X W450",460.4,"1-ZE-01","2019-10-02","SZT"]
["51460","ZENERGY - OSŁONA TYLNA WENTYLOWANA IP43, H1400 X W600",532.29999999999995,"1-ZE-01","2019-10-02","SZT"]
["51465","ZENERGY - OSŁONA TYLNA WENTYLOWANA IP43, H1400 X W650",561.70000000000005,"1-ZE-01","2019-10-02","SZT"]
["51480","ZENERGY - OSŁONA TYLNA WENTYLOWANA IP43, H1400 X W800",622.1,"1-ZE-01","2019-10-02","SZT"]
["51485","ZENERGY - OSŁONA TYLNA WENTYLOWANA IP43, H1400 X W850",643.29999999999995,"1-ZE-01","2019-10-02","SZT"]
["51495","ZENERGY - OSŁONA TYLNA WENTYLOWANA IP43, H1400 X W650+300",721.8,"1-ZE-01","2019-10-02","SZT"]
["51510","ZENERGY - OSŁONA TYLNA PEŁNA IP55, H1400 X W1000",648.29999999999995,"1-ZE-01","2019-10-02","SZT"]
["51511","ZENERGY - OSŁONA TYLNA PEŁNA IP55, H1400 X W850+200",708.5,"1-ZE-01","2019-10-02","SZT"]
["51512","ZENERGY - OSŁONA TYLNA PEŁNA IP55, H1400 X W1200",723.3,"1-ZE-01","2019-10-02","SZT"]
["51513","ZENERGY - OSŁONA TYLNA PEŁNA IP55, H1400 X W1300",1009.1,"1-ZE-01","2019-10-02","SZT"]
["51530","ZENERGY - OSŁONA TYLNA PEŁNA IP55, H1400 X W300",282.39999999999998,"1-ZE-01","2019-10-02","SZT"]
["51540","ZENERGY - OSŁONA TYLNA PEŁNA IP55, H1400 X W400",380.5,"1-ZE-01","2019-10-02","SZT"]
["51545","ZENERGY - OSŁONA TYLNA PEŁNA IP55, H1400 X W450",400.1,"1-ZE-01","2019-10-02","SZT"]
["51560","ZENERGY - OSŁONA TYLNA PEŁNA IP55, H1400 X W600",478.3,"1-ZE-01","2019-10-02","SZT"]
["51565","ZENERGY - OSŁONA TYLNA PEŁNA IP55, H1400 X W650",504.5,"1-ZE-01","2019-10-02","SZT"]
["51580","ZENERGY - OSŁONA TYLNA PEŁNA IP55, H1400 X W800",565,"1-ZE-01","2019-10-02","SZT"]
["51585","ZENERGY - OSŁONA TYLNA PEŁNA IP55, H1400 X W850",586.20000000000005,"1-ZE-01","2019-10-02","SZT"]
["51595","ZENERGY - OSŁONA TYLNA PEŁNA IP55, H1400 X W650+300",630.20000000000005,"1-ZE-01","2019-10-02","SZT"]
["51960","ZENERGY - PŁYTA MONTAŻOWA PEŁNA H1450 X W600 + WSPORNIKI,  ( 1300 X 500 )",463.6,"1-ZE-01","2019-10-02","SZT"]
["52030","ZENERGY - RAMA, H1400 X D230 X W300",534.29999999999995,"1-ZE-01","2019-10-02","SZT"]
["52040","ZENERGY - RAMA, H1400 X D230 X W400",569.79999999999995,"1-ZE-01","2019-10-02","SZT"]
["52045","ZENERGY - RAMA, H1400 X D230 X W450",587.79999999999995,"1-ZE-01","2019-10-02","SZT"]
["52060","ZENERGY - RAMA, H1400 X D230 X W600",641.29999999999995,"1-ZE-01","2019-10-02","SZT"]
["52065","ZENERGY - RAMA, H1400 X D230 X W650",659.1,"1-ZE-01","2019-10-02","SZT"]
["52080","ZENERGY - RAMA, H1400 X D230 X W800",712.6,"1-ZE-01","2019-10-02","SZT"]
["52081","ZENERGY - RAMA, H1400 X D230 X W800, 650+150",839.5,"1-ZE-01","2019-10-02","SZT"]
["52085","ZENERGY - RAMA, H1400 X D230 X W850",730.6,"1-ZE-01","2019-10-02","SZT"]
["52086","ZENERGY - RAMA, H1400 X D230 X W850, 650+200",843.3,"1-ZE-01","2019-10-02","SZT"]
["52095","ZENERGY - RAMA, H1400 X D230 X W950, 650+300",938,"1-ZE-01","2019-10-02","SZT"]
["52100","ZENERGY - RAMA, H1400 X D230 X W1000",783.9,"1-ZE-01","2019-10-02","SZT"]
["52105","ZENERGY - RAMA, H1400 X D230 X W1050, 650+400",971.3,"1-ZE-01","2019-10-02","SZT"]
["52110","ZENERGY - RAMA, H1400 X D230 X W1100, 150+650+300",1120.0999999999999,"1-ZE-01","2019-10-02","SZT"]
["52115","ZENERGY - RAMA, H1400 X D230 X W1150, 850+300",1004.8,"1-ZE-01","2019-10-02","SZT"]
["52120","ZENERGY - RAMA, H1400 X D230 X W1200",855.3,"1-ZE-01","2019-10-02","SZT"]
["52121","ZENERGY - RAMA, H1400 X D230 X W1200, 150+650+400",1153.5,"1-ZE-01","2019-10-02","SZT"]
["52125","ZENERGY - RAMA, H1400 X D230 X W1250, 850+400",1038.2,"1-ZE-01","2019-10-02","SZT"]
["52130","ZENERGY - RAMA, H1400 X D230 X W1300",891,"1-ZE-01","2019-10-02","SZT"]
["52131","ZENERGY - RAMA, H1400 X D230 X W1300, 650+650",1076.7,"1-ZE-01","2019-10-02","SZT"]
["52150","ZENERGY - RAMA, H1400 X D230 X W1500, 650+850",1121.9000000000001,"1-ZE-01","2019-10-02","SZT"]
["52170","ZENERGY - RAMA, H1400 X D230 X W1700, 850+850",1188.7,"1-ZE-01","2019-10-02","SZT"]
["53030","ZENERGY - RAMA, H1400 X D300 X W300",568,"1-ZE-01","2019-10-02","SZT"]
["53040","ZENERGY - RAMA, H1400 X D300 X W400",603.6,"1-ZE-01","2019-10-02","SZT"]
["53045","ZENERGY - RAMA, H1400 X D300 X W450",621.5,"1-ZE-01","2019-10-02","SZT",265]
["53060","ZENERGY - RAMA, H1400 X D300 X W600",675.1,"1-ZE-01","2019-10-02","SZT"]
["53065","ZENERGY - RAMA, H1400 X D300 X W650",692.9,"1-ZE-01","2019-10-02","SZT"]
["53080","ZENERGY - RAMA, H1400 X D300 X W800",746.4,"1-ZE-01","2019-10-02","SZT"]
["53081","ZENERGY - RAMA, H1400 X D300 X W800, 650+150",890,"1-ZE-01","2019-10-02","SZT"]
["53085","ZENERGY - RAMA, H1400 X D300 X W850",764.1,"1-ZE-01","2019-10-02","SZT"]
["53086","ZENERGY - RAMA, H1400 X D300 X W850, 650+200",893.9,"1-ZE-01","2019-10-02","SZT"]
["53095","ZENERGY - RAMA, H1400 X D300 X W950, 650+300",995.8,"1-ZE-01","2019-10-02","SZT"]
["53100","ZENERGY - RAMA, H1400 X D300 X W1000",817.7,"1-ZE-01","2019-10-02","SZT"]
["53105","ZENERGY - RAMA, H1400 X D300 X W1050, 650+400",1029.4000000000001,"1-ZE-01","2019-10-02","SZT"]
["53110","ZENERGY - RAMA, H1400 X D300 X W1100, 150+650+300",1194.9000000000001,"1-ZE-01","2019-10-02","SZT"]
["53115","ZENERGY - RAMA, H1400 X D300 X W1150, 850+300",1062.7,"1-ZE-01","2019-10-02","SZT"]
["53120","ZENERGY - RAMA, H1400 X D300 X W1200",889.1,"1-ZE-01","2019-10-02","SZT"]
["53121","ZENERGY - RAMA, H1400 X D300 X W1200, 150+650+400",1228.2,"1-ZE-01","2019-10-02","SZT"]
["53125","ZENERGY - RAMA, H1400 X D300 X W1250, 850+400",1096,"1-ZE-01","2019-10-02","SZT"]
["53130","ZENERGY - RAMA, H1400 X D300 X W1300",924.6,"1-ZE-01","2019-10-02","SZT"]
["53131","ZENERGY - RAMA, H1400 X D300 X W1300, 650+650",1134.8,"1-ZE-01","2019-10-02","SZT"]
["53150","ZENERGY - RAMA, H1400 X D300 X W1500, 650+850",1179.5999999999999,"1-ZE-01","2019-10-02","SZT"]
["53170","ZENERGY - RAMA, H1400 X D300 X W1700, 850+850",1246.4000000000001,"1-ZE-01","2019-10-02","SZT"]
["54030","ZENERGY - RAMA, H1400 X D400 X W300",603.1,"1-ZE-01","2019-10-02","SZT"]
["54040","ZENERGY - RAMA, H1400 X D400 X W400",638.9,"1-ZE-01","2019-10-02","SZT"]
["54045","ZENERGY - RAMA, H1400 X D400 X W450",656.7,"1-ZE-01","2019-10-02","SZT"]
["54060","ZENERGY - RAMA, H1400 X D400 X W600",710.3,"1-ZE-01","2019-10-02","SZT"]
["54065","ZENERGY - RAMA, H1400 X D400 X W650",728.1,"1-ZE-01","2019-10-02","SZT"]
["54080","ZENERGY - RAMA, H1400 X D400 X W800",781.7,"1-ZE-01","2019-10-02","SZT"]
["54081","ZENERGY - RAMA, H1400 X D400 X W800, 650+150",942.9,"1-ZE-01","2019-10-02","SZT"]
["54085","ZENERGY - RAMA, H1400 X D400 X W850",799.5,"1-ZE-01","2019-10-02","SZT"]
["54086","ZENERGY - RAMA, H1400 X D400 X W850, 650+200",946.8,"1-ZE-01","2019-10-02","SZT"]
["54095","ZENERGY - RAMA, H1400 X D400 X W950, 650+300",1035.5999999999999,"1-ZE-01","2019-10-02","SZT"]
["54100","ZENERGY - RAMA, H1400 X D400 X W1000",852.9,"1-ZE-01","2019-10-02","SZT"]
["54105","ZENERGY - RAMA, H1400 X D400 X W1050, 650+400",1069,"1-ZE-01","2019-10-02","SZT"]
["54110","ZENERGY - RAMA, H1400 X D400 X W1100, 150+650+300",1252.2,"1-ZE-01","2019-10-02","SZT"]
["54111","ZENERGY - RAMA, H1400 X D400 X W1100, 650+450",1085.7,"1-ZE-01","2019-10-02","SZT"]
["54115","ZENERGY - RAMA, H1400 X D400 X W1150, 850+300",1102.4000000000001,"1-ZE-01","2019-10-02","SZT"]
["54120","ZENERGY - RAMA, H1400 X D400 X W1200",924.3,"1-ZE-01","2019-10-02","SZT"]
["54121","ZENERGY - RAMA, H1400 X D400 X W1200, 150+650+400",1285.5,"1-ZE-01","2019-10-02","SZT"]
["54125","ZENERGY - RAMA, H1400 X D400 X W1250, 850+400",1135.7,"1-ZE-01","2019-10-02","SZT"]
["54130","ZENERGY - RAMA, H1400 X D400 X W1300",960,"1-ZE-01","2019-10-02","SZT"]
["54131","ZENERGY - RAMA, H1400 X D400 X W1300, 650+650",1174.2,"1-ZE-01","2019-10-02","SZT"]
["54150","ZENERGY - RAMA, H1400 X D400 X W1500, 650+850",1219.3,"1-ZE-01","2019-10-02","SZT"]
["54170","ZENERGY - RAMA, H1400 X D400 X W1700, 850+850",1286.3,"1-ZE-01","2019-10-02","SZT"]
["55330","ZENERGY - DRZWI PRZEDZIAŁU KABLOWEGO IP30, H1400 X W300",232,"1-ZE-01","2019-10-02","SZT"]
["55340","ZENERGY - DRZWI PRZEDZIAŁU KABLOWEGO IP30, H1400 X W400",240.1,"1-ZE-01","2019-10-02","SZT"]
["56030","ZENERGY - RAMA, H1400 X D600 X W300",870,"1-ZE-01","2019-10-02","SZT"]
["56040","ZENERGY - RAMA, H1400 X D600 X W400",905.7,"1-ZE-01","2019-10-02","SZT"]
["56045","ZENERGY - RAMA, H1400 X D600 X W450",923.5,"1-ZE-01","2019-10-02","SZT"]
["56060","ZENERGY - RAMA, H1400 X D600 X W600",977.1,"1-ZE-01","2019-10-02","SZT"]
["56065","ZENERGY - RAMA, H1400 X D600 X W650",994.9,"1-ZE-01","2019-10-02","SZT"]
["56080","ZENERGY - RAMA, H1400 X D600 X W800",1048.4000000000001,"1-ZE-01","2019-10-02","SZT"]
["56081","ZENERGY - RAMA, H1400 X D600 X W800, 650+150",1342.7,"1-ZE-01","2019-10-02","SZT"]
["56085","ZENERGY - RAMA, H1400 X D600 X W850",1066.2,"1-ZE-01","2019-10-02","SZT"]
["56086","ZENERGY - RAMA, H1400 X D600 X W850, 650+200",1346.7,"1-ZE-01","2019-10-02","SZT"]
["56095","ZENERGY - RAMA, H1400 X D600 X W950, 650+300",1434.3,"1-ZE-01","2019-10-02","SZT"]
["56100","ZENERGY - RAMA, H1400 X D600 X W1000",1119.5999999999999,"1-ZE-01","2019-10-02","SZT"]
["56105","ZENERGY - RAMA, H1400 X D600 X W1050, 650+400",1467.6,"1-ZE-01","2019-10-02","SZT"]
["56110","ZENERGY - RAMA, H1400 X D600 X W1100, 150+650+300",1784.2,"1-ZE-01","2019-10-02","SZT"]
["56115","ZENERGY - RAMA, H1400 X D600 X W1150, 850+300",1501.2,"1-ZE-01","2019-10-02","SZT"]
["56120","ZENERGY - RAMA, H1400 X D600 X W1200",1190.9000000000001,"1-ZE-01","2019-10-02","SZT"]
["56121","ZENERGY - RAMA, H1400 X D600 X W1200, 150+650+400",1817.4,"1-ZE-01","2019-10-02","SZT"]
["56125","ZENERGY - RAMA, H1400 X D600 X W1250, 850+400",1534.4,"1-ZE-01","2019-10-02","SZT"]
["56130","ZENERGY - RAMA, H1400 X D600 X W1300",1226.7,"1-ZE-01","2019-10-02","SZT"]
["56131","ZENERGY - RAMA, H1400 X D600 X W1300, 650+650",1572.9,"1-ZE-01","2019-10-02","SZT"]
["56150","ZENERGY - RAMA, H1400 X D600 X W1500, 650+850",1618,"1-ZE-01","2019-10-02","SZT"]
["56170","ZENERGY - RAMA, H1400 X D600 X W1700, 850+850",1685,"1-ZE-01","2019-10-02","SZT"]
["58030","ZENERGY - RAMA, H1400 X D800 X W300",937.6,"1-ZE-01","2019-10-02","SZT"]
["58040","ZENERGY - RAMA, H1400 X D800 X W400",973.2,"1-ZE-01","2019-10-02","SZT"]
["58045","ZENERGY - RAMA, H1400 X D800 X W450",991.1,"1-ZE-01","2019-10-02","SZT"]
["58060","ZENERGY - RAMA, H1400 X D800 X W600",1044.5999999999999,"1-ZE-01","2019-10-02","SZT"]
["58065","ZENERGY - RAMA, H1400 X D800 X W650",1062.5,"1-ZE-01","2019-10-02","SZT"]
["58080","ZENERGY - RAMA, H1400 X D800 X W800",1116,"1-ZE-01","2019-10-02","SZT"]
["58081","ZENERGY - RAMA, H1400 X D800 X W800, 650+150",1444.2,"1-ZE-01","2019-10-02","SZT"]
["58085","ZENERGY - RAMA, H1400 X D800 X W850",1133.8,"1-ZE-01","2019-10-02","SZT"]
["58086","ZENERGY - RAMA, H1400 X D800 X W850, 650+200",1448.1,"1-ZE-01","2019-10-02","SZT"]
["58095","ZENERGY - RAMA, H1400 X D800 X W950, 650+300",1534.4,"1-ZE-01","2019-10-02","SZT"]
["58100","ZENERGY - RAMA, H1400 X D800 X W1000",1187.4000000000001,"1-ZE-01","2019-10-02","SZT"]
["58105","ZENERGY - RAMA, H1400 X D800 X W1050, 650+400",1568,"1-ZE-01","2019-10-02","SZT"]
["58110","ZENERGY - RAMA, H1400 X D800 X W1100, 150+650+300",1918.2,"1-ZE-01","2019-10-02","SZT"]
["58115","ZENERGY - RAMA, H1400 X D800 X W1150, 850+300",1601.3,"1-ZE-01","2019-10-02","SZT"]
["58120","ZENERGY - RAMA, H1400 X D800 X W1200",1258.8,"1-ZE-01","2019-10-02","SZT"]
["58121","ZENERGY - RAMA, H1400 X D800 X W1200, 150+650+400",1951.4,"1-ZE-01","2019-10-02","SZT"]
["58125","ZENERGY - RAMA, H1400 X D800 X W1250, 850+400",1634.8,"1-ZE-01","2019-10-02","SZT"]
["58130","ZENERGY - RAMA, H1400 X D800 X W1300",1294.3,"1-ZE-01","2019-10-02","SZT"]
["58131","ZENERGY - RAMA, H1400 X D800 X W1300, 650+650",1673.2,"1-ZE-01","2019-10-02","SZT"]
["58150","ZENERGY - RAMA, H1400 X D800 X W1500, 650+850",1718.3,"1-ZE-01","2019-10-02","SZT"]
["58170","ZENERGY - RAMA, H1400 X D800 X W1700, 850+850",1785.4,"1-ZE-01","2019-10-02","SZT"]
["59223","ZENERGY - OSŁONY BOCZNE WENTYLOWANE IP30, H1400 X D230",501.4,"1-ZE-01","2019-10-02","SZT"]
["59224","ZENERGY - OSŁONY BOCZNE WENTYLOWANE, STAŁE IP30, H1400 X D230",243.3,"1-ZE-01","2019-10-02","SZT"]
["59225","ZENERGY - OSŁONY BOCZNE WENTYLOWANE, PŁASKIE, PRZYKRĘCANE IP30, H1400 X D230",243.3,"1-ZE-01","2019-10-02","SZT"]
["59230","ZENERGY - OSŁONY BOCZNE WENTYLOWANE IP30, H1400 X D300",519.1,"1-ZE-01","2019-10-02","SZT"]
["59231","ZENERGY - OSŁONY BOCZNE WENTYLOWANE, STAŁE IP30, H1400 X D300",261.3,"1-ZE-01","2019-10-02","SZT"]
["59232","ZENERGY - OSŁONY BOCZNE WENTYLOWANE, PŁASKIE, PRZYKRĘCANE IP30, H1400 X D300",261.3,"1-ZE-01","2019-10-02","SZT"]
["59240","ZENERGY - OSŁONY BOCZNE WENTYLOWANE IP30, H1400 X D400",537.1,"1-ZE-01","2019-10-02","SZT"]
["59241","ZENERGY - OSŁONY BOCZNE WENTYLOWANE, STAŁE IP30, H1400 X D400",279.3,"1-ZE-01","2019-10-02","SZT"]
["59242","ZENERGY - OSŁONY BOCZNE WENTYLOWANE, PŁASKIE, PRZYKRĘCANE IP30, H1400 X D400",279.3,"1-ZE-01","2019-10-02","SZT"]
["59260","ZENERGY - OSŁONY BOCZNE WENTYLOWANE IP30, H1400 X D600",555.29999999999995,"1-ZE-01","2019-10-02","SZT"]
["59261","ZENERGY - OSŁONY BOCZNE WENTYLOWANE, STAŁE IP30, H1400 X D600",297.10000000000002,"1-ZE-01","2019-10-02","SZT"]
["59262","ZENERGY - OSŁONY BOCZNE WENTYLOWANE, PŁASKIE, PRZYKRĘCANE IP30, H1400 X D600",297.10000000000002,"1-ZE-01","2019-10-02","SZT"]
["59280","ZENERGY - OSŁONY BOCZNE WENTYLOWANE IP30, H1400 X D800",574.70000000000005,"1-ZE-01","2019-10-02","SZT"]
["59281","ZENERGY - OSŁONY BOCZNE WENTYLOWANE, STAŁE IP30, H1400 X D800",316.7,"1-ZE-01","2019-10-02","SZT"]
["59282","ZENERGY - OSŁONY BOCZNE WENTYLOWANE, PŁASKIE, PRZYKRĘCANE IP30, H1400 X D800",316.7,"1-ZE-01","2019-10-02","SZT"]
["59323","ZENERGY - OSŁONY BOCZNE PEŁNE IP30, H1400 X D230",444,"1-ZE-01","2019-10-02","SZT"]
["59324","ZENERGY - OSŁONY BOCZNE PEŁNE, STAŁE IP30, H1400 X D230",186.1,"1-ZE-01","2019-10-02","SZT"]
["59325","ZENERGY - OSŁONY BOCZNE PEŁNE, PŁASKIE, PRZYKRĘCANE IP30, H1400 X D230",186.1,"1-ZE-01","2019-10-02","SZT"]
["59327","ZENERGY - PRZEGRODA ODDZIELAJĄCA PIONOWA, OCYNK,  H1400 X D230",93.1,"1-ZE-01","2019-10-02","SZT"]
["59330","ZENERGY - OSŁONY BOCZNE PEŁNE IP30, H1400 X D300",462.2,"1-ZE-01","2019-10-02","SZT"]
["59331","ZENERGY - OSŁONY BOCZNE PEŁNE, STAŁE IP30, H1400 X D300",204,"1-ZE-01","2019-10-02","SZT"]
["59332","ZENERGY - OSŁONY BOCZNE PEŁNE, PŁASKIE, PRZYKRĘCANE IP30, H1400 X D300",204,"1-ZE-01","2019-10-02","SZT"]
["59335","ZENERGY - PRZEGRODA ODDZIELAJĄCA PIONOWA, OCYNK,  H1400 X D300",102.1,"1-ZE-01","2019-10-02","SZT"]
["59340","ZENERGY - OSŁONY BOCZNE PEŁNE IP30, H1400 X D400",478.3,"1-ZE-01","2019-10-02","SZT"]
["59341","ZENERGY - OSŁONY BOCZNE PEŁNE, STAŁE IP30, H1400 X D400",220.5,"1-ZE-01","2019-10-02","SZT"]
["59342","ZENERGY - OSŁONY BOCZNE PEŁNE, PŁASKIE, PRZYKRĘCANE IP30, H1400 X D400",220.5,"1-ZE-01","2019-10-02","SZT"]
["59345","ZENERGY - PRZEGRODA ODDZIELAJĄCA PIONOWA, OCYNK,  H1400 X D400",110.2,"1-ZE-01","2019-10-02","SZT"]
["59360","ZENERGY - OSŁONY BOCZNE PEŁNE IP30, H1400 X D600",517.6,"1-ZE-01","2019-10-02","SZT"]
["59361","ZENERGY - OSŁONY BOCZNE PEŁNE, STAŁE IP30, H1400 X D600",257.89999999999998,"1-ZE-01","2019-10-02","SZT"]
["59362","ZENERGY - OSŁONY BOCZNE PEŁNE, PŁASKIE, PRZYKRĘCANE IP30, H1400 X D600",257.89999999999998,"1-ZE-01","2019-10-02","SZT"]
["59365","ZENERGY - PRZEGRODA ODDZIELAJĄCA PIONOWA, OCYNK,  H1400 X D600",129,"1-ZE-01","2019-10-02","SZT"]
["59380","ZENERGY - OSŁONY BOCZNE PEŁNE IP30, H1400 X D800",555.29999999999995,"1-ZE-01","2019-10-02","SZT"]
["59381","ZENERGY - OSŁONY BOCZNE PEŁNE, STAŁE IP30, H1400 X D800",297.10000000000002,"1-ZE-01","2019-10-02","SZT"]
["59382","ZENERGY - OSŁONY BOCZNE PEŁNE, PŁASKIE, PRZYKRĘCANE IP30, H1400 X D800",297.10000000000002,"1-ZE-01","2019-10-02","SZT"]
["59385","ZENERGY - PRZEGRODA ODDZIELAJĄCA PIONOWA, OCYNK,  H1400 X D800",148.5,"1-ZE-01","2019-10-02","SZT"]
["59423","ZENERGY - OSŁONY BOCZNE WENTYLOWANE IP43, H1400 X D230",440.8,"1-ZE-01","2019-10-02","SZT"]
["59424","ZENERGY - OSŁONY BOCZNE WENTYLOWANE, STAŁE IP43, H1400 X D230",182.8,"1-ZE-01","2019-10-02","SZT"]
["59425","ZENERGY - OSŁONY BOCZNE WENTYLOWANE, PŁASKIE, PRZYKRĘCANE IP43, H1400 X D230",305.5,"1-ZE-01","2019-10-02","SZT"]
["59430","ZENERGY - OSŁONY BOCZNE WENTYLOWANE IP43, H1400 X D300",574.70000000000005,"1-ZE-01","2019-10-02","SZT"]
["59431","ZENERGY - OSŁONY BOCZNE WENTYLOWANE, STAŁE IP43, H1400 X D300",316.7,"1-ZE-01","2019-10-02","SZT"]
["59432","ZENERGY - OSŁONY BOCZNE WENTYLOWANE, PŁASKIE, PRZYKRĘCANE IP43, H1400 X D300",316.7,"1-ZE-01","2019-10-02","SZT"]
["59440","ZENERGY - OSŁONY BOCZNE WENTYLOWANE IP43, H1400 X D400",594.4,"1-ZE-01","2019-10-02","SZT"]
["59441","ZENERGY - OSŁONY BOCZNE WENTYLOWANE, STAŁE IP43, H1400 X D400",336.3,"1-ZE-01","2019-10-02","SZT"]
["59442","ZENERGY - OSŁONY BOCZNE WENTYLOWANE, PŁASKIE, PRZYKRĘCANE IP43, H1400 X D400",336.3,"1-ZE-01","2019-10-02","SZT"]
["59460","ZENERGY - OSŁONY BOCZNE WENTYLOWANE IP43, H1400 X D600",625.29999999999995,"1-ZE-01","2019-10-02","SZT"]
["59461","ZENERGY - OSŁONY BOCZNE WENTYLOWANE, STAŁE IP43, H1400 X D600",367.3,"1-ZE-01","2019-10-02","SZT"]
["59462","ZENERGY - OSŁONY BOCZNE WENTYLOWANE, PŁASKIE, PRZYKRĘCANE IP43, H1400 X D600",367.3,"1-ZE-01","2019-10-02","SZT"]
["59480","ZENERGY - OSŁONY BOCZNE WENTYLOWANE IP43, H1400 X D800",641.70000000000005,"1-ZE-01","2019-10-02","SZT"]
["59481","ZENERGY - OSŁONY BOCZNE WENTYLOWANE, STAŁE IP43, H1400 X D800",383.8,"1-ZE-01","2019-10-02","SZT"]
["59482","ZENERGY - OSŁONY BOCZNE WENTYLOWANE, PŁASKIE, PRZYKRĘCANE IP43, H1400 X D800",383.8,"1-ZE-01","2019-10-02","SZT"]
["59523","ZENERGY - OSŁONY BOCZNE PEŁNE IP55, H1400 X D230",498,"1-ZE-01","2019-10-02","SZT"]
["59530","ZENERGY - OSŁONY BOCZNE PEŁNE IP55, H1400 X D300",517.6,"1-ZE-01","2019-10-02","SZT"]
["59540","ZENERGY - OSŁONY BOCZNE PEŁNE IP55, H1400 X D400",537.1,"1-ZE-01","2019-10-02","SZT"]
["59560","ZENERGY - OSŁONY BOCZNE PEŁNE IP55, H1400 X D600",579.70000000000005,"1-ZE-01","2019-10-02","SZT"]
["59580","ZENERGY - OSŁONY BOCZNE PEŁNE IP55, H1400 X D800",622.1,"1-ZE-01","2019-10-02","SZT"]
["60110","ZENERGY - RAMA OSŁON CZOŁOWYCH NA ZAWIASACH H1600 W1000",372.3,"1-ZE-01","2019-10-02","SZT"]
["60111","ZENERGY - RAMA OSŁON CZOŁOWYCH NA ZAWIASACH H1600 W1000 DO PLOMBOWANIA",391.5,"1-ZE-01","2019-10-02","SZT"]
["60140","ZENERGY - RAMA OSŁON CZOŁOWYCH NA ZAWIASACH H1600 W400",246.6,"1-ZE-01","2019-10-02","SZT"]
["60141","ZENERGY - RAMA OSŁON CZOŁOWYCH NA ZAWIASACH H1600 W400 DO PLOMBOWANIA",262.7,"1-ZE-01","2019-10-02","SZT"]
["60145","ZENERGY - RAMA OSŁON CZOŁOWYCH NA ZAWIASACH H1600 W450",257.89999999999998,"1-ZE-01","2019-10-02","SZT"]
["60146","ZENERGY - RAMA OSŁON CZOŁOWYCH NA ZAWIASACH H1600 W450 DO PLOMBOWANIA",274.39999999999998,"1-ZE-01","2019-10-02","SZT"]
["60165","ZENERGY - RAMA OSŁON CZOŁOWYCH NA ZAWIASACH H1600 W650",290.8,"1-ZE-01","2019-10-02","SZT"]
["60166","ZENERGY - RAMA OSŁON CZOŁOWYCH NA ZAWIASACH H1600 W650 DO PLOMBOWANIA",307.89999999999998,"1-ZE-01","2019-10-02","SZT"]
["60170","ZENERGY IT - DWA WSPORNIKI PIONOWE MODUŁU \"U\" 19-CALI NA WKRĘTY SAMOFORMUJĄCE, SZAFY H1600 W650",323.3,"1-ZE-01","2019-10-02","SZT"]
["60180","ZENERGY - RAMA OSŁON CZOŁOWYCH NA ZAWIASACH H1600 W800",324.3,"1-ZE-01","2019-10-02","SZT"]
["60185","ZENERGY - RAMA OSŁON CZOŁOWYCH NA ZAWIASACH H1600 W850",337.9,"1-ZE-01","2019-10-02","SZT"]
["60186","ZENERGY - RAMA OSŁON CZOŁOWYCH NA ZAWIASACH H1600 W850 DO PLOMBOWANIA",356.2,"1-ZE-01","2019-10-02","SZT"]
["60210","ZENERGY - DRZWI WENTYLOWANE IP30, H1600 X W1000",1197.9000000000001,"1-ZE-01","2019-10-02","SZT"]
["60212","ZENERGY - DRZWI WENTYLOWANE IP30, H1600 X W1200, PODWÓJNE",1919.4,"1-ZE-01","2019-10-02","SZT"]
["60213","ZENERGY - DRZWI WENTYLOWANE IP30, H1600 X W1300, PODWÓJNE",1933.8,"1-ZE-01","2019-10-02","SZT"]
["60214","ZENERGY - DRZWI WENTYLOWANE IP30, H1600 X W1050",1258.5999999999999,"1-ZE-01","2019-10-02","SZT"]
["60230","ZENERGY - DRZWI WENTYLOWANE IP30, H1600 X W300",721.5,"1-ZE-01","2019-10-02","SZT"]
["60240","ZENERGY - DRZWI WENTYLOWANE IP30, H1600 X W400",790,"1-ZE-01","2019-10-02","SZT"]
["60245","ZENERGY - DRZWI WENTYLOWANE IP30, H1600 X W450",828.3,"1-ZE-01","2019-10-02","SZT"]
["60260","ZENERGY - DRZWI WENTYLOWANE IP30, H1600 X W600",930.3,"1-ZE-01","2019-10-02","SZT"]
["60265","ZENERGY - DRZWI WENTYLOWANE IP30, H1600 X W650",958.9,"1-ZE-01","2019-10-02","SZT"]
["60280","ZENERGY - DRZWI WENTYLOWANE IP30, H1600 X W800",1062.5,"1-ZE-01","2019-10-02","SZT"]
["60285","ZENERGY - DRZWI WENTYLOWANE IP30, H1600 X W850",1095.9000000000001,"1-ZE-01","2019-10-02","SZT"]
["60295","ZENERGY - DRZWI WENTYLOWANE IP30, H1600 X W950",1139,"1-ZE-01","2019-10-02","SZT"]
["60310","ZENERGY - DRZWI PEŁNE IP30, H1600 X W1000",1158.0999999999999,"1-ZE-01","2019-10-02","SZT"]
["60312","ZENERGY - DRZWI PEŁNE IP30, H1600 X W1200, PODWÓJNE",1839.9,"1-ZE-01","2019-10-02","SZT"]
["60313","ZENERGY - DRZWI PEŁNE IP30, H1600 X W1300, PODWÓJNE",1855.8,"1-ZE-01","2019-10-02","SZT"]
["60314","ZENERGY - DRZWI PEŁNE IP30, H1600 X W1050",1217,"1-ZE-01","2019-10-02","SZT"]
["60330","ZENERGY - DRZWI PEŁNE IP30, H1600 X W300",681.8,"1-ZE-01","2019-10-02","SZT"]
["60340","ZENERGY - DRZWI PEŁNE IP30, H1600 X W400",736,"1-ZE-01","2019-10-02","SZT"]
["60345","ZENERGY - DRZWI PEŁNE IP30, H1600 X W450",786.9,"1-ZE-01","2019-10-02","SZT"]
["60360","ZENERGY - DRZWI PEŁNE IP30, H1600 X W600",868.8,"1-ZE-01","2019-10-02","SZT"]
["60365","ZENERGY - DRZWI PEŁNE IP30, H1600 X W650",920.8,"1-ZE-01","2019-10-02","SZT"]
["60371","ZENERGY - SŁUPEK OCYNK, H1600, RAMA ZEWNĘTRZNA",50.9,"1-ZE-01","2019-10-02","SZT"]
["60372","ZENERGY - SŁUPEK OCYNK, H1600, RAMA WEWNĘTRZNA",57.7,"1-ZE-01","2019-10-02","SZT"]
["60373","ZENERGY - SŁUPEK INOX, H1600, RAMA ZEWNĘTRZNA",107.2,"1-ZE-01","2019-10-02","SZT"]
["60374","ZENERGY - SŁUPEK INOX, H1600, RAMA WEWNETRZNA",113.6,"1-ZE-01","2019-10-02","SZT"]
["60380","ZENERGY - DRZWI PEŁNE IP30, H1600 X W800",1004.8,"1-ZE-01","2019-10-02","SZT"]
["60385","ZENERGY - DRZWI PEŁNE IP30, H1600 X W850",1037.5999999999999,"1-ZE-01","2019-10-02","SZT"]
["60395","ZENERGY - DRZWI PEŁNE IP30, H1600 X W950",1100.8,"1-ZE-01","2019-10-02","SZT"]
["60410","ZENERGY - DRZWI WENTYLOWANE IP43, H1600 X W1000",1272.7,"1-ZE-01","2019-10-02","SZT"]
["60412","ZENERGY - DRZWI WENTYLOWANE IP43, H1600 X W1200, PODWÓJNE",2051.6999999999998,"1-ZE-01","2019-10-02","SZT"]
["60413","ZENERGY - DRZWI WENTYLOWANE IP43, H1600 X W1300, PODWÓJNE",2061.1999999999998,"1-ZE-01","2019-10-02","SZT"]
["60414","ZENERGY - DRZWI WENTYLOWANE IP43, H1600 X W1050",1336.5,"1-ZE-01","2019-10-02","SZT"]
["60430","ZENERGY - DRZWI WENTYLOWANE IP43, H1600 X W300",777.3,"1-ZE-01","2019-10-02","SZT"]
["60440","ZENERGY - DRZWI WENTYLOWANE IP43, H1600 X W400",847.5,"1-ZE-01","2019-10-02","SZT"]
["60445","ZENERGY - DRZWI WENTYLOWANE IP43, H1600 X W450",1086.3,"1-ZE-01","2019-10-02","SZT"]
["60460","ZENERGY - DRZWI WENTYLOWANE IP43, H1600 X W600",1000.3,"1-ZE-01","2019-10-02","SZT"]
["60465","ZENERGY - DRZWI WENTYLOWANE IP43, H1600 X W650",1026,"1-ZE-01","2019-10-02","SZT"]
["60480","ZENERGY - DRZWI WENTYLOWANE IP43, H1600 X W800",1131,"1-ZE-01","2019-10-02","SZT"]
["60485","ZENERGY - DRZWI WENTYLOWANE IP43, H1600 X W850",1166.0999999999999,"1-ZE-01","2019-10-02","SZT"]
["60495","ZENERGY - DRZWI WENTYLOWANE IP43, H1600 X W950",1210.7,"1-ZE-01","2019-10-02","SZT"]
["60510","ZENERGY - DRZWI PEŁNE IP55, H1600 X W1000",1232.9000000000001,"1-ZE-01","2019-10-02","SZT"]
["60511","ZENERGY - DRZWI PEŁNE IP55, H1600 X W1000, PODWÓJNE",1602.5,"1-ZE-01","2019-10-02","SZT"]
["60512","ZENERGY - DRZWI PEŁNE IP55, H1600 X W1200, PODWÓJNE",1777.7,"1-ZE-01","2019-10-02","SZT"]
["60513","ZENERGY - DRZWI PEŁNE IP55, H1600 X W1300, PODWÓJNE",1983.2,"1-ZE-01","2019-10-02","SZT"]
["60514","ZENERGY - DRZWI PEŁNE IP55, H1600 X W1050",1295,"1-ZE-01","2019-10-02","SZT"]
["60530","ZENERGY - DRZWI PEŁNE IP55, H1600 X W300",739.1,"1-ZE-01","2019-10-02","SZT"]
["60540","ZENERGY - DRZWI PEŁNE IP55, H1600 X W400",809.2,"1-ZE-01","2019-10-02","SZT"]
["60545","ZENERGY - DRZWI PEŁNE IP55, H1600 X W450",850.7,"1-ZE-01","2019-10-02","SZT"]
["60560","ZENERGY - DRZWI PEŁNE IP55, H1600 X W600",955.8,"1-ZE-01","2019-10-02","SZT"]
["60565","ZENERGY - DRZWI PEŁNE IP55, H1600 X W650",985.9,"1-ZE-01","2019-10-02","SZT"]
["60580","ZENERGY - DRZWI PEŁNE IP55, H1600 X W800",1092.8,"1-ZE-01","2019-10-02","SZT"]
["60585","ZENERGY - DRZWI PEŁNE IP55, H1600 X W850",1127.7,"1-ZE-01","2019-10-02","SZT"]
["60595","ZENERGY - DRZWI PEŁNE IP55, H1600 X W950",1172.3,"1-ZE-01","2019-10-02","SZT"]
["60610","ZENERGY - DRZWI PRZESZKLONE IP55, H1600 X W1000",1530.9,"1-ZE-01","2019-10-02","SZT"]
["60612","ZENERGY - DRZWI PRZESZKLONE IP55, H1600 X W1200, PODWÓJNE",2325.6999999999998,"1-ZE-01","2019-10-02","SZT"]
["60613","ZENERGY - DRZWI PRZESZKLONE IP55, H1600 X W1300, PODWÓJNE",2355.9,"1-ZE-01","2019-10-02","SZT"]
["60640","ZENERGY - DRZWI PRZESZKLONE IP55, H1600 X W400",914.3,"1-ZE-01","2019-10-02","SZT"]
["60645","ZENERGY - DRZWI PRZESZKLONE IP55, H1600 X W450",958.9,"1-ZE-01","2019-10-02","SZT"]
["60660","ZENERGY - DRZWI PRZESZKLONE IP55, H1600 X W600",1137.3,"1-ZE-01","2019-10-02","SZT"]
["60665","ZENERGY - DRZWI PRZESZKLONE IP55, H1600 X W650",1178.7,"1-ZE-01","2019-10-02","SZT"]
["60680","ZENERGY - DRZWI PRZESZKLONE IP55, H1600 X W800",1328.6,"1-ZE-01","2019-10-02","SZT"]
["60685","ZENERGY - DRZWI PRZESZKLONE IP55, H1600 X W850",1379.6,"1-ZE-01","2019-10-02","SZT"]
["60695","ZENERGY - DRZWI PRZESZKLONE IP55, H1600 X W950",1454.4,"1-ZE-01","2019-10-02","SZT"]
["60742","ZENERGY - SŁUPEK OCYNK, H1600, RAMA WEWNĘTRZNA, PODWÓJNA",66.8,"1-ZE-01","2019-10-02","SZT"]
["60744","ZENERGY - SŁUPEK INOX, H1600, RAMA WEWNĘTRZNA, PODWÓJNA",140.5,"1-ZE-01","2019-10-02","SZT"]
["60745","ZENERGY - RAMA UCHYLNA ROZŁĄCZNIKÓW LISTWOWYCH 3X EFEN 160-630, H1600 X W450, 19+9M, ANALIZATORY 3X 96X96MM",494.6,"1-ZE-01","2019-10-02","SZT"]
["60746","ZENERGY - RAMA UCHYLNA ROZŁĄCZNIKÓW LISTWOWYCH 3X EFEN 160-630, H1600 X W450, 19+9M, ANALIZATORY 3X 96X96MM DO PLOMBOWANIA",505.5,"1-ZE-01","2019-10-02","SZT"]
["60765","ZENERGY - RAMA UCHYLNA ROZŁĄCZNIKÓW LISTWOWYCH 5X EFEN 160-630, H1600 X W650, 19+9M, ANALIZATORY 5X 96X96MM",562.4,"1-ZE-01","2019-10-02","SZT"]
["60766","ZENERGY - RAMA UCHYLNA ROZŁĄCZNIKÓW LISTWOWYCH 5X EFEN 160-630, H1600 X W650, 19+9M, ANALIZATORY 5X 96X96MM DO PLOMBOWANIA",573.4,"1-ZE-01","2019-10-02","SZT"]
["60785","ZENERGY - RAMA UCHYLNA ROZŁĄCZNIKÓW LISTWOWYCH 7X EFEN 160-630, H1600 X W850, 19+9M, ANALIZATORY 7X 96X96MM",628.4,"1-ZE-01","2019-10-02","SZT"]
["60786","ZENERGY - RAMA UCHYLNA ROZŁĄCZNIKÓW LISTWOWYCH 7X EFEN 160-630, H1600 X W850, 19+9M, ANALIZATORY 7X 96X96MM DO PLOMBOWANIA",641.20000000000005,"1-ZE-01","2019-10-02","SZT"]
["60845","ZENERGY - RAMA UCHYLNA ROZŁĄCZNIKÓW LISTWOWYCH 3X EFEN 160-630, H1600 X W450, 22+6M",404.9,"1-ZE-01","2019-10-02","SZT"]
["60846","ZENERGY - RAMA UCHYLNA ROZŁĄCZNIKÓW LISTWOWYCH 3X EFEN 160-630, H1600 X W450, 22+6M DO PLOMBOWANIA",415.8,"1-ZE-01","2019-10-02","SZT"]
["60865","ZENERGY - RAMA UCHYLNA ROZŁĄCZNIKÓW LISTWOWYCH 5X EFEN 160-630, H1600 X W650, 22+6M",472.5,"1-ZE-01","2019-10-02","SZT"]
["60866","ZENERGY - RAMA UCHYLNA ROZŁĄCZNIKÓW LISTWOWYCH 5X EFEN 160-630, H1600 X W650, 22+6M DO PLOMBOWANIA",483.6,"1-ZE-01","2019-10-02","SZT"]
["60885","ZENERGY - RAMA UCHYLNA ROZŁĄCZNIKÓW LISTWOWYCH 7X EFEN 160-630, H1600 X W850, 22+6M",538.5,"1-ZE-01","2019-10-02","SZT"]
["60886","ZENERGY - RAMA UCHYLNA ROZŁĄCZNIKÓW LISTWOWYCH 7X EFEN 160-630, H1600 X W850, 22+6M DO PLOMBOWANIA",551.4,"1-ZE-01","2019-10-02","SZT"]
["60910","ZENERGY - PŁYTA MONTAŻOWA PEŁNA H1600 X W1000 + WSPORNIKI,  ( 1450 X 900 )",764.1,"1-ZE-01","2019-10-02","SZT"]
["60912","ZENERGY - PŁYTA MONTAŻOWA PEŁNA H1600 X W1200 + WSPORNIKI,  ( 1450 X 1100 )",897.9,"1-ZE-01","2019-10-02","SZT"]
["60913","ZENERGY - PŁYTA MONTAŻOWA PEŁNA H1600 X W1300 + WSPORNIKI,  ( 1450 X 1200 )",965.3,"1-ZE-01","2019-10-02","SZT"]
["60930","ZENERGY - PŁYTA MONTAŻOWA PEŁNA H1600 X W300 + WSPORNIKI,  ( 1450 X 200 )",299.3,"1-ZE-01","2019-10-02","SZT"]
["60940","ZENERGY - PŁYTA MONTAŻOWA PEŁNA H1600 X W400 + WSPORNIKI,  ( 1450 X 300 )",366.9,"1-ZE-01","2019-10-02","SZT"]
["60945","ZENERGY - PŁYTA MONTAŻOWA PEŁNA H1600 X W450 + WSPORNIKI,  ( 1450 X 350 )",393.7,"1-ZE-01","2019-10-02","SZT"]
["60960","ZENERGY - PŁYTA MONTAŻOWA PEŁNA H1600 X W600 + WSPORNIKI,  ( 1450 X 500 )",507.8,"1-ZE-01","2019-10-02","SZT"]
["60965","ZENERGY - PŁYTA MONTAŻOWA PEŁNA H1600 X W650 + WSPORNIKI,  ( 1450 X 550 )",532.5,"1-ZE-01","2019-10-02","SZT"]
["60980","ZENERGY - PŁYTA MONTAŻOWA PEŁNA H1600 X W800 + WSPORNIKI,  ( 1450 X 700 )",632.29999999999995,"1-ZE-01","2019-10-02","SZT"]
["60985","ZENERGY - PŁYTA MONTAŻOWA PEŁNA H1600 X W850 + WSPORNIKI,  ( 1450 X 750 )",666.2,"1-ZE-01","2019-10-02","SZT"]
["60995","ZENERGY - PEŁNY ŁĄCZNIK PŁYT MONTAŻOWYCH H1600,  ( 1450 X 98 )",165.6,"1-ZE-01","2019-10-02","SZT"]
["61110","ZENERGY - DRZWI PRZESZKLONE IP30, H1600 X W1000",1377.7,"1-ZE-01","2019-10-02","SZT"]
["61112","ZENERGY - DRZWI PRZESZKLONE IP30, H1600 X W1200, PODWÓJNE",2093.1,"1-ZE-01","2019-10-02","SZT"]
["61113","ZENERGY - DRZWI PRZESZKLONE IP30, H1600 X W1300, PODWÓJNE",2120.3000000000002,"1-ZE-01","2019-10-02","SZT"]
["61140","ZENERGY - DRZWI PRZESZKLONE IP30, H1600 X W400",823,"1-ZE-01","2019-10-02","SZT"]
["61145","ZENERGY - DRZWI PRZESZKLONE IP30, H1600 X W450",863.1,"1-ZE-01","2019-10-02","SZT"]
["61160","ZENERGY - DRZWI PRZESZKLONE IP30, H1600 X W600",1023.7,"1-ZE-01","2019-10-02","SZT"]
["61165","ZENERGY - DRZWI PRZESZKLONE IP30, H1600 X W650",1060.9000000000001,"1-ZE-01","2019-10-02","SZT"]
["61180","ZENERGY - DRZWI PRZESZKLONE IP30, H1600 X W800",1195.5999999999999,"1-ZE-01","2019-10-02","SZT"]
["61185","ZENERGY - DRZWI PRZESZKLONE IP30, H1600 X W850",1241.7,"1-ZE-01","2019-10-02","SZT"]
["61210","ZENERGY - OSŁONA TYLNA PEŁNA IP30, H1600 X W1000",600.79999999999995,"1-ZE-01","2019-10-02","SZT"]
["61211","ZENERGY - OSŁONA TYLNA PEŁNA IP30, H1600 X W850+200",664.6,"1-ZE-01","2019-10-02","SZT"]
["61212","ZENERGY - OSŁONA TYLNA PEŁNA IP30, H1600 X W1200",881.8,"1-ZE-01","2019-10-02","SZT"]
["61213","ZENERGY - OSŁONA TYLNA PEŁNA IP30, H1600 X W1300",920.9,"1-ZE-01","2019-10-02","SZT"]
["61230","ZENERGY - OSŁONA TYLNA PEŁNA IP30, H1600 X W300",236.8,"1-ZE-01","2019-10-02","SZT"]
["61240","ZENERGY - OSŁONA TYLNA PEŁNA IP30, H1600 X W400",337.9,"1-ZE-01","2019-10-02","SZT"]
["61245","ZENERGY - OSŁONA TYLNA PEŁNA IP30, H1600 X W450",354.4,"1-ZE-01","2019-10-02","SZT"]
["61260","ZENERGY - OSŁONA TYLNA PEŁNA IP30, H1600 X W600",436,"1-ZE-01","2019-10-02","SZT"]
["61265","ZENERGY - OSŁONA TYLNA PEŁNA IP30, H1600 X W650",460.4,"1-ZE-01","2019-10-02","SZT"]
["61280","ZENERGY - OSŁONA TYLNA PEŁNA IP30, H1600 X W800",521,"1-ZE-01","2019-10-02","SZT"]
["61285","ZENERGY - OSŁONA TYLNA PEŁNA IP30, H1600 X W850",540.5,"1-ZE-01","2019-10-02","SZT"]
["61295","ZENERGY - OSŁONA TYLNA PEŁNA IP30, H1600 X W650+300",584.5,"1-ZE-01","2019-10-02","SZT"]
["61310","ZENERGY - OSŁONA TYLNA WENTYLOWANA IP30, H1600 X W1000",641.70000000000005,"1-ZE-01","2019-10-02","SZT"]
["61311","ZENERGY - OSŁONA TYLNA WENTYLOWANA IP30, H1600 X W850+200",744.5,"1-ZE-01","2019-10-02","SZT"]
["61312","ZENERGY - OSŁONA TYLNA WENTYLOWANA IP30, H1600 X W1200",961.6,"1-ZE-01","2019-10-02","SZT"]
["61313","ZENERGY - OSŁONA TYLNA WENTYLOWANA IP30, H1600 X W1300",1000.7,"1-ZE-01","2019-10-02","SZT"]
["61330","ZENERGY - OSŁONA TYLNA WENTYLOWANA IP30, H1600 X W300",297.10000000000002,"1-ZE-01","2019-10-02","SZT"]
["61340","ZENERGY - OSŁONA TYLNA WENTYLOWANA IP30, H1600 X W400",398.4,"1-ZE-01","2019-10-02","SZT"]
["61345","ZENERGY - OSŁONA TYLNA WENTYLOWANA IP30, H1600 X W450",418,"1-ZE-01","2019-10-02","SZT"]
["61360","ZENERGY - OSŁONA TYLNA WENTYLOWANA IP30, H1600 X W600",494.7,"1-ZE-01","2019-10-02","SZT"]
["61365","ZENERGY - OSŁONA TYLNA WENTYLOWANA IP30, H1600 X W650",521,"1-ZE-01","2019-10-02","SZT"]
["61380","ZENERGY - OSŁONA TYLNA WENTYLOWANA IP30, H1600 X W800",581.20000000000005,"1-ZE-01","2019-10-02","SZT"]
["61385","ZENERGY - OSŁONA TYLNA WENTYLOWANA IP30, H1600 X W850",600.79999999999995,"1-ZE-01","2019-10-02","SZT"]
["61395","ZENERGY - OSŁONA TYLNA WENTYLOWANA IP30, H1600 X W650+300",664.6,"1-ZE-01","2019-10-02","SZT"]
["61410","ZENERGY - OSŁONA TYLNA WENTYLOWANA IP43, H1600 X W1000",716.9,"1-ZE-01","2019-10-02","SZT"]
["61411","ZENERGY - OSŁONA TYLNA WENTYLOWANA IP43, H1600 X W850+200",835.9,"1-ZE-01","2019-10-02","SZT"]
["61412","ZENERGY - OSŁONA TYLNA WENTYLOWANA IP43, H1600 X W1200",1092.3,"1-ZE-01","2019-10-02","SZT"]
["61413","ZENERGY - OSŁONA TYLNA WENTYLOWANA IP43, H1600 X W1300",1134.9000000000001,"1-ZE-01","2019-10-02","SZT"]
["61430","ZENERGY - OSŁONA TYLNA WENTYLOWANA IP43, H1600 X W300",354.4,"1-ZE-01","2019-10-02","SZT"]
["61440","ZENERGY - OSŁONA TYLNA WENTYLOWANA IP43, H1600 X W400",458.8,"1-ZE-01","2019-10-02","SZT"]
["61445","ZENERGY - OSŁONA TYLNA WENTYLOWANA IP43, H1600 X W450",480.1,"1-ZE-01","2019-10-02","SZT"]
["61460","ZENERGY - OSŁONA TYLNA WENTYLOWANA IP43, H1600 X W600",556.70000000000005,"1-ZE-01","2019-10-02","SZT"]
["61465","ZENERGY - OSŁONA TYLNA WENTYLOWANA IP43, H1600 X W650",586.20000000000005,"1-ZE-01","2019-10-02","SZT"]
["61480","ZENERGY - OSŁONA TYLNA WENTYLOWANA IP43, H1600 X W800",651.5,"1-ZE-01","2019-10-02","SZT"]
["61485","ZENERGY - OSŁONA TYLNA WENTYLOWANA IP43, H1600 X W850",672.8,"1-ZE-01","2019-10-02","SZT"]
["61495","ZENERGY - OSŁONA TYLNA WENTYLOWANA IP43, H1600 X W650+300",752.7,"1-ZE-01","2019-10-02","SZT"]
["61510","ZENERGY - OSŁONA TYLNA PEŁNA IP55, H1600 X W1000",677.6,"1-ZE-01","2019-10-02","SZT"]
["61511","ZENERGY - OSŁONA TYLNA PEŁNA IP55, H1600 X W850+200",741.4,"1-ZE-01","2019-10-02","SZT"]
["61512","ZENERGY - OSŁONA TYLNA PEŁNA IP55, H1600 X W1200",757.7,"1-ZE-01","2019-10-02","SZT"]
["61513","ZENERGY - OSŁONA TYLNA PEŁNA IP55, H1600 X W1300",1054.7,"1-ZE-01","2019-10-02","SZT"]
["61530","ZENERGY - OSŁONA TYLNA PEŁNA IP55, H1600 X W300",294.10000000000002,"1-ZE-01","2019-10-02","SZT"]
["61540","ZENERGY - OSŁONA TYLNA PEŁNA IP55, H1600 X W400",398.4,"1-ZE-01","2019-10-02","SZT"]
["61545","ZENERGY - OSŁONA TYLNA PEŁNA IP55, H1600 X W450",418,"1-ZE-01","2019-10-02","SZT"]
["61560","ZENERGY - OSŁONA TYLNA PEŁNA IP55, H1600 X W600",501.4,"1-ZE-01","2019-10-02","SZT"]
["61565","ZENERGY - OSŁONA TYLNA PEŁNA IP55, H1600 X W650",527.5,"1-ZE-01","2019-10-02","SZT"]
["61580","ZENERGY - OSŁONA TYLNA PEŁNA IP55, H1600 X W800",591.1,"1-ZE-01","2019-10-02","SZT"]
["61585","ZENERGY - OSŁONA TYLNA PEŁNA IP55, H1600 X W850",612.20000000000005,"1-ZE-01","2019-10-02","SZT"]
["61595","ZENERGY - OSŁONA TYLNA PEŁNA IP55, H1600 X W650+300",656.4,"1-ZE-01","2019-10-02","SZT"]
["62030","ZENERGY - RAMA, H1600 X D230 X W300",558.1,"1-ZE-01","2019-10-02","SZT"]
["62040","ZENERGY - RAMA, H1600 X D230 X W400",593.70000000000005,"1-ZE-01","2019-10-02","SZT"]
["62045","ZENERGY - RAMA, H1600 X D230 X W450",611.5,"1-ZE-01","2019-10-02","SZT"]
["62060","ZENERGY - RAMA, H1600 X D230 X W600",665,"1-ZE-01","2019-10-02","SZT"]
["62065","ZENERGY - RAMA, H1600 X D230 X W650",683,"1-ZE-01","2019-10-02","SZT"]
["62080","ZENERGY - RAMA, H1600 X D230 X W800",736.5,"1-ZE-01","2019-10-02","SZT"]
["62081","ZENERGY - RAMA, H1600 X D230 X W800, 650+150",875.1,"1-ZE-01","2019-10-02","SZT"]
["62085","ZENERGY - RAMA, H1600 X D230 X W850",754.3,"1-ZE-01","2019-10-02","SZT"]
["62086","ZENERGY - RAMA, H1600 X D230 X W850, 650+200",879.1,"1-ZE-01","2019-10-02","SZT"]
["62095","ZENERGY - RAMA, H1600 X D230 X W950, 650+300",974.8,"1-ZE-01","2019-10-02","SZT"]
["62100","ZENERGY - RAMA, H1600 X D230 X W1000",807.8,"1-ZE-01","2019-10-02","SZT"]
["62105","ZENERGY - RAMA, H1600 X D230 X W1050, 650+400",1008.2,"1-ZE-01","2019-10-02","SZT"]
["62110","ZENERGY - RAMA, H1600 X D230 X W1100, 150+650+300",1168.8,"1-ZE-01","2019-10-02","SZT"]
["62115","ZENERGY - RAMA, H1600 X D230 X W1150, 850+300",1041.5999999999999,"1-ZE-01","2019-10-02","SZT"]
["62120","ZENERGY - RAMA, H1600 X D230 X W1200",879.1,"1-ZE-01","2019-10-02","SZT"]
["62121","ZENERGY - RAMA, H1600 X D230 X W1200, 150+650+400",1202.2,"1-ZE-01","2019-10-02","SZT"]
["62125","ZENERGY - RAMA, H1600 X D230 X W1250, 850+400",1075,"1-ZE-01","2019-10-02","SZT"]
["62130","ZENERGY - RAMA, H1600 X D230 X W1300",914.6,"1-ZE-01","2019-10-02","SZT"]
["62131","ZENERGY - RAMA, H1600 X D230 X W1300, 650+650",1113.5,"1-ZE-01","2019-10-02","SZT"]
["62150","ZENERGY - RAMA, H1600 X D230 X W1500, 650+850",1158.5999999999999,"1-ZE-01","2019-10-02","SZT"]
["62170","ZENERGY - RAMA, H1600 X D230 X W1700, 850+850",1225.4000000000001,"1-ZE-01","2019-10-02","SZT"]
["62206","ZENERGY ON - ROZDZIELNICA NATYNKOWA H400 X W600 2X24MOD IP30, 6H MOD, BEZ DRZWI",401.1,"1-ZE-03","2019-02-22","SZT"]
["62209","ZENERGY ON - ROZDZIELNICA NATYNKOWA H550 X W600 3X24MOD IP30, 9H MOD, BEZ DRZWI",476.8,"1-ZE-03","2019-02-22","SZT"]
["62212","ZENERGY ON - ROZDZIELNICA NATYNKOWA H700 X W600 4X24MOD IP30, 12H MOD, BEZ DRZWI",550.1,"1-ZE-03","2019-02-22","SZT"]
["62215","ZENERGY ON - ROZDZIELNICA NATYNKOWA H850 X W600 5X24MOD IP30, 15H MOD, BEZ DRZWI",634.5,"1-ZE-03","2019-02-22","SZT"]
["62218","ZENERGY ON - ROZDZIELNICA NATYNKOWA H1000 X W600 6X24MOD IP30, 18H MOD, BEZ DZWI",722.9,"1-ZE-03","2019-02-22","SZT"]
["62221","ZENERGY ON - ROZDZIELNICA NATYNKOWA H1150 X W600 7X24MOD IP30, 21H MOD, BEZ DRZWI",811.8,"1-ZE-03","2019-02-22","SZT"]
["62224","ZENERGY ON - ROZDZIELNICA NATYNKOWA H1300 X W600 8X24MOD IP30, 24H MOD, BEZ DRZWI",954.4,"1-ZE-03","2019-02-22","SZT"]
["62227","ZENERGY ON - ROZDZIELNICA NATYNKOWA H1450 X W600 9X24MOD IP30, 27H MOD, BEZ DRZWI",1044.5999999999999,"1-ZE-03","2019-02-22","SZT"]
["62230","ZENERGY ON - ROZDZIELNICA NATYNKOWA H1600 X W600 10X24MOD IP30, 30H MOD, BEZ DRZWI",1223.5999999999999,"1-ZE-03","2019-02-22","SZT"]
["62306","ZENERGY ON - ROZDZIELNICA NATYNKOWA H400 X W800 x D205 2X35MOD IP30, 6H MOD, BEZ DRZWI",498.1,"1-ZE-03","2021-12-01","SZT"]
["62309","ZENERGY ON - ROZDZIELNICA NATYNKOWA H550 X W800 x D205 3X35MOD IP30, 9H MOD, BEZ DRZWI",605,"1-ZE-03","2021-12-01","SZT"]
["62312","ZENERGY ON - ROZDZIELNICA NATYNKOWA H700 X W800 x D205 4X35MOD IP30, 12H MOD, BEZ DRZWI",709.3,"1-ZE-03","2021-12-01","SZT"]
["62315","ZENERGY ON - ROZDZIELNICA NATYNKOWA H850 X W800 x D205 5X35MOD IP30, 15H MOD, BEZ DRZWI",825.4,"1-ZE-03","2021-12-01","SZT"]
["62318","ZENERGY ON - ROZDZIELNICA NATYNKOWA H1000 X W800 x D205 6X35MOD IP30, 18H MOD, BEZ DZWI",944.5,"1-ZE-03","2021-12-01","SZT"]
["62321","ZENERGY ON - ROZDZIELNICA NATYNKOWA H1150 X W800 x D205 7X35MOD IP30, 21H MOD, BEZ DRZWI",1064.3,"1-ZE-03","2021-12-01","SZT"]
["62324","ZENERGY ON - ROZDZIELNICA NATYNKOWA H1300 X W800 x D205 8X35MOD IP30, 24H MOD, BEZ DRZWI",1247.3,"1-ZE-03","2021-12-01","SZT"]
["62327","ZENERGY ON - ROZDZIELNICA NATYNKOWA H1450 X W800 x D205 9X35MOD IP30, 27H MOD, BEZ DRZWI",1368.6,"1-ZE-03","2021-12-01","SZT"]
["62330","ZENERGY ON - ROZDZIELNICA NATYNKOWA H1600 X W800 x D205 10X35MOD IP30, 30H MOD, BEZ DRZWI",1598.8,"1-ZE-03","2021-12-01","SZT"]
["63030","ZENERGY - RAMA, H1600 X D300 X W300",594.1,"1-ZE-01","2019-10-02","SZT"]
["63040","ZENERGY - RAMA, H1600 X D300 X W400",629.9,"1-ZE-01","2019-10-02","SZT"]
["63045","ZENERGY - RAMA, H1600 X D300 X W450",647.79999999999995,"1-ZE-01","2019-10-02","SZT"]
["63060","ZENERGY - RAMA, H1600 X D300 X W600",701.2,"1-ZE-01","2019-10-02","SZT"]
["63065","ZENERGY - RAMA, H1600 X D300 X W650",719,"1-ZE-01","2019-10-02","SZT"]
["63080","ZENERGY - RAMA, H1600 X D300 X W800",772.6,"1-ZE-01","2019-10-02","SZT"]
["63081","ZENERGY - RAMA, H1600 X D300 X W800, 650+150",929.4,"1-ZE-01","2019-10-02","SZT"]
["63085","ZENERGY - RAMA, H1600 X D300 X W850",790.5,"1-ZE-01","2019-10-02","SZT"]
["63086","ZENERGY - RAMA, H1600 X D300 X W850, 650+200",933.4,"1-ZE-01","2019-10-02","SZT"]
["63095","ZENERGY - RAMA, H1600 X D300 X W950, 650+300",1036.8,"1-ZE-01","2019-10-02","SZT"]
["63100","ZENERGY - RAMA, H1600 X D300 X W1000",844,"1-ZE-01","2019-10-02","SZT"]
["63105","ZENERGY - RAMA, H1600 X D300 X W1050, 650+400",1070.4000000000001,"1-ZE-01","2019-10-02","SZT"]
["63110","ZENERGY - RAMA, H1600 X D300 X W1100, 150+650+300",1249.2,"1-ZE-01","2019-10-02","SZT"]
["63115","ZENERGY - RAMA, H1600 X D300 X W1150, 850+300",1103.7,"1-ZE-01","2019-10-02","SZT"]
["63120","ZENERGY - RAMA, H1600 X D300 X W1200",915.4,"1-ZE-01","2019-10-02","SZT"]
["63121","ZENERGY - RAMA, H1600 X D300 X W1200, 150+650+400",1282.4000000000001,"1-ZE-01","2019-10-02","SZT"]
["63125","ZENERGY - RAMA, H1600 X D300 X W1250, 850+400",1137.0999999999999,"1-ZE-01","2019-10-02","SZT"]
["63130","ZENERGY - RAMA, H1600 X D300 X W1300",950.8,"1-ZE-01","2019-10-02","SZT"]
["63131","ZENERGY - RAMA, H1600 X D300 X W1300, 650+650",1175.5999999999999,"1-ZE-01","2019-10-02","SZT"]
["63150","ZENERGY - RAMA, H1600 X D300 X W1500, 650+850",1220.7,"1-ZE-01","2019-10-02","SZT"]
["63170","ZENERGY - RAMA, H1600 X D300 X W1700, 850+850",1287.5,"1-ZE-01","2019-10-02","SZT"]
["64030","ZENERGY - RAMA, H1600 X D400 X W300",632,"1-ZE-01","2019-10-02","SZT"]
["64040","ZENERGY - RAMA, H1600 X D400 X W400",667.6,"1-ZE-01","2019-10-02","SZT"]
["64045","ZENERGY - RAMA, H1600 X D400 X W450",685.5,"1-ZE-01","2019-10-02","SZT"]
["64060","ZENERGY - RAMA, H1600 X D400 X W600",739,"1-ZE-01","2019-10-02","SZT"]
["64065","ZENERGY - RAMA, H1600 X D400 X W650",756.8,"1-ZE-01","2019-10-02","SZT"]
["64080","ZENERGY - RAMA, H1600 X D400 X W800",810.3,"1-ZE-01","2019-10-02","SZT"]
["64081","ZENERGY - RAMA, H1600 X D400 X W800, 650+150",985.9,"1-ZE-01","2019-10-02","SZT"]
["64085","ZENERGY - RAMA, H1600 X D400 X W850",828.1,"1-ZE-01","2019-10-02","SZT"]
["64086","ZENERGY - RAMA, H1600 X D400 X W850, 650+200",989.9,"1-ZE-01","2019-10-02","SZT"]
["64095","ZENERGY - RAMA, H1600 X D400 X W950, 650+300",1079.3,"1-ZE-01","2019-10-02","SZT"]
["64100","ZENERGY - RAMA, H1600 X D400 X W1000",881.8,"1-ZE-01","2019-10-02","SZT"]
["64105","ZENERGY - RAMA, H1600 X D400 X W1050, 650+400",1112.8,"1-ZE-01","2019-10-02","SZT"]
["64110","ZENERGY - RAMA, H1600 X D400 X W1100, 150+650+300",1310.5999999999999,"1-ZE-01","2019-10-02","SZT"]
["64114","ZENERGY - RAMA, H1600 X D400 X W1100, 450+200+450",1297.4000000000001,"1-ZE-01","2019-10-02","SZT"]
["64115","ZENERGY - RAMA, H1600 X D400 X W1150, 850+300",1146.3,"1-ZE-01","2019-10-02","SZT"]
["64120","ZENERGY - RAMA, H1600 X D400 X W1200",953.1,"1-ZE-01","2019-10-02","SZT"]
["64121","ZENERGY - RAMA, H1600 X D400 X W1200, 150+650+400",1343.6,"1-ZE-01","2019-10-02","SZT"]
["64125","ZENERGY - RAMA, H1600 X D400 X W1250, 850+400",1179.5999999999999,"1-ZE-01","2019-10-02","SZT"]
["64130","ZENERGY - RAMA, H1600 X D400 X W1300",988.6,"1-ZE-01","2019-10-02","SZT"]
["64131","ZENERGY - RAMA, H1600 X D400 X W1300, 650+650",1218,"1-ZE-01","2019-10-02","SZT"]
["64133","ZENERGY - RAMA, H1600 X D400 X W1300, 850+450",1218.5999999999999,"1-ZE-01","2019-10-02","SZT"]
["64145","ZENERGY - RAMA, H1600 X D400 X W1450, 650+150+650",1427.4,"1-ZE-01","2019-10-02","SZT"]
["64150","ZENERGY - RAMA, H1600 X D400 X W1500, 650+850",1263.4000000000001,"1-ZE-01","2019-10-02","SZT"]
["64170","ZENERGY - RAMA, H1600 X D400 X W1700, 850+850",1330.1,"1-ZE-01","2019-10-02","SZT"]
["65330","ZENERGY - DRZWI PRZEDZIAŁU KABLOWEGO IP30, H1600 X W300",241.6,"1-ZE-01","2019-10-02","SZT"]
["65340","ZENERGY - DRZWI PRZEDZIAŁU KABLOWEGO IP30, H1600 X W400",251.5,"1-ZE-01","2019-10-02","SZT"]
["66030","ZENERGY - RAMA, H1600 X D600 X W300",918.1,"1-ZE-01","2019-10-02","SZT"]
["66040","ZENERGY - RAMA, H1600 X D600 X W400",953.7,"1-ZE-01","2019-10-02","SZT"]
["66045","ZENERGY - RAMA, H1600 X D600 X W450",971.4,"1-ZE-01","2019-10-02","SZT"]
["66060","ZENERGY - RAMA, H1600 X D600 X W600",1025,"1-ZE-01","2019-10-02","SZT"]
["66065","ZENERGY - RAMA, H1600 X D600 X W650",1043,"1-ZE-01","2019-10-02","SZT"]
["66080","ZENERGY - RAMA, H1600 X D600 X W800",1096.4000000000001,"1-ZE-01","2019-10-02","SZT"]
["66081","ZENERGY - RAMA, H1600 X D600 X W800, 650+150",1415.3,"1-ZE-01","2019-10-02","SZT"]
["66085","ZENERGY - RAMA, H1600 X D600 X W850",1114.2,"1-ZE-01","2019-10-02","SZT"]
["66086","ZENERGY - RAMA, H1600 X D600 X W850, 650+200",1419.2,"1-ZE-01","2019-10-02","SZT"]
["66095","ZENERGY - RAMA, H1600 X D600 X W950, 650+300",1507,"1-ZE-01","2019-10-02","SZT"]
["66100","ZENERGY - RAMA, H1600 X D600 X W1000",1167.8,"1-ZE-01","2019-10-02","SZT"]
["66105","ZENERGY - RAMA, H1600 X D600 X W1050, 650+400",1540.5,"1-ZE-01","2019-10-02","SZT"]
["66110","ZENERGY - RAMA, H1600 X D600 X W1100, 150+650+300",1881.4,"1-ZE-01","2019-10-02","SZT"]
["66114","ZENERGY - RAMA, H1600 X D600 X W1100, 450+200+450",1868.1,"1-ZE-01","2019-10-02","SZT"]
["66115","ZENERGY - RAMA, H1600 X D600 X W1150, 850+300",1573.8,"1-ZE-01","2019-10-02","SZT"]
["66120","ZENERGY - RAMA, H1600 X D600 X W1200",1239.2,"1-ZE-01","2019-10-02","SZT"]
["66121","ZENERGY - RAMA, H1600 X D600 X W1200, 150+650+400",1914.6,"1-ZE-01","2019-10-02","SZT"]
["66125","ZENERGY - RAMA, H1600 X D600 X W1250, 850+400",1607.3,"1-ZE-01","2019-10-02","SZT"]
["66130","ZENERGY - RAMA, H1600 X D600 X W1300",1274.7,"1-ZE-01","2019-10-02","SZT"]
["66131","ZENERGY - RAMA, H1600 X D600 X W1300, 650+650",1645.7,"1-ZE-01","2019-10-02","SZT"]
["66150","ZENERGY - RAMA, H1600 X D600 X W1500, 650+850",1690.7,"1-ZE-01","2019-10-02","SZT"]
["66170","ZENERGY - RAMA, H1600 X D600 X W1700, 850+850",1757.6,"1-ZE-01","2019-10-02","SZT"]
["68030","ZENERGY - RAMA, H1600 X D800 X W300",990.6,"1-ZE-01","2019-10-02","SZT"]
["68040","ZENERGY - RAMA, H1600 X D800 X W400",1026.3,"1-ZE-01","2019-10-02","SZT"]
["68045","ZENERGY - RAMA, H1600 X D800 X W450",1043.9000000000001,"1-ZE-01","2019-10-02","SZT"]
["68060","ZENERGY - RAMA, H1600 X D800 X W600",1097.5999999999999,"1-ZE-01","2019-10-02","SZT"]
["68065","ZENERGY - RAMA, H1600 X D800 X W650",1115.3,"1-ZE-01","2019-10-02","SZT"]
["68080","ZENERGY - RAMA, H1600 X D800 X W800",1168.8,"1-ZE-01","2019-10-02","SZT"]
["68081","ZENERGY - RAMA, H1600 X D800 X W800, 650+150",1524.1,"1-ZE-01","2019-10-02","SZT"]
["68085","ZENERGY - RAMA, H1600 X D800 X W850",1186.7,"1-ZE-01","2019-10-02","SZT"]
["68086","ZENERGY - RAMA, H1600 X D800 X W850, 650+200",1528.1,"1-ZE-01","2019-10-02","SZT"]
["68095","ZENERGY - RAMA, H1600 X D800 X W950, 650+300",1614.5,"1-ZE-01","2019-10-02","SZT"]
["68100","ZENERGY - RAMA, H1600 X D800 X W1000",1240.3,"1-ZE-01","2019-10-02","SZT"]
["68105","ZENERGY - RAMA, H1600 X D800 X W1050, 650+400",1648,"1-ZE-01","2019-10-02","SZT"]
["68110","ZENERGY - RAMA, H1600 X D800 X W1100, 150+650+300",2025,"1-ZE-01","2019-10-02","SZT"]
["68115","ZENERGY - RAMA, H1600 X D800 X W1150, 850+300",1681.4,"1-ZE-01","2019-10-02","SZT"]
["68120","ZENERGY - RAMA, H1600 X D800 X W1200",1311.6,"1-ZE-01","2019-10-02","SZT"]
["68121","ZENERGY - RAMA, H1600 X D800 X W1200, 150+650+400",2058.1999999999998,"1-ZE-01","2019-10-02","SZT"]
["68125","ZENERGY - RAMA, H1600 X D800 X W1250, 850+400",1714.8,"1-ZE-01","2019-10-02","SZT"]
["68130","ZENERGY - RAMA, H1600 X D800 X W1300",1347.1,"1-ZE-01","2019-10-02","SZT"]
["68131","ZENERGY - RAMA, H1600 X D800 X W1300, 650+650",1753.2,"1-ZE-01","2019-10-02","SZT"]
["68150","ZENERGY - RAMA, H1600 X D800 X W1500, 650+850",1798.3,"1-ZE-01","2019-10-02","SZT"]
["68170","ZENERGY - RAMA, H1600 X D800 X W1700, 850+850",1865,"1-ZE-01","2019-10-02","SZT"]
["69223","ZENERGY - OSŁONY BOCZNE WENTYLOWANE IP30, H1600 X D230",524.20000000000005,"1-ZE-01","2019-10-02","SZT"]
["69224","ZENERGY - OSŁONY BOCZNE WENTYLOWANE, STAŁE IP30, H1600 X D230",266.2,"1-ZE-01","2019-10-02","SZT"]
["69225","ZENERGY - OSŁONY BOCZNE WENTYLOWANE, PŁASKIE, PRZYKRĘCANE IP30, H1600 X D230",266.2,"1-ZE-01","2019-10-02","SZT"]
["69230","ZENERGY - OSŁONY BOCZNE WENTYLOWANE IP30, H1600 X D300",542,"1-ZE-01","2019-10-02","SZT"]
["69231","ZENERGY - OSŁONY BOCZNE WENTYLOWANE, STAŁE IP30, H1600 X D300",284.2,"1-ZE-01","2019-10-02","SZT"]
["69232","ZENERGY - OSŁONY BOCZNE WENTYLOWANE, PŁASKIE, PRZYKRĘCANE IP30, H1600 X D300",284.2,"1-ZE-01","2019-10-02","SZT"]
["69240","ZENERGY - OSŁONY BOCZNE WENTYLOWANE IP30, H1600 X D400",560,"1-ZE-01","2019-10-02","SZT"]
["69241","ZENERGY - OSŁONY BOCZNE WENTYLOWANE, STAŁE IP30, H1600 X D400",302.10000000000002,"1-ZE-01","2019-10-02","SZT"]
["69242","ZENERGY - OSŁONY BOCZNE WENTYLOWANE, PŁASKIE, PRZYKRĘCANE IP30, H1600 X D400",302.10000000000002,"1-ZE-01","2019-10-02","SZT"]
["69260","ZENERGY - OSŁONY BOCZNE WENTYLOWANE IP30, H1600 X D600",581.20000000000005,"1-ZE-01","2019-10-02","SZT"]
["69261","ZENERGY - OSŁONY BOCZNE WENTYLOWANE, STAŁE IP30, H1600 X D600",323.2,"1-ZE-01","2019-10-02","SZT"]
["69262","ZENERGY - OSŁONY BOCZNE WENTYLOWANE, PŁASKIE, PRZYKRĘCANE IP30, H1600 X D600",323.2,"1-ZE-01","2019-10-02","SZT"]
["69280","ZENERGY - OSŁONY BOCZNE WENTYLOWANE IP30, H1600 X D800",600.79999999999995,"1-ZE-01","2019-10-02","SZT"]
["69281","ZENERGY - OSŁONY BOCZNE WENTYLOWANE, STAŁE IP30, H1600 X D800",342.9,"1-ZE-01","2019-10-02","SZT"]
["69282","ZENERGY - OSŁONY BOCZNE WENTYLOWANE, PŁASKIE, PRZYKRĘCANE IP30, H1600 X D800",342.9,"1-ZE-01","2019-10-02","SZT"]
["69323","ZENERGY - OSŁONY BOCZNE PEŁNE IP30, H1600 X D230",465.5,"1-ZE-01","2019-10-02","SZT"]
["69324","ZENERGY - OSŁONY BOCZNE PEŁNE, STAŁE IP30, H1600 X D230",207.3,"1-ZE-01","2019-10-02","SZT"]
["69325","ZENERGY - OSŁONY BOCZNE PEŁNE, PŁASKIE, PRZYKRĘCANE IP30, H1600 X D230",207.3,"1-ZE-01","2019-10-02","SZT"]
["69327","ZENERGY - PRZEGRODA ODDZIELAJĄCA PIONOWA, OCYNK,  H1600 X D230",103.8,"1-ZE-01","2019-10-02","SZT"]
["69330","ZENERGY - OSŁONY BOCZNE PEŁNE IP30, H1600 X D300",483.3,"1-ZE-01","2019-10-02","SZT"]
["69331","ZENERGY - OSŁONY BOCZNE PEŁNE, STAŁE IP30, H1600 X D300",225.4,"1-ZE-01","2019-10-02","SZT"]
["69332","ZENERGY - OSŁONY BOCZNE PEŁNE, PŁASKIE, PRZYKRĘCANE IP30, H1600 X D300",225.4,"1-ZE-01","2019-10-02","SZT"]
["69335","ZENERGY - PRZEGRODA ODDZIELAJĄCA PIONOWA, OCYNK,  H1600 X D300",112.8,"1-ZE-01","2019-10-02","SZT"]
["69340","ZENERGY - OSŁONY BOCZNE PEŁNE IP30, H1600 X D400",501.4,"1-ZE-01","2019-10-02","SZT"]
["69341","ZENERGY - OSŁONY BOCZNE PEŁNE, STAŁE IP30, H1600 X D400",243.3,"1-ZE-01","2019-10-02","SZT"]
["69342","ZENERGY - OSŁONY BOCZNE PEŁNE, PŁASKIE, PRZYKRĘCANE IP30, H1600 X D400",243.3,"1-ZE-01","2019-10-02","SZT"]
["69345","ZENERGY - PRZEGRODA ODDZIELAJĄCA PIONOWA, OCYNK,  H1600 X D400",121.5,"1-ZE-01","2019-10-02","SZT"]
["69360","ZENERGY - OSŁONY BOCZNE PEŁNE IP30, H1600 X D600",540.5,"1-ZE-01","2019-10-02","SZT"]
["69361","ZENERGY - OSŁONY BOCZNE PEŁNE, STAŁE IP30, H1600 X D600",282.39999999999998,"1-ZE-01","2019-10-02","SZT"]
["69362","ZENERGY - OSŁONY BOCZNE PEŁNE, PŁASKIE, PRZYKRĘCANE IP30, H1600 X D600",282.39999999999998,"1-ZE-01","2019-10-02","SZT"]
["69365","ZENERGY - PRZEGRODA ODDZIELAJĄCA PIONOWA, OCYNK,  H1600 X D600",141.19999999999999,"1-ZE-01","2019-10-02","SZT"]
["69380","ZENERGY - OSŁONY BOCZNE PEŁNE IP30, H1600 X D800",581.20000000000005,"1-ZE-01","2019-10-02","SZT"]
["69381","ZENERGY - OSŁONY BOCZNE PEŁNE, STAŁE IP30, H1600 X D800",323.2,"1-ZE-01","2019-10-02","SZT"]
["69382","ZENERGY - OSŁONY BOCZNE PEŁNE, PŁASKIE, PRZYKRĘCANE IP30, H1600 X D800",323.2,"1-ZE-01","2019-10-02","SZT"]
["69385","ZENERGY - PRZEGRODA ODDZIELAJĄCA PIONOWA, OCYNK,  H1600 X D800",176.3,"1-ZE-01","2019-10-02","SZT"]
["69423","ZENERGY - OSŁONY BOCZNE WENTYLOWANE IP43, H1600 X D230",502.3,"1-ZE-01","2019-10-02","SZT"]
["69424","ZENERGY - OSŁONY BOCZNE WENTYLOWANE, STAŁE IP43, H1600 X D230",220.8,"1-ZE-01","2019-10-02","SZT"]
["69425","ZENERGY - OSŁONY BOCZNE WENTYLOWANE, PŁASKIE, PRZYKRĘCANE IP43, H1600 X D230",354.6,"1-ZE-01","2019-10-02","SZT"]
["69430","ZENERGY - OSŁONY BOCZNE WENTYLOWANE IP43, H1600 X D300",655.5,"1-ZE-01","2019-10-02","SZT"]
["69431","ZENERGY - OSŁONY BOCZNE WENTYLOWANE, STAŁE IP43, H1600 X D300",374,"1-ZE-01","2019-10-02","SZT"]
["69432","ZENERGY - OSŁONY BOCZNE WENTYLOWANE, PŁASKIE, PRZYKRĘCANE IP43, H1600 X D300",374,"1-ZE-01","2019-10-02","SZT"]
["69440","ZENERGY - OSŁONY BOCZNE WENTYLOWANE IP43, H1600 X D400",676.9,"1-ZE-01","2019-10-02","SZT"]
["69441","ZENERGY - OSŁONY BOCZNE WENTYLOWANE, STAŁE IP43, H1600 X D400",395.4,"1-ZE-01","2019-10-02","SZT"]
["69442","ZENERGY - OSŁONY BOCZNE WENTYLOWANE, PŁASKIE, PRZYKRĘCANE IP43, H1600 X D400",395.4,"1-ZE-01","2019-10-02","SZT"]
["69460","ZENERGY - OSŁONY BOCZNE WENTYLOWANE IP43, H1600 X D600",712.6,"1-ZE-01","2019-10-02","SZT"]
["69461","ZENERGY - OSŁONY BOCZNE WENTYLOWANE, STAŁE IP43, H1600 X D600",431.2,"1-ZE-01","2019-10-02","SZT"]
["69462","ZENERGY - OSŁONY BOCZNE WENTYLOWANE, PŁASKIE, PRZYKRĘCANE IP43, H1600 X D600",431.2,"1-ZE-01","2019-10-02","SZT"]
["69480","ZENERGY - OSŁONY BOCZNE WENTYLOWANE IP43, H1600 X D800",732.2,"1-ZE-01","2019-10-02","SZT"]
["69481","ZENERGY - OSŁONY BOCZNE WENTYLOWANE, STAŁE IP43, H1600 X D800",450.6,"1-ZE-01","2019-10-02","SZT"]
["69482","ZENERGY - OSŁONY BOCZNE WENTYLOWANE, PŁASKIE, PRZYKRĘCANE IP43, H1600 X D800",450.6,"1-ZE-01","2019-10-02","SZT"]
["69523","ZENERGY - OSŁONY BOCZNE PEŁNE IP55, H1600 X D230",568.4,"1-ZE-01","2019-10-02","SZT"]
["69530","ZENERGY - OSŁONY BOCZNE PEŁNE IP55, H1600 X D300",589.70000000000005,"1-ZE-01","2019-10-02","SZT"]
["69540","ZENERGY - OSŁONY BOCZNE PEŁNE IP55, H1600 X D400",611,"1-ZE-01","2019-10-02","SZT"]
["69560","ZENERGY - OSŁONY BOCZNE PEŁNE IP55, H1600 X D600",662.6,"1-ZE-01","2019-10-02","SZT"]
["69580","ZENERGY - OSŁONY BOCZNE PEŁNE IP55, H1600 X D800",710.7,"1-ZE-01","2019-10-02","SZT"]
["70110","ZENERGY - RAMA OSŁON CZOŁOWYCH NA ZAWIASACH H1800 W1000",388.6,"1-ZE-01","2019-10-02","SZT"]
["70111","ZENERGY - RAMA OSŁON CZOŁOWYCH NA ZAWIASACH H1800 W1000 DO PLOMBOWANIA",409.7,"1-ZE-01","2019-10-02","SZT"]
["70140","ZENERGY - RAMA OSŁON CZOŁOWYCH NA ZAWIASACH H1800 W400",256.39999999999998,"1-ZE-01","2019-10-02","SZT"]
["70141","ZENERGY - RAMA OSŁON CZOŁOWYCH NA ZAWIASACH H1800 W400 DO PLOMBOWANIA",274.39999999999998,"1-ZE-01","2019-10-02","SZT"]
["70145","ZENERGY - RAMA OSŁON CZOŁOWYCH NA ZAWIASACH H1800 W450",269.39999999999998,"1-ZE-01","2019-10-02","SZT"]
["70146","ZENERGY - RAMA OSŁON CZOŁOWYCH NA ZAWIASACH H1800 W450 DO PLOMBOWANIA",286.10000000000002,"1-ZE-01","2019-10-02","SZT"]
["70165","ZENERGY - RAMA OSŁON CZOŁOWYCH NA ZAWIASACH H1800 W650",303.60000000000002,"1-ZE-01","2019-10-02","SZT"]
["70166","ZENERGY - RAMA OSŁON CZOŁOWYCH NA ZAWIASACH H1800 W650 DO PLOMBOWANIA",321.3,"1-ZE-01","2019-10-02","SZT"]
["70170","ZENERGY IT - DWA WSPORNIKI PIONOWE MODUŁU \"U\" 19-CALI NA WKRĘTY SAMOFORMUJĄCE, SZAFY H1800 W650",336.1,"1-ZE-01","2019-10-02","SZT"]
["70180","ZENERGY - RAMA OSŁON CZOŁOWYCH NA ZAWIASACH H1800 W800",339.7,"1-ZE-01","2019-10-02","SZT"]
["70185","ZENERGY - RAMA OSŁON CZOŁOWYCH NA ZAWIASACH H1800 W850",352.7,"1-ZE-01","2019-10-02","SZT"]
["70186","ZENERGY - RAMA OSŁON CZOŁOWYCH NA ZAWIASACH H1800 W850 DO PLOMBOWANIA",373,"1-ZE-01","2019-10-02","SZT"]
["70210","ZENERGY - DRZWI WENTYLOWANE IP30, H1800 X W1000",1250.4000000000001,"1-ZE-01","2019-10-02","SZT"]
["70212","ZENERGY - DRZWI WENTYLOWANE IP30, H1800 X W1200, PODWÓJNE",2002.3,"1-ZE-01","2019-10-02","SZT"]
["70213","ZENERGY - DRZWI WENTYLOWANE IP30, H1800 X W1300, PODWÓJNE",2018.3,"1-ZE-01","2019-10-02","SZT"]
["70214","ZENERGY - DRZWI WENTYLOWANE IP30, H1800 X W1050",1314.2,"1-ZE-01","2019-10-02","SZT"]
["70230","ZENERGY - DRZWI WENTYLOWANE IP30, H1800 X W300",751.9,"1-ZE-01","2019-10-02","SZT"]
["70240","ZENERGY - DRZWI WENTYLOWANE IP30, H1800 X W400",823.6,"1-ZE-01","2019-10-02","SZT"]
["70245","ZENERGY - DRZWI WENTYLOWANE IP30, H1800 X W450",864.9,"1-ZE-01","2019-10-02","SZT"]
["70260","ZENERGY - DRZWI WENTYLOWANE IP30, H1800 X W600",970.1,"1-ZE-01","2019-10-02","SZT"]
["70265","ZENERGY - DRZWI WENTYLOWANE IP30, H1800 X W650",1002,"1-ZE-01","2019-10-02","SZT"]
["70280","ZENERGY - DRZWI WENTYLOWANE IP30, H1800 X W800",1108.7,"1-ZE-01","2019-10-02","SZT"]
["70285","ZENERGY - DRZWI WENTYLOWANE IP30, H1800 X W850",1143.8,"1-ZE-01","2019-10-02","SZT"]
["70295","ZENERGY - DRZWI WENTYLOWANE IP30, H1800 X W950",1188.3,"1-ZE-01","2019-10-02","SZT"]
["70310","ZENERGY - DRZWI PEŁNE IP30, H1800 X W1000",1209,"1-ZE-01","2019-10-02","SZT"]
["70312","ZENERGY - DRZWI PEŁNE IP30, H1800 X W1200, PODWÓJNE",1884.4,"1-ZE-01","2019-10-02","SZT"]
["70313","ZENERGY - DRZWI PEŁNE IP30, H1800 X W1300, PODWÓJNE",1937,"1-ZE-01","2019-10-02","SZT"]
["70314","ZENERGY - DRZWI PEŁNE IP30, H1800 X W1050",1269.5999999999999,"1-ZE-01","2019-10-02","SZT"]
["70330","ZENERGY - DRZWI PEŁNE IP30, H1800 X W300",712.1,"1-ZE-01","2019-10-02","SZT"]
["70340","ZENERGY - DRZWI PEŁNE IP30, H1800 X W400",767.1,"1-ZE-01","2019-10-02","SZT"]
["70345","ZENERGY - DRZWI PEŁNE IP30, H1800 X W450",806.3,"1-ZE-01","2019-10-02","SZT"]
["70360","ZENERGY - DRZWI PEŁNE IP30, H1800 X W600",906.3,"1-ZE-01","2019-10-02","SZT"]
["70365","ZENERGY - DRZWI PEŁNE IP30, H1800 X W650",942.2,"1-ZE-01","2019-10-02","SZT"]
["70371","ZENERGY - SŁUPEK OCYNK, H1800, RAMA ZEWNĘTRZNA",57.3,"1-ZE-01","2019-10-02","SZT"]
["70372","ZENERGY - SŁUPEK OCYNK, H1800, RAMA WEWNĘTRZNA",64.7,"1-ZE-01","2019-10-02","SZT"]
["70373","ZENERGY - SŁUPEK INOX, H1800, RAMA ZEWNĘTRZNA",120.4,"1-ZE-01","2019-10-02","SZT"]
["70374","ZENERGY - SŁUPEK INOX, H1800, RAMA WEWNETRZNA",127.9,"1-ZE-01","2019-10-02","SZT"]
["70380","ZENERGY - DRZWI PEŁNE IP30, H1800 X W800",1048.5999999999999,"1-ZE-01","2019-10-02","SZT"]
["70385","ZENERGY - DRZWI PEŁNE IP30, H1800 X W850",1082.8,"1-ZE-01","2019-10-02","SZT"]
["70395","ZENERGY - DRZWI PEŁNE IP30, H1800 X W950",1150.0999999999999,"1-ZE-01","2019-10-02","SZT"]
["70410","ZENERGY - DRZWI WENTYLOWANE IP43, H1800 X W1000",1326.8,"1-ZE-01","2019-10-02","SZT"]
["70412","ZENERGY - DRZWI WENTYLOWANE IP43, H1800 X W1200, PODWÓJNE",2141,"1-ZE-01","2019-10-02","SZT"]
["70413","ZENERGY - DRZWI WENTYLOWANE IP43, H1800 X W1300, PODWÓJNE",2150.5,"1-ZE-01","2019-10-02","SZT"]
["70414","ZENERGY - DRZWI WENTYLOWANE IP43, H1800 X W1050",1393.8,"1-ZE-01","2019-10-02","SZT"]
["70430","ZENERGY - DRZWI WENTYLOWANE IP43, H1800 X W300",810.8,"1-ZE-01","2019-10-02","SZT"]
["70440","ZENERGY - DRZWI WENTYLOWANE IP43, H1800 X W400",884,"1-ZE-01","2019-10-02","SZT"]
["70445","ZENERGY - DRZWI WENTYLOWANE IP43, H1800 X W450",1134.2,"1-ZE-01","2019-10-02","SZT"]
["70460","ZENERGY - DRZWI WENTYLOWANE IP43, H1800 X W600",1043.4000000000001,"1-ZE-01","2019-10-02","SZT"]
["70465","ZENERGY - DRZWI WENTYLOWANE IP43, H1800 X W650",1070.5,"1-ZE-01","2019-10-02","SZT"]
["70480","ZENERGY - DRZWI WENTYLOWANE IP43, H1800 X W800",1180.4000000000001,"1-ZE-01","2019-10-02","SZT"]
["70485","ZENERGY - DRZWI WENTYLOWANE IP43, H1800 X W850",1217,"1-ZE-01","2019-10-02","SZT"]
["70495","ZENERGY - DRZWI WENTYLOWANE IP43, H1800 X W950",1261.5999999999999,"1-ZE-01","2019-10-02","SZT"]
["70510","ZENERGY - DRZWI PEŁNE IP55, H1800 X W1000",1345.6,"1-ZE-01","2019-10-02","SZT"]
["70512","ZENERGY - DRZWI PEŁNE IP55, H1800 X W1200, PODWÓJNE",2098.4,"1-ZE-01","2019-10-02","SZT"]
["70513","ZENERGY - DRZWI PEŁNE IP55, H1800 X W1300, PODWÓJNE",2163.1999999999998,"1-ZE-01","2019-10-02","SZT"]
["70514","ZENERGY - DRZWI PEŁNE IP55, H1800 X W1050",1414,"1-ZE-01","2019-10-02","SZT"]
["70530","ZENERGY - DRZWI PEŁNE IP55, H1800 X W300",806.1,"1-ZE-01","2019-10-02","SZT"]
["70540","ZENERGY - DRZWI PEŁNE IP55, H1800 X W400",882.7,"1-ZE-01","2019-10-02","SZT"]
["70545","ZENERGY - DRZWI PEŁNE IP55, H1800 X W450",927.6,"1-ZE-01","2019-10-02","SZT"]
["70560","ZENERGY - DRZWI PEŁNE IP55, H1800 X W600",1042.5,"1-ZE-01","2019-10-02","SZT"]
["70565","ZENERGY - DRZWI PEŁNE IP55, H1800 X W650",1075.8,"1-ZE-01","2019-10-02","SZT"]
["70580","ZENERGY - DRZWI PEŁNE IP55, H1800 X W800",1190.8,"1-ZE-01","2019-10-02","SZT"]
["70585","ZENERGY - DRZWI PEŁNE IP55, H1800 X W850",1230.7,"1-ZE-01","2019-10-02","SZT"]
["70595","ZENERGY - DRZWI PEŁNE IP55, H1800 X W950",1279,"1-ZE-01","2019-10-02","SZT"]
["70610","ZENERGY - DRZWI PRZESZKLONE IP55, H1800 X W1000",1668.6,"1-ZE-01","2019-10-02","SZT"]
["70612","ZENERGY - DRZWI PRZESZKLONE IP55, H1800 X W1200, PODWÓJNE",2536.4,"1-ZE-01","2019-10-02","SZT"]
["70613","ZENERGY - DRZWI PRZESZKLONE IP55, H1800 X W1300, PODWÓJNE",2571.3000000000002,"1-ZE-01","2019-10-02","SZT"]
["70640","ZENERGY - DRZWI PRZESZKLONE IP55, H1800 X W400",997.5,"1-ZE-01","2019-10-02","SZT"]
["70645","ZENERGY - DRZWI PRZESZKLONE IP55, H1800 X W450",1047.5999999999999,"1-ZE-01","2019-10-02","SZT"]
["70660","ZENERGY - DRZWI PRZESZKLONE IP55, H1800 X W600",1240.5999999999999,"1-ZE-01","2019-10-02","SZT"]
["70665","ZENERGY - DRZWI PRZESZKLONE IP55, H1800 X W650",1285.5999999999999,"1-ZE-01","2019-10-02","SZT"]
["70680","ZENERGY - DRZWI PRZESZKLONE IP55, H1800 X W800",1448.9,"1-ZE-01","2019-10-02","SZT"]
["70685","ZENERGY - DRZWI PRZESZKLONE IP55, H1800 X W850",1505.6,"1-ZE-01","2019-10-02","SZT"]
["70695","ZENERGY - DRZWI PRZESZKLONE IP55, H1800 X W950",1585.5,"1-ZE-01","2019-10-02","SZT"]
["70742","ZENERGY - SŁUPEK OCYNK, H1800, RAMA WEWNĘTRZNA, PODWÓJNA",75.2,"1-ZE-01","2019-10-02","SZT"]
["70744","ZENERGY - SŁUPEK INOX, H1800, RAMA WEWNĘTRZNA, PODWÓJNA",158.19999999999999,"1-ZE-01","2019-10-02","SZT"]
["70745","ZENERGY - RAMA UCHYLNA ROZŁĄCZNIKÓW LISTWOWYCH 3X EFEN 160-630, H1800 X W450, 23+13M, ANALIZATORY 3X 96X96MM",494.2,"1-ZE-01","2019-10-02","SZT"]
["70746","ZENERGY - RAMA UCHYLNA ROZŁĄCZNIKÓW LISTWOWYCH 3X EFEN 160-630, H1800 X W450, 23+13M, ANALIZATORY 3X 96X96MM DO PLOMBOWANIA",504.6,"1-ZE-01","2019-10-02","SZT"]
["70765","ZENERGY - RAMA UCHYLNA ROZŁĄCZNIKÓW LISTWOWYCH 5X EFEN 160-630, H1800 X W650, 23+13M, ANALIZATORY 5X 96X96MM",560.70000000000005,"1-ZE-01","2019-10-02","SZT"]
["70766","ZENERGY - RAMA UCHYLNA ROZŁĄCZNIKÓW LISTWOWYCH 5X EFEN 160-630, H1800 X W650, 23+13M, ANALIZATORY 5X 96X96MM DO PLOMBOWANIA",571.20000000000005,"1-ZE-01","2019-10-02","SZT"]
["70785","ZENERGY - RAMA UCHYLNA ROZŁĄCZNIKÓW LISTWOWYCH 7X EFEN 160-630, H1800 X W850, 23+13M, ANALIZATORY 7X 96X96MM",627.29999999999995,"1-ZE-01","2019-10-02","SZT"]
["70786","ZENERGY - RAMA UCHYLNA ROZŁĄCZNIKÓW LISTWOWYCH 7X EFEN 160-630, H1800 X W850, 23+13M, ANALIZATORY 7X 96X96MM DO PLOMBOWANIA",639.6,"1-ZE-01","2019-10-02","SZT"]
["70845","ZENERGY - RAMA UCHYLNA ROZŁĄCZNIKÓW LISTWOWYCH 3X EFEN 160-630, H1800 X W450, 23+9M",403,"1-ZE-01","2019-10-02","SZT"]
["70846","ZENERGY - RAMA UCHYLNA ROZŁĄCZNIKÓW LISTWOWYCH 3X EFEN 160-630, H1800 X W450, 23+9M DO PLOMBOWANIA",415.3,"1-ZE-01","2019-10-02","SZT"]
["70865","ZENERGY - RAMA UCHYLNA ROZŁĄCZNIKÓW LISTWOWYCH 5X EFEN 160-630, H1800 X W650, 23+9M",471.3,"1-ZE-01","2019-10-02","SZT"]
["70866","ZENERGY - RAMA UCHYLNA ROZŁĄCZNIKÓW LISTWOWYCH 5X EFEN 160-630, H1800 X W650, 23+9M DO PLOMBOWANIA",481.9,"1-ZE-01","2019-10-02","SZT"]
["70885","ZENERGY - RAMA UCHYLNA ROZŁĄCZNIKÓW LISTWOWYCH 7X EFEN 160-630, H1800 X W850, 23+9M",538,"1-ZE-01","2019-10-02","SZT"]
["70886","ZENERGY - RAMA UCHYLNA ROZŁĄCZNIKÓW LISTWOWYCH 7X EFEN 160-630, H1800 X W850, 23+9M DO PLOMBOWANIA",550.20000000000005,"1-ZE-01","2019-10-02","SZT"]
["70910","ZENERGY - PŁYTA MONTAŻOWA PEŁNA H1800 X W1000 + WSPORNIKI,  ( 1650 X 900 )",864.6,"1-ZE-01","2019-10-02","SZT"]
["70912","ZENERGY - PŁYTA MONTAŻOWA PEŁNA H1800 X W1200 + WSPORNIKI,  ( 1650 X 1100 )",1015,"1-ZE-01","2019-10-02","SZT"]
["70913","ZENERGY - PŁYTA MONTAŻOWA PEŁNA H1800 X W1300 + WSPORNIKI,  ( 1650 X 1200 )",1092.2,"1-ZE-01","2019-10-02","SZT"]
["70930","ZENERGY - PŁYTA MONTAŻOWA PEŁNA H1800 X W300 + WSPORNIKI,  ( 1650 X 200 )",337.7,"1-ZE-01","2019-10-02","SZT"]
["70940","ZENERGY - PŁYTA MONTAŻOWA PEŁNA H1800 X W400 + WSPORNIKI,  ( 1650 X 300 )",414.8,"1-ZE-01","2019-10-02","SZT"]
["70945","ZENERGY - PŁYTA MONTAŻOWA PEŁNA H1800 X W450 + WSPORNIKI,  ( 1650 X 350 )",443.9,"1-ZE-01","2019-10-02","SZT"]
["70960","ZENERGY - PŁYTA MONTAŻOWA PEŁNA H1800 X W600 + WSPORNIKI,  ( 1650 X 500 )",573.20000000000005,"1-ZE-01","2019-10-02","SZT"]
["70965","ZENERGY - PŁYTA MONTAŻOWA PEŁNA H1800 X W650 + WSPORNIKI,  ( 1650 X 550 )",602,"1-ZE-01","2019-10-02","SZT"]
["70980","ZENERGY - PŁYTA MONTAŻOWA PEŁNA H1800 X W800 + WSPORNIKI,  ( 1650 X 700 )",714,"1-ZE-01","2019-10-02","SZT"]
["70985","ZENERGY - PŁYTA MONTAŻOWA PEŁNA H1800 X W850 + WSPORNIKI,  ( 1650 X 750 )",752.6,"1-ZE-01","2019-10-02","SZT"]
["70995","ZENERGY - PEŁNY ŁĄCZNIK PŁYT MONTAŻOWYCH H1800,  ( 1650 X 98 )",187.4,"1-ZE-01","2019-10-02","SZT"]
["71110","ZENERGY - DRZWI PRZESZKLONE IP30, H1800 X W1000",1436.5,"1-ZE-01","2019-10-02","SZT"]
["71112","ZENERGY - DRZWI PRZESZKLONE IP30, H1800 X W1200, PODWÓJNE",2183.4,"1-ZE-01","2019-10-02","SZT"]
["71113","ZENERGY - DRZWI PRZESZKLONE IP30, H1800 X W1300, PODWÓJNE",2213.6,"1-ZE-01","2019-10-02","SZT"]
["71140","ZENERGY - DRZWI PRZESZKLONE IP30, H1800 X W400",858.8,"1-ZE-01","2019-10-02","SZT"]
["71145","ZENERGY - DRZWI PRZESZKLONE IP30, H1800 X W450",901.9,"1-ZE-01","2019-10-02","SZT"]
["71160","ZENERGY - DRZWI PRZESZKLONE IP30, H1800 X W600",1068.0999999999999,"1-ZE-01","2019-10-02","SZT"]
["71165","ZENERGY - DRZWI PRZESZKLONE IP30, H1800 X W650",1106.9000000000001,"1-ZE-01","2019-10-02","SZT"]
["71180","ZENERGY - DRZWI PRZESZKLONE IP30, H1800 X W800",1247.4000000000001,"1-ZE-01","2019-10-02","SZT"]
["71185","ZENERGY - DRZWI PRZESZKLONE IP30, H1800 X W850",1296,"1-ZE-01","2019-10-02","SZT"]
["71210","ZENERGY - OSŁONA TYLNA PEŁNA IP30, H1800 X W1000",627,"1-ZE-01","2019-10-02","SZT"]
["71211","ZENERGY - OSŁONA TYLNA PEŁNA IP30, H1800 X W850+200",708.5,"1-ZE-01","2019-10-02","SZT"]
["71212","ZENERGY - OSŁONA TYLNA PEŁNA IP30, H1800 X W1200",919.2,"1-ZE-01","2019-10-02","SZT"]
["71213","ZENERGY - OSŁONA TYLNA PEŁNA IP30, H1800 X W1300",961.6,"1-ZE-01","2019-10-02","SZT"]
["71230","ZENERGY - OSŁONA TYLNA PEŁNA IP30, H1800 X W300",246.6,"1-ZE-01","2019-10-02","SZT"]
["71240","ZENERGY - OSŁONA TYLNA PEŁNA IP30, H1800 X W400",352.7,"1-ZE-01","2019-10-02","SZT"]
["71245","ZENERGY - OSŁONA TYLNA PEŁNA IP30, H1800 X W450",370.6,"1-ZE-01","2019-10-02","SZT"]
["71260","ZENERGY - OSŁONA TYLNA PEŁNA IP30, H1800 X W600",455.6,"1-ZE-01","2019-10-02","SZT"]
["71265","ZENERGY - OSŁONA TYLNA PEŁNA IP30, H1800 X W650",480.1,"1-ZE-01","2019-10-02","SZT"]
["71280","ZENERGY - OSŁONA TYLNA PEŁNA IP30, H1800 X W800",543.70000000000005,"1-ZE-01","2019-10-02","SZT"]
["71285","ZENERGY - OSŁONA TYLNA PEŁNA IP30, H1800 X W850",565,"1-ZE-01","2019-10-02","SZT"]
["71295","ZENERGY - OSŁONA TYLNA PEŁNA IP30, H1800 X W650+300",623.79999999999995,"1-ZE-01","2019-10-02","SZT"]
["71310","ZENERGY - OSŁONA TYLNA WENTYLOWANA IP30, H1800 X W1000",669.4,"1-ZE-01","2019-10-02","SZT"]
["71311","ZENERGY - OSŁONA TYLNA WENTYLOWANA IP30, H1800 X W850+200",792,"1-ZE-01","2019-10-02","SZT"]
["71312","ZENERGY - OSŁONA TYLNA WENTYLOWANA IP30, H1800 X W1200",1002.6,"1-ZE-01","2019-10-02","SZT"]
["71313","ZENERGY - OSŁONA TYLNA WENTYLOWANA IP30, H1800 X W1300",1044.9000000000001,"1-ZE-01","2019-10-02","SZT"]
["71330","ZENERGY - OSŁONA TYLNA WENTYLOWANA IP30, H1800 X W300",308.5,"1-ZE-01","2019-10-02","SZT"]
["71340","ZENERGY - OSŁONA TYLNA WENTYLOWANA IP30, H1800 X W400",416.4,"1-ZE-01","2019-10-02","SZT"]
["71345","ZENERGY - OSŁONA TYLNA WENTYLOWANA IP30, H1800 X W450",436,"1-ZE-01","2019-10-02","SZT"]
["71360","ZENERGY - OSŁONA TYLNA WENTYLOWANA IP30, H1800 X W600",516.1,"1-ZE-01","2019-10-02","SZT"]
["71365","ZENERGY - OSŁONA TYLNA WENTYLOWANA IP30, H1800 X W650",543.70000000000005,"1-ZE-01","2019-10-02","SZT"]
["71380","ZENERGY - OSŁONA TYLNA WENTYLOWANA IP30, H1800 X W800",605.79999999999995,"1-ZE-01","2019-10-02","SZT"]
["71385","ZENERGY - OSŁONA TYLNA WENTYLOWANA IP30, H1800 X W850",627,"1-ZE-01","2019-10-02","SZT"]
["71395","ZENERGY - OSŁONA TYLNA WENTYLOWANA IP30, H1800 X W650+300",708.5,"1-ZE-01","2019-10-02","SZT"]
["71410","ZENERGY - OSŁONA TYLNA WENTYLOWANA IP43, H1800 X W1000",781.8,"1-ZE-01","2019-10-02","SZT"]
["71411","ZENERGY - OSŁONA TYLNA WENTYLOWANA IP43, H1800 X W850+200",911.6,"1-ZE-01","2019-10-02","SZT"]
["71412","ZENERGY - OSŁONA TYLNA WENTYLOWANA IP43, H1800 X W1200",1191.5,"1-ZE-01","2019-10-02","SZT"]
["71413","ZENERGY - OSŁONA TYLNA WENTYLOWANA IP43, H1800 X W1300",1239.3,"1-ZE-01","2019-10-02","SZT"]
["71430","ZENERGY - OSŁONA TYLNA WENTYLOWANA IP43, H1800 X W300",387.5,"1-ZE-01","2019-10-02","SZT"]
["71440","ZENERGY - OSŁONA TYLNA WENTYLOWANA IP43, H1800 X W400",500.1,"1-ZE-01","2019-10-02","SZT"]
["71445","ZENERGY - OSŁONA TYLNA WENTYLOWANA IP43, H1800 X W450",524.20000000000005,"1-ZE-01","2019-10-02","SZT"]
["71460","ZENERGY - OSŁONA TYLNA WENTYLOWANA IP43, H1800 X W600",607.70000000000005,"1-ZE-01","2019-10-02","SZT"]
["71465","ZENERGY - OSŁONA TYLNA WENTYLOWANA IP43, H1800 X W650",640.1,"1-ZE-01","2019-10-02","SZT"]
["71480","ZENERGY - OSŁONA TYLNA WENTYLOWANA IP43, H1800 X W800",710.1,"1-ZE-01","2019-10-02","SZT"]
["71485","ZENERGY - OSŁONA TYLNA WENTYLOWANA IP43, H1800 X W850",734.2,"1-ZE-01","2019-10-02","SZT"]
["71495","ZENERGY - OSŁONA TYLNA WENTYLOWANA IP43, H1800 X W650+300",822.8,"1-ZE-01","2019-10-02","SZT"]
["71510","ZENERGY - OSŁONA TYLNA PEŁNA IP55, H1800 X W1000",739.2,"1-ZE-01","2019-10-02","SZT"]
["71511","ZENERGY - OSŁONA TYLNA PEŁNA IP55, H1800 X W850+200",809.2,"1-ZE-01","2019-10-02","SZT"]
["71512","ZENERGY - OSŁONA TYLNA PEŁNA IP55, H1800 X W1200",826.1,"1-ZE-01","2019-10-02","SZT"]
["71513","ZENERGY - OSŁONA TYLNA PEŁNA IP55, H1800 X W1300",1152.2,"1-ZE-01","2019-10-02","SZT"]
["71530","ZENERGY - OSŁONA TYLNA PEŁNA IP55, H1800 X W300",320.8,"1-ZE-01","2019-10-02","SZT"]
["71540","ZENERGY - OSŁONA TYLNA PEŁNA IP55, H1800 X W400",435.3,"1-ZE-01","2019-10-02","SZT"]
["71545","ZENERGY - OSŁONA TYLNA PEŁNA IP55, H1800 X W450",455.8,"1-ZE-01","2019-10-02","SZT"]
["71560","ZENERGY - OSŁONA TYLNA PEŁNA IP55, H1800 X W600",546.20000000000005,"1-ZE-01","2019-10-02","SZT"]
["71565","ZENERGY - OSŁONA TYLNA PEŁNA IP55, H1800 X W650",575.4,"1-ZE-01","2019-10-02","SZT"]
["71580","ZENERGY - OSŁONA TYLNA PEŁNA IP55, H1800 X W800",645.29999999999995,"1-ZE-01","2019-10-02","SZT"]
["71585","ZENERGY - OSŁONA TYLNA PEŁNA IP55, H1800 X W850",669.1,"1-ZE-01","2019-10-02","SZT"]
["71595","ZENERGY - OSŁONA TYLNA PEŁNA IP55, H1800 X W650+300",717,"1-ZE-01","2019-10-02","SZT"]
["72030","ZENERGY - RAMA, H1800 X D230 X W300",600.1,"1-ZE-01","2019-10-02","SZT"]
["72040","ZENERGY - RAMA, H1800 X D230 X W400",609.6,"1-ZE-01","2019-10-02","SZT"]
["72045","ZENERGY - RAMA, H1800 X D230 X W450",627.5,"1-ZE-01","2019-10-02","SZT"]
["72060","ZENERGY - RAMA, H1800 X D230 X W600",680.9,"1-ZE-01","2019-10-02","SZT"]
["72065","ZENERGY - RAMA, H1800 X D230 X W650",698.9,"1-ZE-01","2019-10-02","SZT"]
["72080","ZENERGY - RAMA, H1800 X D230 X W800",752.2,"1-ZE-01","2019-10-02","SZT"]
["72081","ZENERGY - RAMA, H1800 X D230 X W800, 650+150",898.8,"1-ZE-01","2019-10-02","SZT"]
["72085","ZENERGY - RAMA, H1800 X D230 X W850",770,"1-ZE-01","2019-10-02","SZT"]
["72086","ZENERGY - RAMA, H1800 X D230 X W850, 650+200",902.7,"1-ZE-01","2019-10-02","SZT"]
["72095","ZENERGY - RAMA, H1800 X D230 X W950, 650+300",999.4,"1-ZE-01","2019-10-02","SZT"]
["72100","ZENERGY - RAMA, H1800 X D230 X W1000",823.6,"1-ZE-01","2019-10-02","SZT"]
["72105","ZENERGY - RAMA, H1800 X D230 X W1050, 650+400",1032.5999999999999,"1-ZE-01","2019-10-02","SZT"]
["72110","ZENERGY - RAMA, H1800 X D230 X W1100, 150+650+300",1201.2,"1-ZE-01","2019-10-02","SZT"]
["72115","ZENERGY - RAMA, H1800 X D230 X W1150, 850+300",1066.2,"1-ZE-01","2019-10-02","SZT"]
["72120","ZENERGY - RAMA, H1800 X D230 X W1200",894.9,"1-ZE-01","2019-10-02","SZT"]
["72121","ZENERGY - RAMA, H1800 X D230 X W1200, 150+650+400",1234.5999999999999,"1-ZE-01","2019-10-02","SZT"]
["72125","ZENERGY - RAMA, H1800 X D230 X W1250, 850+400",1099.7,"1-ZE-01","2019-10-02","SZT"]
["72130","ZENERGY - RAMA, H1800 X D230 X W1300",930.6,"1-ZE-01","2019-10-02","SZT"]
["72131","ZENERGY - RAMA, H1800 X D230 X W1300, 650+650",1138.2,"1-ZE-01","2019-10-02","SZT"]
["72133","ZENERGY - RAMA, H1800 X D230 X W1300, 850+450",854.4,"1-ZE-01","2019-10-02","SZT"]
["72150","ZENERGY - RAMA, H1800 X D230 X W1500, 650+850",1183.0999999999999,"1-ZE-01","2019-10-02","SZT"]
["72160","ZENERGY - RAMA, H1800 X D230 X W1600, 800+800",1158.5999999999999,"1-ZE-01","2019-10-02","SZT"]
["72170","ZENERGY - RAMA, H1800 X D230 X W1700, 850+850",1250,"1-ZE-01","2019-10-02","SZT"]
["73030","ZENERGY - RAMA, H1800 X D300 X W300",611.70000000000005,"1-ZE-01","2019-10-02","SZT"]
["73040","ZENERGY - RAMA, H1800 X D300 X W400",647.29999999999995,"1-ZE-01","2019-10-02","SZT"]
["73045","ZENERGY - RAMA, H1800 X D300 X W450",665.2,"1-ZE-01","2019-10-02","SZT"]
["73060","ZENERGY - RAMA, H1800 X D300 X W600",718.7,"1-ZE-01","2019-10-02","SZT"]
["73065","ZENERGY - RAMA, H1800 X D300 X W650",736.6,"1-ZE-01","2019-10-02","SZT"]
["73080","ZENERGY - RAMA, H1800 X D300 X W800",790,"1-ZE-01","2019-10-02","SZT"]
["73081","ZENERGY - RAMA, H1800 X D300 X W800, 650+150",955.7,"1-ZE-01","2019-10-02","SZT"]
["73085","ZENERGY - RAMA, H1800 X D300 X W850",807.9,"1-ZE-01","2019-10-02","SZT"]
["73086","ZENERGY - RAMA, H1800 X D300 X W850, 650+200",959.7,"1-ZE-01","2019-10-02","SZT"]
["73095","ZENERGY - RAMA, H1800 X D300 X W950, 650+300",1064.2,"1-ZE-01","2019-10-02","SZT"]
["73100","ZENERGY - RAMA, H1800 X D300 X W1000",861.4,"1-ZE-01","2019-10-02","SZT"]
["73105","ZENERGY - RAMA, H1800 X D300 X W1050, 650+400",1097.5999999999999,"1-ZE-01","2019-10-02","SZT"]
["73110","ZENERGY - RAMA, H1800 X D300 X W1100, 150+650+300",1285,"1-ZE-01","2019-10-02","SZT"]
["73115","ZENERGY - RAMA, H1800 X D300 X W1150, 850+300",1131,"1-ZE-01","2019-10-02","SZT"]
["73120","ZENERGY - RAMA, H1800 X D300 X W1200",932.9,"1-ZE-01","2019-10-02","SZT"]
["73121","ZENERGY - RAMA, H1800 X D300 X W1200, 150+650+400",1318.5,"1-ZE-01","2019-10-02","SZT"]
["73125","ZENERGY - RAMA, H1800 X D300 X W1250, 850+400",1164.4000000000001,"1-ZE-01","2019-10-02","SZT"]
["73130","ZENERGY - RAMA, H1800 X D300 X W1300",968.4,"1-ZE-01","2019-10-02","SZT"]
["73131","ZENERGY - RAMA, H1800 X D300 X W1300, 650+650",1202.9000000000001,"1-ZE-01","2019-10-02","SZT"]
["73133","ZENERGY - RAMA, H1800 X D300 X W1300, 850+450",902.9,"1-ZE-01","2019-10-02","SZT"]
["73150","ZENERGY - RAMA, H1800 X D300 X W1500, 650+850",1248.2,"1-ZE-01","2019-10-02","SZT"]
["73160","ZENERGY - RAMA, H1800 X D300 X W1600, 800+800",1223.3,"1-ZE-01","2019-10-02","SZT"]
["73170","ZENERGY - RAMA, H1800 X D300 X W1700, 850+850",1315,"1-ZE-01","2019-10-02","SZT"]
["74030","ZENERGY - RAMA, H1800 X D400 X W300",651.20000000000005,"1-ZE-01","2019-10-02","SZT"]
["74040","ZENERGY - RAMA, H1800 X D400 X W400",686.9,"1-ZE-01","2019-10-02","SZT"]
["74045","ZENERGY - RAMA, H1800 X D400 X W450",704.7,"1-ZE-01","2019-10-02","SZT"]
["74060","ZENERGY - RAMA, H1800 X D400 X W600",758.2,"1-ZE-01","2019-10-02","SZT"]
["74065","ZENERGY - RAMA, H1800 X D400 X W650",776.1,"1-ZE-01","2019-10-02","SZT"]
["74080","ZENERGY - RAMA, H1800 X D400 X W800",829.6,"1-ZE-01","2019-10-02","SZT"]
["74081","ZENERGY - RAMA, H1800 X D400 X W800, 650+150",1014.8,"1-ZE-01","2019-10-02","SZT"]
["74085","ZENERGY - RAMA, H1800 X D400 X W850",847.5,"1-ZE-01","2019-10-02","SZT"]
["74086","ZENERGY - RAMA, H1800 X D400 X W850, 650+200",1018.7,"1-ZE-01","2019-10-02","SZT"]
["74095","ZENERGY - RAMA, H1800 X D400 X W950, 650+300",1108.7,"1-ZE-01","2019-10-02","SZT"]
["74100","ZENERGY - RAMA, H1800 X D400 X W1000",901,"1-ZE-01","2019-10-02","SZT"]
["74105","ZENERGY - RAMA, H1800 X D400 X W1050, 650+400",1142.2,"1-ZE-01","2019-10-02","SZT"]
["74110","ZENERGY - RAMA, H1800 X D400 X W1100, 150+650+300",1349.4,"1-ZE-01","2019-10-02","SZT"]
["74115","ZENERGY - RAMA, H1800 X D400 X W1150, 850+300",1175.5,"1-ZE-01","2019-10-02","SZT"]
["74120","ZENERGY - RAMA, H1800 X D400 X W1200",972.2,"1-ZE-01","2019-10-02","SZT"]
["74121","ZENERGY - RAMA, H1800 X D400 X W1200, 150+650+400",1382.6,"1-ZE-01","2019-10-02","SZT"]
["74125","ZENERGY - RAMA, H1800 X D400 X W1250, 850+400",1208.9000000000001,"1-ZE-01","2019-10-02","SZT"]
["74130","ZENERGY - RAMA, H1800 X D400 X W1300",1008,"1-ZE-01","2019-10-02","SZT"]
["74131","ZENERGY - RAMA, H1800 X D400 X W1300, 650+650",1247.4000000000001,"1-ZE-01","2019-10-02","SZT"]
["74133","ZENERGY - RAMA, H1800 X D400 X W1300, 850+450",936.5,"1-ZE-01","2019-10-02","SZT"]
["74150","ZENERGY - RAMA, H1800 X D400 X W1500, 650+850",1292.4000000000001,"1-ZE-01","2019-10-02","SZT"]
["74160","ZENERGY - RAMA, H1800 X D400 X W1600, 800+800",1267.9000000000001,"1-ZE-01","2019-10-02","SZT"]
["74170","ZENERGY - RAMA, H1800 X D400 X W1700, 850+850",1359.3,"1-ZE-01","2019-10-02","SZT"]
["75330","ZENERGY - DRZWI PRZEDZIAŁU KABLOWEGO IP30, H1800 X W300",253,"1-ZE-01","2019-10-02","SZT"]
["75340","ZENERGY - DRZWI PRZEDZIAŁU KABLOWEGO IP30, H1800 X W400",261.3,"1-ZE-01","2019-10-02","SZT"]
["76030","ZENERGY - RAMA, H1800 X D600 X W300",950.2,"1-ZE-01","2019-10-02","SZT"]
["76040","ZENERGY - RAMA, H1800 X D600 X W400",985.6,"1-ZE-01","2019-10-02","SZT"]
["76045","ZENERGY - RAMA, H1800 X D600 X W450",1003.7,"1-ZE-01","2019-10-02","SZT"]
["76060","ZENERGY - RAMA, H1800 X D600 X W600",1057.0999999999999,"1-ZE-01","2019-10-02","SZT"]
["76065","ZENERGY - RAMA, H1800 X D600 X W650",1075,"1-ZE-01","2019-10-02","SZT"]
["76080","ZENERGY - RAMA, H1800 X D600 X W800",1128.4000000000001,"1-ZE-01","2019-10-02","SZT"]
["76081","ZENERGY - RAMA, H1800 X D600 X W800, 650+150",1463.3,"1-ZE-01","2019-10-02","SZT"]
["76085","ZENERGY - RAMA, H1800 X D600 X W850",1146.3,"1-ZE-01","2019-10-02","SZT"]
["76086","ZENERGY - RAMA, H1800 X D600 X W850, 650+200",1467.2,"1-ZE-01","2019-10-02","SZT"]
["76095","ZENERGY - RAMA, H1800 X D600 X W950, 650+300",1555.4,"1-ZE-01","2019-10-02","SZT"]
["76100","ZENERGY - RAMA, H1800 X D600 X W1000",1199.7,"1-ZE-01","2019-10-02","SZT"]
["76105","ZENERGY - RAMA, H1800 X D600 X W1050, 650+400",1588.8,"1-ZE-01","2019-10-02","SZT"]
["76110","ZENERGY - RAMA, H1800 X D600 X W1100, 150+650+300",1945.6,"1-ZE-01","2019-10-02","SZT"]
["76115","ZENERGY - RAMA, H1800 X D600 X W1150, 850+300",1622.4,"1-ZE-01","2019-10-02","SZT"]
["76120","ZENERGY - RAMA, H1800 X D600 X W1200",1271.2,"1-ZE-01","2019-10-02","SZT"]
["76121","ZENERGY - RAMA, H1800 X D600 X W1200, 150+650+400",1979,"1-ZE-01","2019-10-02","SZT"]
["76125","ZENERGY - RAMA, H1800 X D600 X W1250, 850+400",1655.9,"1-ZE-01","2019-10-02","SZT"]
["76130","ZENERGY - RAMA, H1800 X D600 X W1300",1306.8,"1-ZE-01","2019-10-02","SZT"]
["76131","ZENERGY - RAMA, H1800 X D600 X W1300, 650+650",1694.1,"1-ZE-01","2019-10-02","SZT"]
["76133","ZENERGY - RAMA, H1800 X D600 X W1300, 850+450",1271.5999999999999,"1-ZE-01","2019-10-02","SZT"]
["76145","ZENERGY - RAMA, H1800 X D600 X W1450, 650+150+650",2012.3,"1-ZE-01","2019-10-02","SZT"]
["76150","ZENERGY - RAMA, H1800 X D600 X W1500, 650+850",1739.3,"1-ZE-01","2019-10-02","SZT"]
["76160","ZENERGY - RAMA, H1800 X D600 X W1600, 800+800",1714.8,"1-ZE-01","2019-10-02","SZT"]
["76170","ZENERGY - RAMA, H1800 X D600 X W1700, 850+850",1806.1,"1-ZE-01","2019-10-02","SZT"]
["78030","ZENERGY - RAMA, H1800 X D800 X W300",1026,"1-ZE-01","2019-10-02","SZT"]
["78040","ZENERGY - RAMA, H1800 X D800 X W400",1061.5,"1-ZE-01","2019-10-02","SZT"]
["78045","ZENERGY - RAMA, H1800 X D800 X W450",1079.3,"1-ZE-01","2019-10-02","SZT"]
["78060","ZENERGY - RAMA, H1800 X D800 X W600",1132.8,"1-ZE-01","2019-10-02","SZT"]
["78065","ZENERGY - RAMA, H1800 X D800 X W650",1150.8,"1-ZE-01","2019-10-02","SZT"]
["78080","ZENERGY - RAMA, H1800 X D800 X W800",1204.2,"1-ZE-01","2019-10-02","SZT"]
["78081","ZENERGY - RAMA, H1800 X D800 X W800, 650+150",1576.8,"1-ZE-01","2019-10-02","SZT"]
["78085","ZENERGY - RAMA, H1800 X D800 X W850",1222.2,"1-ZE-01","2019-10-02","SZT"]
["78086","ZENERGY - RAMA, H1800 X D800 X W850, 650+200",1580.7,"1-ZE-01","2019-10-02","SZT"]
["78095","ZENERGY - RAMA, H1800 X D800 X W950, 650+300",1667.9,"1-ZE-01","2019-10-02","SZT"]
["78100","ZENERGY - RAMA, H1800 X D800 X W1000",1275.4000000000001,"1-ZE-01","2019-10-02","SZT"]
["78105","ZENERGY - RAMA, H1800 X D800 X W1050, 650+400",1701,"1-ZE-01","2019-10-02","SZT"]
["78110","ZENERGY - RAMA, H1800 X D800 X W1100, 150+650+300",2095.8000000000002,"1-ZE-01","2019-10-02","SZT"]
["78115","ZENERGY - RAMA, H1800 X D800 X W1150, 850+300",1734.6,"1-ZE-01","2019-10-02","SZT"]
["78120","ZENERGY - RAMA, H1800 X D800 X W1200",1346.9,"1-ZE-01","2019-10-02","SZT"]
["78121","ZENERGY - RAMA, H1800 X D800 X W1200, 150+650+400",2129.1,"1-ZE-01","2019-10-02","SZT"]
["78125","ZENERGY - RAMA, H1800 X D800 X W1250, 850+400",1768.3,"1-ZE-01","2019-10-02","SZT"]
["78130","ZENERGY - RAMA, H1800 X D800 X W1300",1382.6,"1-ZE-01","2019-10-02","SZT"]
["78131","ZENERGY - RAMA, H1800 X D800 X W1300, 650+650",1806.4,"1-ZE-01","2019-10-02","SZT"]
["78133","ZENERGY - RAMA, H1800 X D800 X W1300, 850+450",1356,"1-ZE-01","2019-10-02","SZT"]
["78150","ZENERGY - RAMA, H1800 X D800 X W1500, 650+850",1851.6,"1-ZE-01","2019-10-02","SZT"]
["78160","ZENERGY - RAMA, H1800 X D800 X W1600, 800+800",1827.2,"1-ZE-01","2019-10-02","SZT"]
["78170","ZENERGY - RAMA, H1800 X D800 X W1700, 850+850",1918.5,"1-ZE-01","2019-10-02","SZT"]
["79223","ZENERGY - OSŁONY BOCZNE WENTYLOWANE IP30, H1800 X D230",547,"1-ZE-01","2019-10-02","SZT"]
["79224","ZENERGY - OSŁONY BOCZNE WENTYLOWANE, STAŁE IP30, H1800 X D230",289,"1-ZE-01","2019-10-02","SZT"]
["79225","ZENERGY - OSŁONY BOCZNE WENTYLOWANE, PŁASKIE, PRZYKRĘCANE IP30, H1800 X D230",289,"1-ZE-01","2019-10-02","SZT"]
["79230","ZENERGY - OSŁONY BOCZNE WENTYLOWANE IP30, H1800 X D300",566.6,"1-ZE-01","2019-10-02","SZT"]
["79231","ZENERGY - OSŁONY BOCZNE WENTYLOWANE, STAŁE IP30, H1800 X D300",308.5,"1-ZE-01","2019-10-02","SZT"]
["79232","ZENERGY - OSŁONY BOCZNE WENTYLOWANE, PŁASKIE, PRZYKRĘCANE IP30, H1800 X D300",308.5,"1-ZE-01","2019-10-02","SZT"]
["79240","ZENERGY - OSŁONY BOCZNE WENTYLOWANE IP30, H1800 X D400",584.5,"1-ZE-01","2019-10-02","SZT"]
["79241","ZENERGY - OSŁONY BOCZNE WENTYLOWANE, STAŁE IP30, H1800 X D400",326.5,"1-ZE-01","2019-10-02","SZT"]
["79242","ZENERGY - OSŁONY BOCZNE WENTYLOWANE, PŁASKIE, PRZYKRĘCANE IP30, H1800 X D400",326.5,"1-ZE-01","2019-10-02","SZT"]
["79260","ZENERGY - OSŁONY BOCZNE WENTYLOWANE IP30, H1800 X D600",605.79999999999995,"1-ZE-01","2019-10-02","SZT"]
["79261","ZENERGY - OSŁONY BOCZNE WENTYLOWANE, STAŁE IP30, H1800 X D600",347.7,"1-ZE-01","2019-10-02","SZT"]
["79262","ZENERGY - OSŁONY BOCZNE WENTYLOWANE, PŁASKIE, PRZYKRĘCANE IP30, H1800 X D600",347.7,"1-ZE-01","2019-10-02","SZT"]
["79280","ZENERGY - OSŁONY BOCZNE WENTYLOWANE IP30, H1800 X D800",627,"1-ZE-01","2019-10-02","SZT"]
["79281","ZENERGY - OSŁONY BOCZNE WENTYLOWANE, STAŁE IP30, H1800 X D800",369,"1-ZE-01","2019-10-02","SZT"]
["79282","ZENERGY - OSŁONY BOCZNE WENTYLOWANE, PŁASKIE, PRZYKRĘCANE IP30, H1800 X D800",369,"1-ZE-01","2019-10-02","SZT"]
["79323","ZENERGY - OSŁONY BOCZNE PEŁNE IP30, H1800 X D230",485,"1-ZE-01","2019-10-02","SZT"]
["79324","ZENERGY - OSŁONY BOCZNE PEŁNE, STAŁE IP30, H1800 X D230",226.9,"1-ZE-01","2019-10-02","SZT"]
["79325","ZENERGY - OSŁONY BOCZNE PEŁNE, PŁASKIE, PRZYKRĘCANE IP30, H1800 X D230",226.9,"1-ZE-01","2019-10-02","SZT"]
["79327","ZENERGY - PRZEGRODA ODDZIELAJĄCA PIONOWA, OCYNK,  H1800 X D230",113.5,"1-ZE-01","2019-10-02","SZT"]
["79330","ZENERGY - OSŁONY BOCZNE PEŁNE IP30, H1800 X D300",504.5,"1-ZE-01","2019-10-02","SZT"]
["79331","ZENERGY - OSŁONY BOCZNE PEŁNE, STAŁE IP30, H1800 X D300",246.6,"1-ZE-01","2019-10-02","SZT"]
["79332","ZENERGY - OSŁONY BOCZNE PEŁNE, PŁASKIE, PRZYKRĘCANE IP30, H1800 X D300",246.6,"1-ZE-01","2019-10-02","SZT"]
["79335","ZENERGY - PRZEGRODA ODDZIELAJĄCA PIONOWA, OCYNK,  H1800 X D300",123.4,"1-ZE-01","2019-10-02","SZT"]
["79340","ZENERGY - OSŁONY BOCZNE PEŁNE IP30, H1800 X D400",522.4,"1-ZE-01","2019-10-02","SZT"]
["79341","ZENERGY - OSŁONY BOCZNE PEŁNE, STAŁE IP30, H1800 X D400",264.60000000000002,"1-ZE-01","2019-10-02","SZT"]
["79342","ZENERGY - OSŁONY BOCZNE PEŁNE, PŁASKIE, PRZYKRĘCANE IP30, H1800 X D400",264.60000000000002,"1-ZE-01","2019-10-02","SZT"]
["79345","ZENERGY - PRZEGRODA ODDZIELAJĄCA PIONOWA, OCYNK,  H1800 X D400",132.4,"1-ZE-01","2019-10-02","SZT"]
["79360","ZENERGY - OSŁONY BOCZNE PEŁNE IP30, H1800 X D600",565,"1-ZE-01","2019-10-02","SZT"]
["79361","ZENERGY - OSŁONY BOCZNE PEŁNE, STAŁE IP30, H1800 X D600",306.89999999999998,"1-ZE-01","2019-10-02","SZT"]
["79362","ZENERGY - OSŁONY BOCZNE PEŁNE, PŁASKIE, PRZYKRĘCANE IP30, H1800 X D600",306.89999999999998,"1-ZE-01","2019-10-02","SZT"]
["79365","ZENERGY - PRZEGRODA ODDZIELAJĄCA PIONOWA, OCYNK,  H1800 X D600",153.4,"1-ZE-01","2019-10-02","SZT"]
["79380","ZENERGY - OSŁONY BOCZNE PEŁNE IP30, H1800 X D800",605.79999999999995,"1-ZE-01","2019-10-02","SZT"]
["79381","ZENERGY - OSŁONY BOCZNE PEŁNE, STAŁE IP30, H1800 X D800",347.7,"1-ZE-01","2019-10-02","SZT"]
["79382","ZENERGY - OSŁONY BOCZNE PEŁNE, PŁASKIE, PRZYKRĘCANE IP30, H1800 X D800",347.7,"1-ZE-01","2019-10-02","SZT"]
["79385","ZENERGY - PRZEGRODA ODDZIELAJĄCA PIONOWA, OCYNK,  H1800 X D800",174,"1-ZE-01","2019-10-02","SZT"]
["79423","ZENERGY - OSŁONY BOCZNE WENTYLOWANE IP43, H1800 X D230",501.9,"1-ZE-01","2019-10-02","SZT"]
["79424","ZENERGY - OSŁONY BOCZNE WENTYLOWANE, STAŁE IP43, H1800 X D230",232.2,"1-ZE-01","2019-10-02","SZT"]
["79425","ZENERGY - OSŁONY BOCZNE WENTYLOWANE, PŁASKIE, PRZYKRĘCANE IP43, H1800 X D230",360.3,"1-ZE-01","2019-10-02","SZT"]
["79430","ZENERGY - OSŁONY BOCZNE WENTYLOWANE IP43, H1800 X D300",655.5,"1-ZE-01","2019-10-02","SZT"]
["79431","ZENERGY - OSŁONY BOCZNE WENTYLOWANE, STAŁE IP43, H1800 X D300",385.8,"1-ZE-01","2019-10-02","SZT"]
["79432","ZENERGY - OSŁONY BOCZNE WENTYLOWANE, PŁASKIE, PRZYKRĘCANE IP43, H1800 X D300",385.8,"1-ZE-01","2019-10-02","SZT"]
["79440","ZENERGY - OSŁONY BOCZNE WENTYLOWANE IP43, H1800 X D400",677.7,"1-ZE-01","2019-10-02","SZT"]
["79441","ZENERGY - OSŁONY BOCZNE WENTYLOWANE, STAŁE IP43, H1800 X D400",408,"1-ZE-01","2019-10-02","SZT"]
["79442","ZENERGY - OSŁONY BOCZNE WENTYLOWANE, PŁASKIE, PRZYKRĘCANE IP43, H1800 X D400",408,"1-ZE-01","2019-10-02","SZT"]
["79460","ZENERGY - OSŁONY BOCZNE WENTYLOWANE IP43, H1800 X D600",711.9,"1-ZE-01","2019-10-02","SZT"]
["79461","ZENERGY - OSŁONY BOCZNE WENTYLOWANE, STAŁE IP43, H1800 X D600",442.2,"1-ZE-01","2019-10-02","SZT"]
["79462","ZENERGY - OSŁONY BOCZNE WENTYLOWANE, PŁASKIE, PRZYKRĘCANE IP43, H1800 X D600",442.2,"1-ZE-01","2019-10-02","SZT"]
["79480","ZENERGY - OSŁONY BOCZNE WENTYLOWANE IP43, H1800 X D800",732.2,"1-ZE-01","2019-10-02","SZT"]
["79481","ZENERGY - OSŁONY BOCZNE WENTYLOWANE, STAŁE IP43, H1800 X D800",462.7,"1-ZE-01","2019-10-02","SZT"]
["79482","ZENERGY - OSŁONY BOCZNE WENTYLOWANE, PŁASKIE, PRZYKRĘCANE IP43, H1800 X D800",462.7,"1-ZE-01","2019-10-02","SZT"]
["79523","ZENERGY - OSŁONY BOCZNE PEŁNE IP55, H1800 X D230",568.5,"1-ZE-01","2019-10-02","SZT"]
["79530","ZENERGY - OSŁONY BOCZNE PEŁNE IP55, H1800 X D300",590.6,"1-ZE-01","2019-10-02","SZT"]
["79540","ZENERGY - OSŁONY BOCZNE PEŁNE IP55, H1800 X D400",611.1,"1-ZE-01","2019-10-02","SZT"]
["79560","ZENERGY - OSŁONY BOCZNE PEŁNE IP55, H1800 X D600",662.4,"1-ZE-01","2019-10-02","SZT"]
["79580","ZENERGY - OSŁONY BOCZNE PEŁNE IP55, H1800 X D800",710.1,"1-ZE-01","2019-10-02","SZT"]
["80110","ZENERGY - RAMA OSŁON CZOŁOWYCH NA ZAWIASACH H2000 W1000",368.1,"1-ZE-01","2019-10-02","SZT"]
["80111","ZENERGY - RAMA OSŁON CZOŁOWYCH NA ZAWIASACH H2000 W1000 DO PLOMBOWANIA",418.8,"1-ZE-01","2019-10-02","SZT"]
["80140","ZENERGY - RAMA OSŁON CZOŁOWYCH NA ZAWIASACH H2000 W400",255,"1-ZE-01","2019-10-02","SZT"]
["80141","ZENERGY - RAMA OSŁON CZOŁOWYCH NA ZAWIASACH H2000 W400 DO PLOMBOWANIA",280.89999999999998,"1-ZE-01","2019-10-02","SZT"]
["80145","ZENERGY - RAMA OSŁON CZOŁOWYCH NA ZAWIASACH H2000 W450",255.3,"1-ZE-01","2019-10-02","SZT"]
["80146","ZENERGY - RAMA OSŁON CZOŁOWYCH NA ZAWIASACH H2000 W450 DO PLOMBOWANIA",307.89999999999998,"1-ZE-01","2019-10-02","SZT"]
["80165","ZENERGY - RAMA OSŁON CZOŁOWYCH NA ZAWIASACH H2000 W650",286.5,"1-ZE-01","2019-10-02","SZT"]
["80166","ZENERGY - RAMA OSŁON CZOŁOWYCH NA ZAWIASACH H2000 W650 DO PLOMBOWANIA",344,"1-ZE-01","2019-10-02","SZT"]
["80170","ZENERGY IT - DWA WSPORNIKI PIONOWE MODUŁU \"U\" 19-CALI NA WKRĘTY SAMOFORMUJĄCE, SZAFY H2000 W650",344,"1-ZE-01","2019-10-02","SZT"]
["80180","ZENERGY - RAMA OSŁON CZOŁOWYCH NA ZAWIASACH H2000 W800",346.3,"1-ZE-01","2019-10-02","SZT"]
["80181","Zenergy - Rama osłon czołowych stała H2000 W800",166.9,"1-ZE-01","2021-12-01","SZT"]
["80184","ZENERGY - RAMA OSŁON CZOŁOWYCH NA ZAWIASACH 19 CALI H2000 W800",659.5,"1-ZE-01","2019-10-02","SZT"]
["80185","ZENERGY - RAMA OSŁON CZOŁOWYCH NA ZAWIASACH H2000 W850",360.6,"1-ZE-01","2019-10-02","SZT"]
["80186","ZENERGY - RAMA OSŁON CZOŁOWYCH NA ZAWIASACH H2000 W850 DO PLOMBOWANIA",399.2,"1-ZE-01","2019-10-02","SZT"]
["80210","ZENERGY - DRZWI WENTYLOWANE IP30, H2000 X W1000",1149.5999999999999,"1-ZE-01","2019-10-02","SZT"]
["80211","ZENERGY - DRZWI WENTYLOWANE IP30, H2000 X W1000, PODWÓJNE",1485.9,"1-ZE-01","2019-10-02","SZT"]
["80212","ZENERGY - DRZWI WENTYLOWANE IP30, H2000 X W1200, PODWÓJNE",1842.4,"1-ZE-01","2019-10-02","SZT"]
["80213","ZENERGY - DRZWI WENTYLOWANE IP30, H2000 X W1300, PODWÓJNE",1857.9,"1-ZE-01","2019-10-02","SZT"]
["80214","ZENERGY - DRZWI WENTYLOWANE IP30, H2000 X W1050",1207.4000000000001,"1-ZE-01","2019-10-02","SZT"]
["80230","ZENERGY - DRZWI WENTYLOWANE IP30, H2000 X W300",641.5,"1-ZE-01","2019-10-02","SZT"]
["80240","ZENERGY - DRZWI WENTYLOWANE IP30, H2000 X W400",702.4,"1-ZE-01","2019-10-02","SZT"]
["80245","ZENERGY - DRZWI WENTYLOWANE IP30, H2000 X W450",737.1,"1-ZE-01","2019-10-02","SZT"]
["80260","ZENERGY - DRZWI WENTYLOWANE IP30, H2000 X W600",828.3,"1-ZE-01","2019-10-02","SZT"]
["80265","ZENERGY - DRZWI WENTYLOWANE IP30, H2000 X W650",854.5,"1-ZE-01","2019-10-02","SZT"]
["80280","ZENERGY - DRZWI WENTYLOWANE IP30, H2000 X W800",945.5,"1-ZE-01","2019-10-02","SZT"]
["80285","ZENERGY - DRZWI WENTYLOWANE IP30, H2000 X W850",1052.5999999999999,"1-ZE-01","2019-10-02","SZT"]
["80295","ZENERGY - DRZWI WENTYLOWANE IP30, H2000 X W950",1093.0999999999999,"1-ZE-01","2019-10-02","SZT"]
["80310","ZENERGY - DRZWI PEŁNE IP30, H2000 X W1000",1092.4000000000001,"1-ZE-01","2019-10-02","SZT"]
["80311","ZENERGY - DRZWI PEŁNE IP30, H2000 X W1000, PODWÓJNE",1423.4,"1-ZE-01","2019-10-02","SZT"]
["80312","ZENERGY - DRZWI PEŁNE IP30, H2000 X W1200, PODWÓJNE",1767.4,"1-ZE-01","2019-10-02","SZT"]
["80313","ZENERGY - DRZWI PEŁNE IP30, H2000 X W1300, PODWÓJNE",1782.9,"1-ZE-01","2019-10-02","SZT"]
["80314","ZENERGY - DRZWI PEŁNE IP30, H2000 X W1050",1169.8,"1-ZE-01","2019-10-02","SZT"]
["80330","ZENERGY - DRZWI PEŁNE IP30, H2000 X W300",595.1,"1-ZE-01","2019-10-02","SZT"]
["80340","ZENERGY - DRZWI PEŁNE IP30, H2000 X W400",654.9,"1-ZE-01","2019-10-02","SZT"]
["80345","ZENERGY - DRZWI PEŁNE IP30, H2000 X W450",686.1,"1-ZE-01","2019-10-02","SZT"]
["80360","ZENERGY - DRZWI PEŁNE IP30, H2000 X W600",772.8,"1-ZE-01","2019-10-02","SZT"]
["80365","ZENERGY - DRZWI PEŁNE IP30, H2000 X W650",802.6,"1-ZE-01","2019-10-02","SZT"]
["80371","ZENERGY - SŁUPEK OCYNK, H2000, RAMA ZEWNĘTRZNA",62.4,"1-ZE-01","2019-10-02","SZT"]
["80372","ZENERGY - SŁUPEK OCYNK, H2000, RAMA WEWNĘTRZNA",70.599999999999994,"1-ZE-01","2019-10-02","SZT"]
["80373","ZENERGY - SŁUPEK INOX, H2000, RAMA ZEWNĘTRZNA",131.30000000000001,"1-ZE-01","2019-10-02","SZT"]
["80374","ZENERGY - SŁUPEK INOX, H2000, RAMA WEWNETRZNA",139.6,"1-ZE-01","2019-10-02","SZT"]
["80375","ZENERGY - SŁUPEK ZEWNĘTRZNY, H2000, POLE NAROŻNE",70.599999999999994,"1-ZE-01","2019-10-02","SZT"]
["80376","ZENERGY - SŁUPEK WEWNĘTRZNY, H2000, POLE NAROŻNE + 2SZT. ELEMENT ŁĄCZĄCY",70.599999999999994,"1-ZE-01","2019-10-02","SZT"]
["80380","ZENERGY - DRZWI PEŁNE IP30, H2000 X W800",965,"1-ZE-01","2019-10-02","SZT"]
["80385","ZENERGY - DRZWI PEŁNE IP30, H2000 X W850",995.7,"1-ZE-01","2019-10-02","SZT"]
["80395","ZENERGY - DRZWI PEŁNE IP30, H2000 X W950",1058.7,"1-ZE-01","2019-10-02","SZT"]
["80410","ZENERGY - DRZWI WENTYLOWANE IP43, H2000 X W1000",1289.4000000000001,"1-ZE-01","2019-10-02","SZT"]
["80411","ZENERGY - DRZWI WENTYLOWANE IP43, H2000 X W1000, PODWÓJNE",1718.8,"1-ZE-01","2019-10-02","SZT"]
["80412","ZENERGY - DRZWI WENTYLOWANE IP43, H2000 X W1200, PODWÓJNE",2098.3000000000002,"1-ZE-01","2019-10-02","SZT"]
["80413","ZENERGY - DRZWI WENTYLOWANE IP43, H2000 X W1300, PODWÓJNE",2108.3000000000002,"1-ZE-01","2019-10-02","SZT"]
["80414","ZENERGY - DRZWI WENTYLOWANE IP43, H2000 X W1050",1390,"1-ZE-01","2019-10-02","SZT"]
["80430","ZENERGY - DRZWI WENTYLOWANE IP43, H2000 X W300",747.7,"1-ZE-01","2019-10-02","SZT"]
["80440","ZENERGY - DRZWI WENTYLOWANE IP43, H2000 X W400",814.8,"1-ZE-01","2019-10-02","SZT"]
["80445","ZENERGY - DRZWI WENTYLOWANE IP43, H2000 X W450",1043.2,"1-ZE-01","2019-10-02","SZT"]
["80460","ZENERGY - DRZWI WENTYLOWANE IP43, H2000 X W600",961.9,"1-ZE-01","2019-10-02","SZT"]
["80465","ZENERGY - DRZWI WENTYLOWANE IP43, H2000 X W650",985.4,"1-ZE-01","2019-10-02","SZT"]
["80480","ZENERGY - DRZWI WENTYLOWANE IP43, H2000 X W800",1107.0999999999999,"1-ZE-01","2019-10-02","SZT"]
["80485","ZENERGY - DRZWI WENTYLOWANE IP43, H2000 X W850",1161.2,"1-ZE-01","2019-10-02","SZT"]
["80495","ZENERGY - DRZWI WENTYLOWANE IP43, H2000 X W950",1224.9000000000001,"1-ZE-01","2019-10-02","SZT"]
["80510","ZENERGY - DRZWI PEŁNE IP55, H2000 X W1000",1370.3,"1-ZE-01","2019-10-02","SZT"]
["80511","ZENERGY - DRZWI PEŁNE IP55, H2000 X W1000, PODWÓJNE",1633.5,"1-ZE-01","2019-10-02","SZT"]
["80512","ZENERGY - DRZWI PEŁNE IP55, H2000 X W1200, PODWÓJNE",2018.4,"1-ZE-01","2019-10-02","SZT"]
["80513","ZENERGY - DRZWI PEŁNE IP55, H2000 X W1300, PODWÓJNE",2116.6999999999998,"1-ZE-01","2019-10-02","SZT"]
["80514","ZENERGY - DRZWI PEŁNE IP55, H2000 X W1050",1397.2,"1-ZE-01","2019-10-02","SZT"]
["80530","ZENERGY - DRZWI PEŁNE IP55, H2000 X W300",710.1,"1-ZE-01","2019-10-02","SZT"]
["80540","ZENERGY - DRZWI PEŁNE IP55, H2000 X W400",791.8,"1-ZE-01","2019-10-02","SZT"]
["80545","ZENERGY - DRZWI PEŁNE IP55, H2000 X W450",816.4,"1-ZE-01","2019-10-02","SZT"]
["80560","ZENERGY - DRZWI PEŁNE IP55, H2000 X W600",918,"1-ZE-01","2019-10-02","SZT"]
["80565","ZENERGY - DRZWI PEŁNE IP55, H2000 X W650",1009.2,"1-ZE-01","2019-10-02","SZT"]
["80580","ZENERGY - DRZWI PEŁNE IP55, H2000 X W800",1214.7,"1-ZE-01","2019-10-02","SZT"]
["80585","ZENERGY - DRZWI PEŁNE IP55, H2000 X W850",1252.5999999999999,"1-ZE-01","2019-10-02","SZT"]
["80595","ZENERGY - DRZWI PEŁNE IP55, H2000 X W950",1303.4000000000001,"1-ZE-01","2019-10-02","SZT"]
["80610","ZENERGY - DRZWI PRZESZKLONE IP55, H2000 X W1000",1769.6,"1-ZE-01","2019-10-02","SZT"]
["80612","ZENERGY - DRZWI PRZESZKLONE IP55, H2000 X W1200, PODWÓJNE",2481.5,"1-ZE-01","2019-10-02","SZT"]
["80613","ZENERGY - DRZWI PRZESZKLONE IP55, H2000 X W1300, PODWÓJNE",2514.6,"1-ZE-01","2019-10-02","SZT"]
["80614","ZENERGY - DRZWI PRZESZKLONE IP55, H2000 X W1050",1879.6,"1-ZE-01","2019-10-02","SZT"]
["80640","ZENERGY - DRZWI PRZESZKLONE IP55, H2000 X W400",878.9,"1-ZE-01","2019-10-02","SZT"]
["80645","ZENERGY - DRZWI PRZESZKLONE IP55, H2000 X W450",922.9,"1-ZE-01","2019-10-02","SZT"]
["80660","ZENERGY - DRZWI PRZESZKLONE IP55, H2000 X W600",1091.7,"1-ZE-01","2019-10-02","SZT"]
["80665","ZENERGY - DRZWI PRZESZKLONE IP55, H2000 X W650",1363,"1-ZE-01","2019-10-02","SZT"]
["80680","ZENERGY - DRZWI PRZESZKLONE IP55, H2000 X W800",1536.1,"1-ZE-01","2019-10-02","SZT"]
["80685","ZENERGY - DRZWI PRZESZKLONE IP55, H2000 X W850",1594.6,"1-ZE-01","2019-10-02","SZT"]
["80695","ZENERGY - DRZWI PRZESZKLONE IP55, H2000 X W950",1681.2,"1-ZE-01","2019-10-02","SZT"]
["80742","ZENERGY - SŁUPEK OCYNK, H2000, RAMA WEWNĘTRZNA, PODWÓJNA",82.2,"1-ZE-01","2019-10-02","SZT"]
["80744","ZENERGY - SŁUPEK INOX, H2000, RAMA WEWNĘTRZNA, PODWÓJNA",172.4,"1-ZE-01","2019-10-02","SZT"]
["80745","ZENERGY - RAMA UCHYLNA ROZŁĄCZNIKÓW LISTWOWYCH 3X EFEN 160-630, H2000 X W450, 23+11M, ANALIZATORY 3X 96X96MM",586.70000000000005,"1-ZE-01","2019-10-02","SZT"]
["80746","ZENERGY - RAMA UCHYLNA ROZŁĄCZNIKÓW LISTWOWYCH 3X EFEN 160-630, H2000 X W450, 23+11M, ANALIZATORY 3X 96X96MM DO PLOMBOWANIA",573.5,"1-ZE-01","2019-10-02","SZT"]
["80765","ZENERGY - RAMA UCHYLNA ROZŁĄCZNIKÓW LISTWOWYCH 5X EFEN 160-630, H2000 X W650, 23+11M, ANALIZATORY 5X 96X96MM",666.8,"1-ZE-01","2019-10-02","SZT"]
["80766","ZENERGY - RAMA UCHYLNA ROZŁĄCZNIKÓW LISTWOWYCH 5X EFEN 160-630, H2000 X W650, 23+11M, ANALIZATORY 5X 96X96MM DO PLOMBOWANIA",649.9,"1-ZE-01","2019-10-02","SZT"]
["80785","ZENERGY - RAMA UCHYLNA ROZŁĄCZNIKÓW LISTWOWYCH 7X EFEN 160-630, H2000 X W850, 23+11M, ANALIZATORY 7X 96X96MM",747,"1-ZE-01","2019-10-02","SZT"]
["80786","ZENERGY - RAMA UCHYLNA ROZŁĄCZNIKÓW LISTWOWYCH 7X EFEN 160-630, H2000 X W850, 23+11M, ANALIZATORY 7X 96X96MM DO PLOMBOWANIA",726.4,"1-ZE-01","2019-10-02","SZT"]
["80845","ZENERGY - RAMA UCHYLNA ROZŁĄCZNIKÓW LISTWOWYCH 3X EFEN 160-630, H2000 X W450, 23+13M",458.8,"1-ZE-01","2019-10-02","SZT"]
["80846","ZENERGY - RAMA UCHYLNA ROZŁĄCZNIKÓW LISTWOWYCH 3X EFEN 160-630, H2000 X W450, 23+13M DO PLOMBOWANIA",494.6,"1-ZE-01","2019-10-02","SZT"]
["80865","ZENERGY - RAMA UCHYLNA ROZŁĄCZNIKÓW LISTWOWYCH 5X EFEN 160-630, H2000 X W650, 23+13M",535.20000000000005,"1-ZE-01","2019-10-02","SZT"]
["80866","ZENERGY - RAMA UCHYLNA ROZŁĄCZNIKÓW LISTWOWYCH 5X EFEN 160-630, H2000 X W650, 23+13M DO PLOMBOWANIA",574.6,"1-ZE-01","2019-10-02","SZT"]
["80885","ZENERGY - RAMA UCHYLNA ROZŁĄCZNIKÓW LISTWOWYCH 7X EFEN 160-630, H2000 X W850, 23+13M",611.70000000000005,"1-ZE-01","2019-10-02","SZT"]
["80886","ZENERGY - RAMA UCHYLNA ROZŁĄCZNIKÓW LISTWOWYCH 7X EFEN 160-630, H2000 X W850, 23+13M DO PLOMBOWANIA",654.9,"1-ZE-01","2019-10-02","SZT"]
["80895","ZENERGY - RAMA UCHYLNA ROZŁĄCZNIKÓW LISTWOWYCH 8X EFEN 160-630, H2000 X W1000, 23+13M",669.1,"1-ZE-01","2019-10-02","SZT"]
["80910","ZENERGY - PŁYTA MONTAŻOWA PEŁNA H2000 X W1000 + WSPORNIKI,  ( 1850 X 900 )",901.1,"1-ZE-01","2019-10-02","SZT"]
["80912","ZENERGY - PŁYTA MONTAŻOWA PEŁNA H2000 X W1200 + WSPORNIKI,  ( 1850 X 1100 )",1057.4000000000001,"1-ZE-01","2019-10-02","SZT"]
["80913","ZENERGY - PŁYTA MONTAŻOWA PEŁNA H2000 X W1300 + WSPORNIKI,  ( 1850 X 1200 )",1136.4000000000001,"1-ZE-01","2019-10-02","SZT"]
["80930","ZENERGY - PŁYTA MONTAŻOWA PEŁNA H2000 X W300 + WSPORNIKI,  ( 1850 X 200 )",353.1,"1-ZE-01","2019-10-02","SZT"]
["80940","ZENERGY - PŁYTA MONTAŻOWA PEŁNA H2000 X W400 + WSPORNIKI,  ( 1850 X 300 )",432.2,"1-ZE-01","2019-10-02","SZT"]
["80945","ZENERGY - PŁYTA MONTAŻOWA PEŁNA H2000 X W450 + WSPORNIKI,  ( 1850 X 350 )",463.2,"1-ZE-01","2019-10-02","SZT"]
["80960","ZENERGY - PŁYTA MONTAŻOWA PEŁNA H2000 X W600 + WSPORNIKI,  ( 1850 X 500 )",596.29999999999995,"1-ZE-01","2019-10-02","SZT"]
["80965","ZENERGY - PŁYTA MONTAŻOWA PEŁNA H2000 X W650 + WSPORNIKI,  ( 1850 X 550 )",627.20000000000005,"1-ZE-01","2019-10-02","SZT"]
["80980","ZENERGY - PŁYTA MONTAŻOWA PEŁNA H2000 X W800 + WSPORNIKI,  ( 1850 X 700 )",743,"1-ZE-01","2019-10-02","SZT"]
["80985","ZENERGY - PŁYTA MONTAŻOWA PEŁNA H2000 X W850 + WSPORNIKI,  ( 1850 X 750 )",785.4,"1-ZE-01","2019-10-02","SZT"]
["80995","ZENERGY - PEŁNY ŁĄCZNIK PŁYT MONTAŻOWYCH H2000,  ( 1850 X 98 )",194.9,"1-ZE-01","2019-10-02","SZT"]
["80996","ZENERGY - WSPORNIK DYSTANSOWY OSŁON BOCZNYCH D600, D800",25.8,"1-ZE-01","2019-10-02","SZT"]
["81110","ZENERGY - DRZWI PRZESZKLONE IP30, H2000 X W1000",1592.6,"1-ZE-01","2019-10-02","SZT"]
["81112","ZENERGY - DRZWI PRZESZKLONE IP30, H2000 X W1200, PODWÓJNE",2233.3000000000002,"1-ZE-01","2019-10-02","SZT"]
["81113","ZENERGY - DRZWI PRZESZKLONE IP30, H2000 X W1300, PODWÓJNE",2263.1,"1-ZE-01","2019-10-02","SZT"]
["81114","ZENERGY - DRZWI PRZESZKLONE IP30, H2000 X W1050",1691.8,"1-ZE-01","2019-10-02","SZT"]
["81120","ZENERGY - RAMA, H2000 X D1000 X W1200",1494.8,"1-ZE-01","2021-12-01","SZT"]
["81140","ZENERGY - DRZWI PRZESZKLONE IP30, H2000 X W400",791,"1-ZE-01","2019-10-02","SZT"]
["81145","ZENERGY - DRZWI PRZESZKLONE IP30, H2000 X W450",830.5,"1-ZE-01","2019-10-02","SZT"]
["81160","ZENERGY - DRZWI PRZESZKLONE IP30, H2000 X W600",982.6,"1-ZE-01","2019-10-02","SZT"]
["81165","ZENERGY - DRZWI PRZESZKLONE IP30, H2000 X W650",1226.8,"1-ZE-01","2019-10-02","SZT"]
["81180","ZENERGY - DRZWI PRZESZKLONE IP30, H2000 X W800",1382.7,"1-ZE-01","2019-10-02","SZT"]
["81185","ZENERGY - DRZWI PRZESZKLONE IP30, H2000 X W850",1435.1,"1-ZE-01","2019-10-02","SZT"]
["81195","ZENERGY - DRZWI PRZESZKLONE IP30, H2000 X W950",1513,"1-ZE-01","2019-10-02","SZT"]
["81210","ZENERGY - OSŁONA TYLNA PEŁNA IP30, H2000 X W1000",593.79999999999995,"1-ZE-01","2019-10-02","SZT"]
["81211","ZENERGY - OSŁONA TYLNA PEŁNA IP30, H2000 X W850+200",632.29999999999995,"1-ZE-01","2019-10-02","SZT"]
["81212","ZENERGY - OSŁONA TYLNA PEŁNA IP30, H2000 X W1200",871.3,"1-ZE-01","2019-10-02","SZT"]
["81213","ZENERGY - OSŁONA TYLNA PEŁNA IP30, H2000 X W1300",909.8,"1-ZE-01","2019-10-02","SZT"]
["81230","ZENERGY - OSŁONA TYLNA PEŁNA IP30, H2000 X W300",233.1,"1-ZE-01","2019-10-02","SZT"]
["81240","ZENERGY - OSŁONA TYLNA PEŁNA IP30, H2000 X W400",333.9,"1-ZE-01","2019-10-02","SZT"]
["81245","ZENERGY - OSŁONA TYLNA PEŁNA IP30, H2000 X W450",350.3,"1-ZE-01","2019-10-02","SZT"]
["81260","ZENERGY - OSŁONA TYLNA PEŁNA IP30, H2000 X W600",432,"1-ZE-01","2019-10-02","SZT"]
["81265","ZENERGY - OSŁONA TYLNA PEŁNA IP30, H2000 X W650",455.8,"1-ZE-01","2019-10-02","SZT"]
["81280","ZENERGY - OSŁONA TYLNA PEŁNA IP30, H2000 X W800",515.1,"1-ZE-01","2019-10-02","SZT"]
["81285","ZENERGY - OSŁONA TYLNA PEŁNA IP30, H2000 X W850",534.4,"1-ZE-01","2019-10-02","SZT"]
["81295","ZENERGY - OSŁONA TYLNA PEŁNA IP30, H2000 X W650+300",580.4,"1-ZE-01","2019-10-02","SZT"]
["81310","ZENERGY - OSŁONA TYLNA WENTYLOWANA IP30, H2000 X W1000",633.9,"1-ZE-01","2019-10-02","SZT"]
["81311","ZENERGY - OSŁONA TYLNA WENTYLOWANA IP30, H2000 X W850+200",748.2,"1-ZE-01","2019-10-02","SZT"]
["81312","ZENERGY - OSŁONA TYLNA WENTYLOWANA IP30, H2000 X W1200",950,"1-ZE-01","2019-10-02","SZT"]
["81313","ZENERGY - OSŁONA TYLNA WENTYLOWANA IP30, H2000 X W1300",990,"1-ZE-01","2019-10-02","SZT"]
["81330","ZENERGY - OSŁONA TYLNA WENTYLOWANA IP30, H2000 X W300",292.39999999999998,"1-ZE-01","2019-10-02","SZT"]
["81340","ZENERGY - OSŁONA TYLNA WENTYLOWANA IP30, H2000 X W400",393.4,"1-ZE-01","2019-10-02","SZT"]
["81345","ZENERGY - OSŁONA TYLNA WENTYLOWANA IP30, H2000 X W450",414.2,"1-ZE-01","2019-10-02","SZT"]
["81350","ZENERGY - OSŁONA TYLNA WENTYLOWANA IP30 POLA NAROŻNEGO D400, H2000 X W500",435.6,"1-ZE-01","2019-10-02","SZT"]
["81360","ZENERGY - OSŁONA TYLNA WENTYLOWANA IP30, H2000 X W600",488.3,"1-ZE-01","2019-10-02","SZT"]
["81365","ZENERGY - OSŁONA TYLNA WENTYLOWANA IP30, H2000 X W650",515.1,"1-ZE-01","2019-10-02","SZT"]
["81370","ZENERGY - OSŁONA TYLNA WENTYLOWANA IP30 POLA NAROŻNEGO D600, H2000 X W700",540.9,"1-ZE-01","2019-10-02","SZT"]
["81380","ZENERGY - OSŁONA TYLNA WENTYLOWANA IP30, H2000 X W800",574.4,"1-ZE-01","2019-10-02","SZT"]
["81385","ZENERGY - OSŁONA TYLNA WENTYLOWANA IP30, H2000 X W850",593.79999999999995,"1-ZE-01","2019-10-02","SZT"]
["81390","ZENERGY - OSŁONA TYLNA WENTYLOWANA IP30 POLA NAROŻNEGO D800, H2000 X W900",630.4,"1-ZE-01","2021-12-01","SZT"]
["81395","ZENERGY - OSŁONA TYLNA WENTYLOWANA IP30, H2000 X W950",665.1,"1-ZE-01","2019-10-02","SZT"]
["81410","ZENERGY - OSŁONA TYLNA WENTYLOWANA IP43, H2000 X W1000",778.8,"1-ZE-01","2019-10-02","SZT"]
["81411","ZENERGY - OSŁONA TYLNA WENTYLOWANA IP43, H2000 X W850+200",909.5,"1-ZE-01","2019-10-02","SZT"]
["81412","ZENERGY - OSŁONA TYLNA WENTYLOWANA IP43, H2000 X W1200",1187,"1-ZE-01","2019-10-02","SZT"]
["81413","ZENERGY - OSŁONA TYLNA WENTYLOWANA IP43, H2000 X W1300",1234.5,"1-ZE-01","2019-10-02","SZT"]
["81430","ZENERGY - OSŁONA TYLNA WENTYLOWANA IP43, H2000 X W300",385.3,"1-ZE-01","2019-10-02","SZT"]
["81440","ZENERGY - OSŁONA TYLNA WENTYLOWANA IP43, H2000 X W400",498,"1-ZE-01","2019-10-02","SZT"]
["81445","ZENERGY - OSŁONA TYLNA WENTYLOWANA IP43, H2000 X W450",522.4,"1-ZE-01","2019-10-02","SZT"]
["81460","ZENERGY - OSŁONA TYLNA WENTYLOWANA IP43, H2000 X W600",605.79999999999995,"1-ZE-01","2019-10-02","SZT"]
["81465","ZENERGY - OSŁONA TYLNA WENTYLOWANA IP43, H2000 X W650",638.5,"1-ZE-01","2019-10-02","SZT"]
["81480","ZENERGY - OSŁONA TYLNA WENTYLOWANA IP43, H2000 X W800",707.1,"1-ZE-01","2019-10-02","SZT"]
["81485","ZENERGY - OSŁONA TYLNA WENTYLOWANA IP43, H2000 X W850",731.6,"1-ZE-01","2019-10-02","SZT"]
["81495","ZENERGY - OSŁONA TYLNA WENTYLOWANA IP43, H2000 X W650+300",819.6,"1-ZE-01","2019-10-02","SZT"]
["81510","ZENERGY - OSŁONA TYLNA PEŁNA IP55, H2000 X W1000",736.5,"1-ZE-01","2019-10-02","SZT"]
["81511","ZENERGY - OSŁONA TYLNA PEŁNA IP55, H2000 X W850+200",804.8,"1-ZE-01","2019-10-02","SZT"]
["81512","ZENERGY - OSŁONA TYLNA PEŁNA IP55, H2000 X W1200",823,"1-ZE-01","2019-10-02","SZT"]
["81513","ZENERGY - OSŁONA TYLNA PEŁNA IP55, H2000 X W1300",1147.7,"1-ZE-01","2019-10-02","SZT"]
["81530","ZENERGY - OSŁONA TYLNA PEŁNA IP55, H2000 X W300",320.10000000000002,"1-ZE-01","2019-10-02","SZT"]
["81540","ZENERGY - OSŁONA TYLNA PEŁNA IP55, H2000 X W400",432.7,"1-ZE-01","2019-10-02","SZT"]
["81545","ZENERGY - OSŁONA TYLNA PEŁNA IP55, H2000 X W450",455.6,"1-ZE-01","2019-10-02","SZT"]
["81560","ZENERGY - OSŁONA TYLNA PEŁNA IP55, H2000 X W600",543.70000000000005,"1-ZE-01","2019-10-02","SZT"]
["81565","ZENERGY - OSŁONA TYLNA PEŁNA IP55, H2000 X W650",573.1,"1-ZE-01","2019-10-02","SZT"]
["81580","ZENERGY - OSŁONA TYLNA PEŁNA IP55, H2000 X W800",641.70000000000005,"1-ZE-01","2019-10-02","SZT"]
["81585","ZENERGY - OSŁONA TYLNA PEŁNA IP55, H2000 X W850",666.2,"1-ZE-01","2019-10-02","SZT"]
["81595","ZENERGY - OSŁONA TYLNA PEŁNA IP55, H2000 X W650+300",715.1,"1-ZE-01","2019-10-02","SZT"]
["82030","ZENERGY - RAMA, H2000 X D230 X W300",590.79999999999995,"1-ZE-01","2019-10-02","KPL"]
["82040","ZENERGY - RAMA, H2000 X D230 X W400",625.70000000000005,"1-ZE-01","2019-10-02","KPL"]
["82045","ZENERGY - RAMA, H2000 X D230 X W450",643.20000000000005,"1-ZE-01","2019-10-02","KPL"]
["82060","ZENERGY - RAMA, H2000 X D230 X W600",695.7,"1-ZE-01","2019-10-02","KPL"]
["82061","ZENERGY - RAMA, H2000 X D230 X W600, 450+150",866.3,"1-ZE-01","2019-10-02","SZT"]
["82065","ZENERGY - RAMA, H2000 X D230 X W650",713.5,"1-ZE-01","2019-10-02","KPL"]
["82067","ZENERGY - RAMA, H2000 X D230 X W650, 450+200",875.9,"1-ZE-01","2019-10-02","SZT"]
["82080","ZENERGY - RAMA, H2000 X D230 X W800",765.7,"1-ZE-01","2019-10-02","KPL"]
["82081","ZENERGY - RAMA, H2000 X D230 X W800, 650+150",923.4,"1-ZE-01","2019-10-02","KPL"]
["82085","ZENERGY - RAMA, H2000 X D230 X W850",783.4,"1-ZE-01","2019-10-02","KPL"]
["82086","ZENERGY - RAMA, H2000 X D230 X W850, 650+200",927.2,"1-ZE-01","2019-10-02","KPL"]
["82095","ZENERGY - RAMA, H2000 X D230 X W950, 650+300",1023.4,"1-ZE-01","2019-10-02","SZT"]
["82096","ZENERGY - RAMA, H2000 X D230 X W950, 400+400+150",1217.9000000000001,"1-ZE-01","2019-10-02","SZT"]
["82100","ZENERGY - RAMA, H2000 X D230 X W1000",835.8,"1-ZE-01","2019-10-02","KPL"]
["82102","ZENERGY - RAMA, H2000 X D230 X W1000, 850+150",1001,"1-ZE-01","2019-10-02","SZT"]
["82105","ZENERGY - RAMA, H2000 X D230 X W1050, 650+400",1056.3,"1-ZE-01","2019-10-02","SZT"]
["82107","ZENERGY - RAMA, H2000 X D230 X W1050, 850+200",992.7,"1-ZE-01","2019-10-02","SZT"]
["82110","ZENERGY - RAMA, H2000 X D230 X W1100, 150+650+300",1235.0999999999999,"1-ZE-01","2019-10-02","SZT"]
["82111","ZENERGY - RAMA, H2000 X D230 X W1100, 650+450",1072.5999999999999,"1-ZE-01","2019-10-02","SZT"]
["82115","ZENERGY - RAMA, H2000 X D230 X W1150, 850+300",1089,"1-ZE-01","2019-10-02","SZT"]
["82117","ZENERGY - RAMA, H2000 X D230 X W1150, 200+650+300",1252.5999999999999,"1-ZE-01","2019-10-02","SZT"]
["82120","ZENERGY - RAMA, H2000 X D230 X W1200",906,"1-ZE-01","2019-10-02","KPL"]
["82121","ZENERGY - RAMA, H2000 X D230 X W1200, 150+650+400",1267.9000000000001,"1-ZE-01","2019-10-02","SZT"]
["82122","ZENERGY - RAMA, H2000 X D230 X W1200, 150+450+450+150",1430.7,"1-ZE-01","2019-10-02","SZT"]
["82123","ZENERGY - RAMA, H2000 X D230 X W1200, 650+150+400",1267.9000000000001,"1-ZE-01","2019-10-02","SZT"]
["82125","ZENERGY - RAMA, H2000 X D230 X W1250, 850+400",1121.9000000000001,"1-ZE-01","2019-10-02","SZT"]
["82126","ZENERGY - RAMA, H2000 X D230 X W1250, 650+200+400",1271.8,"1-ZE-01","2019-10-02","SZT"]
["82127","ZENERGY - RAMA, H2000 X D230 X W1250, 200+650+400",1271.8,"1-ZE-01","2019-10-02","SZT"]
["82130","ZENERGY - RAMA, H2000 X D230 X W1300",941,"1-ZE-01","2019-10-02","KPL"]
["82131","ZENERGY - RAMA, H2000 X D230 X W1300, 650+650",1159.5999999999999,"1-ZE-01","2019-10-02","KPL"]
["82132","ZENERGY - RAMA, H2000 X D230 X W1300, 650+200+450",1309.5,"1-ZE-01","2019-10-02","SZT"]
["82133","ZENERGY - RAMA, H2000 X D230 X W1300, 850+450",1159.9000000000001,"1-ZE-01","2019-10-02","SZT"]
["82140","ZENERGY - RAMA, H2000 X D230 X W1400, 1000+400",1154.0999999999999,"1-ZE-01","2019-10-02","SZT"]
["82145","ZENERGY - RAMA, H2000 X D230 X W1450, 650+150+650",1349.9,"1-ZE-01","2019-10-02","SZT"]
["82147","ZENERGY - RAMA, H2000 X D230 X W1450, 150+650+650",1349.9,"1-ZE-01","2019-10-02","SZT"]
["82150","ZENERGY - RAMA, H2000 X D230 X W1500, 650+850",1203.9000000000001,"1-ZE-01","2019-10-02","KPL"]
["82151","ZENERGY - RAMA, H2000 X D230 X W1500, 650+200+650",1353.8,"1-ZE-01","2019-10-02","SZT"]
["82152","ZENERGY - RAMA, H2000 X D230 X W1500, 200+650+650",1353.8,"1-ZE-01","2019-10-02","SZT"]
["82160","ZENERGY - RAMA, H2000 X D230 X W1600, 800+800",1179.7,"1-ZE-01","2019-10-02","SZT"]
["82161","ZENERGY - RAMA, H2000 X D230 X W1600, 1200+400",1179.7,"1-ZE-01","2019-10-02","SZT"]
["82162","ZENERGY - RAMA, H2000 X D230 X W1600, 150+650+800",1399.3,"1-ZE-01","2019-10-02","SZT"]
["82164","ZENERGY - RAMA, H2000 X D230 X W1600, 650+150+650+150",1505,"1-ZE-01","2019-10-02","SZT"]
["82165","ZENERGY - RAMA, H2000 X D230 X W1650, 650+150+850",1415.4,"1-ZE-01","2019-10-02","SZT"]
["82166","ZENERGY - RAMA, H2000 X D230 X W1650, 1000+650",1252.8,"1-ZE-01","2019-10-02","SZT"]
["82169","ZENERGY - RAMA, H2000 X D230 X W1650, 200+650+800",1402.6,"1-ZE-01","2019-10-02","SZT"]
["82170","ZENERGY - RAMA, H2000 X D230 X W1700, 850+850",1269.5,"1-ZE-01","2019-10-02","KPL"]
["82171","ZENERGY - RAMA, H2000 X D230 X W1700, 650+400+650",1482.5,"1-ZE-01","2019-10-02","SZT"]
["82172","ZENERGY - RAMA, H2000 X D230 X W1700, 650+650+400",1482.5,"1-ZE-01","2019-10-02","SZT"]
["82173","ZENERGY - RAMA, H2000 X D230 X W1700, 850+200+650",1419.3,"1-ZE-01","2019-10-02","SZT"]
["82181","ZENERGY - RAMA, H2000 X D230 X W1800, 650+150+850+150",1620.3,"1-ZE-01","2019-10-02","SZT"]
["82187","ZENERGY - RAMA, H2000 X D230 X W1850, 1000+850",1304.7,"1-ZE-01","2019-10-02","SZT"]
["82197","ZENERGY - RAMA, H2000 X D230 X W2000, 850+300+850",1533.8,"1-ZE-01","2019-10-02","SZT"]
["83030","ZENERGY - RAMA, H2000 X D300 X W300",630.70000000000005,"1-ZE-01","2019-10-02","KPL"]
["83040","ZENERGY - RAMA, H2000 X D300 X W400",665.7,"1-ZE-01","2019-10-02","KPL"]
["83045","ZENERGY - RAMA, H2000 X D300 X W450",683.2,"1-ZE-01","2019-10-02","KPL"]
["83060","ZENERGY - RAMA, H2000 X D300 X W600",735.7,"1-ZE-01","2019-10-02","KPL"]
["83061","ZENERGY - RAMA, H2000 X D300 X W600, 450+150",926.3,"1-ZE-01","2019-10-02","SZT"]
["83065","ZENERGY - RAMA, H2000 X D300 X W650",753.2,"1-ZE-01","2019-10-02","KPL"]
["83067","ZENERGY - RAMA, H2000 X D300 X W650, 450+200",935.9,"1-ZE-01","2019-10-02","SZT"]
["83080","ZENERGY - RAMA, H2000 X D300 X W800",805.7,"1-ZE-01","2019-10-02","KPL"]
["83081","ZENERGY - RAMA, H2000 X D300 X W800, 650+150",983.3,"1-ZE-01","2019-10-02","KPL"]
["83085","ZENERGY - RAMA, H2000 X D300 X W850",823.4,"1-ZE-01","2019-10-02","KPL"]
["83086","ZENERGY - RAMA, H2000 X D300 X W850, 650+200",987.2,"1-ZE-01","2019-10-02","KPL"]
["83087","ZENERGY - RAMA, H2000 X D300 X W850, 450+400",1058.9000000000001,"1-ZE-01","2019-10-02","SZT"]
["83095","ZENERGY - RAMA, H2000 X D300 X W950, 650+300",1091.9000000000001,"1-ZE-01","2019-10-02","SZT"]
["83096","ZENERGY - RAMA, H2000 X D300 X W950, 400+400+150",1306.5,"1-ZE-01","2019-10-02","SZT"]
["83100","ZENERGY - RAMA, H2000 X D300 X W1000",875.7,"1-ZE-01","2019-10-02","KPL"]
["83102","ZENERGY - RAMA, H2000 X D300 X W1000, 850+150",1060.9000000000001,"1-ZE-01","2019-10-02","SZT"]
["83105","ZENERGY - RAMA, H2000 X D300 X W1050, 650+400",1124.5,"1-ZE-01","2019-10-02","SZT"]
["83107","ZENERGY - RAMA, H2000 X D300 X W1050, 850+200",1052.5999999999999,"1-ZE-01","2019-10-02","SZT"]
["83110","ZENERGY - RAMA, H2000 X D300 X W1100, 150+650+300",1323.7,"1-ZE-01","2019-10-02","SZT"]
["83111","ZENERGY - RAMA, H2000 X D300 X W1100, 650+450",1141.0999999999999,"1-ZE-01","2019-10-02","SZT"]
["83115","ZENERGY - RAMA, H2000 X D300 X W1150, 850+300",1157.4000000000001,"1-ZE-01","2019-10-02","SZT"]
["83117","ZENERGY - RAMA, H2000 X D300 X W1150, 200+650+300",1340.9,"1-ZE-01","2019-10-02","SZT"]
["83120","ZENERGY - RAMA, H2000 X D300 X W1200",945.8,"1-ZE-01","2019-10-02","KPL"]
["83121","ZENERGY - RAMA, H2000 X D300 X W1200, 150+650+400",1356.3,"1-ZE-01","2019-10-02","SZT"]
["83122","ZENERGY - RAMA, H2000 X D300 X W1200, 150+450+450+150",1539,"1-ZE-01","2019-10-02","SZT"]
["83123","ZENERGY - RAMA, H2000 X D300 X W1200, 650+150+400",1356.3,"1-ZE-01","2019-10-02","SZT"]
["83125","ZENERGY - RAMA, H2000 X D300 X W1250, 850+400",1190.4000000000001,"1-ZE-01","2019-10-02","SZT"]
["83126","ZENERGY - RAMA, H2000 X D300 X W1250, 650+200+400",1360.1,"1-ZE-01","2019-10-02","SZT"]
["83127","ZENERGY - RAMA, H2000 X D300 X W1250, 200+650+400",1360.1,"1-ZE-01","2019-10-02","SZT"]
["83130","ZENERGY - RAMA, H2000 X D300 X W1300",981.1,"1-ZE-01","2019-10-02","KPL"]
["83131","ZENERGY - RAMA, H2000 X D300 X W1300, 650+650",1228,"1-ZE-01","2019-10-02","KPL"]
["83132","ZENERGY - RAMA, H2000 X D300 X W1300, 650+200+450",1398,"1-ZE-01","2019-10-02","SZT"]
["83133","ZENERGY - RAMA, H2000 X D300 X W1300, 850+450",1228.4000000000001,"1-ZE-01","2019-10-02","SZT"]
["83140","ZENERGY - RAMA, H2000 X D300 X W1400, 1000+400",1222.5,"1-ZE-01","2019-10-02","SZT"]
["83145","ZENERGY - RAMA, H2000 X D300 X W1450, 650+150+650",1438.6,"1-ZE-01","2019-10-02","SZT"]
["83147","ZENERGY - RAMA, H2000 X D300 X W1450, 150+650+650",1438.6,"1-ZE-01","2019-10-02","SZT"]
["83150","ZENERGY - RAMA, H2000 X D300 X W1500, 650+850",1272.4000000000001,"1-ZE-01","2019-10-02","KPL"]
["83151","ZENERGY - RAMA, H2000 X D300 X W1500, 650+200+650",1442.3,"1-ZE-01","2019-10-02","SZT"]
["83152","ZENERGY - RAMA, H2000 X D300 X W1500, 200+650+650",1442.3,"1-ZE-01","2019-10-02","SZT"]
["83160","ZENERGY - RAMA, H2000 X D300 X W1600, 800+800",1248.3,"1-ZE-01","2019-10-02","SZT"]
["83161","ZENERGY - RAMA, H2000 X D300 X W1600, 1200+400",1248.3,"1-ZE-01","2019-10-02","SZT"]
["83162","ZENERGY - RAMA, H2000 X D300 X W1600, 150+650+800",1487.8,"1-ZE-01","2019-10-02","SZT"]
["83164","ZENERGY - RAMA, H2000 X D300 X W1600, 650+150+650+150",1613.3,"1-ZE-01","2019-10-02","SZT"]
["83165","ZENERGY - RAMA, H2000 X D300 X W1650, 650+150+850",1503.9,"1-ZE-01","2019-10-02","SZT"]
["83166","ZENERGY - RAMA, H2000 X D300 X W1650, 1000+650",1321.2,"1-ZE-01","2019-10-02","SZT"]
["83169","ZENERGY - RAMA, H2000 X D300 X W1650, 200+650+800",1491,"1-ZE-01","2019-10-02","SZT"]
["83170","ZENERGY - RAMA, H2000 X D300 X W1700, 850+850",1337.9,"1-ZE-01","2019-10-02","KPL"]
["83171","ZENERGY - RAMA, H2000 X D300 X W1700, 650+400+650",1579.5,"1-ZE-01","2019-10-02","SZT"]
["83172","ZENERGY - RAMA, H2000 X D300 X W1700, 650+650+400",1579.5,"1-ZE-01","2019-10-02","SZT"]
["83173","ZENERGY - RAMA, H2000 X D300 X W1700, 850+200+650",1507.7,"1-ZE-01","2019-10-02","SZT"]
["83181","ZENERGY - RAMA, H2000 X D300 X W1800, 650+150+850+150",1728.9,"1-ZE-01","2019-10-02","SZT"]
["83187","ZENERGY - RAMA, H2000 X D300 X W1850, 1000+850",1373.3,"1-ZE-01","2019-10-02","SZT"]
["83197","ZENERGY - RAMA, H2000 X D300 X W2000, 850+300+850",1630.9,"1-ZE-01","2019-10-02","SZT"]
["84030","ZENERGY - RAMA, H2000 X D400 X W300",622.5,"1-ZE-01","2019-10-02","SZT"]
["84040","ZENERGY - RAMA, H2000 X D400 X W400",654.9,"1-ZE-01","2019-10-02","SZT"]
["84045","ZENERGY - RAMA, H2000 X D400 X W450",671.3,"1-ZE-01","2019-10-02","SZT"]
["84060","ZENERGY - RAMA, H2000 X D400 X W600",719.8,"1-ZE-01","2019-10-02","SZT"]
["84061","ZENERGY - RAMA, H2000 X D400 X W600, 450+150",915.5,"1-ZE-01","2019-10-02","SZT"]
["84065","ZENERGY - RAMA, H2000 X D400 X W650",736,"1-ZE-01","2019-10-02","SZT"]
["84067","ZENERGY - RAMA, H2000 X D400 X W650, 450+200",924.4,"1-ZE-01","2019-10-02","SZT"]
["84071","ZENERGY - RAMA, H2000 X D400 POLE NAROŻNE, KOMPLETNE",1932.8,"1-ZE-01","2019-10-02","SZT"]
["84076","ZENERGY - RAMA, H2000 X D400 X W750, 450+300",1040.5,"1-ZE-01","2021-12-01","SZT"]
["84080","ZENERGY - RAMA, H2000 X D400 X W800",784.7,"1-ZE-01","2019-10-02","SZT"]
["84081","ZENERGY - RAMA, H2000 X D400 X W800, 650+150",968.4,"1-ZE-01","2019-10-02","SZT"]
["84085","ZENERGY - RAMA, H2000 X D400 X W850",801,"1-ZE-01","2019-10-02","SZT"]
["84086","ZENERGY - RAMA, H2000 X D400 X W850, 650+200",971.9,"1-ZE-01","2019-10-02","SZT"]
["84095","ZENERGY - RAMA, H2000 X D400 X W950, 650+300",1054.4000000000001,"1-ZE-01","2019-10-02","SZT"]
["84096","ZENERGY - RAMA, H2000 X D400 X W950, 400+400+150",1272.4000000000001,"1-ZE-01","2019-10-02","SZT"]
["84100","ZENERGY - RAMA, H2000 X D400 X W1000",849.4,"1-ZE-01","2019-10-02","SZT"]
["84102","ZENERGY - RAMA, H2000 X D400 X W1000, 850+150",1040.2,"1-ZE-01","2019-10-02","SZT"]
["84105","ZENERGY - RAMA, H2000 X D400 X W1050, 650+400",1084.8,"1-ZE-01","2019-10-02","SZT"]
["84107","ZENERGY - RAMA, H2000 X D400 X W1050, 850+200",1032.4000000000001,"1-ZE-01","2019-10-02","SZT"]
["84110","ZENERGY - RAMA, H2000 X D400 X W1100, 150+650+300",1288.3,"1-ZE-01","2019-10-02","SZT"]
["84111","ZENERGY - RAMA, H2000 X D400 X W1100, 650+450",1100,"1-ZE-01","2019-10-02","SZT"]
["84115","ZENERGY - RAMA, H2000 X D400 X W1150, 850+300",1115.2,"1-ZE-01","2019-10-02","SZT"]
["84117","ZENERGY - RAMA, H2000 X D400 X W1150, 200+650+300",1304.5,"1-ZE-01","2019-10-02","SZT"]
["84120","ZENERGY - RAMA, H2000 X D400 X W1200",914.3,"1-ZE-01","2019-10-02","SZT"]
["84121","ZENERGY - RAMA, H2000 X D400 X W1200, 150+650+400",1318.7,"1-ZE-01","2019-10-02","SZT"]
["84122","ZENERGY - RAMA, H2000 X D400 X W1200, 150+450+450+150",1507,"1-ZE-01","2019-10-02","SZT"]
["84123","ZENERGY - RAMA, H2000 X D400 X W1200, 650+150+400",1318.7,"1-ZE-01","2019-10-02","SZT"]
["84125","ZENERGY - RAMA, H2000 X D400 X W1250, 850+400",1145.5999999999999,"1-ZE-01","2019-10-02","SZT"]
["84126","ZENERGY - RAMA, H2000 X D400 X W1250, 650+200+400",1322.3,"1-ZE-01","2019-10-02","SZT"]
["84127","ZENERGY - RAMA, H2000 X D400 X W1250, 200+650+400",1322.3,"1-ZE-01","2019-10-02","SZT"]
["84128","ZENERGY - RAMA, H2000 X D400 X W1250, 650+150+450",1351.4,"1-ZE-01","2021-12-01","SZT"]
["84130","ZENERGY - RAMA, H2000 X D400 X W1300",946.9,"1-ZE-01","2019-10-02","SZT"]
["84131","ZENERGY - RAMA, H2000 X D400 X W1300, 650+650",1180.5,"1-ZE-01","2019-10-02","SZT"]
["84132","ZENERGY - RAMA, H2000 X D400 X W1300, 650+200+450",1357.2,"1-ZE-01","2019-10-02","SZT"]
["84133","ZENERGY - RAMA, H2000 X D400 X W1300, 850+450",1180.8,"1-ZE-01","2019-10-02","SZT"]
["84140","ZENERGY - RAMA, H2000 X D400 X W1400, 1000+400",1175.4000000000001,"1-ZE-01","2019-10-02","SZT"]
["84145","ZENERGY - RAMA, H2000 X D400 X W1450, 650+150+650",1394.6,"1-ZE-01","2019-10-02","SZT"]
["84147","ZENERGY - RAMA, H2000 X D400 X W1450, 150+650+650",1394.6,"1-ZE-01","2019-10-02","SZT"]
["84149","ZENERGY - RAMA, H2000 X D400 X W1450, 400+850+200",1394.6,"1-ZE-01","2021-12-01","SZT"]
["84150","ZENERGY - RAMA, H2000 X D400 X W1500, 650+850",1221.5,"1-ZE-01","2019-10-02","SZT"]
["84151","ZENERGY - RAMA, H2000 X D400 X W1500, 650+200+650",1398.2,"1-ZE-01","2019-10-02","SZT"]
["84152","ZENERGY - RAMA, H2000 X D400 X W1500, 200+650+650",1398.2,"1-ZE-01","2019-10-02","SZT"]
["84160","ZENERGY - RAMA, H2000 X D400 X W1600, 800+800",1199.0999999999999,"1-ZE-01","2019-10-02","SZT"]
["84161","ZENERGY - RAMA, H2000 X D400 X W1600, 1200+400",1199.0999999999999,"1-ZE-01","2019-10-02","SZT"]
["84162","ZENERGY - RAMA, H2000 X D400 X W1600, 150+650+800",1440.5,"1-ZE-01","2019-10-02","SZT"]
["84164","ZENERGY - RAMA, H2000 X D400 X W1600, 650+150+650+150",1575.9,"1-ZE-01","2019-10-02","SZT"]
["84165","ZENERGY - RAMA, H2000 X D400 X W1650, 650+150+850",1455.3,"1-ZE-01","2019-10-02","SZT"]
["84166","ZENERGY - RAMA, H2000 X D400 X W1650, 1000+650",1266.9000000000001,"1-ZE-01","2019-10-02","SZT"]
["84169","ZENERGY - RAMA, H2000 X D400 X W1650, 200+650+800",1443.3,"1-ZE-01","2019-10-02","SZT"]
["84170","ZENERGY - RAMA, H2000 X D400 X W1700, 850+850",1282.4000000000001,"1-ZE-01","2019-10-02","SZT"]
["84171","ZENERGY - RAMA, H2000 X D400 X W1700, 650+400+650",1510.9,"1-ZE-01","2019-10-02","SZT"]
["84172","ZENERGY - RAMA, H2000 X D400 X W1700, 650+650+400",1510.9,"1-ZE-01","2019-10-02","SZT"]
["84173","ZENERGY - RAMA, H2000 X D400 X W1700, 850+200+650",1458.9,"1-ZE-01","2019-10-02","SZT"]
["84181","ZENERGY - RAMA, H2000 X D400 X W1800, 650+150+850+150",1682.8,"1-ZE-01","2019-10-02","SZT"]
["84187","ZENERGY - RAMA, H2000 X D400 X W1850, 1000+850",1315,"1-ZE-01","2019-10-02","SZT"]
["84197","ZENERGY - RAMA, H2000 X D400 X W2000, 850+300+850",1558.5,"1-ZE-01","2019-10-02","SZT"]
["85330","ZENERGY - DRZWI PRZEDZIAŁU KABLOWEGO IP30, H2000 X W300",256.5,"1-ZE-01","2019-10-02","SZT"]
["85340","ZENERGY - DRZWI PRZEDZIAŁU KABLOWEGO IP30, H2000 X W400",266.2,"1-ZE-01","2019-10-02","SZT"]
["85360","ZENERGY - DRZWI PRZEDZIAŁU KABLOWEGO IP30, H2000 X W600",334.6,"1-ZE-01","2019-10-02","SZT"]
["86030","ZENERGY - RAMA, H2000 X D600 X W300",801.9,"1-ZE-01","2019-10-02","SZT"]
["86040","ZENERGY - RAMA, H2000 X D600 X W400",834.4,"1-ZE-01","2019-10-02","SZT"]
["86045","ZENERGY - RAMA, H2000 X D600 X W450",918.7,"1-ZE-01","2019-10-02","SZT"]
["86060","ZENERGY - RAMA, H2000 X D600 X W600",971.1,"1-ZE-01","2019-10-02","SZT"]
["86061","ZENERGY - RAMA, H2000 X D600 X W600, 450+150",1279.5999999999999,"1-ZE-01","2019-10-02","SZT"]
["86062","ZENERGY - RAMA, H2000 X D600 X W600, 400+200",1279.5999999999999,"1-ZE-01","2021-12-01","SZT"]
["86065","ZENERGY - RAMA, H2000 X D600 X W650",1025.4000000000001,"1-ZE-01","2019-10-02","SZT"]
["86066","ZENERGY - RAMA, H2000 X D600 X W650, 500+150",1337,"1-ZE-01","2019-10-02","SZT"]
["86067","ZENERGY - RAMA, H2000 X D600 X W650, 450+200",1337,"1-ZE-01","2019-10-02","SZT"]
["86070","ZENERGY - RAMA, H2000 X D600 X W700 SASIL",1051.5999999999999,"1-ZE-01","2019-10-02","M2"]
["86071","ZENERGY - RAMA, H2000 X D600 POLE NAROŻNE, KOMPLETNE",2702.2,"1-ZE-01","2019-10-02","SZT"]
["86076","ZENERGY - RAMA, H2000 X D600 X W750, 450+300",1339,"1-ZE-01","2021-12-01","SZT"]
["86080","ZENERGY - RAMA, H2000 X D600 X W800",1137.7,"1-ZE-01","2019-10-02","SZT"]
["86081","ZENERGY - RAMA, H2000 X D600 X W800, 650+150",1423.3,"1-ZE-01","2019-10-02","SZT"]
["86083","ZENERGY - RAMA, H2000 X D600 X W800, 400+400",1414.8,"1-ZE-01","2019-10-02","SZT"]
["86085","ZENERGY - RAMA, H2000 X D600 X W850",1097.9000000000001,"1-ZE-01","2019-10-02","SZT"]
["86086","ZENERGY - RAMA, H2000 X D600 X W850, 650+200",1390.1,"1-ZE-01","2019-10-02","SZT"]
["86091","ZENERGY - RAMA, H2000 X D600 X W900, 450+450",1442,"1-ZE-01","2021-12-01","SZT"]
["86095","ZENERGY - RAMA, H2000 X D600 X W950, 650+300",1460.5,"1-ZE-01","2019-10-02","SZT"]
["86096","ZENERGY - RAMA, H2000 X D600 X W950, 400+400+150",1805.5,"1-ZE-01","2019-10-02","SZT"]
["86098","ZENERGY - RAMA, H2000 X D600 X W950, 150+650+150",1812.8,"1-ZE-01","2021-12-01","SZT"]
["86100","ZENERGY - RAMA, H2000 X D600 X W1000",1152.5,"1-ZE-01","2019-10-02","SZT"]
["86102","ZENERGY - RAMA, H2000 X D600 X W1000, 850+150",1466.6,"1-ZE-01","2019-10-02","SZT"]
["86105","ZENERGY - RAMA, H2000 X D600 X W1050, 650+400",1494.7,"1-ZE-01","2019-10-02","SZT"]
["86106","ZENERGY - RAMA, H2000 X D600 X W1050, 200+650+200",1756.3,"1-ZE-01","2019-10-02","SZT"]
["86107","ZENERGY - RAMA, H2000 X D600 X W1050, 850+200",1458,"1-ZE-01","2019-10-02","SZT"]
["86110","ZENERGY - RAMA, H2000 X D600 X W1100, 150+650+300",1823.4,"1-ZE-01","2019-10-02","SZT"]
["86111","ZENERGY - RAMA, H2000 X D600 X W1100, 650+450",1511.9,"1-ZE-01","2019-10-02","SZT"]
["86112","ZENERGY - RAMA, H2000 X D600 X W1100, 800+300",1631.1,"1-ZE-01","2019-10-02","SZT"]
["86114","ZENERGY - RAMA, H2000 X D600 X W1100, 450+200+450",1810,"1-ZE-01","2019-10-02","SZT"]
["86115","ZENERGY - RAMA, H2000 X D600 X W1150, 850+300",1528.6,"1-ZE-01","2019-10-02","SZT"]
["86117","ZENERGY - RAMA, H2000 X D600 X W1150, 200+650+300",1841.3,"1-ZE-01","2019-10-02","SZT"]
["86120","ZENERGY - RAMA, H2000 X D600 X W1200",1225,"1-ZE-01","2019-10-02","SZT"]
["86121","ZENERGY - RAMA, H2000 X D600 X W1200, 150+650+400",1857.3,"1-ZE-01","2019-10-02","SZT"]
["86122","ZENERGY - RAMA, H2000 X D600 X W1200, 150+450+450+150",2168.9,"1-ZE-01","2019-10-02","SZT"]
["86123","ZENERGY - RAMA, H2000 X D600 X W1200, 650+150+400",1857.3,"1-ZE-01","2019-10-02","SZT"]
["86124","ZENERGY - RAMA, H2000 X D600 X W1200, 450+450+300",0,"1-ZE-01","2021-12-01","SZT"]
["86125","ZENERGY - RAMA, H2000 X D600 X W1250, 850+400",1562.8,"1-ZE-01","2019-10-02","SZT"]
["86126","ZENERGY - RAMA, H2000 X D600 X W1250, 650+200+400",1861.3,"1-ZE-01","2019-10-02","SZT"]
["86127","ZENERGY - RAMA, H2000 X D600 X W1250, 200+650+400",1861.3,"1-ZE-01","2019-10-02","SZT"]
["86128","ZENERGY - RAMA, H2000 X D600 X W1250, 650+150+450",1887.3,"1-ZE-01","2021-12-01","SZT"]
["86130","ZENERGY - RAMA, H2000 X D600 X W1300",1261.3,"1-ZE-01","2019-10-02","SZT"]
["86131","Zenergy - Rama, H2000 x D600 x W1300, 650+650",1601.8,"1-ZE-01","2019-10-02","SZT"]
["86132","ZENERGY - RAMA, H2000 X D600 X W1300, 650+200+450",1900.6,"1-ZE-01","2019-10-02","SZT"]
["86133","ZENERGY - RAMA, H2000 X D600 X W1300, 850+450",1602.4,"1-ZE-01","2019-10-02","SZT"]
["86140","ZENERGY - RAMA, H2000 X D600 X W1400, 1000+400",1596.4,"1-ZE-01","2019-10-02","SZT"]
["86141","ZENERGY - RAMA, H2000 X D600 X W1400, 400+850+150",1908,"1-ZE-01","2019-10-02","SZT"]
["86145","ZENERGY - RAMA, H2000 X D600 X W1450, 650+150+650",1942.3,"1-ZE-01","2019-10-02","SZT"]
["86146","ZENERGY - RAMA, H2000 X D600 X W1450, 650+400+400",1965.7,"1-ZE-01","2019-10-02","SZT"]
["86147","ZENERGY - RAMA, H2000 X D600 X W1450, 150+650+650",1942.3,"1-ZE-01","2019-10-02","SZT"]
["86148","ZENERGY - RAMA, H2000 X D600 X W1450, 800+650",1759.3,"1-ZE-01","2019-10-02","SZT"]
["86149","ZENERGY - RAMA, H2000 X D600 X W1450, 400+850+200",1964.7,"1-ZE-01","2021-12-01","SZT"]
["86150","ZENERGY - RAMA, H2000 X D600 X W1500, 650+850",1647.8,"1-ZE-01","2019-10-02","SZT"]
["86151","ZENERGY - RAMA, H2000 X D600 X W1500, 650+200+650",1946.4,"1-ZE-01","2019-10-02","SZT"]
["86152","ZENERGY - RAMA, H2000 X D600 X W1500, 200+650+650",1946.4,"1-ZE-01","2019-10-02","SZT"]
["86153","ZENERGY - RAMA, H2000 X D600 X W1500, 850+200+450",1946.4,"1-ZE-01","2019-10-02","SZT"]
["86160","ZENERGY - RAMA, H2000 X D600 X W1600, 800+800",1622.9,"1-ZE-01","2019-10-02","SZT"]
["86161","ZENERGY - RAMA, H2000 X D600 X W1600, 1200+400",1622.9,"1-ZE-01","2019-10-02","SZT"]
["86162","ZENERGY - RAMA, H2000 X D600 X W1600, 150+650+800",1993.6,"1-ZE-01","2019-10-02","SZT"]
["86163","ZENERGY - RAMA, H2000 X D600 X W1600, 650+300+650",2016.8,"1-ZE-01","2019-10-02","SZT"]
["86164","ZENERGY - RAMA, H2000 X D600 X W1600, 650+150+650+150",2245.9,"1-ZE-01","2019-10-02","SZT"]
["86165","ZENERGY - RAMA, H2000 X D600 X W1650, 650+150+850",2010.4,"1-ZE-01","2019-10-02","SZT"]
["86166","ZENERGY - RAMA, H2000 X D600 X W1650, 1000+650",1698.7,"1-ZE-01","2019-10-02","SZT"]
["86169","ZENERGY - RAMA, H2000 X D600 X W1650, 200+650+800",1996.9,"1-ZE-01","2019-10-02","SZT"]
["86170","ZENERGY - RAMA, H2000 X D600 X W1700, 850+850",1715.9,"1-ZE-01","2019-10-02","SZT"]
["86171","ZENERGY - RAMA, H2000 X D600 X W1700, 650+400+650",2050.8000000000002,"1-ZE-01","2019-10-02","SZT"]
["86172","ZENERGY - RAMA, H2000 X D600 X W1700, 650+650+400",2050.8000000000002,"1-ZE-01","2019-10-02","SZT"]
["86173","ZENERGY - RAMA, H2000 X D600 X W1700, 850+200+650",2014.3,"1-ZE-01","2019-10-02","SZT"]
["86174","ZENERGY - RAMA, H2000 X D600 X W1700, 650+200+650+200",2312.6,"1-ZE-01","2019-10-02","SZT"]
["86175","ZENERGY - RAMA, H2000 X D600 X W1750, 800+150+800",2040.8,"1-ZE-01","2019-10-02","SZT"]
["86181","ZENERGY - RAMA, H2000 X D600 X W1800, 650+150+850+150",2365.6,"1-ZE-01","2019-10-02","SZT"]
["86187","ZENERGY - RAMA, H2000 X D600 X W1850, 1000+850",1752.4,"1-ZE-01","2019-10-02","SZT"]
["86195","ZENERGY - RAMA, H2000 X D600 X W1950, 650+650+650",2310.1999999999998,"1-ZE-01","2021-12-01","SZT"]
["86209","ZENERGY - RAMA, H2000 X D600 X W2050, 800+800+450",2123.9,"1-ZE-01","2019-10-02","SZT"]
["86221","ZENERGY - RAMA, H2000 X D600 X W1200, 400+400+400",2029.1,"1-ZE-01","2021-12-01","SZT"]
["88030","ZENERGY - RAMA, H2000 X D800 X W300",981,"1-ZE-01","2019-10-02","SZT"]
["88040","ZENERGY - RAMA, H2000 X D800 X W400",1017.4,"1-ZE-01","2019-10-02","SZT"]
["88045","ZENERGY - RAMA, H2000 X D800 X W450",1035.5,"1-ZE-01","2019-10-02","SZT"]
["88060","ZENERGY - RAMA, H2000 X D800 X W600",1090,"1-ZE-01","2019-10-02","SZT"]
["88061","ZENERGY - RAMA, H2000 X D800 X W600, 450+150",1451.1,"1-ZE-01","2019-10-02","SZT"]
["88065","ZENERGY - RAMA, H2000 X D800 X W650",1108.2,"1-ZE-01","2019-10-02","SZT"]
["88067","ZENERGY - RAMA, H2000 X D800 X W650, 450+200",1461.2,"1-ZE-01","2019-10-02","SZT"]
["88070","ZENERGY - RAMA, H2000 X D800 X W700 SASIL",1013.5,"1-ZE-01","2021-12-01","SZT"]
["88071","Zenergy - Rama, H2000 X D800 Pole narożne, Kompletne",3103.2,"1-ZE-01","2019-10-02","SZT"]
["88080","ZENERGY - RAMA, H2000 X D800 X W800",1162.9000000000001,"1-ZE-01","2019-10-02","SZT"]
["88081","ZENERGY - RAMA, H2000 X D800 X W800, 650+150",1510.3,"1-ZE-01","2019-10-02","SZT"]
["88085","ZENERGY - RAMA, H2000 X D800 X W850",1180.8,"1-ZE-01","2019-10-02","SZT"]
["88086","ZENERGY - RAMA, H2000 X D800 X W850, 650+200",1514.3,"1-ZE-01","2019-10-02","SZT"]
["88095","ZENERGY - RAMA, H2000 X D800 X W950, 650+300",1583.6,"1-ZE-01","2019-10-02","SZT"]
["88096","ZENERGY - RAMA, H2000 X D800 X W950, 400+400+150",1969.6,"1-ZE-01","2019-10-02","SZT"]
["88100","ZENERGY - RAMA, H2000 X D800 X W1000",1235.4000000000001,"1-ZE-01","2019-10-02","SZT"]
["88102","ZENERGY - RAMA, H2000 X D800 X W1000, 850+150",1590.9,"1-ZE-01","2019-10-02","SZT"]
["88105","ZENERGY - RAMA, H2000 X D800 X W1050, 650+400",1617.7,"1-ZE-01","2019-10-02","SZT"]
["88107","ZENERGY - RAMA, H2000 X D800 X W1050, 850+200",1582.1,"1-ZE-01","2019-10-02","SZT"]
["88110","ZENERGY - RAMA, H2000 X D800 X W1100, 150+650+300",1987.7,"1-ZE-01","2019-10-02","SZT"]
["88111","ZENERGY - RAMA, H2000 X D800 X W1100, 650+450",1634.6,"1-ZE-01","2019-10-02","SZT"]
["88115","ZENERGY - RAMA, H2000 X D800 X W1150, 850+300",1651.6,"1-ZE-01","2019-10-02","SZT"]
["88117","ZENERGY - RAMA, H2000 X D800 X W1150, 200+650+300",2005.5,"1-ZE-01","2019-10-02","SZT"]
["88120","ZENERGY - RAMA, H2000 X D800 X W1200",1308,"1-ZE-01","2019-10-02","SZT"]
["88121","ZENERGY - RAMA, H2000 X D800 X W1200, 150+650+400",2021.5,"1-ZE-01","2019-10-02","SZT"]
["88122","ZENERGY - RAMA, H2000 X D800 X W1200, 150+450+450+150",2374.6,"1-ZE-01","2019-10-02","SZT"]
["88123","ZENERGY - RAMA, H2000 X D800 X W1200, 650+150+400",2021.5,"1-ZE-01","2019-10-02","SZT"]
["88125","ZENERGY - RAMA, H2000 X D800 X W1250, 850+400",1685.9,"1-ZE-01","2019-10-02","SZT"]
["88126","ZENERGY - RAMA, H2000 X D800 X W1250, 650+200+400",2025.5,"1-ZE-01","2019-10-02","SZT"]
["88127","ZENERGY - RAMA, H2000 X D800 X W1250, 200+650+400",2025.5,"1-ZE-01",43740,"SZT"]
["88130","ZENERGY - RAMA, H2000 X D800 X W1300",1344.3,"1-ZE-01","2019-10-02","SZT"]
["88131","ZENERGY - RAMA, H2000 X D800 X W1300, 650+650",1724.7,"1-ZE-01","2019-10-02","SZT"]
["88132","ZENERGY - RAMA, H2000 X D800 X W1300, 650+200+450",2064.8000000000002,"1-ZE-01","2019-10-02","SZT"]
["88133","ZENERGY - RAMA, H2000 X D800 X W1300, 850+450",1725,"1-ZE-01","2019-10-02","SZT"]
["88140","ZENERGY - RAMA, H2000 X D800 X W1400, 1000+400",1719.1,"1-ZE-01","2019-10-02","SZT"]
["88145","ZENERGY - RAMA, H2000 X D800 X W1450, 650+150+650",2106.6,"1-ZE-01","2019-10-02","SZT"]
["88146","ZENERGY - RAMA, H2000 X D800 X W1450, 650+400+400",2128.5,"1-ZE-01",43740,"SZT"]
["88147","ZENERGY - RAMA, H2000 X D800 X W1450, 150+650+650",2106.6,"1-ZE-01",43740,"SZT"]
["88150","ZENERGY - RAMA, H2000 X D800 X W1500, 650+850",1770.9,"1-ZE-01",43740,"SZT"]
["88151","ZENERGY - RAMA, H2000 X D800 X W1500, 650+200+650",2110.6999999999998,"1-ZE-01",43740,"SZT"]
["88152","ZENERGY - RAMA, H2000 X D800 X W1500, 200+650+650",2110.6999999999998,"1-ZE-01",43740,"SZT"]
["88160","ZENERGY - RAMA, H2000 X D800 X W1600, 800+800",1745.9,"1-ZE-01",43740,"SZT"]
["88161","ZENERGY - RAMA, H2000 X D800 X W1600, 1200+400",1745.9,"1-ZE-01",43740,"SZT"]
["88162","ZENERGY - RAMA, H2000 X D800 X W1600, 150+650+800",2158,"1-ZE-01",43740,"SZT"]
["88163","ZENERGY - RAMA, H2000 X D800 X W1600, 650+300+650",2179.9,"1-ZE-01",43740,"SZT"]
["88164","ZENERGY - RAMA, H2000 X D800 X W1600, 650+150+650+150",2451.6,"1-ZE-01",43740,"SZT"]
["88165","ZENERGY - RAMA, H2000 X D800 X W1650, 650+150+850",2174.4,"1-ZE-01",43740,"SZT"]
["88166","ZENERGY - RAMA, H2000 X D800 X W1650, 1000+650",1821.6,"1-ZE-01",43740,"SZT"]
["88169","ZENERGY - RAMA, H2000 X D800 X W1650, 200+650+800",2161.1999999999998,"1-ZE-01",43740,"SZT"]
["88170","ZENERGY - RAMA, H2000 X D800 X W1700, 850+850",1838.9,"1-ZE-01",43740,"SZT"]
["88171","ZENERGY - RAMA, H2000 X D800 X W1700, 650+400+650",2213.8000000000002,"1-ZE-01",43740,"SZT"]
["88172","ZENERGY - RAMA, H2000 X D800 X W1700, 650+650+400",2213.8000000000002,"1-ZE-01",43740,"SZT"]
["88173","ZENERGY - RAMA, H2000 X D800 X W1700, 850+200+650",2178.5,"1-ZE-01",43740,"SZT"]
["88181","ZENERGY - RAMA, H2000 X D800 X W1800, 650+150+850+150",2571.4,"1-ZE-01",43740,"SZT"]
["88187","ZENERGY - RAMA, H2000 X D800 X W1850, 1000+850",1875.5,"1-ZE-01",43740,"SZT"]
["88197","ZENERGY - RAMA, H2000 X D800 X W2000, 850+300+850",2266.9,"1-ZE-01",43740,"SZT"]
["89223","ZENERGY - OSŁONY BOCZNE WENTYLOWANE IP30, H2000 X D230",476.3,"1-ZE-01",43740,"SZT"]
["89224","ZENERGY - OSŁONY BOCZNE WENTYLOWANE, STAŁE IP30, H2000 X D230",206.6,"1-ZE-01",43740,"SZT"]
["89225","ZENERGY - OSŁONY BOCZNE WENTYLOWANE, PŁASKIE, PRZYKRĘCANE IP30, H2000 X D230",378.3,"1-ZE-01",43740,"SZT"]
["89230","ZENERGY - OSŁONY BOCZNE WENTYLOWANE IP30, H2000 X D300",616.20000000000005,"1-ZE-01",43740,"SZT"]
["89231","ZENERGY - OSŁONY BOCZNE WENTYLOWANE, STAŁE IP30, H2000 X D300",346.5,"1-ZE-01",43740,"SZT"]
["89232","ZENERGY - OSŁONY BOCZNE WENTYLOWANE, PŁASKIE, PRZYKRĘCANE IP30, H2000 X D300",542.29999999999995,"1-ZE-01",43740,"SZT"]
["89240","ZENERGY - OSŁONY BOCZNE WENTYLOWANE IP30, H2000 X D400",636.70000000000005,"1-ZE-01",43740,"SZT"]
["89241","ZENERGY - OSŁONY BOCZNE WENTYLOWANE, STAŁE IP30, H2000 X D400",367,"1-ZE-01",43740,"SZT"]
["89242","ZENERGY - OSŁONY BOCZNE WENTYLOWANE, PŁASKIE, PRZYKRĘCANE IP30, H2000 X D400",574.29999999999995,"1-ZE-01",43740,"SZT"]
["89260","ZENERGY - OSŁONY BOCZNE WENTYLOWANE IP30, H2000 X D600",689.3,"1-ZE-01",43740,"SZT"]
["89261","ZENERGY - OSŁONY BOCZNE WENTYLOWANE, STAŁE IP30, H2000 X D600",392.6,"1-ZE-01",43740,"SZT"]
["89262","ZENERGY - OSŁONY BOCZNE WENTYLOWANE, PŁASKIE, PRZYKRĘCANE IP30, H2000 X D600",614.6,"1-ZE-01",43740,"SZT"]
["89280","ZENERGY - OSŁONY BOCZNE WENTYLOWANE IP30, H2000 X D800",772,"1-ZE-01",43740,"SZT"]
["89281","ZENERGY - OSŁONY BOCZNE WENTYLOWANE, STAŁE IP30, H2000 X D800",431.2,"1-ZE-01",43740,"SZT"]
["89282","ZENERGY - OSŁONY BOCZNE WENTYLOWANE, PŁASKIE, PRZYKRĘCANE IP30, H2000 X D800",646.6,"1-ZE-01",43740,"SZT"]
["89310","ZENERGY - OSŁONY BOCZNE PEŁNE IP30, H2000 X D1000",875.5,"1-ZE-01",44531,"SZT"]
["89323","ZENERGY - OSŁONY BOCZNE PEŁNE IP30, H2000 X D230",421.7,"1-ZE-01",43740,"SZT"]
["89324","ZENERGY - OSŁONY BOCZNE PEŁNE, STAŁE IP30, H2000 X D230",184.9,"1-ZE-01",43740,"SZT"]
["89325","ZENERGY - OSŁONY BOCZNE PEŁNE, PŁASKIE, PRZYKRĘCANE IP30, H2000 X D230",253.2,"1-ZE-01",43740,"SZT"]
["89327","ZENERGY - PRZEGRODA ODDZIELAJĄCA PIONOWA, OCYNK,  H2000 X D230",76.3,"1-ZE-01",43740,"SZT"]
["89330","ZENERGY - OSŁONY BOCZNE PEŁNE IP30, H2000 X D300",548,"1-ZE-01",43740,"SZT"]
["89331","ZENERGY - OSŁONY BOCZNE PEŁNE, STAŁE IP30, H2000 X D300",266.2,"1-ZE-01",43740,"SZT"]
["89332","ZENERGY - OSŁONY BOCZNE PEŁNE, PŁASKIE, PRZYKRĘCANE IP30, H2000 X D300",278.2,"1-ZE-01",43740,"SZT"]
["89335","ZENERGY - PRZEGRODA ODDZIELAJĄCA PIONOWA, OCYNK,  H2000 X D300",139.19999999999999,"1-ZE-01",43740,"SZT"]
["89340","ZENERGY - OSŁONY BOCZNE PEŁNE IP30, H2000 X D400",568.5,"1-ZE-01",43740,"SZT"]
["89341","ZENERGY - OSŁONY BOCZNE PEŁNE, STAŁE IP30, H2000 X D400",285.7,"1-ZE-01",43740,"SZT"]
["89342","ZENERGY - OSŁONY BOCZNE PEŁNE, PŁASKIE, PRZYKRĘCANE IP30, H2000 X D400",298.7,"1-ZE-01",43740,"SZT"]
["89345","ZENERGY - PRZEGRODA ODDZIELAJĄCA PIONOWA, OCYNK,  H2000 X D400",149.5,"1-ZE-01",43740,"SZT"]
["89360","ZENERGY - OSŁONY BOCZNE PEŁNE IP30, H2000 X D600",614.5,"1-ZE-01",43740,"SZT"]
["89361","ZENERGY - OSŁONY BOCZNE PEŁNE, STAŁE IP30, H2000 X D600",329.9,"1-ZE-01",43740,"SZT"]
["89362","ZENERGY - OSŁONY BOCZNE PEŁNE, PŁASKIE, PRZYKRĘCANE IP30, H2000 X D600",344.9,"1-ZE-01",43740,"SZT"]
["89365","ZENERGY - PRZEGRODA ODDZIELAJĄCA PIONOWA, OCYNK,  H2000 X D600",172.6,"1-ZE-01",43740,"SZT"]
["89380","ZENERGY - OSŁONY BOCZNE PEŁNE IP30, H2000 X D800",718,"1-ZE-01",43740,"SZT"]
["89381","ZENERGY - OSŁONY BOCZNE PEŁNE, STAŁE IP30, H2000 X D800",407.9,"1-ZE-01",43740,"SZT"]
["89382","ZENERGY - OSŁONY BOCZNE PEŁNE, PŁASKIE, PRZYKRĘCANE IP30, H2000 X D800",424.9,"1-ZE-01",43740,"SZT"]
["89385","ZENERGY - PRZEGRODA ODDZIELAJĄCA PIONOWA, OCYNK,  H2000 X D800",195.5,"1-ZE-01",43740,"SZT"]
["89423","ZENERGY - OSŁONY BOCZNE WENTYLOWANE IP43, H2000 X D230",438.2,"1-ZE-01",43740,"SZT"]
["89424","ZENERGY - OSŁONY BOCZNE WENTYLOWANE, STAŁE IP43, H2000 X D230",141.19999999999999,"1-ZE-01",43740,"SZT"]
["89425","ZENERGY - OSŁONY BOCZNE WENTYLOWANE, PŁASKIE, PRZYKRĘCANE IP43, H2000 X D230",424.2,"1-ZE-01",43740,"SZT"]
["89430","ZENERGY - OSŁONY BOCZNE WENTYLOWANE IP43, H2000 X D300",712.6,"1-ZE-01",43740,"SZT"]
["89431","ZENERGY - OSŁONY BOCZNE WENTYLOWANE, STAŁE IP43, H2000 X D300",395.2,"1-ZE-01",43740,"SZT"]
["89432","ZENERGY - OSŁONY BOCZNE WENTYLOWANE, PŁASKIE, PRZYKRĘCANE IP43, H2000 X D300",431.2,"1-ZE-01",43740,"SZT"]
["89440","ZENERGY - OSŁONY BOCZNE WENTYLOWANE IP43, H2000 X D400",766.2,"1-ZE-01",43740,"SZT"]
["89441","ZENERGY - OSŁONY BOCZNE WENTYLOWANE, STAŁE IP43, H2000 X D400",435.3,"1-ZE-01",43740,"SZT"]
["89442","ZENERGY - OSŁONY BOCZNE WENTYLOWANE, PŁASKIE, PRZYKRĘCANE IP43, H2000 X D400",473.2,"1-ZE-01",43740,"SZT"]
["89460","ZENERGY - OSŁONY BOCZNE WENTYLOWANE IP43, H2000 X D600",839.5,"1-ZE-01",43740,"SZT"]
["89461","ZENERGY - OSŁONY BOCZNE WENTYLOWANE, STAŁE IP43, H2000 X D600",472.9,"1-ZE-01",43740,"SZT"]
["89462","ZENERGY - OSŁONY BOCZNE WENTYLOWANE, PŁASKIE, PRZYKRĘCANE IP43, H2000 X D600",534.6,"1-ZE-01",43740,"SZT"]
["89480","ZENERGY - OSŁONY BOCZNE WENTYLOWANE IP43, H2000 X D800",929,"1-ZE-01",43740,"SZT"]
["89481","ZENERGY - OSŁONY BOCZNE WENTYLOWANE, STAŁE IP43, H2000 X D800",536.20000000000005,"1-ZE-01",43740,"SZT"]
["89482","ZENERGY - OSŁONY BOCZNE WENTYLOWANE, PŁASKIE, PRZYKRĘCANE IP43, H2000 X D800",600.6,"1-ZE-01",43740,"SZT"]
["89523","ZENERGY - OSŁONY BOCZNE PEŁNE IP55, H2000 X D230",453.9,"1-ZE-01",43740,"SZT"]
["89530","ZENERGY - OSŁONY BOCZNE PEŁNE IP55, H2000 X D300",641.29999999999995,"1-ZE-01",43740,"SZT"]
["89540","ZENERGY - OSŁONY BOCZNE PEŁNE IP55, H2000 X D400",692.2,"1-ZE-01",43740,"SZT"]
["89560","ZENERGY - OSŁONY BOCZNE PEŁNE IP55, H2000 X D600",779.6,"1-ZE-01",43740,"SZT"]
["89580","ZENERGY - OSŁONY BOCZNE PEŁNE IP55, H2000 X D800",899.9,"1-ZE-01",43740,"SZT"]
["90110","ZENERGY - RAMA OSŁON CZOŁOWYCH NA ZAWIASACH H2200 W1000",442.2,"1-ZE-01",43740,"SZT"]
["90111","ZENERGY - RAMA OSŁON CZOŁOWYCH NA ZAWIASACH H2200 W1000 DO PLOMBOWANIA",465.1,"1-ZE-01",43740,"SZT"]
["90140","ZENERGY - RAMA OSŁON CZOŁOWYCH NA ZAWIASACH H2200 W400",292,"1-ZE-01",43740,"SZT"]
["90141","ZENERGY - RAMA OSŁON CZOŁOWYCH NA ZAWIASACH H2200 W400 DO PLOMBOWANIA",311.39999999999998,"1-ZE-01",43740,"SZT"]
["90145","ZENERGY - RAMA OSŁON CZOŁOWYCH NA ZAWIASACH H2200 W450",305.5,"1-ZE-01",43740,"SZT"]
["90146","ZENERGY - RAMA OSŁON CZOŁOWYCH NA ZAWIASACH H2200 W450 DO PLOMBOWANIA",325.3,"1-ZE-01",43740,"SZT"]
["90156","Zenergy - Rama osłonowa, pełna, na zawiasach H2200 W550/W1200",604.1,"1-ZE-01",43740,"SZT"]
["90165","ZENERGY - RAMA OSŁON CZOŁOWYCH NA ZAWIASACH H2200 W650",343,"1-ZE-01",43740,"SZT"]
["90166","ZENERGY - RAMA OSŁON CZOŁOWYCH NA ZAWIASACH H2200 W650 DO PLOMBOWANIA",363.7,"1-ZE-01",43740,"SZT"]
["90170","ZENERGY IT - DWA WSPORNIKI PIONOWE MODUŁU \"U\" 19-CALI NA WKRĘTY SAMOFORMUJĄCE, SZAFY H2200 W650",366.4,"1-ZE-01",43740,"SZT"]
["90180","ZENERGY - RAMA OSŁON CZOŁOWYCH NA ZAWIASACH H2200 W800",387.5,"1-ZE-01",43740,"SZT"]
["90185","ZENERGY - RAMA OSŁON CZOŁOWYCH NA ZAWIASACH H2200 W850",401.2,"1-ZE-01",43740,"SZT"]
["90186","ZENERGY - RAMA OSŁON CZOŁOWYCH NA ZAWIASACH H2200 W850 DO PLOMBOWANIA",423.1,"1-ZE-01",43740,"SZT"]
["90210","ZENERGY - DRZWI WENTYLOWANE IP30, H2200 W1000",1380.2,"1-ZE-01",43740,"SZT"]
["90212","ZENERGY - DRZWI WENTYLOWANE IP30, H2200 W1200, PODWÓJNE",2212.3000000000002,"1-ZE-01",43740,"SZT"]
["90213","ZENERGY - DRZWI WENTYLOWANE IP30, H2200 W1300, PODWÓJNE",2230.1999999999998,"1-ZE-01",43740,"SZT"]
["90214","ZENERGY - DRZWI WENTYLOWANE IP30, H2200 W1050",1449.9,"1-ZE-01",43740,"SZT"]
["90230","ZENERGY - DRZWI WENTYLOWANE IP30, H2200 W300",817.1,"1-ZE-01",43740,"SZT"]
["90240","ZENERGY - DRZWI WENTYLOWANE IP30, H2200 W400",893.7,"1-ZE-01",43740,"SZT"]
["90245","ZENERGY - DRZWI WENTYLOWANE IP30, H2200 W450",938.2,"1-ZE-01",43740,"SZT"]
["90260","ZENERGY - DRZWI WENTYLOWANE IP30, H2200 W600",1053,"1-ZE-01",43740,"SZT"]
["90265","ZENERGY - DRZWI WENTYLOWANE IP30, H2200 W650",1086.3,"1-ZE-01",43740,"SZT"]
["90280","ZENERGY - DRZWI WENTYLOWANE IP30, H2200 W800",1204.3,"1-ZE-01",43740,"SZT"]
["90285","ZENERGY - DRZWI WENTYLOWANE IP30, H2200 W850",1252.2,"1-ZE-01",43740,"SZT"]
["90295","ZENERGY - DRZWI WENTYLOWANE IP30, H2200 W950",1312.1,"1-ZE-01",43740,"SZT"]
["90310","ZENERGY - DRZWI PEŁNE IP30, H2200 W1000",1311,"1-ZE-01",43740,"SZT"]
["90311","ZENERGY - DRZWI PEŁNE IP30, H2200 X W1000, PODWÓJNE",1575.9,"1-ZE-01",44531,"SZT"]
["90312","ZENERGY - DRZWI PEŁNE IP30, H2200 W1200, PODWÓJNE",2121.5,"1-ZE-01",43740,"SZT"]
["90313","ZENERGY - DRZWI PEŁNE IP30, H2200 W1300, PODWÓJNE",2139.1999999999998,"1-ZE-01",43740,"SZT"]
["90314","ZENERGY - DRZWI PEŁNE IP30, H2200 W1050",1404.6,"1-ZE-01",43740,"SZT"]
["90330","ZENERGY - DRZWI PEŁNE IP30, H2200 W300",772.6,"1-ZE-01",43740,"SZT"]
["90340","ZENERGY - DRZWI PEŁNE IP30, H2200 W400",832.9,"1-ZE-01",43740,"SZT"]
["90345","ZENERGY - DRZWI PEŁNE IP30, H2200 W450",892,"1-ZE-01",43740,"SZT"]
["90360","ZENERGY - DRZWI PEŁNE IP30, H2200 W600",982.9,"1-ZE-01",43740,"SZT"]
["90365","ZENERGY - DRZWI PEŁNE IP30, H2200 W650",1022,"1-ZE-01",43740,"SZT"]
["90370","Zenergy - Słupek ocynk, H2200, rama zewnętrzna, przepusty 20mm",66.8,"1-ZE-01",44531,"SZT"]
["90371","ZENERGY - SŁUPEK OCYNK, H2200, RAMA ZEWNĘTRZNA",66.8,"1-ZE-01",43740,"SZT"]
["90372","ZENERGY - SŁUPEK OCYNK, H2200, RAMA WEWNĘTRZNA",75.2,"1-ZE-01",43740,"SZT"]
["90373","ZENERGY - SŁUPEK INOX, H2200, RAMA ZEWNĘTRZNA",138.9,"1-ZE-01",43740,"SZT"]
["90374","ZENERGY - SŁUPEK INOX, H2200, RAMA WEWNETRZNA",148.80000000000001,"1-ZE-01",43740,"SZT"]
["90375","ZENERGY - SŁUPEK ZEWNETRZNY, H2200, POLE NAROŻNE",75.2,"1-ZE-01",43740,"SZT"]
["90376","ZENERGY - SŁUPEK WEWNĘTRZNY, H2200, POLE NAROŻNE + 2SZT. ELEMENT ŁĄCZĄCY",75.2,"1-ZE-01",43740,"SZT"]
["90377","ZENERGY - DRZWI PEŁNE IP30, H2200 W700",1091.8,"1-ZE-01",44531,"SZT"]
["90380","ZENERGY - DRZWI PEŁNE IP30, H2200 W800",1137.5,"1-ZE-01",43740,"SZT"]
["90381","ZENERGY - DRZWI PEŁNE IP30, H2200 X W800, PODWÓJNE",1390.5,"1-ZE-01",44531,"SZT"]
["90385","ZENERGY - DRZWI PEŁNE IP30, H2200 W850",1184.2,"1-ZE-01",43740,"SZT"]
["90395","ZENERGY - DRZWI PEŁNE IP30, H2200 W950",1270,"1-ZE-01",43740,"SZT"]
["90410","ZENERGY - DRZWI WENTYLOWANE IP43, H2200 W1000",1518.6,"1-ZE-01",43740,"SZT"]
["90412","ZENERGY - DRZWI WENTYLOWANE IP43, H2200 W1200, PODWÓJNE",2449.1999999999998,"1-ZE-01",43740,"SZT"]
["90413","ZENERGY - DRZWI WENTYLOWANE IP43, H2200 W1300, PODWÓJNE",2503.3000000000002,"1-ZE-01",43740,"SZT"]
["90414","ZENERGY - DRZWI WENTYLOWANE IP43, H2200 W1050",1595.9,"1-ZE-01",43740,"SZT"]
["90430","ZENERGY - DRZWI WENTYLOWANE IP43, H2200 W300",880.8,"1-ZE-01",43740,"SZT"]
["90440","ZENERGY - DRZWI WENTYLOWANE IP43, H2200 W400",960.6,"1-ZE-01",43740,"SZT"]
["90445","ZENERGY - DRZWI WENTYLOWANE IP43, H2200 W450",1229.7,"1-ZE-01",43740,"SZT"]
["90460","ZENERGY - DRZWI WENTYLOWANE IP43, H2200 W600",1132.5999999999999,"1-ZE-01",43740,"SZT"]
["90465","ZENERGY - DRZWI WENTYLOWANE IP43, H2200 W650",1161.3,"1-ZE-01",43740,"SZT"]
["90480","ZENERGY - DRZWI WENTYLOWANE IP43, H2200 W800",1304,"1-ZE-01",43740,"SZT"]
["90485","ZENERGY - DRZWI WENTYLOWANE IP43, H2200 W850",1368.6,"1-ZE-01",43740,"SZT"]
["90495","ZENERGY - DRZWI WENTYLOWANE IP43, H2200 W950",1442.9,"1-ZE-01",43740,"SZT"]
["90510","ZENERGY - DRZWI PEŁNE IP55, H2200 W1000",1471.6,"1-ZE-01",43740,"SZT"]
["90512","ZENERGY - DRZWI PEŁNE IP55, H2200 W1200, PODWÓJNE",2354.3000000000002,"1-ZE-01",43740,"SZT"]
["90513","ZENERGY - DRZWI PEŁNE IP55, H2200 W1300, PODWÓJNE",2450.3000000000002,"1-ZE-01",43740,"SZT"]
["90514","ZENERGY - DRZWI PEŁNE IP55, H2200 W1050",1532.1,"1-ZE-01",43740,"SZT"]
["90530","ZENERGY - DRZWI PEŁNE IP55, H2200 W300",836.3,"1-ZE-01",43740,"SZT"]
["90540","ZENERGY - DRZWI PEŁNE IP55, H2200 W400",915.9,"1-ZE-01",43740,"SZT"]
["90545","ZENERGY - DRZWI PEŁNE IP55, H2200 W450",962.1,"1-ZE-01",43740,"SZT"]
["90560","ZENERGY - DRZWI PEŁNE IP55, H2200 W600",1081.5999999999999,"1-ZE-01",43740,"SZT"]
["90565","ZENERGY - DRZWI PEŁNE IP55, H2200 W650",1116.7,"1-ZE-01",43740,"SZT"]
["90580","ZENERGY - DRZWI PEŁNE IP55, H2200 W800",1236.0999999999999,"1-ZE-01",43740,"SZT"]
["90585","ZENERGY - DRZWI PEŁNE IP55, H2200 W850",1299.0999999999999,"1-ZE-01",43740,"SZT"]
["90595","ZENERGY - DRZWI PEŁNE IP55, H2200 W950",1387.2,"1-ZE-01",43740,"SZT"]
["90610","ZENERGY - DRZWI PRZESZKLONE IP55, H2200 X W1000",1889,"1-ZE-01",43740,"SZT"]
["90612","ZENERGY - DRZWI PRZESZKLONE IP55, H2200 X W1200, PODWÓJNE",2872.5,"1-ZE-01",43740,"SZT"]
["90613","ZENERGY - DRZWI PRZESZKLONE IP55, H2200 X W1300, PODWÓJNE",2910.8,"1-ZE-01",43740,"SZT"]
["90614","ZENERGY - DRZWI PRZESZKLONE IP55, H2200 X W1050",2078.3000000000002,"1-ZE-01",43740,"SZT"]
["90640","ZENERGY - DRZWI PRZESZKLONE IP55, H2200 X W400",1129.5999999999999,"1-ZE-01",43740,"SZT"]
["90645","ZENERGY - DRZWI PRZESZKLONE IP55, H2200 X W450",1086.3,"1-ZE-01",43740,"SZT"]
["90660","ZENERGY - DRZWI PRZESZKLONE IP55, H2200 X W600",1287.0999999999999,"1-ZE-01",43740,"SZT"]
["90665","ZENERGY - DRZWI PRZESZKLONE IP55, H2200 X W650",1333.3,"1-ZE-01",43740,"SZT"]
["90680","ZENERGY - DRZWI PRZESZKLONE IP55, H2200 X W800",1503.8,"1-ZE-01",43740,"SZT"]
["90685","ZENERGY - DRZWI PRZESZKLONE IP55, H2200 X W850",1591.1,"1-ZE-01",43740,"SZT"]
["90695","ZENERGY - DRZWI PRZESZKLONE IP55, H2200 X W950",1720.2,"1-ZE-01",43740,"SZT"]
["90742","ZENERGY - SŁUPEK OCYNK, H2200, RAMA WEWNĘTRZNA, PODWÓJNA",88.6,"1-ZE-01",43740,"SZT"]
["90744","ZENERGY - SŁUPEK INOX, H2200, RAMA WEWNĘTRZNA, PODWÓJNA",189,"1-ZE-01",43740,"SZT"]
["90745","ZENERGY - RAMA UCHYLNA ROZŁĄCZNIKÓW LISTWOWYCH 3X EFEN 160-630, H2200 W450, 23+13M, ANALIZATORY 3X 96X96MM",594.70000000000005,"1-ZE-01",43740,"SZT"]
["90746","ZENERGY - RAMA UCHYLNA ROZŁĄCZNIKÓW LISTWOWYCH 3X EFEN 160-630, H2200 W450, 23+13M, ANALIZATORY 3X 96X96MM DO PLOMBOWANIA",608.29999999999995,"1-ZE-01",43740,"SZT"]
["90765","ZENERGY - RAMA UCHYLNA ROZŁĄCZNIKÓW LISTWOWYCH 5X EFEN 160-630, H2200 W650, 23+15M, ANALIZATORY 5X 96X96MM",674.3,"1-ZE-01",43740,"SZT"]
["90766","ZENERGY - RAMA UCHYLNA ROZŁĄCZNIKÓW LISTWOWYCH 5X EFEN 160-630, H2200 W650, 23+13M, ANALIZATORY 5X 96X96MM DO PLOMBOWANIA",687.8,"1-ZE-01",43740,"SZT"]
["90785","ZENERGY - RAMA UCHYLNA ROZŁĄCZNIKÓW LISTWOWYCH 7X EFEN 160-630, H2200 W850, 23+15M, ANALIZATORY 7X 96X96MM",792.1,"1-ZE-01",43740,"SZT"]
["90786","ZENERGY - RAMA UCHYLNA ROZŁĄCZNIKÓW LISTWOWYCH 7X EFEN 160-630, H2200 W850, 23+13M, ANALIZATORY 7X 96X96MM DO PLOMBOWANIA",769.5,"1-ZE-01",43740,"SZT"]
["90845","ZENERGY - RAMA UCHYLNA ROZŁĄCZNIKÓW LISTWOWYCH 3X EFEN 160-630, H2200 W450, 23+17M",486,"1-ZE-01",43740,"SZT"]
["90846","ZENERGY - RAMA UCHYLNA ROZŁĄCZNIKÓW LISTWOWYCH 3X EFEN 160-630, H2200 W450, 23+13M DO PLOMBOWANIA",499.6,"1-ZE-01",43740,"SZT"]
["90864","ZENERGY - RAMA UCHYLNA ROZŁĄCZNIKÓW LISTWOWYCH 10X EFEN 160-630, H2200 W650",763.6,"1-ZE-01",43740,"SZT"]
["90865","ZENERGY - RAMA UCHYLNA ROZŁĄCZNIKÓW LISTWOWYCH 5X EFEN 160-630, H2200 W650, 23+17M",567.6,"1-ZE-01",43740,"SZT"]
["90866","ZENERGY - RAMA UCHYLNA ROZŁĄCZNIKÓW LISTWOWYCH 5X EFEN 160-630, H2200 W650, 23+13M DO PLOMBOWANIA",581.20000000000005,"1-ZE-01",43740,"SZT"]
["90884","ZENERGY - RAMA UCHYLNA ROZŁĄCZNIKÓW LISTWOWYCH 14X EFEN 160-630, H2200 W850",854.3,"1-ZE-01",43740,"SZT"]
["90885","ZENERGY - RAMA UCHYLNA ROZŁĄCZNIKÓW LISTWOWYCH 7X EFEN 160-630, H2200 W850, 23+17M",647.1,"1-ZE-01",43740,"SZT"]
["90886","ZENERGY - RAMA UCHYLNA ROZŁĄCZNIKÓW LISTWOWYCH 7X EFEN 160-630, H2200 W850, 23+13M DO PLOMBOWANIA",660.7,"1-ZE-01",43740,"SZT"]
["90910","ZENERGY - PŁYTA MONTAŻOWA PEŁNA H2200 X W1000 + WSPORNIKI,  ( 2050 X 900 )",973.9,"1-ZE-01",43740,"SZT"]
["90912","ZENERGY - PŁYTA MONTAŻOWA PEŁNA H2200 X W1200 + WSPORNIKI,  ( 2050 X 1100 )",1144.2,"1-ZE-01",43740,"SZT"]
["90913","ZENERGY - PŁYTA MONTAŻOWA PEŁNA H2200 X W1300 + WSPORNIKI,  ( 2050 X 1200 )",1230.4000000000001,"1-ZE-01",43740,"SZT"]
["90930","ZENERGY - PŁYTA MONTAŻOWA PEŁNA H2200 X W300 + WSPORNIKI,  ( 2050 X 200 )",380.9,"1-ZE-01",43740,"SZT"]
["90940","ZENERGY - PŁYTA MONTAŻOWA PEŁNA H2200 X W400 + WSPORNIKI,  ( 2050 X 300 )",466.9,"1-ZE-01",43740,"SZT"]
["90945","ZENERGY - PŁYTA MONTAŻOWA PEŁNA H2200 X W450 + WSPORNIKI,  ( 2050 X 350 )",501,"1-ZE-01",43740,"SZT"]
["90960","ZENERGY - PŁYTA MONTAŻOWA PEŁNA H2200 X W600 + WSPORNIKI,  ( 2050 X 500 )",645.29999999999995,"1-ZE-01",43740,"SZT"]
["90965","ZENERGY - PŁYTA MONTAŻOWA PEŁNA H2200 X W650 + WSPORNIKI,  ( 2050 X 550 )",679.3,"1-ZE-01",43740,"SZT"]
["90980","ZENERGY - PŁYTA MONTAŻOWA PEŁNA H2200 X W800 + WSPORNIKI,  ( 2050 X 700 )",803.4,"1-ZE-01",43740,"SZT"]
["90985","ZENERGY - PŁYTA MONTAŻOWA PEŁNA H2200 X W850 + WSPORNIKI,  ( 2050 X 750 )",849.8,"1-ZE-01",43740,"SZT"]
["90995","ZENERGY - PEŁNY ŁĄCZNIK PŁYT MONTAŻOWYCH H2200,  ( 2050 X 98 )",212.3,"1-ZE-01",43740,"SZT"]
["91030","ZENERGY - RAMA, H2200 X D1000 X W300",1198.7,"1-ZE-01",44151,"SZT"]
["91040","ZENERGY - RAMA, H2200 X D1000 X W400",1241.4000000000001,"1-ZE-01",43740,"SZT"]
["91045","ZENERGY - RAMA, H2200 X D1000 X W450",1262.7,"1-ZE-01",43740,"SZT"]
["91060","ZENERGY - RAMA, H2200 X D1000 X W600",1325.5,"1-ZE-01",44151,"SZT"]
["91065","Zenergy - Rama, H2200 x D1000 x W650",1350.3,"1-ZE-01",43963,"SZT"]
["91080","ZENERGY - RAMA, H2200 X D1000 X W800",1410.8,"1-ZE-01",44151,"SZT"]
["91081","ZENERGY - RAMA, H2200 X D1000 X W800, 650+150",1890.5,"1-ZE-01",43740,"SZT"]
["91082","ZENERGY - RAMA, H2250 X D1000 X W800, IT 47U",1410.8,"1-ZE-01",44531,"SZT"]
["91085","Zenergy - Rama, H2200 x D1000 x W850",1430.9,"1-ZE-01",43963,"SZT"]
["91100","ZENERGY - RAMA, H2200 X D1000 X W1000",1494.8,"1-ZE-01",43740,"SZT"]
["91110","ZENERGY - DRZWI PRZESZKLONE IP30, H2200 X W1000",1700.2,"1-ZE-01",43740,"SZT"]
["91112","ZENERGY - DRZWI PRZESZKLONE IP30, H2200 X W1200, PODWÓJNE",2585.1999999999998,"1-ZE-01",43740,"SZT"]
["91113","ZENERGY - DRZWI PRZESZKLONE IP30, H2200 X W1300, PODWÓJNE",2619.6999999999998,"1-ZE-01",43740,"SZT"]
["91120","ZENERGY - RAMA, H2200 X D1000 X W1200",1518.2,"1-ZE-01",43740,"SZT"]
["91124","Zenergy - Obudowa głowicy mostu AlCubar 6300A H400 x D1000 x W1200",4078.8,"1-ZE-01",43955,"SZT"]
["91140","ZENERGY - DRZWI PRZESZKLONE IP30, H2200 X W400",932,"1-ZE-01",43740,"SZT"]
["91145","ZENERGY - DRZWI PRZESZKLONE IP30, H2200 X W450",977.7,"1-ZE-01",43740,"SZT"]
["91146","Zenergy - Rama, H2200 x D1000 x W1450, 650+650+150 RW1200",3172.4,"1-ZE-01",43740,"SZT"]
["91160","ZENERGY - DRZWI PRZESZKLONE IP30, H2200 X W600",1158.3,"1-ZE-01",43740,"SZT"]
["91165","ZENERGY - DRZWI PRZESZKLONE IP30, H2200 X W650",1200.3,"1-ZE-01",43740,"SZT"]
["91180","ZENERGY - DRZWI PRZESZKLONE IP30, H2200 X W800",1353.5,"1-ZE-01",43740,"SZT"]
["91185","ZENERGY - DRZWI PRZESZKLONE IP30, H2200 X W850",1457.7,"1-ZE-01",43740,"SZT"]
["91195","ZENERGY - DRZWI PRZESZKLONE IP30, H2200 X W950",1561.7,"1-ZE-01",43740,"SZT"]
["91210","ZENERGY - OSŁONA TYLNA PEŁNA IP30, H2200 X W1000",680.9,"1-ZE-01",43740,"SZT"]
["91211","ZENERGY - OSŁONA TYLNA PEŁNA IP30, H2200 X W850+200",795.1,"1-ZE-01",43740,"SZT"]
["91212","ZENERGY - OSŁONA TYLNA PEŁNA IP30, H2200 X W1200",997.7,"1-ZE-01",43740,"SZT"]
["91213","ZENERGY - OSŁONA TYLNA PEŁNA IP30, H2200 X W1300",1043.4000000000001,"1-ZE-01",43740,"SZT"]
["91230","ZENERGY - OSŁONA TYLNA PEŁNA IP30, H2200 X W300",267.7,"1-ZE-01",43740,"SZT"]
["91240","ZENERGY - OSŁONA TYLNA PEŁNA IP30, H2200 X W400",383.8,"1-ZE-01",43740,"SZT"]
["91245","ZENERGY - OSŁONA TYLNA PEŁNA IP30, H2200 X W450",401.7,"1-ZE-01",43740,"SZT"]
["91260","ZENERGY - OSŁONA TYLNA PEŁNA IP30, H2200 X W600",494.7,"1-ZE-01",43740,"SZT"]
["91265","ZENERGY - OSŁONA TYLNA PEŁNA IP30, H2200 X W650",521,"1-ZE-01",43740,"SZT"]
["91280","ZENERGY - OSŁONA TYLNA PEŁNA IP30, H2200 X W800",589.5,"1-ZE-01",43740,"SZT"]
["91285","ZENERGY - OSŁONA TYLNA PEŁNA IP30, H2200 X W850",612.20000000000005,"1-ZE-01",43740,"SZT"]
["91295","ZENERGY - OSŁONA TYLNA PEŁNA IP30, H2200 X W650+300",1031.9000000000001,"1-ZE-01",43740,"SZT"]
["91310","ZENERGY - OSŁONA TYLNA WENTYLOWANA IP30, H2200 X W1000",724.9,"1-ZE-01",43740,"SZT"]
["91311","ZENERGY - OSŁONA TYLNA WENTYLOWANA IP30, H2200 X W850+200",886.6,"1-ZE-01",43740,"SZT"]
["91312","ZENERGY - OSŁONA TYLNA WENTYLOWANA IP30, H2200 X W1200",1089,"1-ZE-01",43740,"SZT"]
["91313","ZENERGY - OSŁONA TYLNA WENTYLOWANA IP30, H2200 X W1300",1133.0999999999999,"1-ZE-01",43740,"SZT"]
["91330","ZENERGY - OSŁONA TYLNA WENTYLOWANA IP30, H2200 X W300",336.3,"1-ZE-01",43740,"SZT"]
["91340","ZENERGY - OSŁONA TYLNA WENTYLOWANA IP30, H2200 X W400",450.7,"1-ZE-01",43740,"SZT"]
["91345","ZENERGY - OSŁONA TYLNA WENTYLOWANA IP30, H2200 X W450",473.5,"1-ZE-01",43740,"SZT"]
["91350","ZENERGY - OSŁONA TYLNA WENTYLOWANA IP30 POLA NAROŻNEGO D400, H2200 X W500",480.8,"1-ZE-01",43740,"SZT"]
["91360","ZENERGY - OSŁONA TYLNA WENTYLOWANA IP30, H2200 X W600",560,"1-ZE-01",43740,"SZT"]
["91365","ZENERGY - OSŁONA TYLNA WENTYLOWANA IP30, H2200 X W650",589.5,"1-ZE-01",43740,"SZT"]
["91370","ZENERGY - OSŁONA TYLNA WENTYLOWANA IP30 POLA NAROŻNEGO D600, H2200 X W700",618.9,"1-ZE-01",43740,"SZT"]
["91380","ZENERGY - OSŁONA TYLNA WENTYLOWANA IP30, H2200 X W800",658.1,"1-ZE-01",43740,"SZT"]
["91385","ZENERGY - OSŁONA TYLNA WENTYLOWANA IP30, H2200 X W850",680.9,"1-ZE-01",43740,"SZT"]
["91390","ZENERGY - OSŁONA TYLNA WENTYLOWANA IP30 POLA NAROŻNEGO D800, H2200 X W900",671.6,"1-ZE-01",44531,"SZT"]
["91395","ZENERGY - OSŁONA TYLNA WENTYLOWANA IP30, H2200 X W650+300",795.1,"1-ZE-01",43740,"SZT"]
["91410","ZENERGY - OSŁONA TYLNA WENTYLOWANA IP43, H2200 X W1000",848.4,"1-ZE-01",43740,"SZT"]
["91411","ZENERGY - OSŁONA TYLNA WENTYLOWANA IP43, H2200 X W850+200",990,"1-ZE-01",43740,"SZT"]
["91412","ZENERGY - OSŁONA TYLNA WENTYLOWANA IP43, H2200 X W1200",1292.0999999999999,"1-ZE-01",43740,"SZT"]
["91413","ZENERGY - OSŁONA TYLNA WENTYLOWANA IP43, H2200 X W1300",1343.3,"1-ZE-01",43740,"SZT"]
["91430","ZENERGY - OSŁONA TYLNA WENTYLOWANA IP43, H2200 X W300",419.9,"1-ZE-01",43740,"SZT"]
["91440","ZENERGY - OSŁONA TYLNA WENTYLOWANA IP43, H2200 X W400",542.70000000000005,"1-ZE-01",43740,"SZT"]
["91445","ZENERGY - OSŁONA TYLNA WENTYLOWANA IP43, H2200 X W450",568.5,"1-ZE-01",43740,"SZT"]
["91460","ZENERGY - OSŁONA TYLNA WENTYLOWANA IP43, H2200 X W600",658.8,"1-ZE-01",43740,"SZT"]
["91465","ZENERGY - OSŁONA TYLNA WENTYLOWANA IP43, H2200 X W650",694.7,"1-ZE-01",43740,"SZT"]
["91480","ZENERGY - OSŁONA TYLNA WENTYLOWANA IP43, H2200 X W800",769.9,"1-ZE-01",43740,"SZT"]
["91485","ZENERGY - OSŁONA TYLNA WENTYLOWANA IP43, H2200 X W850",797.2,"1-ZE-01",43740,"SZT"]
["91495","ZENERGY - OSŁONA TYLNA WENTYLOWANA IP43, H2200 X W650+300",891.1,"1-ZE-01",43740,"SZT"]
["91510","ZENERGY - OSŁONA TYLNA PEŁNA IP55, H2200 X W1000",800.5,"1-ZE-01",43740,"SZT"]
["91511","ZENERGY - OSŁONA TYLNA PEŁNA IP55, H2200 X W850+200",875.7,"1-ZE-01",43740,"SZT"]
["91512","ZENERGY - OSŁONA TYLNA PEŁNA IP55, H2200 X W1200",896.2,"1-ZE-01",43740,"SZT"]
["91513","ZENERGY - OSŁONA TYLNA PEŁNA IP55, H2200 X W1300",1249.5,"1-ZE-01",43740,"SZT"]
["91530","ZENERGY - OSŁONA TYLNA PEŁNA IP55, H2200 X W300",348.2,"1-ZE-01",43740,"SZT"]
["91540","ZENERGY - OSŁONA TYLNA PEŁNA IP55, H2200 X W400",471.2,"1-ZE-01",43740,"SZT"]
["91545","ZENERGY - OSŁONA TYLNA PEŁNA IP55, H2200 X W450",495,"1-ZE-01",43740,"SZT"]
["91560","ZENERGY - OSŁONA TYLNA PEŁNA IP55, H2200 X W600",592.4,"1-ZE-01",43740,"SZT"]
["91565","ZENERGY - OSŁONA TYLNA PEŁNA IP55, H2200 X W650",623,"1-ZE-01",43740,"SZT"]
["91580","ZENERGY - OSŁONA TYLNA PEŁNA IP55, H2200 X W800",699.8,"1-ZE-01",43740,"SZT"]
["91585","ZENERGY - OSŁONA TYLNA PEŁNA IP55, H2200 X W850",725.4,"1-ZE-01",43740,"SZT"]
["91595","ZENERGY - OSŁONA TYLNA PEŁNA IP55, H2200 X W650+300",776.7,"1-ZE-01",43740,"SZT"]
["92030","ZENERGY - RAMA, H2200 X D230 X W300",629.5,"1-ZE-01",43740,"SZT"]
["92040","ZENERGY - RAMA, H2200 X D230 X W400",665.2,"1-ZE-01",43740,"SZT"]
["92045","ZENERGY - RAMA, H2200 X D230 X W450",683.1,"1-ZE-01",43740,"SZT"]
["92060","ZENERGY - RAMA, H2200 X D230 X W600",736.6,"1-ZE-01",43740,"SZT"]
["92065","ZENERGY - RAMA, H2200 X D230 X W650",754.4,"1-ZE-01",43740,"SZT"]
["92080","ZENERGY - RAMA, H2200 X D230 X W800",807.9,"1-ZE-01",43740,"SZT"]
["92081","ZENERGY - RAMA, H2200 X D230 X W800, 650+150",982.3,"1-ZE-01",43740,"SZT"]
["92085","ZENERGY - RAMA, H2200 X D230 X W850",825.6,"1-ZE-01",43740,"SZT"]
["92086","ZENERGY - RAMA, H2200 X D230 X W850, 650+200",986.1,"1-ZE-01",43740,"SZT"]
["92095","ZENERGY - RAMA, H2200 X D230 X W950, 650+300",1081.7,"1-ZE-01",43740,"SZT"]
["92100","ZENERGY - RAMA, H2200 X D230 X W1000",879.3,"1-ZE-01",43740,"SZT"]
["92105","ZENERGY - RAMA, H2200 X D230 X W1050, 650+400",1115.0999999999999,"1-ZE-01",43740,"SZT"]
["92110","ZENERGY - RAMA, H2200 X D230 X W1100, 150+650+300",1311.5,"1-ZE-01",43740,"SZT"]
["92111","ZENERGY - RAMA, H2200 X D230 X W1100, 650+450",1131.9000000000001,"1-ZE-01",43740,"SZT"]
["92115","ZENERGY - RAMA, H2200 X D230 X W1150, 850+300",1148.5999999999999,"1-ZE-01",43740,"SZT"]
["92120","ZENERGY - RAMA, H2200 X D230 X W1200",950.6,"1-ZE-01",43740,"SZT"]
["92121","ZENERGY - RAMA, H2200 X D230 X W1200, 150+650+400",1344.8,"1-ZE-01",43740,"SZT"]
["92125","ZENERGY - RAMA, H2200 X D230 X W1250, 850+400",1181.9000000000001,"1-ZE-01",43740,"SZT"]
["92130","ZENERGY - RAMA, H2200 X D230 X W1300",986.1,"1-ZE-01",43740,"SZT"]
["92131","ZENERGY - RAMA, H2200 X D230 X W1300, 650+650",1220.3,"1-ZE-01",43740,"SZT"]
["92145","ZENERGY - RAMA, H2200 X D230 X W1450, 650+150+650",1428.4,"1-ZE-01",43740,"SZT"]
["92150","ZENERGY - RAMA, H2200 X D230 X W1500, 650+850",1265.5,"1-ZE-01",43740,"SZT"]
["92151","ZENERGY - RAMA, H2200 X D230 X W1500, 650+200+650",1432.2,"1-ZE-01",43740,"SZT"]
["92160","ZENERGY - RAMA, H2200 X D230 X W1600, 800+800",1240.8,"1-ZE-01",43740,"SZT"]
["92163","ZENERGY - RAMA, H2200 X D230 X W1600, 650+300+650",1527.6,"1-ZE-01",43740,"SZT"]
["92164","ZENERGY - RAMA, H2200 X D230 X W1600, 650+150+650+150",1600.1,"1-ZE-01",43740,"SZT"]
["92166","ZENERGY - RAMA, H2200 X D230 X W1650, 650+1000",1315.4,"1-ZE-01",43740,"SZT"]
["92170","ZENERGY - RAMA, H2200 X D230 X W1700, 850+850",1332.4,"1-ZE-01",43740,"SZT"]
["92187","ZENERGY - RAMA, H2200 X D230 X W1850, 1000+850",1368.3,"1-ZE-01",43740,"SZT"]
["93030","ZENERGY - RAMA, H2200 X D300 X W300",662,"1-ZE-01",43740,"SZT"]
["93040","ZENERGY - RAMA, H2200 X D300 X W400",697.8,"1-ZE-01",43740,"SZT"]
["93045","ZENERGY - RAMA, H2200 X D300 X W450",715.6,"1-ZE-01",43740,"SZT"]
["93060","ZENERGY - RAMA, H2200 X D300 X W600",769.2,"1-ZE-01",43740,"SZT"]
["93065","ZENERGY - RAMA, H2200 X D300 X W650",787,"1-ZE-01",43740,"SZT"]
["93080","ZENERGY - RAMA, H2200 X D300 X W800",840.6,"1-ZE-01",43740,"SZT"]
["93081","ZENERGY - RAMA, H2200 X D300 X W800, 650+150",1031.2,"1-ZE-01",43740,"SZT"]
["93085","ZENERGY - RAMA, H2200 X D300 X W850",858.4,"1-ZE-01",43740,"SZT"]
["93086","ZENERGY - RAMA, H2200 X D300 X W850, 650+200",1035.2,"1-ZE-01",43740,"SZT"]
["93095","ZENERGY - RAMA, H2200 X D300 X W950, 650+300",1130.7,"1-ZE-01",43740,"SZT"]
["93100","ZENERGY - RAMA, H2200 X D300 X W1000",911.9,"1-ZE-01",43740,"SZT"]
["93105","ZENERGY - RAMA, H2200 X D300 X W1050, 650+400",1163.9000000000001,"1-ZE-01",43740,"SZT"]
["93110","ZENERGY - RAMA, H2200 X D300 X W1100, 150+650+300",1376.8,"1-ZE-01",43740,"SZT"]
["93111","ZENERGY - RAMA, H2200 X D300 X W1100, 650+450",1180.9000000000001,"1-ZE-01",43740,"SZT"]
["93115","ZENERGY - RAMA, H2200 X D300 X W1150, 850+300",1197.5999999999999,"1-ZE-01",43740,"SZT"]
["93120","ZENERGY - RAMA, H2200 X D300 X W1200",983.2,"1-ZE-01",43740,"SZT"]
["93121","ZENERGY - RAMA, H2200 X D300 X W1200, 150+650+400",1409.9,"1-ZE-01",43740,"SZT"]
["93125","ZENERGY - RAMA, H2200 X D300 X W1250, 850+400",1230.9000000000001,"1-ZE-01",43740,"SZT"]
["93130","ZENERGY - RAMA, H2200 X D300 X W1300",1018.9,"1-ZE-01",43740,"SZT"]
["93131","ZENERGY - RAMA, H2200 X D300 X W1300, 650+650",1269.3,"1-ZE-01",43740,"SZT"]
["93145","ZENERGY - RAMA, H2200 X D300 X W1450, 650+150+650",1493.7,"1-ZE-01",43740,"SZT"]
["93150","ZENERGY - RAMA, H2200 X D300 X W1500, 650+850",1314.5,"1-ZE-01",43740,"SZT"]
["93151","ZENERGY - RAMA, H2200 X D300 X W1500, 650+200+650",1497.6,"1-ZE-01",43740,"SZT"]
["93160","ZENERGY - RAMA, H2200 X D300 X W1600, 800+800",1290,"1-ZE-01",43740,"SZT"]
["93163","ZENERGY - RAMA, H2200 X D300 X W1600, 650+300+650",1593,"1-ZE-01",43740,"SZT"]
["93164","ZENERGY - RAMA, H2200 X D300 X W1600, 650+150+650+150",1681.7,"1-ZE-01",43740,"SZT"]
["93170","ZENERGY - RAMA, H2200 X D300 X W1700, 850+850",1381.3,"1-ZE-01",43740,"SZT"]
["94030","ZENERGY - RAMA, H2200 X D400 X W300",714.2,"1-ZE-01",43740,"SZT"]
["94040","ZENERGY - RAMA, H2200 X D400 X W400",749.2,"1-ZE-01",43740,"SZT"]
["94045","ZENERGY - RAMA, H2200 X D400 X W450",766.7,"1-ZE-01",43740,"SZT"]
["94060","ZENERGY - RAMA, H2200 X D400 X W600",819.4,"1-ZE-01",43740,"SZT"]
["94065","ZENERGY - RAMA, H2200 X D400 X W650",836.9,"1-ZE-01",43740,"SZT"]
["94071","Zenergy - Rama, H2200 X D400 Pole narożne, Kompletne",2116.8000000000002,"1-ZE-01",43740,"SZT"]
["94080","ZENERGY - RAMA, H2200 X D400 X W800",889.5,"1-ZE-01",43740,"SZT"]
["94081","ZENERGY - RAMA, H2200 X D400 X W800 650+150",1108.7,"1-ZE-01",43740,"SZT"]
["94085","ZENERGY - RAMA, H2200 X D400 X W850",906.8,"1-ZE-01",43740,"SZT"]
["94086","ZENERGY - RAMA, H2200 X D400 X W850 650+200",1112.5,"1-ZE-01",43740,"SZT"]
["94095","ZENERGY - RAMA, H2200 X D400 X W950, 650+300",1206.3,"1-ZE-01",43740,"SZT"]
["94100","ZENERGY - RAMA, H2200 X D400 X W1000",959.4,"1-ZE-01",43740,"SZT"]
["94105","ZENERGY - RAMA, H2200 X D400 X W1050, 650+400",1239,"1-ZE-01",43740,"SZT"]
["94110","ZENERGY - RAMA, H2200 X D400 X W1100, 150+650+300",1480,"1-ZE-01",43740,"SZT"]
["94111","ZENERGY - RAMA, H2200 X D400 X W1100, 650+450",1255.5999999999999,"1-ZE-01",43740,"SZT"]
["94115","ZENERGY - RAMA, H2200 X D400 X W1150, 850+300",1271.9000000000001,"1-ZE-01",43740,"SZT"]
["94120","ZENERGY - RAMA, H2200 X D400 X W1200",1029.5,"1-ZE-01",43740,"SZT"]
["94121","ZENERGY - RAMA, H2200 X D400 X W1200, 150+650+400",1512.7,"1-ZE-01",43740,"SZT"]
["94125","ZENERGY - RAMA, H2200 X D400 X W1250, 850+400",1304.7,"1-ZE-01",43740,"SZT"]
["94130","ZENERGY - RAMA, H2200 X D400 X W1300",1064.5,"1-ZE-01",43740,"SZT"]
["94131","ZENERGY - RAMA, H2200 X D400 X W1300 650+650",1342.3,"1-ZE-01",43740,"SZT"]
["94145","ZENERGY - RAMA, H2200 X D400 X W1450, 650+150+650",1594.9,"1-ZE-01",43740,"SZT"]
["94150","ZENERGY - RAMA, H2200 X D400 X W1500 650+850",1386.7,"1-ZE-01",43740,"SZT"]
["94151","ZENERGY - RAMA, H2200 X D400 X W1500, 650+200+650",1598.7,"1-ZE-01",43740,"SZT"]
["94160","ZENERGY - RAMA, H2200 X D400 X W1600, 800+800",1362.6,"1-ZE-01",43740,"SZT"]
["94163","ZENERGY - RAMA, H2200 X D400 X W1600, 650+300+650",1692.2,"1-ZE-01",43740,"SZT"]
["94164","ZENERGY - RAMA, H2200 X D400 X W1600, 650+150+650+150",1811.5,"1-ZE-01",43740,"SZT"]
["94170","ZENERGY - RAMA, H2200 X D400 X W1700 850+850",1452.3,"1-ZE-01",43740,"SZT"]
["94671","ZENERGY - RAMA, H2200 X D400/D600 POLE NAROŻNE, KOMPLETNE",2793.9,"1-ZE-01",44531,"SZT"]
["95330","ZENERGY - DRZWI PRZEDZIAŁU KABLOWEGO IP30, H2200 X W300",274.39999999999998,"1-ZE-01",43740,"SZT"]
["95340","ZENERGY - DRZWI PRZEDZIAŁU KABLOWEGO IP30, H2200 X W400",284.2,"1-ZE-01",43740,"SZT"]
["96030","ZENERGY - RAMA, H2200 X D600 X W300",982.4,"1-ZE-01",43740,"SZT"]
["96040","ZENERGY - RAMA, H2200 X D600 X W400",1019.7,"1-ZE-01",43740,"SZT"]
["96045","ZENERGY - RAMA, H2200 X D600 X W450",1038.3,"1-ZE-01",43740,"SZT"]
["96060","ZENERGY - RAMA, H2200 X D600 X W600",1094.4000000000001,"1-ZE-01",43740,"SZT"]
["96065","ZENERGY - RAMA, H2200 X D600 X W650",1112.9000000000001,"1-ZE-01",43740,"SZT"]
["96071","ZENERGY - RAMA, H2200 X D600 POLE NAROŻNE, KOMPLETNE",2793.9,"1-ZE-01",43740,"SZT"]
["96080","ZENERGY - RAMA, H2200 X D600 X W800",1168.8,"1-ZE-01",43740,"SZT"]
["96081","ZENERGY - RAMA, H2200 X D600 X W800, 650+150",1513.5,"1-ZE-01",43740,"SZT"]
["96085","ZENERGY - RAMA, H2200 X D600 X W850",1187.5999999999999,"1-ZE-01",43740,"SZT"]
["96086","ZENERGY - RAMA, H2200 X D600 X W850, 650+200",1517.5,"1-ZE-01",43740,"SZT"]
["96095","ZENERGY - RAMA, H2200 X D600 X W950, 650+300",1552.5,"1-ZE-01",43740,"SZT"]
["96100","ZENERGY - RAMA, H2200 X D600 X W1000",1243.5,"1-ZE-01",43740,"SZT"]
["96102","ZENERGY - RAMA, H2200 X D600 X W1000, 850+150",1596,"1-ZE-01",43740,"SZT"]
["96105","ZENERGY - RAMA, H2200 X D600 X W1050, 650+400",1587.4,"1-ZE-01",43740,"SZT"]
["96107","ZENERGY - RAMA, H2200 X D600 X W1050, 850+200",1621.1,"1-ZE-01",43740,"SZT"]
["96110","ZENERGY - RAMA, H2200 X D600 X W1100, 150+650+300",1954.9,"1-ZE-01",43740,"SZT"]
["96111","ZENERGY - RAMA, H2200 X D600 X W1100, 650+450",1604.8,"1-ZE-01",43740,"SZT"]
["96112","ZENERGY - RAMA, H2200 X D600 X W1100, 800+300",1745.9,"1-ZE-01",43740,"SZT"]
["96114","ZENERGY - RAMA, H2200 X D600 X W1100, (450+200)+450",1941.1,"1-ZE-01",43740,"SZT"]
["96115","ZENERGY - RAMA, H2200 X D600 X W1150, 850+300",1622.3,"1-ZE-01",43740,"SZT"]
["96117","ZENERGY - RAMA, H2200 X D600 X W1150, 200+650+300",1973.3,"1-ZE-01",43740,"SZT"]
["96120","ZENERGY - RAMA, H2200 X D600 X W1200",1318.2,"1-ZE-01",43740,"SZT"]
["96121","ZENERGY - RAMA, H2200 X D600 X W1200, 150+650+400",1989.8,"1-ZE-01",43740,"SZT"]
["96125","ZENERGY - RAMA, H2200 X D600 X W1250, 850+400",1657.4,"1-ZE-01",43740,"SZT"]
["96130","ZENERGY - RAMA, H2200 X D600 X W1300",1355.3,"1-ZE-01",43740,"SZT"]
["96131","ZENERGY - RAMA, H2200 X D600 X W1300, 650+650",1697.4,"1-ZE-01",43740,"SZT"]
["96132","ZENERGY - RAMA, H2200 X D600 X W1300, 650+(200+450)",2034,"1-ZE-01",43740,"SZT"]
["96141","ZENERGY - RAMA, H2200 X D600 X W1400, 400+850+150",2041.6,"1-ZE-01",43740,"SZT"]
["96145","ZENERGY - RAMA, H2200 X D600 X W1450, 650+150+650",2077.1,"1-ZE-01",43740,"SZT"]
["96148","ZENERGY - RAMA, H2200 X D600 X W1450, 800+650",1877.7,"1-ZE-01",43740,"SZT"]
["96149","ZENERGY - RAMA, H2200 X D600 X W1450, 400+850+200",2181.3000000000002,"1-ZE-01",44531,"SZT"]
["96150","ZENERGY - RAMA, H2200 X D600 X W1500, 650+850",1744.6,"1-ZE-01",43740,"SZT"]
["96151","ZENERGY - RAMA, H2200 X D600 X W1500, 650+200+650",2081.1999999999998,"1-ZE-01",43740,"SZT"]
["96152","ZENERGY - RAMA, H2200 X D600 X W1500, 200+650+650",2081.1999999999998,"1-ZE-01",43740,"SZT"]
["96160","ZENERGY - RAMA, H2200 X D600 X W1600, 800+800",1719,"1-ZE-01",43740,"SZT"]
["96162","ZENERGY - RAMA, H2200 X D600 X W1600, 150+650+800",2223.6999999999998,"1-ZE-01",44531,"SZT"]
["96163","ZENERGY - RAMA, H2200 X D600 X W1600, 650+300+650",2116,"1-ZE-01",43740,"SZT"]
["96164","ZENERGY - RAMA, H2200 X D600 X W1600, 650+150+650+150",2418.9,"1-ZE-01",43740,"SZT"]
["96165","ZENERGY - RAMA, H2200 X D600 X W1650, 650+150+850",1949.3,"1-ZE-01",44531,"SZT"]
["96170","ZENERGY - RAMA, H2200 X D600 X W1700, 850+850",1814.4,"1-ZE-01",43740,"SZT"]
["98030","ZENERGY - RAMA, H2200 X D800 X W300",1060.8,"1-ZE-01",43740,"SZT"]
["98040","ZENERGY - RAMA, H2200 X D800 X W400",1098.3,"1-ZE-01",43740,"SZT"]
["98045","ZENERGY - RAMA, H2200 X D800 X W450",1117,"1-ZE-01",43740,"SZT"]
["98060","ZENERGY - RAMA, H2200 X D800 X W600",1172.9000000000001,"1-ZE-01",43740,"SZT"]
["98061","ZENERGY - RAMA, H2200 X D800 X W600, 450+150",1570.4,"1-ZE-01",43740,"SZT"]
["98062","ZENERGY - RAMA, H2200 X D800 X W600, 400+200",1570.4,"1-ZE-01",44531,"SZT"]
["98065","ZENERGY - RAMA, H2200 X D800 X W650",1191.5,"1-ZE-01",43740,"SZT"]
["98071","Zenergy - Rama, H2200 X D800 Pole narożne, Kompletne",3210,"1-ZE-01",43740,"SZT"]
["98076","ZENERGY - RAMA, H2200 X D800 X W750, 450+300",1770.8,"1-ZE-01",44531,"SZT"]
["98080","ZENERGY - RAMA, H2200 X D800 X W800",1247.5,"1-ZE-01",43740,"SZT"]
["98081","ZENERGY - RAMA, H2200 X D800 X W800, 650+150",1631.2,"1-ZE-01",43740,"SZT"]
["98083","ZENERGY - RAMA, H2200 X D800 X W800, 400+400",1786.4,"1-ZE-01",44531,"SZT"]
["98085","ZENERGY - RAMA, H2200 X D800 X W850",1266,"1-ZE-01",43740,"SZT"]
["98086","ZENERGY - RAMA, H2200 X D800 X W850, 650+200",1635.2,"1-ZE-01",43740,"SZT"]
["98091","ZENERGY - RAMA, H2200 X D800 X W900, 450+450",1822.7,"1-ZE-01",44531,"SZT"]
["98095","ZENERGY - RAMA, H2200 X D800 X W950, 650+300",1839.2,"1-ZE-01",43740,"SZT"]
["98100","ZENERGY - RAMA, H2200 X D800 X W1000",1322,"1-ZE-01",43740,"SZT"]
["98102","ZENERGY - RAMA, H2200 X D800 X W1000, 850+150",1713.7,"1-ZE-01",43740,"SZT"]
["98105","ZENERGY - RAMA, H2200 X D800 X W1050, 650+400",1682.9,"1-ZE-01",43740,"SZT"]
["98107","ZENERGY - RAMA, H2200 X D800 X W1050, 850+200",1738.6,"1-ZE-01",44531,"SZT"]
["98110","ZENERGY - RAMA, H2200 X D800 X W1100, 150+650+300",2089.6999999999998,"1-ZE-01",43740,"SZT"]
["98111","ZENERGY - RAMA, H2200 X D800 X W1100, 650+450",1700.4,"1-ZE-01",43740,"SZT"]
["98115","ZENERGY - RAMA, H2200 X D800 X W1150, 850+300",1717.8,"1-ZE-01",43740,"SZT"]
["98120","ZENERGY - RAMA, H2200 X D800 X W1200",1396.7,"1-ZE-01",43740,"SZT"]
["98121","ZENERGY - RAMA, H2200 X D800 X W1200, 150+650+400",2124.4,"1-ZE-01",43740,"SZT"]
["98124","ZENERGY - RAMA, H2200 X D800 X W1200, 450+450+300",2483.5,"1-ZE-01",44531,"SZT"]
["98125","ZENERGY - RAMA, H2200 X D800 X W1250, 850+400",1752.9,"1-ZE-01",43740,"SZT"]
["98126","ZENERGY - RAMA, H2200 X D800 X W1250, 650+200+400",2219.4,"1-ZE-01",44531,"SZT"]
["98130","ZENERGY - RAMA, H2200 X D800 X W1300",1434,"1-ZE-01",43740,"SZT"]
["98131","ZENERGY - RAMA, H2200 X D800 X W1300, 650+650",1793.1,"1-ZE-01",43740,"SZT"]
["98145","ZENERGY - RAMA, H2200 X D800 X W1450, 650+150+650",2211.9,"1-ZE-01",43740,"SZT"]
["98150","ZENERGY - RAMA, H2200 X D800 X W1500, 650+850",1840.4,"1-ZE-01",43740,"SZT"]
["98151","ZENERGY - RAMA, H2200 X D800 X W1500, 650+200+650",2216,"1-ZE-01",43740,"SZT"]
["98160","ZENERGY - RAMA, H2200 X D800 X W1600, 800+800",1814.4,"1-ZE-01",43740,"SZT"]
["98163","ZENERGY - RAMA, H2200 X D800 X W1600, 650+300+650",2228.6,"1-ZE-01",43740,"SZT"]
["98164","ZENERGY - RAMA, H2200 X D800 X W1600, 650+150+650+150",2593,"1-ZE-01",43740,"SZT"]
["98170","ZENERGY - RAMA, H2200 X D800 X W1700, 850+850",1910.2,"1-ZE-01",43740,"SZT"]
["98173","ZENERGY - RAMA, H2200 X D800 X W1700, 850+200+650",2250.1,"1-ZE-01",44531,"SZT"]
["99210","ZENERGY - OSŁONY BOCZNE WENTYLOWANE IP30, H2200 X D1000",690.7,"1-ZE-01",44531,"SZT"]
["99223","ZENERGY - OSŁONY BOCZNE WENTYLOWANE IP30, H2200 D230",594.4,"1-ZE-01",43740,"SZT"]
["99224","ZENERGY - OSŁONY BOCZNE WENTYLOWANE, STAŁE IP30, H2200 X D230",336.3,"1-ZE-01",43740,"SZT"]
["99225","ZENERGY - OSŁONY BOCZNE WENTYLOWANE, PŁASKIE, PRZYKRĘCANE IP30, H2200 X D230",336.3,"1-ZE-01",43740,"SZT"]
["99230","ZENERGY - OSŁONY BOCZNE WENTYLOWANE IP30, H2200 D300",614,"1-ZE-01",43740,"SZT"]
["99231","ZENERGY - OSŁONY BOCZNE WENTYLOWANE, STAŁE IP30, H2200 X D300",356,"1-ZE-01",43740,"SZT"]
["99232","ZENERGY - OSŁONY BOCZNE WENTYLOWANE, PŁASKIE, PRZYKRĘCANE IP30, H2200 X D300",356,"1-ZE-01",43740,"SZT"]
["99240","ZENERGY - OSŁONY BOCZNE WENTYLOWANE IP30, H2200 D400",635.1,"1-ZE-01",43740,"SZT"]
["99241","ZENERGY - OSŁONY BOCZNE WENTYLOWANE, STAŁE IP30, H2200 X D400",377.2,"1-ZE-01",43740,"SZT"]
["99242","ZENERGY - OSŁONY BOCZNE WENTYLOWANE, PŁASKIE, PRZYKRĘCANE IP30, H2200 X D400",377.2,"1-ZE-01",43740,"SZT"]
["99260","ZENERGY - OSŁONY BOCZNE WENTYLOWANE IP30, H2200 D600",658.1,"1-ZE-01",43740,"SZT"]
["99261","ZENERGY - OSŁONY BOCZNE WENTYLOWANE, STAŁE IP30, H2200 X D600",400.1,"1-ZE-01",43740,"SZT"]
["99262","ZENERGY - OSŁONY BOCZNE WENTYLOWANE, PŁASKIE, PRZYKRĘCANE IP30, H2200 X D600",400.1,"1-ZE-01",43740,"SZT"]
["99280","ZENERGY - OSŁONY BOCZNE WENTYLOWANE IP30, H2200 X D800",707.7,"1-ZE-01",43740,"SZT"]
["99310","ZENERGY - OSŁONY BOCZNE PEŁNE IP30, H2200 D1000",922.9,"1-ZE-01",43740,"SZT"]
["99323","ZENERGY - OSŁONY BOCZNE PEŁNE IP30, H2200 D230",597.5,"1-ZE-01",43740,"SZT"]
["99324","ZENERGY - OSŁONY BOCZNE PEŁNE, STAŁE IP30, H2200 X D230",189.1,"1-ZE-01",43740,"SZT"]
["99325","ZENERGY - OSŁONY BOCZNE PEŁNE, PŁASKIE, PRZYKRĘCANE IP30, H2200 X D230",367,"1-ZE-01",43740,"SZT"]
["99327","ZENERGY - PRZEGRODA ODDZIELAJĄCA PIONOWA, OCYNK,  H2200 X D230",80.099999999999994,"1-ZE-01",43740,"SZT"]
["99330","ZENERGY - OSŁONY BOCZNE PEŁNE IP30, H2200 D300",621.6,"1-ZE-01",43740,"SZT"]
["99331","ZENERGY - OSŁONY BOCZNE PEŁNE, STAŁE IP30, H2200 X D300",302.2,"1-ZE-01",43740,"SZT"]
["99332","ZENERGY - OSŁONY BOCZNE PEŁNE, PŁASKIE, PRZYKRĘCANE IP30, H2200 X D300",407.3,"1-ZE-01",43740,"SZT"]
["99335","ZENERGY - PRZEGRODA ODDZIELAJĄCA PIONOWA, OCYNK,  H2200 X D300",144.6,"1-ZE-01",43740,"SZT"]
["99340","ZENERGY - OSŁONY BOCZNE PEŁNE IP30, H2200 D400",643.9,"1-ZE-01",43740,"SZT"]
["99341","ZENERGY - OSŁONY BOCZNE PEŁNE, STAŁE IP30, H2200 X D400",322.5,"1-ZE-01",43740,"SZT"]
["99342","ZENERGY - OSŁONY BOCZNE PEŁNE, PŁASKIE, PRZYKRĘCANE IP30, H2200 X D400",434.8,"1-ZE-01",43740,"SZT"]
["99345","ZENERGY - PRZEGRODA ODDZIELAJĄCA PIONOWA, OCYNK,  H2200 X D400",154.30000000000001,"1-ZE-01",43740,"SZT"]
["99360","ZENERGY - OSŁONY BOCZNE PEŁNE IP30, H2200 D600",723.6,"1-ZE-01",43740,"SZT"]
["99361","ZENERGY - OSŁONY BOCZNE PEŁNE, STAŁE IP30, H2200 X D600",384.8,"1-ZE-01",43740,"SZT"]
["99362","ZENERGY - OSŁONY BOCZNE PEŁNE, PŁASKIE, PRZYKRĘCANE IP30, H2200 X D600",513,"1-ZE-01",43740,"SZT"]
["99365","ZENERGY - PRZEGRODA ODDZIELAJĄCA PIONOWA, OCYNK,  H2200 X D600",176.3,"1-ZE-01",43740,"SZT"]
["99380","ZENERGY - OSŁONY BOCZNE PEŁNE IP30, H2200 D800",777.7,"1-ZE-01",43740,"SZT"]
["99381","ZENERGY - OSŁONY BOCZNE PEŁNE, STAŁE IP30, H2200 X D800",436.4,"1-ZE-01",43740,"SZT"]
["99382","ZENERGY - OSŁONY BOCZNE PEŁNE, PŁASKIE, PRZYKRĘCANE IP30, H2200 X D800",582,"1-ZE-01",43740,"SZT"]
["99385","ZENERGY - PRZEGRODA ODDZIELAJĄCA PIONOWA, OCYNK,  H2200 X D800",200,"1-ZE-01",43740,"SZT"]
["99423","ZENERGY - OSŁONY BOCZNE WENTYLOWANE IP43, H2200 D230",544.70000000000005,"1-ZE-01",43740,"SZT"]
["99424","ZENERGY - OSŁONY BOCZNE WENTYLOWANE, STAŁE IP43, H2200 X D230",262.89999999999998,"1-ZE-01",43740,"SZT"]
["99425","ZENERGY - OSŁONY BOCZNE WENTYLOWANE, PŁASKIE, PRZYKRĘCANE IP43, H2200 X D230",420.3,"1-ZE-01",43740,"SZT"]
["99430","ZENERGY - OSŁONY BOCZNE WENTYLOWANE IP43, H2200 D300",711.9,"1-ZE-01",43740,"SZT"]
["99431","ZENERGY - OSŁONY BOCZNE WENTYLOWANE, STAŁE IP43, H2200 X D300",422.9,"1-ZE-01",43740,"SZT"]
["99432","ZENERGY - OSŁONY BOCZNE WENTYLOWANE, PŁASKIE, PRZYKRĘCANE IP43, H2200 X D300",461.4,"1-ZE-01",43740,"SZT"]
["99440","ZENERGY - OSŁONY BOCZNE WENTYLOWANE IP43, H2200 D400",767.7,"1-ZE-01",43740,"SZT"]
["99441","ZENERGY - OSŁONY BOCZNE WENTYLOWANE, STAŁE IP43, H2200 X D400",445.9,"1-ZE-01",43740,"SZT"]
["99442","ZENERGY - OSŁONY BOCZNE WENTYLOWANE, PŁASKIE, PRZYKRĘCANE IP43, H2200 X D400",506.7,"1-ZE-01",43740,"SZT"]
["99460","ZENERGY - OSŁONY BOCZNE WENTYLOWANE IP43, H2200 D600",840.5,"1-ZE-01",43740,"SZT"]
["99461","ZENERGY - OSŁONY BOCZNE WENTYLOWANE, STAŁE IP43, H2200 X D600",525.5,"1-ZE-01",43740,"SZT"]
["99462","ZENERGY - OSŁONY BOCZNE WENTYLOWANE, PŁASKIE, PRZYKRĘCANE IP43, H2200 X D600",569.4,"1-ZE-01",43740,"SZT"]
["99480","ZENERGY - OSŁONY BOCZNE WENTYLOWANE IP43, H2200 D800",897.2,"1-ZE-01",43740,"SZT"]
["99481","ZENERGY - OSŁONY BOCZNE WENTYLOWANE, STAŁE IP43, H2200 X D800",569.70000000000005,"1-ZE-01",43740,"SZT"]
["99482","ZENERGY - OSŁONY BOCZNE WENTYLOWANE, PŁASKIE, PRZYKRĘCANE IP43, H2200 X D800",615.29999999999995,"1-ZE-01",43740,"SZT"]
["99510","ZENERGY - OSŁONY BOCZNE PEŁNE IP55, H2200 D1000",793.1,"1-ZE-01",43740,"SZT"]
["99523","ZENERGY - OSŁONY BOCZNE PEŁNE IP55, H2200 D230",589.5,"1-ZE-01",43740,"SZT"]
["99530","ZENERGY - OSŁONY BOCZNE PEŁNE IP55, H2200 D300",668,"1-ZE-01",43740,"SZT"]
["99540","ZENERGY - OSŁONY BOCZNE PEŁNE IP55, H2200 D400",721.6,"1-ZE-01",43740,"SZT"]
["99560","ZENERGY - OSŁONY BOCZNE PEŁNE IP55, H2200 D600",812.5,"1-ZE-01",43740,"SZT"]
["99580","ZENERGY - OSŁONY BOCZNE PEŁNE IP55, H2200 D800",937.3,"1-ZE-01",43740,"SZT"]
["OU02003015P","OBUDOWA UNIWERSALNA OU H200 X W300 X D150, PUSTA, DRZWI PEŁNE, IP41",172.8,"1-ZE-02",44531,"SZT"]
["OU02405030P","OBUDOWA UNIWERSALNA OU H240 X W500 X D300, PUSTA, DRZWI PEŁNE, IP41",192.8,"1-ZE-02",44531,"SZT"]
["OU02503030P","OBUDOWA UNIWERSALNA OU H250 X W300 X D300, PUSTA, DRZWI PEŁNE, IP41",183.5,"1-ZE-02",44531,"SZT"]
["OU03003020P","OBUDOWA UNIWERSALNA OU H300 X W300 X D200, PUSTA, DRZWI PEŁNE, IP41",178.8,"1-ZE-02",44531,"SZT"]
["OU03004020P","OBUDOWA UNIWERSALNA OU H300 X W400 X D200, PUSTA, DRZWI PEŁNE, IP41",183.4,"1-ZE-02",44531,"SZT"]
["OU03005020P","OBUDOWA UNIWERSALNA OU H300 X W500 X D200, PUSTA, DRZWI PEŁNE, IP41",186.8,"1-ZE-02",44531,"SZT"]
["OU03005030P","OBUDOWA UNIWERSALNA OU H300 X W500 X D300, PUSTA, DRZWI PEŁNE, IP41",195.1,"1-ZE-02",44531,"SZT"]
["OU03503515P","OBUDOWA UNIWERSALNA OU H350 X W350 X D150, PUSTA, DRZWI PEŁNE, IP41",181.1,"1-ZE-02",44531,"SZT"]
["OU04003020P","OBUDOWA UNIWERSALNA OU H400 X W300 X D200, PUSTA, DRZWI PEŁNE, IP41",183.4,"1-ZE-02",44531,"SZT"]
["OU04003023P","OBUDOWA UNIWERSALNA OU H400 X W300 X D230, PUSTA, DRZWI PEŁNE, IP41",185.8,"1-ZE-02",44531,"SZT"]
["OU04003030P","OBUDOWA UNIWERSALNA OU H400 X W300 X D300, PUSTA, DRZWI PEŁNE, IP41",189.2,"1-ZE-02",44531,"SZT"]
["OU04003520P","OBUDOWA UNIWERSALNA OU H400 X W350 X D200, PUSTA, DRZWI PEŁNE, IP41",186.8,"1-ZE-02",44531,"SZT"]
["OU04004018P","OBUDOWA UNIWERSALNA OU H400 X W400 X D180, PUSTA, DRZWI PEŁNE, IP41",186.8,"1-ZE-02",44531,"SZT"]
["OU04004020P","OBUDOWA UNIWERSALNA OU H400 X W400 X D200, PUSTA, DRZWI PEŁNE, IP41",189.2,"1-ZE-02",44531,"SZT"]
["OU04004023P","OBUDOWA UNIWERSALNA OU H400 X W400 X D230, PUSTA, DRZWI PEŁNE, IP41",190.4,"1-ZE-02",44531,"SZT"]
["OU04004030P","OBUDOWA UNIWERSALNA OU H400 X W400 X D300, PUSTA, DRZWI PEŁNE, IP41",196.2,"1-ZE-02",44531,"SZT"]
["OU04004035P","OBUDOWA UNIWERSALNA OU H400 X W400 X D350, PUSTA, DRZWI PEŁNE, IP41",199.8,"1-ZE-02",44531,"SZT"]
["OU04006020P","OBUDOWA UNIWERSALNA OU H400 X W600 X D200, PUSTA, DRZWI PEŁNE, IP41",199.8,"1-ZE-02",44531,"SZT"]
["OU04006023P","OBUDOWA UNIWERSALNA OU H400 X W600 X D230, PUSTA, DRZWI PEŁNE, IP41",206.8,"1-ZE-02",44531,"SZT"]
["OU04006025P","OBUDOWA UNIWERSALNA OU H400 X W600 X D250, PUSTA, DRZWI PEŁNE, IP41",214.7,"1-ZE-02",44531,"SZT"]
["OU04006040P","OBUDOWA UNIWERSALNA OU H400 X W600 X D400, PUSTA, DRZWI PEŁNE, IP41",247.7,"1-ZE-02",44531,"SZT"]
["OU04008023P","OBUDOWA UNIWERSALNA OU H400 X W800 X D230, PUSTA, DRZWI PEŁNE, IP41",252.2,"1-ZE-02",44531,"SZT"]
["OU05002015P","OBUDOWA UNIWERSALNA OU H500 X W200 X D150, PUSTA, DRZWI PEŁNE, IP41",178.8,"1-ZE-02",44531,"SZT"]
["OU05003030P","OBUDOWA UNIWERSALNA OU H500 X W300 X D300, PUSTA, DRZWI PEŁNE, IP41",185.4,"1-ZE-02",44531,"SZT"]
["OU05004015P","OBUDOWA UNIWERSALNA OU H500 X W400 X D150, PUSTA, DRZWI PEŁNE, IP41",190.4,"1-ZE-02",44531,"SZT"]
["OU05004023P","OBUDOWA UNIWERSALNA OU H500 X W400 X D230, PUSTA, DRZWI PEŁNE, IP41",196.2,"1-ZE-02",44531,"SZT"]
["OU05004025P","OBUDOWA UNIWERSALNA OU H500 X W400 X D250, PUSTA, DRZWI PEŁNE, IP41",198.6,"1-ZE-02",44531,"SZT"]
["OU05004030P","OBUDOWA UNIWERSALNA OU H500 X W400 X D300, PUSTA, DRZWI PEŁNE, IP41",206.8,"1-ZE-02",44531,"SZT"]
["OU05004035P","OBUDOWA UNIWERSALNA OU H500 X W400 X D350, PUSTA, DRZWI PEŁNE, IP41",223.1,"1-ZE-02",44531,"SZT"]
["OU05005023P","OBUDOWA UNIWERSALNA OU H500 X W500 X D230, PUSTA, DRZWI PEŁNE, IP41",210.2,"1-ZE-02",44531,"SZT"]
["OU05005030P","OBUDOWA UNIWERSALNA OU H500 X W500 X D300, PUSTA, DRZWI PEŁNE, IP41",236,"1-ZE-02",44531,"SZT"]
["OU05005035P","OBUDOWA UNIWERSALNA OU H500 X W500 X D350, PUSTA, DRZWI PEŁNE, IP41",253.5,"1-ZE-02",44531,"SZT"]
["OU05009040P","OBUDOWA UNIWERSALNA OU H500 X W900 X D400, PUSTA, DRZWI PEŁNE, IP41",435.7,"1-ZE-02",44531,"SZT"]
["OU05506014P","OBUDOWA UNIWERSALNA OU H550 X W600 X D140, PUSTA, DRZWI PEŁNE, IP41",214.7,"1-ZE-02",44531,"SZT"]
["OU05506018P","OBUDOWA UNIWERSALNA OU H550 X W600 X D180, PUSTA, DRZWI PEŁNE, IP41",231.2,"1-ZE-02",44531,"SZT"]
["OU05506023P","OBUDOWA UNIWERSALNA OU H550 X W600 X D230, PUSTA, DRZWI PEŁNE, IP41",251.2,"1-ZE-02",44531,"SZT"]
["OU05506025P","OBUDOWA UNIWERSALNA OU H550 X W600 X D250, PUSTA, DRZWI PEŁNE, IP41",260.5,"1-ZE-02",44531,"SZT"]
["OU05508023P","OBUDOWA UNIWERSALNA OU H550 X W800 X D230, PUSTA, DRZWI PEŁNE, IP41",307.2,"1-ZE-02",44531,"SZT"]
["OU06003018P","OBUDOWA UNIWERSALNA OU H600 X W300 X D180, PUSTA, DRZWI PEŁNE, IP41",190.4,"1-ZE-02",44531,"SZT"]
["OU06003030P","OBUDOWA UNIWERSALNA OU H600 X W300 X D300, PUSTA, DRZWI PEŁNE, IP41",199.8,"1-ZE-02",44531,"SZT"]
["OU06004015P","OBUDOWA UNIWERSALNA OU H600 X W400 X D150, PUSTA, DRZWI PEŁNE, IP41",185.8,"1-ZE-02",44531,"SZT"]
["OU06004020P","OBUDOWA UNIWERSALNA OU H600 X W400 X D200, PUSTA, DRZWI PEŁNE, IP41",198.6,"1-ZE-02",44531,"SZT"]
["OU06004023P","OBUDOWA UNIWERSALNA OU H600 X W400 X D230, PUSTA, DRZWI PEŁNE, IP41",206.8,"1-ZE-02",44531,"SZT"]
["OU06004030P","OBUDOWA UNIWERSALNA OU H600 X W400 X D300, PUSTA, DRZWI PEŁNE, IP41",232.5,"1-ZE-02",44531,"SZT"]
["OU06004035P","OBUDOWA UNIWERSALNA OU H600 X W400 X D350, PUSTA, DRZWI PEŁNE, IP41",250,"1-ZE-02",44531,"SZT"]
["OU06004040P","OBUDOWA UNIWERSALNA OU H600 X W400 X D400, PUSTA, DRZWI PEŁNE, IP41",267.5,"1-ZE-02",44531,"SZT"]
["OU06006020P","OBUDOWA UNIWERSALNA OU H600 X W600 X D200, PUSTA, DRZWI PEŁNE, IP41",253.5,"1-ZE-02",44531,"SZT"]
["OU06006023P","OBUDOWA UNIWERSALNA OU H600 X W600 X D230, PUSTA, DRZWI PEŁNE, IP41",266.39999999999998,"1-ZE-02",44531,"SZT"]
["OU06006025P","OBUDOWA UNIWERSALNA OU H600 X W600 X D250, PUSTA, DRZWI PEŁNE, IP41",274.89999999999998,"1-ZE-02",44531,"SZT"]
["OU06006030P","OBUDOWA UNIWERSALNA OU H600 X W600 X D300, PUSTA, DRZWI PEŁNE, IP41",296.60000000000002,"1-ZE-02",44531,"SZT"]
["OU06006035P","OBUDOWA UNIWERSALNA OU H600 X W600 X D350, PUSTA, DRZWI PEŁNE, IP41",321.3,"1-ZE-02",44531,"SZT"]
["OU06006040P","OBUDOWA UNIWERSALNA OU H600 X W600 X D400, PUSTA, DRZWI PEŁNE, IP41",351.6,"1-ZE-02",44531,"SZT"]
["OU06008023P","OBUDOWA UNIWERSALNA OU H600 X W800 X D230, PUSTA, DRZWI PEŁNE, IP41",332.9,"1-ZE-02",44531,"SZT"]
["OU06008030P","OBUDOWA UNIWERSALNA OU H600 X W800 X D300, PUSTA, DRZWI PEŁNE, IP41",380.8,"1-ZE-02",44531,"SZT"]
["OU06008035P","OBUDOWA UNIWERSALNA OU H600 X W800 X D350, PUSTA, DRZWI PEŁNE, IP41",415.8,"1-ZE-02",44531,"SZT"]
["OU06008040P","OBUDOWA UNIWERSALNA OU H600 X W800 X D400, PUSTA, DRZWI PEŁNE, IP41",450.8,"1-ZE-02",44531,"SZT"]
["OU06506020P","OBUDOWA UNIWERSALNA OU H650 X W600 X D200, PUSTA, DRZWI PEŁNE, IP41",268.60000000000002,"1-ZE-02",44531,"SZT"]
["OU06506023P","OBUDOWA UNIWERSALNA OU H650 X W600 X D230, PUSTA, DRZWI PEŁNE, IP41",281.5,"1-ZE-02",44531,"SZT"]
["OU06506030P","OBUDOWA UNIWERSALNA OU H650 X W600 X D300, PUSTA, DRZWI PEŁNE, IP41",314.3,"1-ZE-02",44531,"SZT"]
["OU06506035P","OBUDOWA UNIWERSALNA OU H650 X W600 X D350, PUSTA, DRZWI PEŁNE, IP41",344.6,"1-ZE-02",44531,"SZT"]
["OU06507012P","OBUDOWA UNIWERSALNA OU H650 X W700 X D120, PUSTA, DRZWI PEŁNE, IP41",268.3,"1-ZE-02",44531,"SZT"]
["OU06902933P","OBUDOWA UNIWERSALNA OU H690 X W290 X D330, PUSTA, DRZWI PEŁNE, IP41",226.6,"1-ZE-02",44531,"SZT"]
["OU07001330P","OBUDOWA UNIWERSALNA OU H700 X W1300 X D300, PUSTA, DRZWI PEŁNE, IP41",684.4,"1-ZE-02",44531,"SZT"]
["OU07003020P","OBUDOWA UNIWERSALNA OU H700 X W300 X D200, PUSTA, DRZWI PEŁNE, IP41",196.2,"1-ZE-02",44531,"SZT"]
["OU07004018P","OBUDOWA UNIWERSALNA OU H700 X W400 X D180, PUSTA, DRZWI PEŁNE, IP41",210.2,"1-ZE-02",44531,"SZT"]
["OU07005018P","OBUDOWA UNIWERSALNA OU H700 X W500 X D180, PUSTA, DRZWI PEŁNE, IP41",241.8,"1-ZE-02",44531,"SZT"]
["OU07005023P","OBUDOWA UNIWERSALNA OU H700 X W500 X D230, PUSTA, DRZWI PEŁNE, IP41",262.89999999999998,"1-ZE-02",44531,"SZT"]
["OU07005030P","OBUDOWA UNIWERSALNA OU H700 X W500 X D300, PUSTA, DRZWI PEŁNE, IP41",293.2,"1-ZE-02",44531,"SZT"]
["OU07005035P","OBUDOWA UNIWERSALNA OU H700 X W500 X D350, PUSTA, DRZWI PEŁNE, IP41",316.60000000000002,"1-ZE-02",44531,"SZT"]
["OU07005040P","OBUDOWA UNIWERSALNA OU H700 X W500 X D400, PUSTA, DRZWI PEŁNE, IP41",347,"1-ZE-02",44531,"SZT"]
["OU07006014P","OBUDOWA UNIWERSALNA OU H700 X W600 X D140, PUSTA, DRZWI PEŁNE, IP41",254.2,"1-ZE-02",44531,"SZT"]
["OU07006015P","OBUDOWA UNIWERSALNA OU H700 X W600 X D150, PUSTA, DRZWI PEŁNE, IP41",259.3,"1-ZE-02",44531,"SZT"]
["OU07006023P","OBUDOWA UNIWERSALNA OU H700 X W600 X D230, PUSTA, DRZWI PEŁNE, IP41",295.60000000000002,"1-ZE-02",44531,"SZT"]
["OU07006025P","OBUDOWA UNIWERSALNA OU H700 X W600 X D250, PUSTA, DRZWI PEŁNE, IP41",336.4,"1-ZE-02",44531,"SZT"]
["OU07006030P","OBUDOWA UNIWERSALNA OU H700 X W600 X D300, PUSTA, DRZWI PEŁNE, IP41",357,"1-ZE-02",44531,"SZT"]
["OU07006035P","OBUDOWA UNIWERSALNA OU H700 X W600 X D350, PUSTA, DRZWI PEŁNE, IP41",369,"1-ZE-02",44531,"SZT"]
["OU07006040P","OBUDOWA UNIWERSALNA OU H700 X W600 X D400, PUSTA, DRZWI PEŁNE, IP41",400.7,"1-ZE-02",44531,"SZT"]
["OU07008023P","OBUDOWA UNIWERSALNA OU H700 X W800 X D230, PUSTA, DRZWI PEŁNE, IP41",383.2,"1-ZE-02",44531,"SZT"]
["OU07008030P","OBUDOWA UNIWERSALNA OU H700 X W800 X D300, PUSTA, DRZWI PEŁNE, IP41",435.7,"1-ZE-02",44531,"SZT"]
["OU07008035P","OBUDOWA UNIWERSALNA OU H700 X W800 X D350, PUSTA, DRZWI PEŁNE, IP41",473.1,"1-ZE-02",44531,"SZT"]
["OU07008040P","OBUDOWA UNIWERSALNA OU H700 X W800 X D400, PUSTA, DRZWI PEŁNE, IP41",510.5,"1-ZE-02",44531,"SZT"]
["OU08001023P","OBUDOWA UNIWERSALNA OU H800 X W1000 X D230, PUSTA, DRZWI PEŁNE, IP41",537.20000000000005,"1-ZE-02",44531,"SZT"]
["OU08001025P","OBUDOWA UNIWERSALNA OU H800 X W1000 X D250, PUSTA, DRZWI PEŁNE, IP41",571.5,"1-ZE-02",44531,"SZT"]
["OU08001030P","OBUDOWA UNIWERSALNA OU H800 X W1000 X D300, PUSTA, DRZWI PEŁNE, IP41",600.4,"1-ZE-02",44531,"SZT"]
["OU08001035P","OBUDOWA UNIWERSALNA OU H800 X W1000 X D350, PUSTA, DRZWI PEŁNE, IP41",644.79999999999995,"1-ZE-02",44531,"SZT"]
["OU08001040P","OBUDOWA UNIWERSALNA OU H800 X W1000 X D400, PUSTA, DRZWI PEŁNE, IP41",689.2,"1-ZE-02",44531,"SZT"]
["OU08001440P","OBUDOWA UNIWERSALNA OU H800 X W1450 X D400, PUSTA, DRZWI PEŁNE, IP41",957.8,"1-ZE-02",44531,"SZT"]
["OU08001540P","OBUDOWA UNIWERSALNA OU H800 X W1500 X D400, PUSTA, DRZWI PEŁNE, IP41",987,"1-ZE-02",44531,"SZT"]
["OU08003023P","OBUDOWA UNIWERSALNA OU H800 X W300 X D230, PUSTA, DRZWI PEŁNE, IP41",216.1,"1-ZE-02",44531,"SZT"]
["OU08003525P","OBUDOWA UNIWERSALNA OU H800 X W350 X D250, PUSTA, DRZWI PEŁNE, IP41",241.8,"1-ZE-02",44531,"SZT"]
["OU08004025P","OBUDOWA UNIWERSALNA OU H800 X W400 X D250, PUSTA, DRZWI PEŁNE, IP41",260.5,"1-ZE-02",44531,"SZT"]
["OU08004030P","OBUDOWA UNIWERSALNA OU H800 X W400 X D300, PUSTA, DRZWI PEŁNE, IP41",281.5,"1-ZE-02",44531,"SZT"]
["OU08004035P","OBUDOWA UNIWERSALNA OU H800 X W400 X D350, PUSTA, DRZWI PEŁNE, IP41",303.60000000000002,"1-ZE-02",44531,"SZT"]
["OU08005030T","OBUDOWA UNIWERSALNA OU H800 X W500 X D300, PUSTA, DRZWI PRZEZROCZYSTE, IP41",636.29999999999995,"1-ZE-02",44531,"SZT"]
["OU08005535P","OBUDOWA UNIWERSALNA OU H800 X W550 X D350, PUSTA, DRZWI PEŁNE, IP41",387.8,"1-ZE-02",44531,"SZT"]
["OU08006015P","OBUDOWA UNIWERSALNA OU H800 X W600 X D150, PUSTA, DRZWI PEŁNE, IP41",285,"1-ZE-02",44531,"SZT"]
["OU08006020P","OBUDOWA UNIWERSALNA OU H800 X W600 X D200, PUSTA, DRZWI PEŁNE, IP41",311.89999999999998,"1-ZE-02",44531,"SZT"]
["OU08006023P","OBUDOWA UNIWERSALNA OU H800 X W600 X D230, PUSTA, DRZWI PEŁNE, IP41",332.9,"1-ZE-02",44531,"SZT"]
["OU08006025P","OBUDOWA UNIWERSALNA OU H800 X W600 X D250, PUSTA, DRZWI PEŁNE, IP41",347,"1-ZE-02",44531,"SZT"]
["OU08006030P","OBUDOWA UNIWERSALNA OU H800 X W600 X D300, PUSTA, DRZWI PEŁNE, IP41",380.8,"1-ZE-02",44531,"SZT"]
["OU08006030T","OBUDOWA UNIWERSALNA OU H800 X W600 X D300, PUSTA, DRZWI PRZEZROCZYSTE, IP41",686.8,"1-ZE-02",44531,"SZT"]
["OU08006035P","OBUDOWA UNIWERSALNA OU H800 X W600 X D350, PUSTA, DRZWI PEŁNE, IP41",415.8,"1-ZE-02",44531,"SZT"]
["OU08006040P","OBUDOWA UNIWERSALNA OU H800 X W600 X D400, PUSTA, DRZWI PEŁNE, IP41",450.8,"1-ZE-02",44531,"SZT"]
["OU08006060P","OBUDOWA UNIWERSALNA OU H800 X W600 X D600, PUSTA, DRZWI PEŁNE, IP41",691.4,"1-ZE-02",44531,"SZT"]
["OU08007015P","OBUDOWA UNIWERSALNA OU H800 X W700 X D150, PUSTA, DRZWI PEŁNE, IP41",324.8,"1-ZE-02",44531,"SZT"]
["OU08007030P","OBUDOWA UNIWERSALNA OU H800 X W700 X D300, PUSTA, DRZWI PEŁNE, IP41",435.7,"1-ZE-02",44531,"SZT"]
["OU08008015P","OBUDOWA UNIWERSALNA OU H800 X W800 X D150, PUSTA, DRZWI PEŁNE, IP41",370.3,"1-ZE-02",44531,"SZT"]
["OU08008023P","OBUDOWA UNIWERSALNA OU H800 X W800 X D230, PUSTA, DRZWI PEŁNE, IP41",434.5,"1-ZE-02",44531,"SZT"]
["OU08008025P","OBUDOWA UNIWERSALNA OU H800 X W800 X D250, PUSTA, DRZWI PEŁNE, IP41",450.8,"1-ZE-02",44531,"SZT"]
["OU08008030P","OBUDOWA UNIWERSALNA OU H800 X W800 X D300, PUSTA, DRZWI PEŁNE, IP41",490.6,"1-ZE-02",44531,"SZT"]
["OU08008035P","OBUDOWA UNIWERSALNA OU H800 X W800 X D350, PUSTA, DRZWI PEŁNE, IP41",530.20000000000005,"1-ZE-02",44531,"SZT"]
["OU08008040P","OBUDOWA UNIWERSALNA OU H800 X W800 X D400, PUSTA, DRZWI PEŁNE, IP41",570,"1-ZE-02",44531,"SZT"]
["OU08009030P","OBUDOWA UNIWERSALNA OU H800 X W900 X D300, PUSTA, DRZWI PEŁNE, IP41",545.5,"1-ZE-02",44531,"SZT"]
["OU08009530P","OBUDOWA UNIWERSALNA OU H800 X W950 X D300, PUSTA, DRZWI PEŁNE, IP41",572.4,"1-ZE-02",44531,"SZT"]
["OU08506014P","OBUDOWA UNIWERSALNA OU H850 X W600 X D140, PUSTA, DRZWI PEŁNE, IP41",293.8,"1-ZE-02",44531,"SZT"]
["OU08506018P","OBUDOWA UNIWERSALNA OU H850 X W600 X D180, PUSTA, DRZWI PEŁNE, IP41",317.7,"1-ZE-02",44531,"SZT"]
["OU08506023P","OBUDOWA UNIWERSALNA OU H850 X W600 X D230, PUSTA, DRZWI PEŁNE, IP41",352.8,"1-ZE-02",44531,"SZT"]
["OU08506030P","OBUDOWA UNIWERSALNA OU H850 X W600 X D300, PUSTA, DRZWI PEŁNE, IP41",403,"1-ZE-02",44531,"SZT"]
["OU08506035P","OBUDOWA UNIWERSALNA OU H850 X W600 X D350, PUSTA, DRZWI PEŁNE, IP41",439.2,"1-ZE-02",44531,"SZT"]
["OU08508023P","OBUDOWA UNIWERSALNA OU H850 X W800 X D230, PUSTA, DRZWI PEŁNE, IP41",460.2,"1-ZE-02",44531,"SZT"]
["OU08508025P","OBUDOWA UNIWERSALNA OU H850 X W800 X D250, PUSTA, DRZWI PEŁNE, IP41",476.6,"1-ZE-02",44531,"SZT"]
["OU08508030P","OBUDOWA UNIWERSALNA OU H850 X W800 X D300, PUSTA, DRZWI PEŁNE, IP41",517.5,"1-ZE-02",44531,"SZT"]
["OU09003020P","OBUDOWA UNIWERSALNA OU H900 X W300 X D200, PUSTA, DRZWI PEŁNE, IP41",222,"1-ZE-02",44531,"SZT"]
["OU09005030P","OBUDOWA UNIWERSALNA OU H900 X W500 X D300, PUSTA, DRZWI PEŁNE, IP41",366.8,"1-ZE-02",44531,"SZT"]
["OU09006015P","OBUDOWA UNIWERSALNA OU H900 X W600 X D150, PUSTA, DRZWI PEŁNE, IP41",314.3,"1-ZE-02",44531,"SZT"]
["OU09006023P","OBUDOWA UNIWERSALNA OU H900 X W600 X D230, PUSTA, DRZWI PEŁNE, IP41",373.8,"1-ZE-02",44531,"SZT"]
["OU09006025P","OBUDOWA UNIWERSALNA OU H900 X W600 X D250, PUSTA, DRZWI PEŁNE, IP41",389,"1-ZE-02",44531,"SZT"]
["OU09006030P","OBUDOWA UNIWERSALNA OU H900 X W600 X D300, PUSTA, DRZWI PEŁNE, IP41",426.4,"1-ZE-02",44531,"SZT"]
["OU09006035P","OBUDOWA UNIWERSALNA OU H900 X W600 X D350, PUSTA, DRZWI PEŁNE, IP41",462.6,"1-ZE-02",44531,"SZT"]
["OU09006040P","OBUDOWA UNIWERSALNA OU H900 X W600 X D400, PUSTA, DRZWI PEŁNE, IP41",500,"1-ZE-02",44531,"SZT"]
["OU09008023P","OBUDOWA UNIWERSALNA OU H900 X W800 X D230, PUSTA, DRZWI PEŁNE, IP41",485.9,"1-ZE-02",44531,"SZT"]
["OU09008030P","OBUDOWA UNIWERSALNA OU H900 X W800 X D300, PUSTA, DRZWI PEŁNE, IP41",545.5,"1-ZE-02",44531,"SZT"]
["OU09008035P","OBUDOWA UNIWERSALNA OU H900 X W800 X D350, PUSTA, DRZWI PEŁNE, IP41",587.6,"1-ZE-02",44531,"SZT"]
["OU09008040P","OBUDOWA UNIWERSALNA OU H900 X W800 X D400, PUSTA, DRZWI PEŁNE, IP41",629.6,"1-ZE-02",44531,"SZT"]
["OU10004023P","OBUDOWA UNIWERSALNA OU H1000 X W400 X D230, PUSTA, DRZWI PEŁNE, IP41",245.2,"1-ZE-02",44531,"SZT"]
["OU10006014P","OBUDOWA UNIWERSALNA OU H1000 X W600 X D140, PUSTA, DRZWI PEŁNE, IP41",343.4,"1-ZE-02",44531,"SZT"]
["OU10006023P","OBUDOWA UNIWERSALNA OU H1000 X W600 X D230, PUSTA, DRZWI PEŁNE, IP41",414.7,"1-ZE-02",44531,"SZT"]
["OU10006026P","OBUDOWA UNIWERSALNA OU H1000 X W600 X D260, PUSTA, DRZWI PEŁNE, IP41",439.2,"1-ZE-02",44531,"SZT"]
["OU10006030P","OBUDOWA UNIWERSALNA OU H1000 X W600 X D300, PUSTA, DRZWI PEŁNE, IP41",470.8,"1-ZE-02",44531,"SZT"]
["OU10006030T","OBUDOWA UNIWERSALNA OU H1000 X W600 X D300, PUSTA, DRZWI PRZEZROCZYSTE, IP41",690.1,"1-ZE-02",44531,"SZT"]
["OU10006035P","OBUDOWA UNIWERSALNA OU H1000 X W600 X D350, PUSTA, DRZWI PEŁNE, IP41",510.5,"1-ZE-02",44531,"SZT"]
["OU10006040P","OBUDOWA UNIWERSALNA OU H1000 X W600 X D400, PUSTA, DRZWI PEŁNE, IP41",550.20000000000005,"1-ZE-02",44531,"SZT"]
["OU10008018P","OBUDOWA UNIWERSALNA OU H1000 X W800 X D180, PUSTA, DRZWI PEŁNE, IP41",491.8,"1-ZE-02",44531,"SZT"]
["OU10008023P","OBUDOWA UNIWERSALNA OU H1000 X W800 X D230, PUSTA, DRZWI PEŁNE, IP41",537.20000000000005,"1-ZE-02",44531,"SZT"]
["OU10008025P","OBUDOWA UNIWERSALNA OU H1000 X W800 X D250, PUSTA, DRZWI PEŁNE, IP41",554.9,"1-ZE-02",44531,"SZT"]
["OU10008030P","OBUDOWA UNIWERSALNA OU H1000 X W800 X D300, PUSTA, DRZWI PEŁNE, IP41",599.29999999999995,"1-ZE-02",44531,"SZT"]
["OU10008035P","OBUDOWA UNIWERSALNA OU H1000 X W800 X D350, PUSTA, DRZWI PEŁNE, IP41",644.79999999999995,"1-ZE-02",44531,"SZT"]
["OU10008040P","OBUDOWA UNIWERSALNA OU H1000 X W800 X D400, PUSTA, DRZWI PEŁNE, IP41",689.2,"1-ZE-02",44531,"SZT"]
["OU10009035P","OBUDOWA UNIWERSALNA OU H1000 X W900 X D350, PUSTA, DRZWI PEŁNE, IP41",711.4,"1-ZE-02",44531,"SZT"]
["OU10504518P","OBUDOWA UNIWERSALNA OU H1050 X W450 X D180, PUSTA, DRZWI PEŁNE, IP41",304.89999999999998,"1-ZE-02",44531,"SZT"]
["OU11505523P","OBUDOWA UNIWERSALNA OU H1150 X W550 X D300, PUSTA, DRZWI PEŁNE, IP41",501.1,"1-ZE-02",44531,"SZT"]
["OU11506023P","OBUDOWA UNIWERSALNA OU H1150 X W600 X D230, PUSTA, DRZWI PEŁNE, IP41",476.6,"1-ZE-02",44531,"SZT"]
["OU11506030P","OBUDOWA UNIWERSALNA OU H1150 X W600 X D300, PUSTA, DRZWI PEŁNE, IP41",538.5,"1-ZE-02",44531,"SZT"]
["OU11506035P","OBUDOWA UNIWERSALNA OU H1150 X W600 X D350, PUSTA, DRZWI PEŁNE, IP41",580.6,"1-ZE-02",44531,"SZT"]
["OU11508023P","OBUDOWA UNIWERSALNA OU H1150 X W800 X D230, PUSTA, DRZWI PEŁNE, IP41",613.29999999999995,"1-ZE-02",44531,"SZT"]
["OU11508030P","OBUDOWA UNIWERSALNA OU H1150 X W800 X D300, PUSTA, DRZWI PEŁNE, IP41",681,"1-ZE-02",44531,"SZT"]
["OU11508035P","OBUDOWA UNIWERSALNA OU H1150 X W800 X D350, PUSTA, DRZWI PEŁNE, IP41",730.1,"1-ZE-02",44531,"SZT"]
["OU12006023P","OBUDOWA UNIWERSALNA OU H1200 X W600 X D230, PUSTA, DRZWI PEŁNE, IP41",496.5,"1-ZE-02",44531,"SZT"]
["OU12006030P","OBUDOWA UNIWERSALNA OU H1200 X W600 X D300, PUSTA, DRZWI PEŁNE, IP41",560.6,"1-ZE-02",44531,"SZT"]
["OU12006035P","OBUDOWA UNIWERSALNA OU H1200 X W600 X D350, PUSTA, DRZWI PEŁNE, IP41",605,"1-ZE-02",44531,"SZT"]
["OU12008025P","OBUDOWA UNIWERSALNA OU H1200 X W800 X D250, PUSTA, DRZWI PEŁNE, IP41",610.29999999999995,"1-ZE-02",44531,"SZT"]
["OU12008030P","OBUDOWA UNIWERSALNA OU H1200 X W800 X D300, PUSTA, DRZWI PEŁNE, IP41",710.7,"1-ZE-02",44531,"SZT"]
["OU12008035P","OBUDOWA UNIWERSALNA OU H1200 X W800 X D350, PUSTA, DRZWI PEŁNE, IP41",758.1,"1-ZE-02",44531,"SZT"]
["OU12008040P","OBUDOWA UNIWERSALNA OU H1200 X W800 X D400, PUSTA, DRZWI PEŁNE, IP41",808.2,"1-ZE-02",44531,"SZT"]
["OU12008535P","OBUDOWA UNIWERSALNA OU H1200 X W850 X D350, PUSTA, DRZWI PEŁNE, IP41",796.6,"1-ZE-02",44531,"SZT"]
["OU12010030P","OBUDOWA UNIWERSALNA OU H1200 X W1000 X D300, PUSTA, DRZWI PEŁNE, IP41",858.5,"1-ZE-02",44531,"SZT"]
["OU12010040P","OBUDOWA UNIWERSALNA OU H1200 X W1000 X D400, PUSTA, DRZWI PEŁNE, IP41",967.2,"1-ZE-02",44531,"SZT"]
["OU1201213P","OBUDOWA UNIWERSALNA OU H1200 X W1200 X D130, PUSTA, DRZWI PEŁNE, IP41",803.2,"1-ZE-02",44531,"SZT"]
["OU13003023P","OBUDOWA UNIWERSALNA OU H1300 X W300 X D230, PUSTA, DRZWI PEŁNE, IP41",310.60000000000002,"1-ZE-02",44531,"SZT"]
["OU13006023P","OBUDOWA UNIWERSALNA OU H1300 X W600 X D230, PUSTA, DRZWI PEŁNE, IP41",538.5,"1-ZE-02",44531,"SZT"]
["OU13006025P","OBUDOWA UNIWERSALNA OU H1300 X W600 X D250, PUSTA, DRZWI PEŁNE, IP41",557.20000000000005,"1-ZE-02",44531,"SZT"]
["OU13006030P","OBUDOWA UNIWERSALNA OU H1300 X W600 X D300, PUSTA, DRZWI PEŁNE, IP41",605,"1-ZE-02",44531,"SZT"]
["OU13008023P","OBUDOWA UNIWERSALNA OU H1300 X W800 X D230, PUSTA, DRZWI PEŁNE, IP41",690.3,"1-ZE-02",44531,"SZT"]
["OU13008030P","OBUDOWA UNIWERSALNA OU H1300 X W800 X D300, PUSTA, DRZWI PEŁNE, IP41",763.8,"1-ZE-02",44531,"SZT"]
["OU13008040P","OBUDOWA UNIWERSALNA OU H1300 X W800 X D400, PUSTA, DRZWI PEŁNE, IP41",826.5,"1-ZE-02",44531,"SZT"]
["OU14001013P","OBUDOWA UNIWERSALNA OU H1400 X W1000 X D130, PUSTA, DRZWI PEŁNE, IP41",785.4,"1-ZE-02",44531,"SZT"]
["OU14001015P","OBUDOWA UNIWERSALNA OU H1400 X W1000 X D150, PUSTA, DRZWI PEŁNE, IP41",808,"1-ZE-02",44531,"SZT"]
["OU14503023P","OBUDOWA UNIWERSALNA OU H1450 X W300 X D230, PUSTA, DRZWI PEŁNE, IP41",350.4,"1-ZE-02",44531,"SZT"]
["OU14504023P","OBUDOWA UNIWERSALNA OU H1450 X W400 X D230, PUSTA, DRZWI PEŁNE, IP41",434.5,"1-ZE-02",44531,"SZT"]
["OU14506023P","OBUDOWA UNIWERSALNA OU H1450 X W600 X D230, PUSTA, DRZWI PEŁNE, IP41",600.4,"1-ZE-02",44531,"SZT"]
["OU14506025P","OBUDOWA UNIWERSALNA OU H1450 X W600 X D250, PUSTA, DRZWI PEŁNE, IP41",620.29999999999995,"1-ZE-02",44531,"SZT"]
["OU14506030P","OBUDOWA UNIWERSALNA OU H1450 X W600 X D300, PUSTA, DRZWI PEŁNE, IP41",671.7,"1-ZE-02",44531,"SZT"]
["OU14506035P","OBUDOWA UNIWERSALNA OU H1450 X W600 X D350, PUSTA, DRZWI PEŁNE, IP41",721.8,"1-ZE-02",44531,"SZT"]
["OU14508023P","OBUDOWA UNIWERSALNA OU H1450 X W800 X D230, PUSTA, DRZWI PEŁNE, IP41",767.5,"1-ZE-02",44531,"SZT"]
["OU14508030P","OBUDOWA UNIWERSALNA OU H1450 X W800 X D300, PUSTA, DRZWI PEŁNE, IP41",845.6,"1-ZE-02",44531,"SZT"]
["OU14508035P","OBUDOWA UNIWERSALNA OU H1450 X W800 X D350, PUSTA, DRZWI PEŁNE, IP41",900.6,"1-ZE-02",44531,"SZT"]
["OU15006025P","OBUDOWA UNIWERSALNA OU H1500 X W600 X D250, PUSTA, DRZWI PEŁNE, IP41",641.29999999999995,"1-ZE-02",44531,"SZT"]
["OU16003023P","OBUDOWA UNIWERSALNA OU H1600 X W300 X D230, PUSTA, DRZWI PEŁNE, IP41",390.2,"1-ZE-02",44531,"SZT"]
["OU16003523P","OBUDOWA UNIWERSALNA OU H1600 X W350 X D230, PUSTA, DRZWI PEŁNE, IP41",434.5,"1-ZE-02",44531,"SZT"]
["OU16003523T","OBUDOWA UNIWERSALNA OU H1600 X W350 X D230, PUSTA, DRZWI PRZEZROCZYSTE, IP41",551.29999999999995,"1-ZE-02",44531,"SZT"]
["OU16003525P","OBUDOWA UNIWERSALNA OU H1600 X W350 X D250, PUSTA, DRZWI PEŁNE, IP41",454.4,"1-ZE-02",44531,"SZT"]
["OU16004023P","OBUDOWA UNIWERSALNA OU H1600 X W400 X D230, PUSTA, DRZWI PEŁNE, IP41",481.2,"1-ZE-02",44531,"SZT"]
["OU16004023T","OBUDOWA UNIWERSALNA OU H1600 X W400 X D230, PUSTA, DRZWI PRZEZROCZYSTE, IP41",596.9,"1-ZE-02",44531,"SZT"]
["OU16006023P","OBUDOWA UNIWERSALNA OU H1600 X W600 X D230, PUSTA, DRZWI PEŁNE, IP41",662.3,"1-ZE-02",44531,"SZT"]
["OU16006030P","OBUDOWA UNIWERSALNA OU H1600 X W600 X D300, PUSTA, DRZWI PEŁNE, IP41",738.2,"1-ZE-02",44531,"SZT"]
["OU16008023P","OBUDOWA UNIWERSALNA OU H1600 X W800 X D230, PUSTA, DRZWI PEŁNE, IP41",844.5,"1-ZE-02",44531,"SZT"]
["OU16008025P","OBUDOWA UNIWERSALNA OU H1600 X W800 X D250, PUSTA, DRZWI PEŁNE, IP41",867.9,"1-ZE-02",44531,"SZT"]
["OU16008030P","OBUDOWA UNIWERSALNA OU H1600 X W800 X D300, PUSTA, DRZWI PEŁNE, IP41",927.4,"1-ZE-02",44531,"SZT"]
["OU18003023P","OBUDOWA UNIWERSALNA OU H1800 X W300 X D230, PUSTA, DRZWI PEŁNE, IP41",442.7,"1-ZE-02",44531,"SZT"]
["OU18006023P","OBUDOWA UNIWERSALNA OU H1800 X W600 X D230, PUSTA, DRZWI PEŁNE, IP41",744.1,"1-ZE-02",44531,"SZT"]
["OU19006030P","OBUDOWA UNIWERSALNA OU H1900 X W600 X D300, PUSTA, DRZWI PEŁNE, IP41",872.6,"1-ZE-02",44531,"SZT"]
["OUS35M06","OUS 6M - KONSTRUKCJA WSPORCZA ZABUDOWY, H400 X W350, 2X10, BEZ SZYN I MASKOWNIC.",46.8,"1-ZE-04",44531,"SZT"]
["OUS35M09","OUS 9M - KONSTRUKCJA WSPORCZA ZABUDOWY, H550 X W350, 3X10, BEZ SZYN I MASKOWNIC.",59.6,"1-ZE-04",44531,"SZT"]
["OUS35M12","OUS 12M - KONSTRUKCJA WSPORCZA ZABUDOWY, H700 X W350, 4X10, BEZ SZYN I MASKOWNIC.",71.3,"1-ZE-04",44531,"SZT"]
["OUS35M15","OUS 15M - KONSTRUKCJA WSPORCZA ZABUDOWY, H850 X W350, 5X10, BEZ SZYN I MASKOWNIC.",84,"1-ZE-04",44531,"SZT"]
["OUS35M18","OUS 18M - KONSTRUKCJA WSPORCZA ZABUDOWY, H1000 X W350, 6X10, BEZ SZYN I MASKOWNIC.",95.8,"1-ZE-04",44531,"SZT"]
["OUS35M21","OUS 21M - KONSTRUKCJA WSPORCZA ZABUDOWY, H1150 X W350, 7X10, BEZ SZYN I MASKOWNIC.",108.7,"1-ZE-04",44531,"SZT"]
["OUS35M24","OUS 24M - KONSTRUKCJA WSPORCZA ZABUDOWY, H1300 X W350, 8X10, BEZ SZYN I MASKOWNIC.",122.7,"1-ZE-04",44531,"SZT"]
["OUS35M27","OUS 27M - KONSTRUKCJA WSPORCZA ZABUDOWY, H1450 X W350, 9X10, BEZ SZYN I MASKOWNIC.",133.19999999999999,"1-ZE-04",44531,"SZT"]
["OUS35M33","OUS 33M - KONSTRUKCJA WSPORCZA ZABUDOWY, H1750 X W350, 11X10, BEZ SZYN I MASKOWNIC.",146.9,"1-ZE-04",44531,"SZT"]
["OUS42230","OUS SYSTEM - 4 PIONOWE SZYNY SYMETRYCZNE TS-35, W600, 6M",55,"1-ZE-02",44531,"SZT"]
["OUS42230","OUS SYSTEM - 4 PIONOWE SZYNY SYMETRYCZNE TS-35, W600, 6M",55,"1-ZE-04",44531,"SZT"]
["OUS60M06","OUS 6M - KONSTRUKCJA WSPORCZA ZABUDOWY, H400 X W600, 2X24, BEZ SZYN I MASKOWNIC.",49,"1-ZE-02",44531,"SZT"]
["OUS60M06","OUS 6M - KONSTRUKCJA WSPORCZA ZABUDOWY, H400 X W600, 2X24, BEZ SZYN I MASKOWNIC.",49,"1-ZE-04",44531,"SZT"]
["OUS60M09","OUS 9M - KONSTRUKCJA WSPORCZA ZABUDOWY, H550 X W600, 3X24, BEZ SZYN I MASKOWNIC.",63,"1-ZE-02",44531,"SZT"]
["OUS60M09","OUS 9M - KONSTRUKCJA WSPORCZA ZABUDOWY, H550 X W600, 3X24, BEZ SZYN I MASKOWNIC.",63,"1-ZE-04",44531,"SZT"]
["OUS60M11","OUS 11M - KONSTRUKCJA WSPORCZA ZABUDOWY, H650 X W600, 3X24(3M)+24(2M), BEZ SZYN I MASKOWNIC.",70,"1-ZE-04",44531,"SZT"]
["OUS60M12","OUS 12M - KONSTRUKCJA WSPORCZA ZABUDOWY, H700 X W600, 4X24, BEZ SZYN I MASKOWNIC.",74.8,"1-ZE-02",44531,"SZT"]
["OUS60M12","OUS 12M - KONSTRUKCJA WSPORCZA ZABUDOWY, H700 X W600, 4X24, BEZ SZYN I MASKOWNIC.",74.8,"1-ZE-04",44531,"SZT"]
["OUS60M15","OUS 15M - KONSTRUKCJA WSPORCZA ZABUDOWY, H850 X W600, 5X24, BEZ SZYN I MASKOWNIC.",88.8,"1-ZE-02",44531,"SZT"]
["OUS60M15","OUS 15M - KONSTRUKCJA WSPORCZA ZABUDOWY, H850 X W600, 5X24, BEZ SZYN I MASKOWNIC.",88.8,"1-ZE-04",44531,"SZT"]
["OUS60M18","OUS 18M - KONSTRUKCJA WSPORCZA ZABUDOWY, H1000 X W600, 6X24, BEZ SZYN I MASKOWNIC.",100.4,"1-ZE-02",44531,"SZT"]
["OUS60M18","OUS 18M - KONSTRUKCJA WSPORCZA ZABUDOWY, H1000 X W600, 6X24, BEZ SZYN I MASKOWNIC.",100.4,"1-ZE-04",44531,"SZT"]
["OUS60M21","OUS 21M - KONSTRUKCJA WSPORCZA ZABUDOWY, H1150 X W600, 7X24, BEZ SZYN I MASKOWNIC.",114.4,"1-ZE-02",44531,"SZT"]
["OUS60M21","OUS 21M - KONSTRUKCJA WSPORCZA ZABUDOWY, H1150 X W600, 7X24, BEZ SZYN I MASKOWNIC.",114.4,"1-ZE-04",44531,"SZT"]
["OUS60M24","OUS 24M - KONSTRUKCJA WSPORCZA ZABUDOWY, H1300 X W600, 8X24, BEZ SZYN I MASKOWNIC.",129.69999999999999,"1-ZE-02",44531,"SZT"]
["OUS60M24","OUS 24M - KONSTRUKCJA WSPORCZA ZABUDOWY, H1300 X W600, 8X24, BEZ SZYN I MASKOWNIC.",129.69999999999999,"1-ZE-04",44531,"SZT"]
["OUS60M27","OUS 27M - KONSTRUKCJA WSPORCZA ZABUDOWY, H1450 X W600, 9X24, BEZ SZYN I MASKOWNIC.",140.5,"1-ZE-02",44531,"SZT"]
["OUS60M27","OUS 27M - KONSTRUKCJA WSPORCZA ZABUDOWY, H1450 X W600, 9X24, BEZ SZYN I MASKOWNIC.",140.5,"1-ZE-04",44531,"SZT"]
["OUS60M33","OUS 33M - KONSTRUKCJA WSPORCZA ZABUDOWY, H1750 X W600, 11X24, BEZ SZYN I MASKOWNIC.",154.19999999999999,"1-ZE-04",44531,"SZT"]
["OUS80M06","OUS 6M - KONSTRUKCJA WSPORCZA ZABUDOWY, H400 X W800, 2X35, BEZ SZYN I MASKOWNIC.",51.4,"1-ZE-04",44531,"SZT"]
["OUS80M09","OUS 9M - KONSTRUKCJA WSPORCZA ZABUDOWY, H550, W800, 3X24, BEZ SZYN I MASKOWNIC.",66.599999999999994,"1-ZE-04",44531,"SZT"]
["OUS80M12","OUS 12M - KONSTRUKCJA WSPORCZA ZABUDOWY, H700, W800, 4X35, BEZ SZYN I MASKOWNIC.",78.3,"1-ZE-04",44531,"SZT"]
["OUS80M15","OUS 15M - KONSTRUKCJA WSPORCZA ZABUDOWY, H850, W800, 5X35, BEZ SZYN I MASKOWNIC.",93.4,"1-ZE-04",44531,"SZT"]
["OUS80M18","OUS 18M - KONSTRUKCJA WSPORCZA ZABUDOWY, H1000, W800, 6X35, BEZ SZYN I MASKOWNIC.",105.2,"1-ZE-04",44531,"SZT"]
["OUS80M21","OUS 21M - KONSTRUKCJA WSPORCZA ZABUDOWY, H1150, W800, 7X35, BEZ SZYN I MASKOWNIC.",120.4,"1-ZE-04",44531,"SZT"]
["OUS80M24","OUS 24M - KONSTRUKCJA WSPORCZA ZABUDOWY, H1300, W800, 8X35, BEZ SZYN I MASKOWNIC.",136.69999999999999,"1-ZE-04",44531,"SZT"]
["OUS80M27","OUS 27M - KONSTRUKCJA WSPORCZA ZABUDOWY, H1450 X W800, 9X35, BEZ SZYN I MASKOWNIC.",147.19999999999999,"1-ZE-04",44531,"SZT"]
["OUS80M33","OUS 33M - KONSTRUKCJA WSPORCZA ZABUDOWY, H1750 X W800, 11X35, BEZ SZYN I MASKOWNIC.",177.6,"1-ZE-04",44531,"SZT"]
["OUZ10060M168R6","ZENERGY OU - RAMA MODUŁOWA OUZ DLA OBUDOWY 1000X600; 168 MODUŁÓW; 6 RZĘDÓW",609.6,"1-ZE-04",44531,"SZT"]
["OUZ10080M234R6","ZENERGY OU - RAMA MODUŁOWA OUZ DLA OBUDOWY 1000X800; 234 MODUŁY; 6 RZĘDÓW",810.6,"1-ZE-04",44531,"SZT"]
["OUZ12060M196R7","ZENERGY OU - RAMA MODUŁOWA OUZ DLA OBUDOWY 1200X600; 196 MODUŁÓW; 7 RZĘDÓW",671.7,"1-ZE-04",44531,"SZT"]
["OUZ12080M273R7","ZENERGY OU - RAMA MODUŁOWA OUZ DLA OBUDOWY 1200X800; 273 MODUŁÓW; 7 RZĘDÓW",846.9,"1-ZE-04",44531,"SZT"]
["OUZ140100M450R9","ZENERGY OU - RAMA MODUŁOWA OUZ DLA OBUDOWY 1400X1000; 450 MODUŁÓW; 9 RZĘDÓW",1090.2,"1-ZE-04",44531,"SZT"]
["OUZ4030M24R2","ZENERGY OU - RAMA MODUŁOWA OUZ DLA OBUDOWY 400X300; 24 MODUŁÓW; 2 RZĘDY",315.39999999999998,"1-ZE-04",44531,"SZT"]
["OUZ4035M28R2","ZENERGY OU - RAMA MODUŁOWA OUZ DLA OBUDOWY 400X350; 28 MODUŁÓW; 2 RZĘDY",324.8,"1-ZE-04",44531,"SZT"]
["OUZ4040M32R2","ZENERGY OU - RAMA MODUŁOWA OUZ DLA OBUDOWY 400X400; 32 MODUŁÓW; 2 RZĘDY",332.9,"1-ZE-04",44531,"SZT"]
["OUZ4060M56R2","ZENERGY OU - RAMA MODUŁOWA OUZ DLA OBUDOWY 400X600; 56 MODUŁÓW; 2 RZĘDY",369,"1-ZE-04",44531,"SZT"]
["OUZ5030M36R3","ZENERGY OU - RAMA MODUŁOWA OUZ DLA OBUDOWY 500X300; 36 MODUŁÓW; 3 RZĘDY",338.8,"1-ZE-04",44531,"SZT"]
["OUZ5040M48R3","ZENERGY OU - RAMA MODUŁOWA OUZ DLA OBUDOWY 500X400; 48 MODUŁÓW; 3 RZĘDY",352.8,"1-ZE-04",44531,"SZT"]
["OUZ5050M66R3","ZENERGY OU - RAMA MODUŁOWA OUZ DLA OBUDOWY 500X500; 66 MODUŁÓW; 3 RZĘDY",385.4,"1-ZE-04",44531,"SZT"]
["OUZ6040M48R3","ZENERGY OU - RAMA MODUŁOWA OUZ DLA OBUDOWY 600X400; 48 MODUŁÓW; 3 RZĘDY",380.8,"1-ZE-04",44531,"SZT"]
["OUZ6050M48R3","ZENERGY OU - RAMA MODUŁOWA OUZ DLA OBUDOWY 600X500; 66 MODUŁÓW; 3 RZĘDY",399.4,"1-ZE-04",44531,"SZT"]
["OUZ6060M84R3","ZENERGY OU - RAMA MODUŁOWA OUZ DLA OBUDOWY 600X600; 84 MODUŁÓW; 3 RZĘDY",420.4,"1-ZE-04",44531,"SZT"]
["OUZ6080M117R3","ZENERGY OU - RAMA MODUŁOWA OUZ DLA OBUDOWY 600X800; 117 MODUŁÓW; 3 RZĘDY",469.6,"1-ZE-04",44531,"SZT"]
["OUZ7050M88R4","ZENERGY OU - RAMA MODUŁOWA OUZ DLA OBUDOWY 700X500; 88 MODUŁÓW; 4 RZĘDY",542,"1-ZE-04",44531,"SZT"]
["OUZ8040M80R5","ZENERGY OU - RAMA MODUŁOWA OUZ DLA OBUDOWY 800X400; 80 MODUŁÓW; 5 RZĘDÓW",509.4,"1-ZE-04",44531,"SZT"]
["OUZ8060M140R5","ZENERGY OU - RAMA MODUŁOWA OUZ DLA OBUDOWY 800X600; 140 MODUŁÓW; 5 RZĘDÓW",525.6,"1-ZE-04",44531,"SZT"]
["OUZ8080M195R5","ZENERGY OU - RAMA MODUŁOWA OUZ DLA OBUDOWY 800X800; 195 MODUŁÓW; 5 RZĘDÓW",645.20000000000005,"1-ZE-04",44531,"SZT"]
["PM025030","ZENERGY OU - PŁYTA MONTAŻOWA PEŁNA 250X300 =>ZAMIENNIK NSYMM3025",23.3,"1-ZE-06",44531,"SZT"]
["PM025040","ZENERGY OU - PŁYTA MONTAŻOWA PEŁNA 250X400 =>ZAMIENNIK NSYMM2540",30.4,"1-ZE-06",44531,"SZT"]
["PM025050","ZENERGY OU - PŁYTA MONTAŻOWA PEŁNA 250X500 =>ZAMIENNIK NSYMM2550",32.799999999999997,"1-ZE-06",44531,"SZT"]
["PM030020","ZENERGY OU - PŁYTA MONTAŻOWA PEŁNA 300X200 =>ZAMIENNIK NSYMM32",17.899999999999999,"1-ZE-06",44531,"SZT"]
["PM030025","ZENERGY OU - PŁYTA MONTAŻOWA PEŁNA 300X250 =>ZAMIENNIK NSYMM3025",18.600000000000001,"1-ZE-06",44531,"SZT"]
["PM030030","ZENERGY OU - PŁYTA MONTAŻOWA PEŁNA 300X300 =>ZAMIENNIK NSYMM33",19.8,"1-ZE-06",44531,"SZT"]
["PM030060","ZENERGY OU - PŁYTA MONTAŻOWA PEŁNA 300X600 =>ZAMIENNIK NSYMM36",53.8,"1-ZE-06",44531,"SZT"]
["PM035035","ZENERGY OU - PŁYTA MONTAŻOWA PEŁNA 350X350",32.799999999999997,"1-ZE-06",44531,"SZT"]
["PM03571","ZENERGY OU - PŁYTA MONTAŻOWA APZ",80.599999999999994,"1-ZE-06",44531,"SZT"]
["PM040030","ZENERGY OU - PŁYTA MONTAŻOWA PEŁNA 400X300 =>ZAMIENNIK NSYMM43",27.5,"1-ZE-06",44531,"SZT"]
["PM040035","ZENERGY OU - PŁYTA MONTAŻOWA PEŁNA 400X350",34.5,"1-ZE-06",44531,"SZT"]
["PM040040","ZENERGY OU - PŁYTA MONTAŻOWA PEŁNA 400X400 =>ZAMIENNIK NSYMM44",39.299999999999997,"1-ZE-06",44531,"SZT"]
["PM040060","ZENERGY OU - PŁYTA MONTAŻOWA PEŁNA 400X600 =>ZAMIENNIK NSYMM46",70.8,"1-ZE-06",44531,"SZT"]
["PM040080","ZENERGY OU - PŁYTA MONTAŻOWA PEŁNA 400X800 =>ZAMIENNIK NSYMM48",102.8,"1-ZE-06",44531,"SZT"]
["PM050020","ZENERGY OU - PŁYTA MONTAŻOWA PEŁNA 500X200",26.7,"1-ZE-06",44531,"SZT"]
["PM050030","ZENERGY OU - PŁYTA MONTAŻOWA PEŁNA 500X300 =>ZAMIENNIK NSYMM53",40.1,"1-ZE-06",44531,"SZT"]
["PM050040","ZENERGY OU - PŁYTA MONTAŻOWA PEŁNA 500X400 =>ZAMIENNIK NSYMM54",49.6,"1-ZE-06",44531,"SZT"]
["PM050050","ZENERGY OU - PŁYTA MONTAŻOWA PEŁNA 500X500 =>ZAMIENNIK NSYMM55",65.5,"1-ZE-06",44531,"SZT"]
["PM055060","ZENERGY OU - PŁYTA MONTAŻOWA PEŁNA 550X600",96.2,"1-ZE-06",44531,"SZT"]
["PM060040","ZENERGY OU - PŁYTA MONTAŻOWA PEŁNA 600X400 =>ZAMIENNIK NSYMM64",61.4,"1-ZE-06",44531,"SZT"]
["PM060050","ZENERGY OU - PŁYTA MONTAŻOWA PEŁNA 600X500 =>ZAMIENNIK NSYMM65",91.3,"1-ZE-06",44531,"SZT"]
["PM060060","ZENERGY OU - PŁYTA MONTAŻOWA PEŁNA 600X600 =>ZAMIENNIK NSYMM66",103,"1-ZE-06",44531,"SZT"]
["PM070030","ZENERGY OU - PŁYTA MONTAŻOWA PEŁNA 700X300",49,"1-ZE-06",44531,"SZT"]
["PM070050","ZENERGY OU - PŁYTA MONTAŻOWA PEŁNA 700X500 =>ZAMIENNIK NSYMM75",96.1,"1-ZE-06",44531,"SZT"]
["PM070060","ZENERGY OU - PŁYTA MONTAŻOWA PEŁNA 700X600 =>ZAMIENNIK NSYMM76",105.2,"1-ZE-06",44531,"SZT"]
["PM070130","ZENERGY OU - PŁYTA MONTAŻOWA PEŁNA 700X1300",294.39999999999998,"1-ZE-06",44531,"SZT"]
["PM080035","ZENERGY OU - PŁYTA MONTAŻOWA PEŁNA 800X350",91.2,"1-ZE-06",44531,"SZT"]
["PM080040","ZENERGY OU - PŁYTA MONTAŻOWA PEŁNA 800X400 =>ZAMIENNIK NSYMM84",103.8,"1-ZE-06",44531,"SZT"]
["PM080060","ZENERGY OU - PŁYTA MONTAŻOWA PEŁNA 800X600 =>ZAMIENNIK NSYMM86",138,"1-ZE-06",44531,"SZT"]
["PM080070","ZENERGY OU - PŁYTA MONTAŻOWA PEŁNA 800X700",165.1,"1-ZE-06",44531,"SZT"]
["PM080080","ZENERGY OU - PŁYTA MONTAŻOWA PEŁNA 800X800 =>ZAMIENNIK NSYMM88",192,"1-ZE-06",44531,"SZT"]
["PM080100","ZENERGY OU - PŁYTA MONTAŻOWA PEŁNA 800X1000",241.7,"1-ZE-06",44531,"SZT"]
["PM080120","ZENERGY OU - PŁYTA MONTAŻOWA PEŁNA 1200X800 =>ZAMIENNIK NSYMM128",163.6,"1-ZE-06",44531,"SZT"]
["PM080150","ZENERGY OU - PŁYTA MONTAŻOWA PEŁNA 800X1500 =>ZAMIENNIK NSYMP815",521,"1-ZE-06",44531,"SZT"]
["PM085120","ZENERGY OU - PŁYTA MONTAŻOWA PEŁNA 850X1200 =>ZAMIENNIK NSYPMP85120",315.39999999999998,"1-ZE-06",44531,"SZT"]
["PM090030","ZENERGY OU - PŁYTA MONTAŻOWA PEŁNA 900X300",100.4,"1-ZE-06",44531,"SZT"]
["PM090050","ZENERGY OU - PŁYTA MONTAŻOWA PEŁNA 900X500",159.1,"1-ZE-06",44531,"SZT"]
["PM100040","ZENERGY OU - PŁYTA MONTAŻOWA PEŁNA 1000X400 =>ZAMIENNIK NSYMM104",134.4,"1-ZE-06",44531,"SZT"]
["PM100050","ZENERGY OU - PŁYTA MONTAŻOWA PEŁNA 1000X500",160.19999999999999,"1-ZE-06",44531,"SZT"]
["PM100060","ZENERGY OU - PŁYTA MONTAŻOWA PEŁNA 1000X600 =>ZAMIENNIK NSYMM106",180.8,"1-ZE-06",44531,"SZT"]
["PM100080","ZENERGY OU - PŁYTA MONTAŻOWA PEŁNA 1000X800 =>ZAMIENNIK NSYMM108",237.4,"1-ZE-06",44531,"SZT"]
["PM100090","ZENERGY OU - PŁYTA MONTAŻOWA PEŁNA 1000X900",271.7,"1-ZE-06",44531,"SZT"]
["PM100100","ZENERGY OU - PŁYTA MONTAŻOWA PEŁNA 1000X1000 =>ZAMIENNIK NSYMM1010",311.39999999999998,"1-ZE-06",44531,"SZT"]
["PM105030","ZENERGY OU - PŁYTA MONTAŻOWA PEŁNA 1050X300",123.8,"1-ZE-06",44531,"SZT"]
["PM105045","ZENERGY OU - PŁYTA MONTAŻOWA PEŁNA 1050X450",146.1,"1-ZE-06",44531,"SZT"]
["PM105060","ZENERGY OU - PŁYTA MONTAŻOWA PEŁNA 1050X600",193.8,"1-ZE-06",44531,"SZT"]
["PM115055","ZENERGY OU - PŁYTA MONTAŻOWA PEŁNA 1150X550",208,"1-ZE-06",44531,"SZT"]
["PM120060","ZENERGY OU - PŁYTA MONTAŻOWA PEŁNA 1200X600 =>ZAMIENNIK NSYMM126",233.8,"1-ZE-06",44531,"SZT"]
["PM120080","ZENERGY OU - PŁYTA MONTAŻOWA PEŁNA 1200X800 =>ZAMIENNIK NSYMM128",294.8,"1-ZE-06",44531,"SZT"]
["PM120100","ZENERGY OU - PŁYTA MONTAŻOWA PEŁNA 1200X1000 =>ZAMIENNIK NSYMM1210",365.5,"1-ZE-06",44531,"SZT"]
["PM120120","ZENERGY OU - PŁYTA MONTAŻOWA PEŁNA 1200X1200 =>ZAMIENNIK NSYMM1212",442.2,"1-ZE-06",44531,"SZT"]
["PM130060","ZENERGY OU - PŁYTA MONTAŻOWA PEŁNA 1300X600",264.7,"1-ZE-06",44531,"SZT"]
["PM140060","ZENERGY - PŁYTA MONTAŻOWA PEŁNA 1400X600",297.89999999999998,"1-ZE-06",44531,"SZT"]
["PM140080","ZENERGY - PŁYTA MONTAŻOWA PEŁNA 1400X800 =>ZAMIENNIK NSYMP148",411.5,"1-ZE-06",44531,"SZT"]
["PM140100","ZENERGY - PŁYTA MONTAŻOWA PEŁNA 1400X1000 =>ZAMIENNIK NSYMP1410",499,"1-ZE-06",44531,"SZT"]
["PM150090","ZENERGY - PŁYTA MONTAŻOWA PEŁNA 1500X900",566.5,"1-ZE-06",44531,"SZT"]
["PM150120","ZENERGY - PŁYTA MONTAŻOWA PEŁNA 1500X1200 =>ZAMIENNIK NSYMP1512",897,"1-ZE-06",44531,"SZT"]
["PM150125","ZENERGY - PŁYTA MONTAŻOWA PEŁNA 1500X1250 =>ZAMIENNIK NSYMP1512",922.8,"1-ZE-06",44531,"SZT"]
["PM160060","ZENERGY - PŁYTA MONTAŻOWA PEŁNA 1600X600 =>ZAMIENNIK NSYMP166",346,"1-ZE-06",44531,"SZT"]
["PM160080","ZENERGY - PŁYTA MONTAŻOWA PEŁNA 1600X800 =>ZAMIENNIK NSYMP168",431,"1-ZE-06",44531,"SZT"]
["PM160100","ZENERGY - PŁYTA MONTAŻOWA PEŁNA 1600X1000 =>ZAMIENNIK NSYMP1610",520.79999999999995,"1-ZE-06",44531,"SZT"]
["PM160120","ZENERGY - PŁYTA MONTAŻOWA PEŁNA 1600X1200 =>ZAMIENNIK NSYMP1612",611.9,"1-ZE-06",44531,"SZT"]
["PM180040","ZENERGY - PŁYTA MONTAŻOWA PEŁNA 1800X400",261,"1-ZE-06",44531,"SZT"]
["PM180060","ZENERGY - PŁYTA MONTAŻOWA PEŁNA 1800X600 =>ZAMIENNIK NSYMP186",360.6,"1-ZE-06",44531,"SZT"]
["PM180080","ZENERGY - PŁYTA MONTAŻOWA PEŁNA 1800X800 =>ZAMIENNIK NSYMP188",449.2,"1-ZE-06",44531,"SZT"]
["PM180100","ZENERGY - PŁYTA MONTAŻOWA PEŁNA 1800X1000 =>ZAMIENNIK NSYMP1810",543.9,"1-ZE-06",44531,"SZT"]
["PM180120","ZENERGY - PŁYTA MONTAŻOWA PEŁNA 1800X1200 =>ZAMIENNIK NSYMP1812",638.5,"1-ZE-06",44531,"SZT"]
["PM200040","ZENERGY - PŁYTA MONTAŻOWA PEŁNA 2000X400 =>ZAMIENNIK NSYMP204",567.6,"1-ZE-06",44531,"SZT"]
["PM200060","ZENERGY - PŁYTA MONTAŻOWA PEŁNA 2000X600 =>ZAMIENNIK NSYMP206",621.4,"1-ZE-06",44531,"SZT"]
["PM200080","ZENERGY - PŁYTA MONTAŻOWA PEŁNA 2000X800 =>ZAMIENNIK NSYMP208",676,"1-ZE-06",44531,"SZT"]
["PM200100","ZENERGY - PŁYTA MONTAŻOWA PEŁNA 2000X1000 =>ZAMIENNIK NSYMP2010",773,"1-ZE-06",44531,"SZT"]
["PM200120","ZENERGY - PŁYTA MONTAŻOWA PEŁNA 2000X1200 =>ZAMIENNIK NSYMP2012",1044.8,"1-ZE-06",44531,"SZT"]
["PM220080","ZENERGY - PŁYTA MONTAŻOWA PEŁNA 2200X800 =>ZAMIENNIK NSYMP228",677.4,"1-ZE-06",44531,"SZT"]
["SDMQ2","SDMQ2 CZUJNIK DYMU",144,"1-ZE-09",44531,"SZT"]
["WOZEK","WÓZEK WSPORCZY",1902.4,"1-ZE-01",44531,"SZT"]
["Z-0233","ZENERGY OU - ZAMEK FI 16 Z KLUCZEM 827 DO OBUDOWY OU , Z-0233 -827-BJ-180 (BEZ JĘZYKA, KĄT OBROTU 180 STOPNI)ROZTOCZE",9.9,"1-ZE-06",44531,"SZT"]
["WTS1","WSPORNIK PROSTY 30MM DO SZYNY TS-35",3.2,"1-ZE-01",44531,"SZT"]
["ZVARPODSTAWA1M","ZVAR - PODSTAWA KONDENSATORA 1M, H=12.3MM / 255X78.8MM BLACHA OCYNK;100SZT",622.1,"1-ZE-10",44531,"SZT"]
["ZVARPODSTAWA2M","ZVAR - PODSTAWA KONDENSATORA 2M, H=12.3MM / 255X162MM BLACHA OCYNK;100SZT",1163.9000000000001,"1-ZE-10",44531,"SZT"]
["ZVARPODSTAWA3M","ZVAR - PODSTAWA KONDENSATORA 3M, H=12.3MM / 255X245MM BLACHA OCYNK;100SZT",1767.5,"1-ZE-10",44531,"SZT"]
["ZVARPODSTAWA4M","ZVAR - PODSTAWA KONDENSATORA 4M, H=12.3MM / 255X382MM BLACHA OCYNK;100SZT",2369,"1-ZE-10",44531,"SZT"]

{"sheet":"Selection","index":1,"n_rows":93,"n_cols":54,"rows_kept":93,"cut":false,"hidden":false,"merged":[[71,39,71,40],[71,47,71,48],[65,39,65,40],[65,47,65,48],[68,47,68,48],[74,31,74,32],[71,31,71,32],[68,23,68,24],[68,31,68,32],[67,31,67,33],[65,23,65,24],[70,31,70,33],[67,23,67,26],[70,23,70,26],[73,23,73,26],[74,23,74,24],[8,47,8,51],[20,31,20,32],[10,31,10,37],[10,39,10,45],[11,39,11,40],[13,39,13,45],[14,39,14,40],[16,39,16,45],[17,39,17,40],[8,31,8,35],[19,39,19,45],[22,32,22,37],[8,23,8,25],[13,31,13,37],[19,31,19,37],[16,31,16,37],[11,31,11,32],[14,31,14,32],[17,31,17,32],[8,39,8,43],[10,23,11,27],[13,23,14,27],[16,23,17,27],[20,23,20,24],[8,26,8,29],[19,23,19,27],[22,23,22,29],[80,23,80,24],[32,27,32,29],[32,23,32,26],[61,23,61,26],[76,23,76,26],[23,23,23,24],[50,23,50,24],[40,23,40,26],[43,23,43,26],[26,27,26,29],[41,23,41,24],[44,23,44,24],[38,23,38,24],[34,23,34,26],[71,23,71,24],[64,23,64,26],[24,23,24,24],[35,23,35,24],[47,23,47,24],[37,23,37,26],[53,23,53,24],[50,31,50,32],[49,31,49,33],[38,31,38,32],[41,31,41,32],[40,31,40,33],[46,23,46,26],[49,23,49,26],[92,23,92,24],[86,23,86,24],[56,23,56,24],[52,23,52,26],[89,23,89,24],[79,23,79,26],[82,23,82,26],[85,23,85,26],[62,23,62,24],[88,23,88,26],[91,23,91,26],[59,23,59,24],[55,23,55,26],[58,23,58,26],[77,23,77,24],[83,23,83,24],[92,31,92,32],[85,31,85,33],[86,31,86,32],[52,31,52,33],[53,31,53,32],[76,31,76,33],[77,31,77,32],[56,31,56,32],[79,31,79,33],[65,31,65,32],[58,31,58,33],[59,31,59,32],[61,31,61,33],[64,31,64,33],[73,31,73,33],[62,31,62,32],[55,31,55,33],[23,31,23,32],[32,31,32,32],[30,31,30,37],[23,34,24,37],[80,31,80,32],[91,31,91,34],[88,31,88,34],[89,31,89,32],[82,31,82,33],[83,31,83,32],[27,31,27,32],[26,32,26,37],[27,34,28,37],[34,31,34,37],[37,31,37,37],[31,31,31,32],[28,31,28,32],[77,36,77,37],[35,31,35,32],[24,31,24,32],[43,31,43,33],[44,31,44,32],[46,31,46,33],[47,31,47,32],[53,39,53,40],[27,42,28,45],[28,39,28,40],[47,39,47,40],[49,39,49,41],[32,39,32,40],[34,39,34,45],[35,39,35,40],[20,39,20,40],[22,40,22,45],[23,39,23,40],[23,42,24,45],[24,39,24,40],[92,39,92,40],[10,47,10,53],[11,47,11,48],[13,47,13,53],[14,47,14,48],[16,47,16,53],[17,47,17,48],[19,47,19,53],[20,47,20,48],[22,48,22,53],[26,48,26,53],[50,39,50,40],[52,39,52,41],[37,39,37,45],[38,39,38,40],[40,39,40,41],[30,39,30,45],[31,39,31,40],[26,40,26,45],[27,39,27,40],[91,39,91,42],[32,47,32,48],[34,47,34,53],[35,47,35,48],[23,50,24,53],[24,47,24,48],[40,47,40,49],[41,47,41,48],[27,47,27,48],[27,50,28,53],[28,47,28,48],[30,47,30,53],[31,47,31,48],[23,47,23,48],[37,47,37,53],[59,39,59,40],[59,47,59,48],[74,39,74,40],[74,47,74,48],[67,47,67,49],[86,47,86,48],[77,39,77,40],[79,39,79,41],[76,39,76,41],[83,39,83,40],[82,39,82,41],[80,39,80,40],[68,39,68,40],[67,39,67,41],[70,47,70,49],[61,39,61,41],[61,47,61,49],[62,39,62,40],[62,47,62,48],[70,39,70,41],[64,39,64,41],[64,47,64,49],[73,47,73,49],[73,39,73,41],[89,39,89,40],[85,39,85,41],[86,39,86,40],[88,39,88,42],[38,47,38,48],[56,47,56,48],[76,47,76,49],[43,47,43,49],[44,47,44,48],[50,47,50,48],[52,47,52,49],[53,47,53,48],[55,47,55,49],[58,39,58,41],[46,47,46,49],[47,47,47,48],[49,47,49,49],[58,47,58,49],[55,39,55,41],[56,39,56,40],[41,39,41,40],[43,39,43,41],[44,39,44,40],[46,39,46,41],[91,47,91,50],[92,47,92,48],[77,47,77,48],[79,47,79,49],[80,47,80,48],[82,47,82,49],[85,47,85,49],[83,47,83,48],[88,47,88,50],[89,47,89,48]]}
[]
[null,null,null,null,null,null,null,null,null,null,null,null,null,null,null,null,null,null,null,null,null,null,null,null,null,null,null,null,null,null,null,null,null,null,33]
[]
[]
[]
[]
[]
[]
["Nazwa projektu",null,null,null,null,null,null,null,null,null,null,null,null,null,null,null,null,null,null,null,null,null,null,{"$f":"TODAY()","v":"2022-03-02"},null,null,"Wpisz nazwę",null,null,null,null,{"$f":"IF($Y$32=1,\"Obudowa 1\",\"Field 1\")","v":"Field 1"},null,null,null,null,null,null,null,{"$f":"IF($Y$32=1,\"Obudowa 2\",\"Field 2\")","v":"Field 2"},null,null,null,null,null,null,null,{"$f":"IF($Y$32=1,\"Obudowa 3\",\"Field 3\")","v":"Field 3"},null,null,null,null,null,1]
[]
[null,null,null,null,null,null,null,null,null,null,null,null,null,null,null,null,null,null,null,null,null,null,null,{"$f":"IF($Y$32=1,\"Wysokość\",\"Height\")","v":"Height"},null,null,null,null,null,null,null,{"$f":"IF($Y$32=1,\"Szerokość obudowy\",\"Field width\")","v":"Field width"},null,null,null,null,null,null,null,{"$f":"IF($Y$32=1,\"Szerokość obudowy\",\"Field width\")","v":"Field width"},null,null,null,null,null,null,null,{"$f":"IF($Y$32=1,\"Szerokość obudowy\",\"Field width\")","v":"Field width"}]
[null,null,null,null,null,null,null,null,null,null,null,null,null,null,null,null,null,null,null,null,null,null,null,null,null,null,null,null,null,null,null,{"$f":"IF(Zbaza!BA13>1,INDEX((Zbaza!C279:H300,Zbaza!C305:H326,Zbaza!C331:H352,Zbaza!C357:H378,Zbaza!C383:H404),Zbaza!BA13,Zbaza!BD4,Zbaza!BG4),\"\")","v":""},null,{"$f":"IF(Zbaza!BA13>1,Zbaza!AB1-1,\"\")","v":""},null,33,null,null,null,{"$f":"IF(Zbaza!BA13>1,INDEX((Zbaza!C279:H294,Zbaza!C305:H320,Zbaza!C331:H346,Zbaza!C357:H372,Zbaza!C383:H398),Zbaza!BA12,Zbaza!BD4,Zbaza!BG4),\"\")","v":""},null,{"$f":"IF(Zbaza!BA12>1,Zbaza!AG1-1,\"\")","v":""},null,33,null,null,null,{"$f":"IF(Zbaza!BA13>1,INDEX((Zbaza!C279:H294,Zbaza!C305:H320,Zbaza!C331:H346,Zbaza!C357:H372,Zbaza!C383:H398),Zbaza!BA15,Zbaza!BD4,Zbaza!BG4),\"\")","v":""},null,{"$f":"IF(Zbaza!BA15>1,Zbaza!AL1-1,\"\")","v":""},null,33]
[]
[null,null,null,null,null,null,null,null,null,null,null,null,null,null,null,null,null,null,null,null,null,null,null,{"$f":"IF($Y$32=1,\"Głębokość\",\"Depth\")","v":"Depth"},null,null,null,null,null,null,null,{"$f":"IF($Y$32=1,\"Drzwi z przodu\",\"Front side\")","v":"Front side"},null,null,null,null,null,null,null,{"$f":"IF($Y$32=1,\"Drzwi z przodu\",\"Front side\")","v":"Front side"},null,null,null,null,null,null,null,{"$f":"IF($Y$32=1,\"Drzwi z przodu\",\"Front side\")","v":"Front side"}]
[null,null,null,null,null,null,null,null,null,null,null,null,null,null,null,null,null,null,null,null,null,null,null,null,null,null,null,null,null,null,null,{"$f":"IF(Zbaza!BA13>1,INDEX((Zbaza!C5:H26,Zbaza!C32:H53,Zbaza!C113:H134,Zbaza!S50:X71,Zbaza!S25:X46,Zbaza!C86:H107,Zbaza!C59:H80,Zbaza!S100:X121,Zbaza!S75:X96,Zbaza!K5:P26),Zbaza!BA13,Zbaza!BD4,Zbaza!AN67),\"\")","v":""},null,{"$f":"IF(Zbaza!AB3=2,Zbaza!AB1-1,\"\")","v":""},null,33,null,null,null,{"$f":"IF(Zbaza!BA10>1,INDEX((Zbaza!C142:H163,Zbaza!C169:H190,Zbaza!C250:H271,Zbaza!S155:X176,Zbaza!S130:X151,Zbaza!C223:H244,Zbaza!C196:H217,Zbaza!S205:X226,Zbaza!S180:X201,Zbaza!K5:P26),Zbaza!BA10,Zbaza!BD4,Zbaza!AN68),\"\")","v":""},null,{"$f":"IF(Zbaza!AG3=2,Zbaza!AG1-1,IF(AN15<\"\",AH15,\"\"))","v":""},null,33,null,null,null,{"$f":"IF(Zbaza!BA15>1,INDEX((Zbaza!C5:H20,Zbaza!C32:H47,Zbaza!C113:H128,Zbaza!S50:X71,Zbaza!S25:X46,Zbaza!C86:H101,Zbaza!C59:H74,Zbaza!S100:X121,Zbaza!S75:X96,Zbaza!K5:P26),Zbaza!BA15,Zbaza!BD4,Zbaza!AN69),\"\")","v":""},null,{"$f":"IF(Zbaza!AL3=2,Zbaza!AL1-1,\"\")","v":""},null,33]
[]
[null,null,null,null,null,null,null,null,null,null,null,null,null,null,null,null,null,null,null,null,null,null,null,"IP -",null,null,null,null,null,null,null,{"$f":"IF($Y$32=1,\"Plecy z tyłu\",\"Back side\")","v":"Back side"},null,null,null,null,null,null,null,{"$f":"IF($Y$32=1,\"Plecy z tyłu\",\"Back side\")","v":"Back side"},null,null,null,null,null,null,null,{"$f":"IF($Y$32=1,\"Plecy z tyłu\",\"Back side\")","v":"Back side"}]
[null,null,null,null,null,null,null,null,null,null,null,null,null,null,null,null,null,null,null,null,null,null,null,null,null,null,null,null,null,null,null,{"$f":"IF(Zbaza!BA13>1,INDEX((Zbaza!C5:H26,Zbaza!C32:H53,Zbaza!C113:H134,Zbaza!S50:X71,Zbaza!S25:X46,Zbaza!C86:H107,Zbaza!C59:H80,Zbaza!S100:X121,Zbaza!S75:X96,Zbaza!K5:P26),Zbaza!BA13,Zbaza!BD4,Zbaza!AN80),\"\")","v":""},null,{"$f":"IF(Zbaza!AB2=2,Zbaza!AB1-1,\"\")","v":""},null,33,null,null,null,{"$f":"IF(Zbaza!BA10>1,INDEX((Zbaza!C142:H163,Zbaza!C169:H190,Zbaza!C250:H271,Zbaza!S155:X176,Zbaza!S130:X151,Zbaza!C223:H244,Zbaza!C196:H217,Zbaza!S205:X226,Zbaza!S180:X201,Zbaza!K5:P26),Zbaza!BA10,Zbaza!BD4,Zbaza!AN81),\"\")","v":""},null,{"$f":"IF(Zbaza!AG2=2,Zbaza!AG1-1,IF(AN18<\"\",AH18,\"\"))","v":""},null,33,null,null,null,{"$f":"IF(Zbaza!BA15>1,INDEX((Zbaza!C5:H20,Zbaza!C32:H47,Zbaza!C113:H128,Zbaza!S50:X71,Zbaza!S25:X46,Zbaza!C86:H101,Zbaza!C59:H74,Zbaza!S100:X121,Zbaza!S75:X96,Zbaza!K5:P26),Zbaza!BA15,Zbaza!BD4,Zbaza!AN82),\"\")","v":""},null,{"$f":"IF(Zbaza!AL2=2,Zbaza!AL1-1,\"\")","v":""},null,33]
[]
[null,null,null,null,null,null,null,null,null,null,null,null,null,null,null,null,null,null,null,null,null,null,null,{"$f":"IF($Y$32=1,\"Zestaw łączeniowy bokami\",\"Side-by-side connection\")","v":"Side-by-side connection"},null,null,null,null,null,{"$f":"IF($Y$32=1,\"Prąd\",\"\")","v":""},null,{"$f":"IF($Y$32=1,\"Pokrywa górna\",\"Top cover\")","v":"Top cover"},null,null,null,null,null,null,null,{"$f":"IF($Y$32=1,\"Pokrywa górna\",\"Top cover\")","v":"Top cover"},null,null,null,null,null,null,null,{"$f":"IF($Y$32=1,\"Pokrywa górna\",\"Top cover\")","v":"Top cover"}]
[null,null,null,null,null,null,null,null,null,null,null,null,null,null,null,null,null,null,null,null,null,null,null,{"$f":"IF(Zbaza!AG26>0,Zbaza!BT94,\"\")","v":""},null,{"$f":"IF(X21=\"\",\"\",Zbaza!AG26)","v":""},null,null,null,null,null,{"$f":"IF(Zbaza!BA13>1,INDEX((Zbaza!K227:O248,Zbaza!K253:O274,Zbaza!K279:O300,Zbaza!K305:O326,Zbaza!K5:O26),Zbaza!BA13,Zbaza!BG4,Zbaza!AN5),\"\")","v":""},null,{"$f":"IF(Zbaza!AB4>0,Zbaza!AB1-1,\"\")","v":""},null,33,null,null,null,{"$f":"IF(Zbaza!BA10>1,INDEX((Zbaza!S231:W252,Zbaza!S257:W278,Zbaza!S283:W304,Zbaza!S309:W330,Zbaza!K5:O26),Zbaza!BA10,Zbaza!BG4,Zbaza!AN6),\"\")","v":""},null,{"$f":"IF(Zbaza!AG4=2,Zbaza!AG1-1,IF(AN21<\"\",AH21,\"\"))","v":""},null,33,null,null,null,{"$f":"IF(Zbaza!BA15>1,INDEX((Zbaza!K227:O242,Zbaza!K253:O268,Zbaza!K279:O294,Zbaza!K305:O320,Zbaza!K5:O20),Zbaza!BA15,Zbaza!BG4,Zbaza!AN7),\"\")","v":""},null,{"$f":"IF(Zbaza!AL4>0,Zbaza!AL1-1,\"\")","v":""},null,33]
[]
[null,null,null,null,null,null,null,null,null,null,null,null,null,null,null,null,null,null,null,null,null,null,null,{"$f":"IF($Y$32=1,\"Osłony\",\"Side\")","v":"Side"},null,null,null,null,null,null,null,{"$f":"IF(AF24=\"\",\"\",Zbaza!CT63)","v":""},{"$f":"IF($Y$32=1,\"Rama osłon z przodu\",\"Front plates support\")","v":"Front plates support"},null,null,null,null,null,null,{"$f":"IF(AN24=\"\",\"\",Zbaza!CT79)","v":""},{"$f":"IF($Y$32=1,\"Rama osłon z przodu\",\"Front plates support\")","v":"Front plates support"},null,null,null,null,null,null,{"$f":"IF(AV24=\"\",\"\",Zbaza!CT112)","v":""},{"$f":"IF($Y$32=1,\"Rama osłon z przodu\",\"Front plates support\")","v":"Front plates support"}]
[null,null,null,null,null,null,null,null,null,null,null,null,null,null,null,null,null,null,null,null,null,null,null,{"$f":"IF($Y$32=1,\"boczne\",\"panels\")","v":"panels"},null,{"$f":"IF(X24<100000,(Zbaza!AB4-1)+Zbaza!BS32,\"\")","v":""},null,null,null,null,null,{"$f":"IF(Zbaza!AK20=2,INDEX((Zbaza!ES161:EX182,Zbaza!ES5:EX26,Zbaza!ES31:EX52,Zbaza!ES187:EX208,Zbaza!ES57:EX78,Zbaza!ES83:EX104,Zbaza!ES109:EX130,Zbaza!ES135:EX156),Zbaza!BA13,Zbaza!BD4,Zbaza!BV4),\"\")","v":""},null,{"$f":"IF(Zbaza!AB5=2,Zbaza!AB1-1,\"\")","v":""},null,null,null,null,null,{"$f":"IF(Zbaza!AJ23=2,INDEX((Zbaza!ES161:EX182,Zbaza!FA5:FF26,Zbaza!FA31:FF52,Zbaza!FA187:FF208,Zbaza!FA57:FF78,Zbaza!FA83:FF104,Zbaza!FA109:FF130,Zbaza!FA135:FF156),Zbaza!BA12+Zbaza!AL23,Zbaza!BD4,Zbaza!BV5),\"\")","v":""},null,{"$f":"IF(AN24=\"\",\"\",IF(Zbaza!BA13>10,Zbaza!AB1-1,Zbaza!AG1-1))","v":""},null,null,null,null,null,{"$f":"IF(Zbaza!AK26=2,INDEX((Zbaza!ES161:EX176,Zbaza!ES5:EX20,Zbaza!ES31:EX46,Zbaza!ES187:EX208,Zbaza!ES57:EX72,Zbaza!ES83:EX98,Zbaza!ES109:EX124,Zbaza!ES135:EX150),Zbaza!BA15,Zbaza!BD4,Zbaza!BV6),\"\")","v":""},null,{"$f":"IF(Zbaza!AL5=2,Zbaza!AL1-1,\"\")","v":""}]
[null,null,null,null,null,null,null,null,null,null,null,null,null,null,null,null,null,null,null,null,null,null,null,{"$f":"IF(Zbaza!BA13>1,INDEX((Zbaza!K171:P175,Zbaza!K155:P159,Zbaza!K163:P167,Zbaza!K179:P183,Zbaza!K187:P191,Zbaza!K195:P199,Zbaza!K203:P207,Zbaza!K211:P215),Zbaza!BG4,Zbaza!BD4,Zbaza!AN93),\"\")","v":""},null,{"$f":"IF(X25<100000,(Zbaza!AB1-1)+Zbaza!BS29,\"\")","v":""},null,null,null,null,null,{"$f":"IF(Zbaza!AB12=3,36010,\"\")","v":""},null,{"$f":"IF(AF25=36010,2*AH24,\"\")","v":""},null,null,null,null,null,{"$f":"IF(Zbaza!AG12=3,36010,\"\")","v":""},null,{"$f":"IF(AN25=36010,Zbaza!AG15*AP24,\"\")","v":""},null,null,null,null,null,{"$f":"IF(Zbaza!AL12=3,36010,\"\")","v":""},null,{"$f":"IF(AV25=36010,Zbaza!AL15*AX24,\"\")","v":""}]
[]
[null,null,null,null,null,null,null,null,null,null,null,null,null,null,null,null,null,null,null,null,null,null,null,null,null,null,null,null,null,null,null,{"$f":"IF(AF24=\"\",\"\",Zbaza!CM68)","v":""},{"$f":"IF($Y$32=1,\"Rama osłon z tyłu\",\"Back plates support\")","v":"Back plates support"},null,null,null,null,null,null,{"$f":"IF(AN24=\"\",\"\",Zbaza!CM84)","v":""},{"$f":"IF($Y$32=1,\"Rama osłon z tyłu\",\"Back plates support\")","v":"Back plates support"},null,null,null,null,null,null,{"$f":"IF(AV24=\"\",\"\",Zbaza!CM116)","v":""},{"$f":"IF($Y$32=1,\"Rama osłon z tyłu\",\"Back plates support\")","v":"Back plates support"}]
[null,null,null,null,null,null,null,null,null,null,null,null,null,null,null,null,null,null,null,null,null,null,null,null,null,null,null,3,null,null,null,{"$f":"IF(Zbaza!AK19=2,INDEX((Zbaza!ES161:EX182,Zbaza!ES5:EX26,Zbaza!ES31:EX52,Zbaza!ES187:EX208,Zbaza!ES57:EX78,Zbaza!ES83:EX104,Zbaza!ES109:EX130,Zbaza!ES135:EX156),Zbaza!BA13,Zbaza!BD4,Zbaza!BY4),\"\")","v":""},null,{"$f":"IF(Zbaza!AB6=2,Zbaza!AB1-1,\"\")","v":""},null,null,null,null,null,{"$f":"IF(Zbaza!AJ22=2,INDEX((Zbaza!ES161:EX182,Zbaza!FA5:FF26,Zbaza!FA31:FF52,Zbaza!FA187:FF208,Zbaza!FA57:FF78,Zbaza!FA83:FF104,Zbaza!FA109:FF130,Zbaza!FA135:FF156),Zbaza!BA12+Zbaza!AL23,Zbaza!BD4,Zbaza!BY5),\"\")","v":""},null,{"$f":"IF(AN28=\"\",\"\",IF(Zbaza!BA13>10,Zbaza!AB1-1,Zbaza!AG1-1))","v":""},null,null,null,null,null,{"$f":"IF(Zbaza!AK25=2,INDEX((Zbaza!ES161:EX176,Zbaza!ES5:EX20,Zbaza!ES31:EX46,Zbaza!ES187:EX208,Zbaza!ES57:EX72,Zbaza!ES83:EX98,Zbaza!ES109:EX124,Zbaza!ES135:EX150),Zbaza!BA15,Zbaza!BD4,Zbaza!BY6),\"\")","v":""},null,{"$f":"IF(Zbaza!AL6=2,Zbaza!AL1-1,\"\")","v":""}]
[null,null,null,null,null,null,null,null,null,null,null,null,null,null,null,null,null,null,null,null,null,null,null,null,null,null,null,null,null,null,null,{"$f":"IF(Zbaza!AB13=2,33010,\"\")","v":""},null,{"$f":"IF(AF29=33010,2*AH28,\"\")","v":""},null,null,null,null,null,{"$f":"IF(Zbaza!AG13=2,33010,\"\")","v":""},null,{"$f":"IF(AN29=33010,Zbaza!AG16*AP28,\"\")","v":""},null,null,null,null,null,{"$f":"IF(Zbaza!AL13=2,33010,\"\")","v":""},null,{"$f":"IF(AV29=33010,Zbaza!AL16*AX28,\"\")","v":""}]
[]
[null,null,null,null,null,null,null,null,null,null,null,null,null,null,null,null,null,null,null,null,null,null,null,null,null,null,null,null,null,null,null,{"$f":"IF($Y$32=1,\"Cokół\",\"Plinth\")","v":"Plinth"},null,null,null,null,null,null,null,{"$f":"IF($Y$32=1,\"Cokół\",\"Plinth\")","v":"Plinth"},null,null,null,null,null,null,null,{"$f":"IF($Y$32=1,\"Cokół\",\"Plinth\")","v":"Plinth"}]
[null,null,null,null,null,null,null,null,null,null,null,null,null,null,null,null,null,null,null,null,null,null,null,null,{"$f":"IF(Zbaza!BY14=1,1,2)","v":2},null,null,null,null,null,null,{"$f":"IF(Zbaza!BA13>1,INDEX((Zbaza!K331:O352,Zbaza!K357:O378,Zbaza!K253:O274,Zbaza!K305:O326,Zbaza!K5:O26),Zbaza!BA13,Zbaza!BG4,Zbaza!AN18),\"\")","v":""},null,{"$f":"IF(AF32=\"\",\"\",Zbaza!AB1-1)","v":""},null,33,null,null,null,{"$f":"IF(Zbaza!BA10>1,INDEX((Zbaza!K383:O404,Zbaza!K409:O430,Zbaza!S257:W278,Zbaza!S309:W330,Zbaza!K5:O26),Zbaza!BA10,Zbaza!BG4,Zbaza!AN18),\"\")","v":""},null,{"$f":"IF(Zbaza!AG3=2,Zbaza!AG1-1,IF(AN32<\"\",AH32,\"\"))","v":""},null,33,null,null,null,{"$f":"IF(Zbaza!BA13>1,INDEX((Zbaza!K331:O346,Zbaza!K357:O372,Zbaza!K253:O268,Zbaza!K305:O320,Zbaza!K5:O20),Zbaza!BA15,Zbaza!BG4,Zbaza!AN18),\"\")","v":""},null,{"$f":"IF(AV32=\"\",\"\",Zbaza!AL1-1)","v":""},null,33]
[null,null,null,null,null,null,null,null,null,null,null,null,null,null,null,null,null,null,null,null,null,null,null,{"$f":"IF($Y$32=1,\"Zdjęcie\",\"Picture\")","v":"Picture"},null,null,null,null,null,null,null,{"$f":"IF(Zbaza!BA13>1,INDEX((Zbaza!K30:O33),Zbaza!BS13,Zbaza!BG4),\"\")","v":""},null,{"$f":"IF(Zbaza!AB7=3,Zbaza!AB1-1,\"\")","v":""},null,null,null,null,null,{"$f":"IF(AN32=\"\",\"\",INDEX((Zbaza!K30:O33,Zbaza!K37:O40,Zbaza!K44:O47),Zbaza!BS13,Zbaza!BG4,Zbaza!AN25))","v":""},null,{"$f":"IF(Zbaza!AG3=2,Zbaza!AG1-1,IF(AN33<\"\",AH33,\"\"))","v":""},null,null,null,null,null,{"$f":"IF(AV32=\"\",\"\",INDEX((Zbaza!K30:O33,Zbaza!K37:O40,Zbaza!K44:O47),Zbaza!BS13,Zbaza!BG4,Zbaza!AN32))","v":""},null,{"$f":"IF(AV33=\"\",\"\",Zbaza!AL1-1)","v":""}]
[]
[null,null,null,null,null,null,null,null,null,null,null,null,null,null,null,null,null,null,null,null,null,null,null,{"$f":"IF($Y$32=1,\"Akcesoria                         głębokość\",\"Accessories                         for Depth\")","v":"Accessories                         for Depth"},null,null,null,null,null,null,null,{"$f":"IF($Y$32=1,\"Przepust IP-55\",\"Gland plates IP-55\")","v":"Gland plates IP-55"},null,null,null,null,null,null,null,{"$f":"IF($Y$32=1,\"Przepust IP-55\",\"Gland plates IP-55\")","v":"Gland plates IP-55"},null,null,null,null,null,null,null,{"$f":"IF($Y$32=1,\"Przepust IP-55\",\"Gland plates IP-55\")","v":"Gland plates IP-55"}]
[null,null,null,null,null,null,null,null,null,null,null,null,null,null,null,null,null,null,null,null,null,null,null,{"$f":"INDEX((Zbaza!DK7:DP80),Zbaza!BV30,Zbaza!BG4)","v":""},null,{"$f":"IF(X36=\"\",\"\",Zbaza!BY19)","v":""},null,null,null,null,null,{"$f":"IF(Zbaza!AB8>1,INDEX((Zbaza!S335:W356),Zbaza!BA13,Zbaza!BG4),\"\")","v":""},null,{"$f":"IF(Zbaza!AB8>1,1*Zbaza!AB1-1,\"\")","v":""},null,null,null,null,null,{"$f":"IF(Zbaza!AG8=2,INDEX((Zbaza!S374:W395),Zbaza!BA10,Zbaza!BG4),\"\")","v":""},null,{"$f":"IF(Zbaza!AG8>1,IF(AN12<\"\",1*Zbaza!AG1-1,AH36),\"\")","v":""},null,null,null,null,null,{"$f":"IF(Zbaza!AL8>1,INDEX((Zbaza!S335:W350),Zbaza!BA15,Zbaza!BG4),\"\")","v":""},null,{"$f":"IF(Zbaza!AL8>1,1*Zbaza!AL1-1,\"\")","v":""}]
[]
[null,null,null,null,null,null,null,null,null,null,null,null,null,null,null,null,null,null,null,null,null,null,null,{"$f":"IF($Y$32=1,\"Akcesoria                         głębokość\",\"Accessories                         for Depth\")","v":"Accessories                         for Depth"},null,null,null,null,null,null,null,{"$f":"IF($Y$32=1,\"Daszek\",\"External roof\")","v":"External roof"},null,null,null,null,null,null,null,{"$f":"IF($Y$32=1,\"Daszek\",\"External roof\")","v":"External roof"},null,null,null,null,null,null,null,{"$f":"IF($Y$32=1,\"Daszek\",\"External roof\")","v":"External roof"}]
[null,null,null,null,null,null,null,null,null,null,null,null,null,null,null,null,null,null,null,null,null,null,null,{"$f":"INDEX((Zbaza!DK7:DP80),Zbaza!BV31,Zbaza!BG4)","v":""},null,{"$f":"IF(X39=\"\",\"\",Zbaza!BY20)","v":""},null,null,null,null,null,{"$f":"IF(Zbaza!AB9>1,INDEX((Zbaza!K130:O151),Zbaza!BA13,Zbaza!BG4),\"\")","v":""},null,{"$f":"IF(AF39=\"\",\"\",1*Zbaza!AB1-1)","v":""},null,null,null,null,null,{"$f":"IF(Zbaza!AG9>1,INDEX((Zbaza!K130:O151),Zbaza!BA12,Zbaza!BG4),\"\")","v":""},null,{"$f":"IF(Zbaza!AG9>1,1*Zbaza!AG1-1,\"\")","v":""},null,null,null,null,null,{"$f":"IF(Zbaza!AL9>1,INDEX((Zbaza!K130:O145),Zbaza!BA15,Zbaza!BG4),\"\")","v":""},null,{"$f":"IF(Zbaza!AL9>1,1*Zbaza!AL1-1,\"\")","v":""}]
[]
[null,null,null,null,null,null,null,null,null,null,null,null,null,null,null,null,null,null,null,null,null,null,null,{"$f":"IF($Y$32=1,\"Akcesoria                         głębokość\",\"Accessories                         for Depth\")","v":"Accessories                         for Depth"},null,null,null,null,null,null,null,{"$f":"IF($Y$32=1,\"Osłony płyty\",\"Equipment for Width\")","v":"Equipment for Width"},null,null,null,null,null,null,null,{"$f":"IF($Y$32=1,\"Osłony płyty\",\"Equipment for Width\")","v":"Equipment for Width"},null,null,null,null,null,null,null,{"$f":"IF($Y$32=1,\"Osłony płyty\",\"Equipment for Width\")","v":"Equipment for Width"}]
[null,null,null,null,null,null,null,null,null,null,null,null,null,null,null,null,null,null,null,null,null,null,null,{"$f":"INDEX((Zbaza!DK7:DP80),Zbaza!BV32,Zbaza!BG4)","v":""},null,{"$f":"IF(X42=\"\",\"\",Zbaza!BY21)","v":""},null,null,null,null,null,{"$f":"IF(Zbaza!BA13>1,INDEX((Zbaza!CW4:DH18,Zbaza!CW22:DH36,Zbaza!CW40:DH54,Zbaza!CW58:DH72,Zbaza!CW76:DH90,Zbaza!CW94:DH108,Zbaza!CW112:DH126,Zbaza!CW130:DH144,Zbaza!CW148:DH162,Zbaza!CW166:DH180,Zbaza!CW184:DH198,Zbaza!K1:P1,Zbaza!K1:P1,Zbaza!K51:P73),Zbaza!CB3,Zbaza!CE3,Zbaza!CQ35),\"\")","v":""},null,{"$f":"IF(AF42=\"\",0,IF(Zbaza!AB38=2,Zbaza!AB1-1,((Zbaza!BJ17)*(Zbaza!AB1-1))))","v":0},null,null,null,null,null,{"$f":"IF(Zbaza!AG30>0,INDEX((Zbaza!CW4:DH18,Zbaza!CW22:DH36,Zbaza!CW40:DH54,Zbaza!CW58:DH72,Zbaza!CW76:DH90,Zbaza!CW94:DH108,Zbaza!CW112:DH126,Zbaza!CW130:DH144,Zbaza!CW148:DH162,Zbaza!CW166:DH180,Zbaza!CW184:DH198,Zbaza!CW76:DH90,Zbaza!CW112:DH126,Zbaza!K77:P126),Zbaza!CB2+Zbaza!CE7,Zbaza!CE2,Zbaza!CR35),\"\")","v":""},null,{"$f":"IF(AN42=\"\",0,IF(Zbaza!$X$1=1,Zbaza!BM17*(Zbaza!$AG$1-1),Zbaza!BM17*(Zbaza!$AB$1-1)))","v":0},null,null,null,null,null,{"$f":"IF(Zbaza!BA15>1,INDEX((Zbaza!CW4:DH18,Zbaza!CW22:DH36,Zbaza!CW40:DH54,Zbaza!CW58:DH72,Zbaza!CW76:DH90,Zbaza!CW94:DH108,Zbaza!CW112:DH126,Zbaza!CW130:DH144,Zbaza!CW148:DH162,Zbaza!CW166:DH180,Zbaza!CW184:DH198,Zbaza!CW76:DH90,Zbaza!CW112:DH126,Zbaza!K51:P73),Zbaza!CB1,Zbaza!CE1,Zbaza!CS35),\"\")","v":""},null,{"$f":"IF(AV42=\"\",0,IF(Zbaza!AK38=2,Zbaza!AL1-1,((Zbaza!BP17)*(Zbaza!AL1-1))))","v":0}]
[]
[null,null,null,null,null,null,null,null,null,null,null,null,null,null,null,null,null,null,null,null,null,null,null,{"$f":"IF($Y$32=1,\"Akcesoria                         głębokość\",\"Accessories                         for Depth\")","v":"Accessories                         for Depth"},null,null,null,null,null,null,null,{"$f":"IF($Y$32=1,\"Osłony płyty\",\"Equipment for Width\")","v":"Equipment for Width"},null,null,null,null,null,null,null,{"$f":"IF($Y$32=1,\"Osłony płyty\",\"Equipment for Width\")","v":"Equipment for Width"},null,null,null,null,null,null,null,{"$f":"IF($Y$32=1,\"Osłony płyty\",\"Equipment for Width\")","v":"Equipment for Width"}]
[null,null,null,null,null,null,null,null,null,null,null,null,null,null,null,null,null,null,null,null,null,null,null,{"$f":"INDEX((Zbaza!DK7:DP80),Zbaza!BV33,Zbaza!BG4)","v":""},null,{"$f":"IF(X45=\"\",\"\",Zbaza!BY22)","v":""},null,null,null,null,null,{"$f":"IF(Zbaza!BA13>1,INDEX((Zbaza!CW4:DH18,Zbaza!CW22:DH36,Zbaza!CW40:DH54,Zbaza!CW58:DH72,Zbaza!CW76:DH90,Zbaza!CW94:DH108,Zbaza!CW112:DH126,Zbaza!CW130:DH144,Zbaza!CW148:DH162,Zbaza!CW166:DH180,Zbaza!CW184:DH198,Zbaza!K1:P1,Zbaza!K1:P1,Zbaza!K51:P73),Zbaza!CB20,Zbaza!CE20,Zbaza!CQ36),\"\")","v":""},null,{"$f":"IF(AF45=\"\",0,IF(Zbaza!AB39=2,Zbaza!AB1-1,((Zbaza!BJ18)*(Zbaza!AB1-1))))","v":0},null,null,null,null,null,{"$f":"IF(Zbaza!AG30>0,INDEX((Zbaza!CW4:DH18,Zbaza!CW22:DH36,Zbaza!CW40:DH54,Zbaza!CW58:DH72,Zbaza!CW76:DH90,Zbaza!CW94:DH108,Zbaza!CW112:DH126,Zbaza!CW130:DH144,Zbaza!CW148:DH162,Zbaza!CW166:DH180,Zbaza!CW184:DH198,Zbaza!CW76:DH90,Zbaza!CW112:DH126,Zbaza!K77:P126),Zbaza!CB19+Zbaza!CE24,Zbaza!CE19,Zbaza!CR36),\"\")","v":""},null,{"$f":"IF(AN45=\"\",0,IF(Zbaza!$X$1=1,Zbaza!BM18*(Zbaza!$AG$1-1),Zbaza!BM18*(Zbaza!$AB$1-1)))","v":0},null,null,null,null,null,{"$f":"IF(Zbaza!BA15>1,INDEX((Zbaza!CW4:DH18,Zbaza!CW22:DH36,Zbaza!CW40:DH54,Zbaza!CW58:DH72,Zbaza!CW76:DH90,Zbaza!CW94:DH108,Zbaza!CW112:DH126,Zbaza!CW130:DH144,Zbaza!CW148:DH162,Zbaza!CW166:DH180,Zbaza!CW184:DH198,Zbaza!CW76:DH90,Zbaza!CW112:DH126,Zbaza!K51:P73),Zbaza!CB18,Zbaza!CE18,Zbaza!CS36),\"\")","v":""},null,{"$f":"IF(AV45=\"\",0,IF(Zbaza!AK39=2,Zbaza!AL1-1,((Zbaza!BP18)*(Zbaza!AL1-1))))","v":0}]
[]
[null,null,null,null,null,null,null,null,null,null,null,null,null,null,null,null,null,null,null,null,null,null,null,{"$f":"IF($Y$32=1,\"Akcesoria                         głębokość\",\"Accessories                         for Depth\")","v":"Accessories                         for Depth"},null,null,null,null,null,null,null,{"$f":"IF($Y$32=1,\"Osłony płyty\",\"Equipment for Width\")","v":"Equipment for Width"},null,null,null,null,null,null,null,{"$f":"IF($Y$32=1,\"Osłony płyty\",\"Equipment for Width\")","v":"Equipment for Width"},null,null,null,null,null,null,null,{"$f":"IF($Y$32=1,\"Osłony płyty\",\"Equipment for Width\")","v":"Equipment for Width"}]
[null,null,null,null,null,null,null,null,null,null,null,null,null,null,null,null,null,null,null,null,null,null,null,{"$f":"INDEX((Zbaza!DK7:DP80),Zbaza!BV34,Zbaza!BG4)","v":""},null,{"$f":"IF(X48=\"\",\"\",Zbaza!BY23)","v":""},null,null,null,null,null,{"$f":"IF(Zbaza!BA13>1,INDEX((Zbaza!CW4:DH18,Zbaza!CW22:DH36,Zbaza!CW40:DH54,Zbaza!CW58:DH72,Zbaza!CW76:DH90,Zbaza!CW94:DH108,Zbaza!CW112:DH126,Zbaza!CW130:DH144,Zbaza!CW148:DH162,Zbaza!CW166:DH180,Zbaza!CW184:DH198,Zbaza!K1:P1,Zbaza!K1:P1,Zbaza!K51:P73),Zbaza!CB37,Zbaza!CE37,Zbaza!CQ37),\"\")","v":""},null,{"$f":"IF(AF48=\"\",0,IF(Zbaza!AB40=2,Zbaza!AB1-1,((Zbaza!BJ19)*(Zbaza!AB1-1))))","v":0},null,null,null,null,null,{"$f":"IF(Zbaza!AG30>0,INDEX((Zbaza!CW4:DH18,Zbaza!CW22:DH36,Zbaza!CW40:DH54,Zbaza!CW58:DH72,Zbaza!CW76:DH90,Zbaza!CW94:DH108,Zbaza!CW112:DH126,Zbaza!CW130:DH144,Zbaza!CW148:DH162,Zbaza!CW166:DH180,Zbaza!CW184:DH198,Zbaza!CW76:DH90,Zbaza!CW112:DH126,Zbaza!K77:P126),Zbaza!CB36+Zbaza!CE41,Zbaza!CE36,Zbaza!CR37),\"\")","v":""},null,{"$f":"IF(AN48=\"\",0,IF(Zbaza!$X$1=1,Zbaza!BM19*(Zbaza!$AG$1-1),Zbaza!BM19*(Zbaza!$AB$1-1)))","v":0},null,null,null,null,null,{"$f":"IF(Zbaza!BA15>1,INDEX((Zbaza!CW4:DH18,Zbaza!CW22:DH36,Zbaza!CW40:DH54,Zbaza!CW58:DH72,Zbaza!CW76:DH90,Zbaza!CW94:DH108,Zbaza!CW112:DH126,Zbaza!CW130:DH144,Zbaza!CW148:DH162,Zbaza!CW166:DH180,Zbaza!CW184:DH198,Zbaza!CW76:DH90,Zbaza!CW112:DH126,Zbaza!K51:P73),Zbaza!CB35,Zbaza!CE35,Zbaza!CS37),\"\")","v":""},null,{"$f":"IF(AV48=\"\",0,IF(Zbaza!AK40=2,Zbaza!AL1-1,((Zbaza!BP19)*(Zbaza!AL1-1))))","v":0}]
[]
[null,null,null,null,null,null,null,null,null,null,null,null,null,null,null,null,null,null,null,null,null,null,null,{"$f":"IF($Y$32=1,\"Akcesoria                         głębokość\",\"Accessories                         for Depth\")","v":"Accessories                         for Depth"},null,null,null,null,null,null,null,{"$f":"IF($Y$32=1,\"Osłony płyty\",\"Equipment for Width\")","v":"Equipment for Width"},null,null,null,null,null,null,null,{"$f":"IF($Y$32=1,\"Osłony płyty\",\"Equipment for Width\")","v":"Equipment for Width"},null,null,null,null,null,null,null,{"$f":"IF($Y$32=1,\"Osłony płyty\",\"Equipment for Width\")","v":"Equipment for Width"}]
[null,null,null,null,null,null,null,null,null,null,null,null,null,null,null,null,null,null,null,null,null,null,null,{"$f":"INDEX((Zbaza!DK7:DP80),Zbaza!BV35,Zbaza!BG4)","v":""},null,{"$f":"IF(X51=\"\",\"\",Zbaza!BY24)","v":""},null,null,null,null,null,{"$f":"IF(Zbaza!BA13>1,INDEX((Zbaza!CW4:DH18,Zbaza!CW22:DH36,Zbaza!CW40:DH54,Zbaza!CW58:DH72,Zbaza!CW76:DH90,Zbaza!CW94:DH108,Zbaza!CW112:DH126,Zbaza!CW130:DH144,Zbaza!CW148:DH162,Zbaza!CW166:DH180,Zbaza!CW184:DH198,Zbaza!K1:P1,Zbaza!K1:P1,Zbaza!K51:P73),Zbaza!CB54,Zbaza!CE54,Zbaza!CQ38),\"\")","v":""},null,{"$f":"IF(AF51=\"\",0,IF(Zbaza!AB41=2,Zbaza!AB1-1,((Zbaza!BJ20)*(Zbaza!AB1-1))))","v":0},null,null,null,null,null,{"$f":"IF(Zbaza!AG30>0,INDEX((Zbaza!CW4:DH18,Zbaza!CW22:DH36,Zbaza!CW40:DH54,Zbaza!CW58:DH72,Zbaza!CW76:DH90,Zbaza!CW94:DH108,Zbaza!CW112:DH126,Zbaza!CW130:DH144,Zbaza!CW148:DH162,Zbaza!CW166:DH180,Zbaza!CW184:DH198,Zbaza!CW76:DH90,Zbaza!CW112:DH126,Zbaza!K77:P126),Zbaza!CB53+Zbaza!CE58,Zbaza!CE53,Zbaza!CR38),\"\")","v":""},null,{"$f":"IF(AN51=\"\",0,IF(Zbaza!$X$1=1,Zbaza!BM20*(Zbaza!$AG$1-1),Zbaza!BM20*(Zbaza!$AB$1-1)))","v":0},null,null,null,null,null,{"$f":"IF(Zbaza!BA15>1,INDEX((Zbaza!CW4:DH18,Zbaza!CW22:DH36,Zbaza!CW40:DH54,Zbaza!CW58:DH72,Zbaza!CW76:DH90,Zbaza!CW94:DH108,Zbaza!CW112:DH126,Zbaza!CW130:DH144,Zbaza!CW148:DH162,Zbaza!CW166:DH180,Zbaza!CW184:DH198,Zbaza!CW76:DH90,Zbaza!CW112:DH126,Zbaza!K51:P73),Zbaza!CB52,Zbaza!CE52,Zbaza!CS38),\"\")","v":""},null,{"$f":"IF(AV51=\"\",0,IF(Zbaza!AK41=2,Zbaza!AL1-1,((Zbaza!BP20)*(Zbaza!AL1-1))))","v":0},null,null,null,"y"]
[]
[null,null,null,null,null,null,null,null,null,null,null,null,null,null,null,null,null,null,null,null,null,null,null,{"$f":"IF($Y$32=1,\"Akcesoria                         głębokość\",\"Accessories                         for Depth\")","v":"Accessories                         for Depth"},null,null,null,null,null,null,null,{"$f":"IF($Y$32=1,\"Osłony płyty\",\"Equipment for Width\")","v":"Equipment for Width"},null,null,null,null,null,null,null,{"$f":"IF($Y$32=1,\"Osłony płyty\",\"Equipment for Width\")","v":"Equipment for Width"},null,null,null,null,null,null,null,{"$f":"IF($Y$32=1,\"Osłony płyty\",\"Equipment for Width\")","v":"Equipment for Width"}]
[null,null,null,null,null,null,null,null,null,null,null,null,null,null,null,null,null,null,null,null,null,null,null,{"$f":"INDEX((Zbaza!DK7:DP80),Zbaza!BV36,Zbaza!BG4)","v":""},null,{"$f":"IF(X54=\"\",\"\",Zbaza!BY25)","v":""},null,null,null,null,null,{"$f":"IF(Zbaza!BA13>1,INDEX((Zbaza!CW4:DH18,Zbaza!CW22:DH36,Zbaza!CW40:DH54,Zbaza!CW58:DH72,Zbaza!CW76:DH90,Zbaza!CW94:DH108,Zbaza!CW112:DH126,Zbaza!CW130:DH144,Zbaza!CW148:DH162,Zbaza!CW166:DH180,Zbaza!CW184:DH198,Zbaza!K1:P1,Zbaza!K1:P1,Zbaza!K51:P73),Zbaza!CB71,Zbaza!CE71,Zbaza!CQ39),\"\")","v":""},null,{"$f":"IF(AF54=\"\",0,IF(Zbaza!AB42=2,Zbaza!AB1-1,((Zbaza!BJ21)*(Zbaza!AB1-1))))","v":0},null,null,null,null,null,{"$f":"IF(Zbaza!AG30>0,INDEX((Zbaza!CW4:DH18,Zbaza!CW22:DH36,Zbaza!CW40:DH54,Zbaza!CW58:DH72,Zbaza!CW76:DH90,Zbaza!CW94:DH108,Zbaza!CW112:DH126,Zbaza!CW130:DH144,Zbaza!CW148:DH162,Zbaza!CW166:DH180,Zbaza!CW184:DH198,Zbaza!CW76:DH90,Zbaza!CW112:DH126,Zbaza!K77:P126),Zbaza!CB70+Zbaza!CE75,Zbaza!CE70,Zbaza!CR39),\"\")","v":""},null,{"$f":"IF(AN54=\"\",0,IF(Zbaza!$X$1=1,Zbaza!BM21*(Zbaza!$AG$1-1),Zbaza!BM21*(Zbaza!$AB$1-1)))","v":0},null,null,null,null,null,{"$f":"IF(Zbaza!BA15>1,INDEX((Zbaza!CW4:DH18,Zbaza!CW22:DH36,Zbaza!CW40:DH54,Zbaza!CW58:DH72,Zbaza!CW76:DH90,Zbaza!CW94:DH108,Zbaza!CW112:DH126,Zbaza!CW130:DH144,Zbaza!CW148:DH162,Zbaza!CW166:DH180,Zbaza!CW184:DH198,Zbaza!CW76:DH90,Zbaza!CW112:DH126,Zbaza!K51:P73),Zbaza!CB69,Zbaza!CE69,Zbaza!CS39),\"\")","v":""},null,{"$f":"IF(AV54=\"\",0,IF(Zbaza!AK42=2,Zbaza!AL1-1,((Zbaza!BP21)*(Zbaza!AL1-1))))","v":0}]
[]
[null,null,null,null,null,null,null,null,null,null,null,null,null,null,null,null,null,null,null,null,null,null,null,{"$f":"IF($Y$32=1,\"Akcesoria                         głębokość\",\"Accessories                         for Depth\")","v":"Accessories                         for Depth"},null,null,null,null,null,null,null,{"$f":"IF($Y$32=1,\"Osłony płyty\",\"Equipment for Width\")","v":"Equipment for Width"},null,null,null,null,null,null,null,{"$f":"IF($Y$32=1,\"Osłony płyty\",\"Equipment for Width\")","v":"Equipment for Width"},null,null,null,null,null,null,null,{"$f":"IF($Y$32=1,\"Osłony płyty\",\"Equipment for Width\")","v":"Equipment for Width"}]
[null,null,null,null,null,null,null,null,null,null,null,null,null,null,null,null,null,null,null,null,null,null,null,{"$f":"INDEX((Zbaza!DK7:DP80),Zbaza!BV37,Zbaza!BG4)","v":""},null,{"$f":"IF(X57=\"\",\"\",Zbaza!BY26)","v":""},null,null,null,null,null,{"$f":"IF(Zbaza!BA13>1,INDEX((Zbaza!CW4:DH18,Zbaza!CW22:DH36,Zbaza!CW40:DH54,Zbaza!CW58:DH72,Zbaza!CW76:DH90,Zbaza!CW94:DH108,Zbaza!CW112:DH126,Zbaza!CW130:DH144,Zbaza!CW148:DH162,Zbaza!CW166:DH180,Zbaza!CW184:DH198,Zbaza!K1:P1,Zbaza!K1:P1,Zbaza!K51:P73),Zbaza!CB88,Zbaza!CE88,Zbaza!CQ40),\"\")","v":""},null,{"$f":"IF(AF57=\"\",0,IF(Zbaza!AB43=2,Zbaza!AB1-1,((Zbaza!BJ22)*(Zbaza!AB1-1))))","v":0},null,null,null,null,null,{"$f":"IF(Zbaza!AG30>0,INDEX((Zbaza!CW4:DH18,Zbaza!CW22:DH36,Zbaza!CW40:DH54,Zbaza!CW58:DH72,Zbaza!CW76:DH90,Zbaza!CW94:DH108,Zbaza!CW112:DH126,Zbaza!CW130:DH144,Zbaza!CW148:DH162,Zbaza!CW166:DH180,Zbaza!CW184:DH198,Zbaza!CW76:DH90,Zbaza!CW112:DH126,Zbaza!K77:P126),Zbaza!CB87+Zbaza!CE92,Zbaza!CE87,Zbaza!CR40),\"\")","v":""},null,{"$f":"IF(AN57=\"\",0,IF(Zbaza!$X$1=1,Zbaza!BM22*(Zbaza!$AG$1-1),Zbaza!BM22*(Zbaza!$AB$1-1)))","v":0},null,null,null,null,null,{"$f":"IF(Zbaza!BA15>1,INDEX((Zbaza!CW4:DH18,Zbaza!CW22:DH36,Zbaza!CW40:DH54,Zbaza!CW58:DH72,Zbaza!CW76:DH90,Zbaza!CW94:DH108,Zbaza!CW112:DH126,Zbaza!CW130:DH144,Zbaza!CW148:DH162,Zbaza!CW166:DH180,Zbaza!CW184:DH198,Zbaza!CW76:DH90,Zbaza!CW112:DH126,Zbaza!K51:P73),Zbaza!CB86,Zbaza!CE86,Zbaza!CS40),\"\")","v":""},null,{"$f":"IF(AV57=\"\",0,IF(Zbaza!AK43=2,Zbaza!AL1-1,((Zbaza!BP22)*(Zbaza!AL1-1))))","v":0}]
[]
[null,null,null,null,null,null,null,null,null,null,null,null,null,null,null,null,null,null,null,null,null,null,null,{"$f":"IF($Y$32=1,\"Akcesoria                         głębokość\",\"Accessories                         for Depth\")","v":"Accessories                         for Depth"},null,null,null,null,null,null,null,{"$f":"IF($Y$32=1,\"Osłony płyty\",\"Equipment for Width\")","v":"Equipment for Width"},null,null,null,null,null,null,null,{"$f":"IF($Y$32=1,\"Osłony płyty\",\"Equipment for Width\")","v":"Equipment for Width"},null,null,null,null,null,null,null,{"$f":"IF($Y$32=1,\"Osłony płyty\",\"Equipment for Width\")","v":"Equipment for Width"}]
[null,null,null,null,null,null,null,null,null,null,null,null,null,null,null,null,null,null,null,null,null,null,null,{"$f":"INDEX((Zbaza!DK7:DP80),Zbaza!BV38,Zbaza!BG4)","v":""},null,{"$f":"IF(X60=\"\",\"\",Zbaza!BY27)","v":""},null,null,null,null,null,{"$f":"IF(Zbaza!BA13>1,INDEX((Zbaza!CW4:DH18,Zbaza!CW22:DH36,Zbaza!CW40:DH54,Zbaza!CW58:DH72,Zbaza!CW76:DH90,Zbaza!CW94:DH108,Zbaza!CW112:DH126,Zbaza!CW130:DH144,Zbaza!CW148:DH162,Zbaza!CW166:DH180,Zbaza!CW184:DH198,Zbaza!K1:P1,Zbaza!K1:P1,Zbaza!K51:P73),Zbaza!CB105,Zbaza!CE105,Zbaza!CQ41),\"\")","v":""},null,{"$f":"IF(AF60=\"\",0,IF(Zbaza!AB44=2,Zbaza!AB1-1,((Zbaza!BJ23)*(Zbaza!AB1-1))))","v":0},null,null,null,null,null,{"$f":"IF(Zbaza!AG30>0,INDEX((Zbaza!CW4:DH18,Zbaza!CW22:DH36,Zbaza!CW40:DH54,Zbaza!CW58:DH72,Zbaza!CW76:DH90,Zbaza!CW94:DH108,Zbaza!CW112:DH126,Zbaza!CW130:DH144,Zbaza!CW148:DH162,Zbaza!CW166:DH180,Zbaza!CW184:DH198,Zbaza!CW76:DH90,Zbaza!CW112:DH126,Zbaza!K77:P126),Zbaza!CB104+Zbaza!CE109,Zbaza!CE104,Zbaza!CR41),\"\")","v":""},null,{"$f":"IF(AN60=\"\",0,IF(Zbaza!$X$1=1,Zbaza!BM23*(Zbaza!$AG$1-1),Zbaza!BM23*(Zbaza!$AB$1-1)))","v":0},null,null,null,null,null,{"$f":"IF(Zbaza!BA15>1,INDEX((Zbaza!CW4:DH18,Zbaza!CW22:DH36,Zbaza!CW40:DH54,Zbaza!CW58:DH72,Zbaza!CW76:DH90,Zbaza!CW94:DH108,Zbaza!CW112:DH126,Zbaza!CW130:DH144,Zbaza!CW148:DH162,Zbaza!CW166:DH180,Zbaza!CW184:DH198,Zbaza!CW76:DH90,Zbaza!CW112:DH126,Zbaza!K51:P73),Zbaza!CB103,Zbaza!CE103,Zbaza!CS41),\"\")","v":""},null,{"$f":"IF(AV60=\"\",0,IF(Zbaza!AK44=2,Zbaza!AL1-1,((Zbaza!BP23)*(Zbaza!AL1-1))))","v":0}]
[]
[null,null,null,null,null,null,null,null,null,null,null,null,null,null,null,null,null,null,null,null,null,null,null,{"$f":"IF($Y$32=1,\"Akcesoria                         głębokość\",\"Accessories                         for Depth\")","v":"Accessories                         for Depth"},null,null,null,null,null,null,null,{"$f":"IF($Y$32=1,\"Osłony płyty\",\"Equipment for Width\")","v":"Equipment for Width"},null,null,null,null,null,null,null,{"$f":"IF($Y$32=1,\"Osłony płyty\",\"Equipment for Width\")","v":"Equipment for Width"},null,null,null,null,null,null,null,{"$f":"IF($Y$32=1,\"Osłony płyty\",\"Equipment for Width\")","v":"Equipment for Width"}]
[null,null,null,null,null,null,null,null,null,null,null,null,null,null,null,null,null,null,null,null,null,null,null,{"$f":"INDEX((Zbaza!DK7:DP80),Zbaza!BV39,Zbaza!BG4)","v":""},null,{"$f":"IF(X63=\"\",\"\",Zbaza!BY28)","v":""},null,null,null,null,null,{"$f":"IF(Zbaza!BA13>1,INDEX((Zbaza!CW4:DH18,Zbaza!CW22:DH36,Zbaza!CW40:DH54,Zbaza!CW58:DH72,Zbaza!CW76:DH90,Zbaza!CW94:DH108,Zbaza!CW112:DH126,Zbaza!CW130:DH144,Zbaza!CW148:DH162,Zbaza!CW166:DH180,Zbaza!CW184:DH198,Zbaza!K1:P1,Zbaza!K1:P1,Zbaza!K51:P73),Zbaza!CB122,Zbaza!CE122,Zbaza!CQ42),\"\")","v":""},null,{"$f":"IF(AF63=\"\",0,IF(Zbaza!AB45=2,Zbaza!AB1-1,((Zbaza!BJ24)*(Zbaza!AB1-1))))","v":0},null,null,null,null,null,{"$f":"IF(Zbaza!AG30>0,INDEX((Zbaza!CW4:DH18,Zbaza!CW22:DH36,Zbaza!CW40:DH54,Zbaza!CW58:DH72,Zbaza!CW76:DH90,Zbaza!CW94:DH108,Zbaza!CW112:DH126,Zbaza!CW130:DH144,Zbaza!CW148:DH162,Zbaza!CW166:DH180,Zbaza!CW184:DH198,Zbaza!CW76:DH90,Zbaza!CW112:DH126,Zbaza!K77:P126),Zbaza!CB121+Zbaza!CE126,Zbaza!CE121,Zbaza!CR42),\"\")","v":""},null,{"$f":"IF(AN63=\"\",0,IF(Zbaza!$X$1=1,Zbaza!BM24*(Zbaza!$AG$1-1),Zbaza!BM24*(Zbaza!$AB$1-1)))","v":0},null,null,null,null,null,{"$f":"IF(Zbaza!BA15>1,INDEX((Zbaza!CW4:DH18,Zbaza!CW22:DH36,Zbaza!CW40:DH54,Zbaza!CW58:DH72,Zbaza!CW76:DH90,Zbaza!CW94:DH108,Zbaza!CW112:DH126,Zbaza!CW130:DH144,Zbaza!CW148:DH162,Zbaza!CW166:DH180,Zbaza!CW184:DH198,Zbaza!CW76:DH90,Zbaza!CW112:DH126,Zbaza!K51:P73),Zbaza!CB120,Zbaza!CE120,Zbaza!CS42),\"\")","v":""},null,{"$f":"IF(AV63=\"\",0,IF(Zbaza!AK45=2,Zbaza!AL1-1,((Zbaza!BP24)*(Zbaza!AL1-1))))","v":0}]
[]
[null,null,null,null,null,null,null,null,null,null,null,null,null,null,null,null,null,null,null,null,null,null,null,{"$f":"IF($Y$32=1,\"Akcesoria                         głębokość\",\"Accessories                         for Depth\")","v":"Accessories                         for Depth"},null,null,null,null,null,null,null,{"$f":"IF($Y$32=1,\"Osłony płyty\",\"Equipment for Width\")","v":"Equipment for Width"},null,null,null,null,null,null,null,{"$f":"IF($Y$32=1,\"Osłony płyty\",\"Equipment for Width\")","v":"Equipment for Width"},null,null,null,null,null,null,null,{"$f":"IF($Y$32=1,\"Osłony płyty\",\"Equipment for Width\")","v":"Equipment for Width"}]
[null,null,null,null,null,null,null,null,null,null,null,null,null,null,null,null,null,null,null,null,null,null,null,{"$f":"INDEX((Zbaza!DK7:DP80),Zbaza!BV40,Zbaza!BG4)","v":""},null,{"$f":"IF(X66=\"\",\"\",Zbaza!BY29)","v":""},null,null,null,null,null,{"$f":"IF(Zbaza!BA13>1,INDEX((Zbaza!CW4:DH18,Zbaza!CW22:DH36,Zbaza!CW40:DH54,Zbaza!CW58:DH72,Zbaza!CW76:DH90,Zbaza!CW94:DH108,Zbaza!CW112:DH126,Zbaza!CW130:DH144,Zbaza!CW148:DH162,Zbaza!CW166:DH180,Zbaza!CW184:DH198,Zbaza!K1:P1,Zbaza!K1:P1,Zbaza!K51:P73),Zbaza!CB139,Zbaza!CE139,Zbaza!CQ43),\"\")","v":""},null,{"$f":"IF(AF66=\"\",0,IF(Zbaza!AB46=2,Zbaza!AB1-1,((Zbaza!BJ25)*(Zbaza!AB1-1))))","v":0},null,null,null,null,null,{"$f":"IF(Zbaza!AG30>0,INDEX((Zbaza!CW4:DH18,Zbaza!CW22:DH36,Zbaza!CW40:DH54,Zbaza!CW58:DH72,Zbaza!CW76:DH90,Zbaza!CW94:DH108,Zbaza!CW112:DH126,Zbaza!CW130:DH144,Zbaza!CW148:DH162,Zbaza!CW166:DH180,Zbaza!CW184:DH198,Zbaza!CW76:DH90,Zbaza!CW112:DH126,Zbaza!K77:P126),Zbaza!CB138+Zbaza!CE143,Zbaza!CE138,Zbaza!CR43),\"\")","v":""},null,{"$f":"IF(AN66=\"\",0,IF(Zbaza!$X$1=1,Zbaza!BM25*(Zbaza!$AG$1-1),Zbaza!BM25*(Zbaza!$AB$1-1)))","v":0},null,null,null,null,null,{"$f":"IF(Zbaza!BA15>1,INDEX((Zbaza!CW4:DH18,Zbaza!CW22:DH36,Zbaza!CW40:DH54,Zbaza!CW58:DH72,Zbaza!CW76:DH90,Zbaza!CW94:DH108,Zbaza!CW112:DH126,Zbaza!CW130:DH144,Zbaza!CW148:DH162,Zbaza!CW166:DH180,Zbaza!CW184:DH198,Zbaza!CW76:DH90,Zbaza!CW112:DH126,Zbaza!K51:P73),Zbaza!CB137,Zbaza!CE137,Zbaza!CS43),\"\")","v":""},null,{"$f":"IF(AV66=\"\",0,IF(Zbaza!AK46=2,Zbaza!AL1-1,((Zbaza!BP25)*(Zbaza!AL1-1))))","v":0}]
[]
[null,null,null,null,null,null,null,null,null,null,null,null,null,null,null,null,null,null,null,null,null,null,null,{"$f":"IF($Y$32=1,\"Akcesoria                         głębokość\",\"Accessories                     for Depth\")","v":"Accessories                     for Depth"},null,null,null,null,null,null,null,{"$f":"IF($Y$32=1,\"Osłony płyty\",\"Equipment for Width\")","v":"Equipment for Width"},null,null,null,null,null,null,null,{"$f":"IF($Y$32=1,\"Osłony płyty\",\"Equipment for Width\")","v":"Equipment for Width"},null,null,null,null,null,null,null,{"$f":"IF($Y$32=1,\"Osłony płyty\",\"Equipment for Width\")","v":"Equipment for Width"}]
[null,null,null,null,null,null,null,null,null,null,null,null,null,null,null,null,null,null,null,null,null,null,null,{"$f":"INDEX((Zbaza!DK7:DP80),Zbaza!BV41,Zbaza!BG4)","v":""},null,{"$f":"IF(X69=\"\",\"\",Zbaza!BY30)","v":""},null,null,null,null,null,{"$f":"IF(Zbaza!BA13>1,INDEX((Zbaza!CW4:DH18,Zbaza!CW22:DH36,Zbaza!CW40:DH54,Zbaza!CW58:DH72,Zbaza!CW76:DH90,Zbaza!CW94:DH108,Zbaza!CW112:DH126,Zbaza!CW130:DH144,Zbaza!CW148:DH162,Zbaza!CW166:DH180,Zbaza!CW184:DH198,Zbaza!K1:P1,Zbaza!K1:P1,Zbaza!K51:P73),Zbaza!CB156,Zbaza!CE156,Zbaza!CQ44),\"\")","v":""},null,{"$f":"IF(AF69=\"\",0,IF(Zbaza!AB47=2,Zbaza!AB1-1,((Zbaza!BJ26)*(Zbaza!AB1-1))))","v":0},null,null,null,null,null,{"$f":"IF(Zbaza!AG30>0,INDEX((Zbaza!CW4:DH18,Zbaza!CW22:DH36,Zbaza!CW40:DH54,Zbaza!CW58:DH72,Zbaza!CW76:DH90,Zbaza!CW94:DH108,Zbaza!CW112:DH126,Zbaza!CW130:DH144,Zbaza!CW148:DH162,Zbaza!CW166:DH180,Zbaza!CW184:DH198,Zbaza!CW76:DH90,Zbaza!CW112:DH126,Zbaza!K77:P126),Zbaza!CB155+Zbaza!CE160,Zbaza!CE155,Zbaza!CR44),\"\")","v":""},null,{"$f":"IF(AN69=\"\",0,IF(Zbaza!$X$1=1,Zbaza!BM26*(Zbaza!$AG$1-1),Zbaza!BM26*(Zbaza!$AB$1-1)))","v":0},null,null,null,null,null,{"$f":"IF(Zbaza!BA15>1,INDEX((Zbaza!CW4:DH18,Zbaza!CW22:DH36,Zbaza!CW40:DH54,Zbaza!CW58:DH72,Zbaza!CW76:DH90,Zbaza!CW94:DH108,Zbaza!CW112:DH126,Zbaza!CW130:DH144,Zbaza!CW148:DH162,Zbaza!CW166:DH180,Zbaza!CW184:DH198,Zbaza!CW76:DH90,Zbaza!CW112:DH126,Zbaza!K51:P73),Zbaza!CB154,Zbaza!CE154,Zbaza!CS44),\"\")","v":""},null,{"$f":"IF(AV69=\"\",0,IF(Zbaza!AK47=2,Zbaza!AL1-1,((Zbaza!BP26)*(Zbaza!AL1-1))))","v":0}]
[]
[null,null,null,null,null,null,null,null,null,null,null,null,null,null,null,null,null,null,null,null,null,null,null,{"$f":"IF($Y$32=1,\"Akcesoria                         głębokość\",\"Accessories                         for Depth\")","v":"Accessories                         for Depth"},null,null,null,null,null,null,null,{"$f":"IF($Y$32=1,\"Osłony płyty\",\"Equipment for Width\")","v":"Equipment for Width"},null,null,null,null,null,null,null,{"$f":"IF($Y$32=1,\"Osłony płyty\",\"Equipment for Width\")","v":"Equipment for Width"},null,null,null,null,null,null,null,{"$f":"IF($Y$32=1,\"Osłony płyty\",\"Equipment for Width\")","v":"Equipment for Width"}]
[null,null,null,null,null,null,null,null,null,null,null,null,null,null,null,null,null,null,null,null,null,null,null,{"$f":"INDEX((Zbaza!DK7:DP80),Zbaza!BV42,Zbaza!BG4)","v":""},null,{"$f":"IF(X72=\"\",\"\",Zbaza!BY31)","v":""},null,null,null,null,null,{"$f":"IF(Zbaza!BA13>1,INDEX((Zbaza!CW4:DH18,Zbaza!CW22:DH36,Zbaza!CW40:DH54,Zbaza!CW58:DH72,Zbaza!CW76:DH90,Zbaza!CW94:DH108,Zbaza!CW112:DH126,Zbaza!CW130:DH144,Zbaza!CW148:DH162,Zbaza!CW166:DH180,Zbaza!CW184:DH198,Zbaza!K1:P1,Zbaza!K1:P1,Zbaza!K51:P73),Zbaza!CB173,Zbaza!CE173,Zbaza!CQ45),\"\")","v":""},null,{"$f":"IF(AF72=\"\",0,IF(Zbaza!AB48=2,Zbaza!AB1-1,((Zbaza!BJ27)*(Zbaza!AB1-1))))","v":0},null,null,null,null,null,{"$f":"IF(Zbaza!AG30>0,INDEX((Zbaza!CW4:DH18,Zbaza!CW22:DH36,Zbaza!CW40:DH54,Zbaza!CW58:DH72,Zbaza!CW76:DH90,Zbaza!CW94:DH108,Zbaza!CW112:DH126,Zbaza!CW130:DH144,Zbaza!CW148:DH162,Zbaza!CW166:DH180,Zbaza!CW184:DH198,Zbaza!CW76:DH90,Zbaza!CW112:DH126,Zbaza!K77:P126),Zbaza!CB172+Zbaza!CE177,Zbaza!CE172,Zbaza!CR45),\"\")","v":""},null,{"$f":"IF(AN72=\"\",0,IF(Zbaza!$X$1=1,Zbaza!BM27*(Zbaza!$AG$1-1),Zbaza!BM27*(Zbaza!$AB$1-1)))","v":0},null,null,null,null,null,{"$f":"IF(Zbaza!BA15>1,INDEX((Zbaza!CW4:DH18,Zbaza!CW22:DH36,Zbaza!CW40:DH54,Zbaza!CW58:DH72,Zbaza!CW76:DH90,Zbaza!CW94:DH108,Zbaza!CW112:DH126,Zbaza!CW130:DH144,Zbaza!CW148:DH162,Zbaza!CW166:DH180,Zbaza!CW184:DH198,Zbaza!CW76:DH90,Zbaza!CW112:DH126,Zbaza!K51:P73),Zbaza!CB171,Zbaza!CE171,Zbaza!CS45),\"\")","v":""},null,{"$f":"IF(AV72=\"\",0,IF(Zbaza!AK48=2,Zbaza!AL1-1,((Zbaza!BP27)*(Zbaza!AL1-1))))","v":0}]
[]
[null,null,null,null,null,null,null,null,null,null,null,null,null,null,null,null,null,null,null,null,null,null,null,{"$f":"IF($Y$32=1,\"Akcesoria                         głębokość\",\"Accessories                         for Depth\")","v":"Accessories                         for Depth"},null,null,null,null,null,null,null,{"$f":"IF($Y$32=1,\"Osłony płyty\",\"Equipment for Width\")","v":"Equipment for Width"},null,null,null,null,null,null,null,{"$f":"IF($Y$32=1,\"Osłony płyty\",\"Equipment for Width\")","v":"Equipment for Width"},null,null,null,null,null,null,null,{"$f":"IF($Y$32=1,\"Osłony płyty\",\"Equipment for Width\")","v":"Equipment for Width"}]
[null,null,null,null,null,null,null,null,null,null,null,null,null,null,null,null,null,null,null,null,null,null,null,{"$f":"INDEX((Zbaza!DK7:DP80),Zbaza!BV43,Zbaza!BG4)","v":""},null,{"$f":"IF(X75=\"\",\"\",Zbaza!BY32)","v":""},null,null,null,null,null,{"$f":"IF(Zbaza!BA13>1,INDEX((Zbaza!CW4:DH18,Zbaza!CW22:DH36,Zbaza!CW40:DH54,Zbaza!CW58:DH72,Zbaza!CW76:DH90,Zbaza!CW94:DH108,Zbaza!CW112:DH126,Zbaza!CW130:DH144,Zbaza!CW148:DH162,Zbaza!CW166:DH180,Zbaza!CW184:DH198,Zbaza!K1:P1,Zbaza!K1:P1,Zbaza!K51:P73),Zbaza!CB190,Zbaza!CE190,Zbaza!CQ46),\"\")","v":""},null,{"$f":"IF(AF75=\"\",0,IF(Zbaza!AB49=2,Zbaza!AB1-1,((Zbaza!BJ28)*(Zbaza!AB1-1))))","v":0},null,null,null,null,null,{"$f":"IF(Zbaza!AG30>0,INDEX((Zbaza!CW4:DH18,Zbaza!CW22:DH36,Zbaza!CW40:DH54,Zbaza!CW58:DH72,Zbaza!CW76:DH90,Zbaza!CW94:DH108,Zbaza!CW112:DH126,Zbaza!CW130:DH144,Zbaza!CW148:DH162,Zbaza!CW166:DH180,Zbaza!CW184:DH198,Zbaza!CW76:DH90,Zbaza!CW112:DH126,Zbaza!K77:P126),Zbaza!CB189+Zbaza!CE194,Zbaza!CE189,Zbaza!CR46),\"\")","v":""},null,{"$f":"IF(AN75=\"\",0,IF(Zbaza!$X$1=1,Zbaza!BM28*(Zbaza!$AG$1-1),Zbaza!BM28*(Zbaza!$AB$1-1)))","v":0},null,null,null,null,null,{"$f":"IF(Zbaza!BA15>1,INDEX((Zbaza!CW4:DH18,Zbaza!CW22:DH36,Zbaza!CW40:DH54,Zbaza!CW58:DH72,Zbaza!CW76:DH90,Zbaza!CW94:DH108,Zbaza!CW112:DH126,Zbaza!CW130:DH144,Zbaza!CW148:DH162,Zbaza!CW166:DH180,Zbaza!CW184:DH198,Zbaza!CW76:DH90,Zbaza!CW112:DH126,Zbaza!K51:P73),Zbaza!CB188,Zbaza!CE188,Zbaza!CS46),\"\")","v":""},null,{"$f":"IF(AV75=\"\",0,IF(Zbaza!AK49=2,Zbaza!AL1-1,((Zbaza!BP28)*(Zbaza!AL1-1))))","v":0}]
[]
[null,null,null,null,null,null,null,null,null,null,null,null,null,null,null,null,null,null,null,null,null,null,null,{"$f":"IF($Y$32=1,\"Akcesoria                         głębokość\",\"Accessories                         for Depth\")","v":"Accessories                         for Depth"},null,null,null,null,null,null,null,{"$f":"IF($Y$32=1,\"Akcesoria szerokość\",\"Accessories for Width\")","v":"Accessories for Width"},null,null,null,null,null,null,null,{"$f":"IF($Y$32=1,\"Akcesoria szerokość\",\"Accessories for Width\")","v":"Accessories for Width"},null,null,null,null,null,null,null,{"$f":"IF($Y$32=1,\"Akcesoria szerokość\",\"Accessories for Width\")","v":"Accessories for Width"}]
[null,null,null,null,null,null,null,null,null,null,null,null,null,null,null,null,null,null,{"$f":"AH78","v":0},null,{"$f":"AP78","v":0},null,null,{"$f":"INDEX((Zbaza!DK7:DP80),Zbaza!BV44,Zbaza!BG4)","v":""},null,{"$f":"IF(X78=\"\",\"\",Zbaza!BY33)","v":""},null,null,null,null,null,{"$f":"IF(Zbaza!BA13>1,INDEX((Zbaza!DK84:EF107),Zbaza!BA13,Zbaza!CH4),\"\")","v":""},null,{"$f":"IF(AF78=\"\",0,((Zbaza!BJ29)*(Zbaza!AB1-1)))","v":0},null,null,null,null,null,{"$f":"IF(Zbaza!$AG$30>0,INDEX((Zbaza!$DK$84:$EF$107,Zbaza!$DK$123:$EF$146),Zbaza!$BA$12+Zbaza!$CH$27,Zbaza!$CH21,Zbaza!$CH$20),\"\")","v":""},null,{"$f":"IF(AN78=\"\",0,IF(Zbaza!$AG$43=2,Zbaza!BM29*(Zbaza!$AG$1-1),Zbaza!$BM$29*(Zbaza!$AB$1-1)))","v":0},null,null,null,null,null,{"$f":"IF(Zbaza!BA15>1,INDEX((Zbaza!DK84:EF107),Zbaza!BA15,Zbaza!CH38),\"\")","v":""},null,{"$f":"IF(AV78=\"\",0,((Zbaza!BP29)*(Zbaza!AL1-1)))","v":0}]
[null,null,null,null,null,null,null,null,null,null,null,null,null,null,null,null,null,null,{"$f":"AH79","v":0}]
[null,null,null,null,null,null,null,null,null,null,null,null,null,null,null,null,null,null,0,null,null,null,null,{"$f":"IF($Y$32=1,\"Akcesoria                         głębokość\",\"Accessories                         for Depth\")","v":"Accessories                         for Depth"},null,null,null,null,null,null,null,{"$f":"IF($Y$32=1,\"Akcesoria szerokość\",\"Accessories for Width\")","v":"Accessories for Width"},null,null,null,null,null,null,null,{"$f":"IF($Y$32=1,\"Akcesoria szerokość\",\"Accessories for Width\")","v":"Accessories for Width"},null,null,null,null,null,null,null,{"$f":"IF($Y$32=1,\"Akcesoria szerokość\",\"Accessories for Width\")","v":"Accessories for Width"}]
[null,null,null,null,null,null,null,null,null,null,null,null,null,null,null,null,null,null,{"$f":"AH81","v":0},null,null,null,null,{"$f":"INDEX((Zbaza!DK7:DP80),Zbaza!BV45,Zbaza!BG4)","v":""},null,{"$f":"IF(X81=\"\",\"\",Zbaza!BY34)","v":""},null,null,null,null,null,{"$f":"IF(Zbaza!BA13>1,INDEX((Zbaza!DK84:EF107),Zbaza!BA13,Zbaza!CH5),\"\")","v":""},null,{"$f":"IF(AF81=\"\",0,((Zbaza!BJ30)*(Zbaza!AB1-1)))","v":0},null,null,null,null,null,{"$f":"IF(Zbaza!$AG$30>0,INDEX((Zbaza!$DK$84:$EF$107,Zbaza!$DK$123:$EF$146),Zbaza!$BA$12+Zbaza!$CH$27,Zbaza!$CH22,Zbaza!$CH$20),\"\")","v":""},null,{"$f":"IF(AN81=\"\",0,IF(Zbaza!$AG$43=2,Zbaza!BM30*(Zbaza!$AG$1-1),Zbaza!$BM$30*(Zbaza!$AB$1-1)))","v":0},null,null,null,null,null,{"$f":"IF(Zbaza!BA15>1,INDEX((Zbaza!DK84:EF107),Zbaza!BA15,Zbaza!CH39),\"\")","v":""},null,{"$f":"IF(AV81=\"\",0,((Zbaza!BP30)*(Zbaza!AL1-1)))","v":0}]
[null,null,null,null,null,null,null,null,null,null,null,null,null,null,null,null,null,null,0]
[null,null,null,null,null,null,null,null,null,null,null,null,null,null,null,null,null,null,0,null,null,null,null,{"$f":"IF($Y$32=1,\"Akcesoria                         głębokość\",\"Accessories                         for Depth\")","v":"Accessories                         for Depth"},null,null,null,null,null,null,null,{"$f":"IF($Y$32=1,\"Akcesoria szerokość\",\"Accessories for Width\")","v":"Accessories for Width"},null,null,null,null,null,null,null,{"$f":"IF($Y$32=1,\"Akcesoria szerokość\",\"Accessories for Width\")","v":"Accessories for Width"},null,null,null,null,null,null,null,{"$f":"IF($Y$32=1,\"Akcesoria szerokość\",\"Accessories for Width\")","v":"Accessories for Width"}]
[null,null,null,null,null,null,null,null,null,null,null,null,null,null,null,null,null,null,{"$f":"AH84","v":0},null,null,null,null,{"$f":"INDEX((Zbaza!DK7:DP80),Zbaza!BV46,Zbaza!BG4)","v":""},null,{"$f":"IF(X84=\"\",\"\",Zbaza!BY35)","v":""},null,null,null,null,null,{"$f":"IF(Zbaza!BA13>1,INDEX((Zbaza!DK84:EF107),Zbaza!BA13,Zbaza!CH6),\"\")","v":""},null,{"$f":"IF(AF84=\"\",0,((Zbaza!BJ31)*(Zbaza!AB1-1)))","v":0},null,null,null,null,null,{"$f":"IF(Zbaza!$AG$30>0,INDEX((Zbaza!$DK$84:$EF$107,Zbaza!$DK$123:$EF$146),Zbaza!$BA$12+Zbaza!$CH$27,Zbaza!$CH23,Zbaza!$CH$20),\"\")","v":""},null,{"$f":"IF(AN84=\"\",0,IF(Zbaza!$AG$43=2,Zbaza!BM31*(Zbaza!$AG$1-1),Zbaza!$BM$31*(Zbaza!$AB$1-1)))","v":0},null,null,null,null,null,{"$f":"IF(Zbaza!BA15>1,INDEX((Zbaza!DK84:EF107),Zbaza!BA15,Zbaza!CH40),\"\")","v":""},null,{"$f":"IF(AV84=\"\",0,((Zbaza!BP31)*(Zbaza!AL1-1)))","v":0}]
[null,null,null,null,null,null,null,null,null,null,null,null,null,null,null,null,null,null,0]
[null,null,null,null,null,null,null,null,null,null,null,null,null,null,null,null,null,null,0,null,null,null,null,{"$f":"IF($Y$32=1,\"Akcesoria                         głębokość\",\"Accessories                         for Depth\")","v":"Accessories                         for Depth"},null,null,null,null,null,null,null,{"$f":"IF($Y$32=1,\"Akcesoria szerokość\",\"Accessories for Width\")","v":"Accessories for Width"},null,null,null,null,null,null,null,{"$f":"IF($Y$32=1,\"Akcesoria szerokość\",\"Accessories for Width\")","v":"Accessories for Width"},null,null,null,null,null,null,null,{"$f":"IF($Y$32=1,\"Akcesoria szerokość\",\"Accessories for Width\")","v":"Accessories for Width"}]
[null,null,null,null,null,null,null,null,null,null,null,null,null,null,null,null,null,null,{"$f":"AH87","v":0},null,null,null,null,{"$f":"INDEX((Zbaza!DK7:DP80),Zbaza!BV47,Zbaza!BG4)","v":""},null,{"$f":"IF(X87=\"\",\"\",Zbaza!BY36)","v":""},null,null,null,null,null,{"$f":"IF(Zbaza!BA13>1,INDEX((Zbaza!DK84:EF107),Zbaza!BA13,Zbaza!CH7),\"\")","v":""},null,{"$f":"IF(AF87=\"\",0,((Zbaza!BJ32)*(Zbaza!AB1-1)))","v":0},null,null,null,null,null,{"$f":"IF(Zbaza!$AG$30>0,INDEX((Zbaza!$DK$84:$EF$107,Zbaza!$DK$123:$EF$146),Zbaza!$BA$12+Zbaza!$CH$27,Zbaza!$CH24,Zbaza!$CH$20),\"\")","v":""},null,{"$f":"IF(AN87=\"\",0,IF(Zbaza!$AG$43=2,Zbaza!BM32*(Zbaza!$AG$1-1),Zbaza!$BM$32*(Zbaza!$AB$1-1)))","v":0},null,null,null,null,null,{"$f":"IF(Zbaza!BA15>1,INDEX((Zbaza!DK84:EF107),Zbaza!BA15,Zbaza!CH41),\"\")","v":""},null,{"$f":"IF(AV87=\"\",0,((Zbaza!BP32)*(Zbaza!AL1-1)))","v":0}]
[null,null,null,null,null,null,null,null,null,null,null,null,null,null,null,null,null,null,0]
[null,null,null,null,null,null,null,null,null,null,null,null,null,null,null,null,null,null,0,null,null,null,null,{"$f":"IF($Y$32=1,\"Akcesoria                         głębokość\",\"Accessories                         for Depth\")","v":"Accessories                         for Depth"},null,null,null,null,null,null,null,{"$f":"IF($Y$32=1,\"Akcesoria szerokość\",\"Accessories for Width\")","v":"Accessories for Width"},null,null,null,null,null,null,null,{"$f":"IF($Y$32=1,\"Akcesoria szerokość\",\"Accessories for Width\")","v":"Accessories for Width"},null,null,null,null,null,null,null,{"$f":"IF($Y$32=1,\"Akcesoria szerokość\",\"Accessories for Width\")","v":"Accessories for Width"}]
[null,null,null,null,null,null,null,null,null,null,null,null,null,null,null,null,null,null,{"$f":"AH90","v":0},null,null,null,null,{"$f":"INDEX((Zbaza!DK7:DP80),Zbaza!BV48,Zbaza!BG4)","v":""},null,{"$f":"IF(X90=\"\",\"\",Zbaza!BY37)","v":""},null,null,null,null,null,{"$f":"IF(Zbaza!BA13>1,INDEX((Zbaza!DK84:EF107),Zbaza!BA13,Zbaza!CH8),\"\")","v":""},null,{"$f":"IF(AF90=\"\",0,((Zbaza!BJ33)*(Zbaza!AB1-1)))","v":0},null,null,null,null,null,{"$f":"IF(Zbaza!$AG$30>0,INDEX((Zbaza!$DK$84:$EF$107,Zbaza!$DK$123:$EF$146),Zbaza!$BA$12+Zbaza!$CH$27,Zbaza!$CH25,Zbaza!$CH$20),\"\")","v":""},null,{"$f":"IF(AN90=\"\",0,IF(Zbaza!$AG$43=2,Zbaza!BM33*(Zbaza!$AG$1-1),Zbaza!$BM$33*(Zbaza!$AB$1-1)))","v":0},null,null,null,null,null,{"$f":"IF(Zbaza!BA15>1,INDEX((Zbaza!DK84:EF107),Zbaza!BA15,Zbaza!CH42),\"\")","v":""},null,{"$f":"IF(AV90=\"\",0,((Zbaza!BP33)*(Zbaza!AL1-1)))","v":0}]
[null,null,null,null,null,null,null,null,null,null,null,null,null,null,null,null,null,null,0]
[null,null,null,null,null,null,null,null,null,null,null,null,null,null,null,null,null,null,0,null,null,null,null,{"$f":"IF($Y$32=1,\"Akcesoria                         głębokość\",\"Accessories                         for Depth\")","v":"Accessories                         for Depth"},null,null,null,null,null,null,null,{"$f":"IF($Y$32=1,\"Akcesoria szerokość\",\"Accessories for Width\")","v":"Accessories for Width"},null,null,null,null,null,null,null,{"$f":"IF($Y$32=1,\"Akcesoria szerokość\",\"Accessories for Width\")","v":"Accessories for Width"},null,null,null,null,null,null,null,{"$f":"IF($Y$32=1,\"Akcesoria szerokość\",\"Accessories for Width\")","v":"Accessories for Width"}]
[null,null,null,null,null,null,null,null,null,null,null,null,null,null,null,null,null,null,{"$f":"AH93","v":0},null,null,null,null,{"$f":"INDEX((Zbaza!DK7:DP80),Zbaza!BV49,Zbaza!BG4)","v":""},null,{"$f":"IF(X93=\"\",\"\",Zbaza!BY38)","v":""},null,null,null,null,null,{"$f":"IF(Zbaza!BA13>1,INDEX((Zbaza!DK84:EF107),Zbaza!BA13,Zbaza!CH9),\"\")","v":""},null,{"$f":"IF(AF93=\"\",0,((Zbaza!BJ34)*(Zbaza!AB1-1)))","v":0},null,null,null,null,null,{"$f":"IF(Zbaza!$AG$30>0,INDEX((Zbaza!$DK$84:$EF$107,Zbaza!$DK$123:$EF$146),Zbaza!$BA$12+Zbaza!$CH$27,Zbaza!$CH26,Zbaza!$CH$20),\"\")","v":""},null,{"$f":"IF(AN93=\"\",0,IF(Zbaza!$AG$43=2,Zbaza!BM34*(Zbaza!$AG$1-1),Zbaza!$BM$34*(Zbaza!$AB$1-1)))","v":0},null,null,null,null,null,{"$f":"IF(Zbaza!BA15>1,INDEX((Zbaza!DK84:EF107),Zbaza!BA15,Zbaza!CH43),\"\")","v":""},null,{"$f":"IF(AV93=\"\",0,((Zbaza!BP34)*(Zbaza!AL1-1)))","v":0}]

{"sheet":"Offer","index":2,"n_rows":305,"n_cols":35,"rows_kept":305,"cut":false,"hidden":false,"merged":[[9,13,10,13],[8,9,8,10],[9,34,10,34]]}
[null,null,null,null,{"$f":"IF(F2<>\"\",\"Udzielono dodatkowego upustu:\",\"\")","v":""},null,null,1500,null,"Data:",{"$f":"TODAY()","v":"2022-03-02"}]
[]
[]
[]
[]
[]
[null,null,null,null,{"$f":"Pricelist!$B$2","v":"Cennik wygenerowany 15.02.2022"}]
[]
[null,null,null,null,null,null,null,null,"Wartość",{"$f":"SUM(K12:K305)","v":4100.3999999999996}]
["No.","Numer","Ilość","Jedn.","Opis","Data","Cennik","Rabat","Grupa","Cena","Wartość",null,"Grupa","Rabat",null,null,null,null,null,null,null,null,null,null,null,null,null,null,null,null,null,null,null,null,"Opis"]
[null,"katalogowy",null,null,null,"produktu","PLN",null,"rabatowa","PLN","PLN",null,"rabatowa"]
[{"$f":"IF(B12<>\"\",A11+1,\"\")","v":1},30043,1,{"$f":"IF(B12<>\"\",VLOOKUP(IF(ISNUMBER(B12),TEXT(B12,\"0\"),B12),Pricelist!$A$3:$F$60643,6,FALSE),\"\")","v":"SZT"},{"$f":"IF(B12<>\"\",VLOOKUP(IF(ISNUMBER(B12),TEXT(B12,\"0\"),B12),Pricelist!$A$3:$F$60643,2,FALSE),\"\")","v":"ZENERGY - COKÓŁ H100, PEŁNE OSŁONY BOCZNE, D400"},{"$f":"IF(B12<>\"\",VLOOKUP(IF(ISNUMBER(B12),TEXT(B12,\"0\"),B12),Pricelist!$A$3:$F$60643,5,FALSE),\"\")","v":"2019-10-02"},{"$f":"IF(B12<>\"\",VLOOKUP(IF(ISNUMBER(B12),TEXT(B12,\"0\"),B12),Pricelist!$A$3:$F$60643,3,FALSE),\"\")","v":126.3},{"$f":"IF(B12<>\"\",VLOOKUP(IF(ISNUMBER(I12),TEXT(I12,\"0\"),I12),$M$12:$N$44,2,FALSE),\"\")","v":0},{"$f":"IF(B12<>\"\",VLOOKUP(IF(ISNUMBER(B12),TEXT(B12,\"0\"),B12),Pricelist!$A$3:$F$60643,4,FALSE),\"\")","v":"1-ZE-01"},{"$f":"IF(B12<>\"\",G12*(1-H12),\"\")","v":126.3},{"$f":"IF(B12<>\"\",C12*(1-H12)*G12,\"\")","v":126.3},null,"1-ZE-01",0,null,{"$f":"IF(B12<>\"\",$K$2,\"\")","v":0},null,{"$f":"IF(B12>1,B12,\"\")","v":30043},{"$f":"IF(R12=\"\",\"\",C12)","v":1},{"$f":"IF(B12=\"\",\"\",E12)","v":"ZENERGY - COKÓŁ H100, PEŁNE OSŁONY BOCZNE, D400"},null,null,null,null,null,null,null,null,null,null,null,null,null,null,"Zenergy OE (frame type)"]
[2,30065,1,{"$f":"IF(B13<>\"\",VLOOKUP(IF(ISNUMBER(B13),TEXT(B13,\"0\"),B13),Pricelist!$A$3:$F$60643,6,FALSE),\"\")","v":"SZT"},{"$f":"IF(B13<>\"\",VLOOKUP(IF(ISNUMBER(B13),TEXT(B13,\"0\"),B13),Pricelist!$A$3:$F$60643,2,FALSE),\"\")","v":"ZENERGY - COKÓŁ H100, WENTYLOWANE OSŁONY PRZÓD,TYŁ, W650"},{"$f":"IF(B13<>\"\",VLOOKUP(IF(ISNUMBER(B13),TEXT(B13,\"0\"),B13),Pricelist!$A$3:$F$60643,5,FALSE),\"\")","v":"2019-10-02"},{"$f":"IF(B13<>\"\",VLOOKUP(IF(ISNUMBER(B13),TEXT(B13,\"0\"),B13),Pricelist!$A$3:$F$60643,3,FALSE),\"\")","v":149},0,{"$f":"IF(B13<>\"\",VLOOKUP(IF(ISNUMBER(B13),TEXT(B13,\"0\"),B13),Pricelist!$A$3:$F$60643,4,FALSE),\"\")","v":"1-ZE-01"},149,149,null,"1-ZE-02",0,null,{"$f":"IF(B13<>\"\",$K$2,\"\")","v":0},null,{"$f":"IF(B13>1,B13,\"\")","v":30065},1,{"$f":"IF(B13=\"\",\"\",E13)","v":"ZENERGY - COKÓŁ H100, WENTYLOWANE OSŁONY PRZÓD,TYŁ, W650"},null,null,null,null,null,null,null,null,null,null,null,null,null,null,"Universal Enclosures OU IP-31 "]
[3,31465,1,{"$f":"IF(B14<>\"\",VLOOKUP(IF(ISNUMBER(B14),TEXT(B14,\"0\"),B14),Pricelist!$A$3:$F$60643,6,FALSE),\"\")","v":"SZT"},{"$f":"IF(B14<>\"\",VLOOKUP(IF(ISNUMBER(B14),TEXT(B14,\"0\"),B14),Pricelist!$A$3:$F$60643,2,FALSE),\"\")","v":"ZENERGY - POKRYWA GÓRNA IP30, W650, D400"},{"$f":"IF(B14<>\"\",VLOOKUP(IF(ISNUMBER(B14),TEXT(B14,\"0\"),B14),Pricelist!$A$3:$F$60643,5,FALSE),\"\")","v":"2019-10-02"},{"$f":"IF(B14<>\"\",VLOOKUP(IF(ISNUMBER(B14),TEXT(B14,\"0\"),B14),Pricelist!$A$3:$F$60643,3,FALSE),\"\")","v":170.7},0,{"$f":"IF(B14<>\"\",VLOOKUP(IF(ISNUMBER(B14),TEXT(B14,\"0\"),B14),Pricelist!$A$3:$F$60643,4,FALSE),\"\")","v":"1-ZE-01"},170.7,170.7,null,"1-ZE-03",0,null,0,null,31465,1,"ZENERGY - POKRYWA GÓRNA IP30, W650, D400",null,null,null,null,null,null,null,null,null,null,null,null,null,null,"Zenergy ON / PT (flush or surface mounted)"]
[4,80365,1,{"$f":"IF(B15<>\"\",VLOOKUP(IF(ISNUMBER(B15),TEXT(B15,\"0\"),B15),Pricelist!$A$3:$F$60643,6,FALSE),\"\")","v":"SZT"},{"$f":"IF(B15<>\"\",VLOOKUP(IF(ISNUMBER(B15),TEXT(B15,\"0\"),B15),Pricelist!$A$3:$F$60643,2,FALSE),\"\")","v":"ZENERGY - DRZWI PEŁNE IP30, H2000 X W650"},{"$f":"IF(B15<>\"\",VLOOKUP(IF(ISNUMBER(B15),TEXT(B15,\"0\"),B15),Pricelist!$A$3:$F$60643,5,FALSE),\"\")","v":"2019-10-02"},{"$f":"IF(B15<>\"\",VLOOKUP(IF(ISNUMBER(B15),TEXT(B15,\"0\"),B15),Pricelist!$A$3:$F$60643,3,FALSE),\"\")","v":802.6},0,{"$f":"IF(B15<>\"\",VLOOKUP(IF(ISNUMBER(B15),TEXT(B15,\"0\"),B15),Pricelist!$A$3:$F$60643,4,FALSE),\"\")","v":"1-ZE-01"},802.6,802.6,null,"1-ZE-04",0,null,0,null,80365,1,"ZENERGY - DRZWI PEŁNE IP30, H2000 X W650",null,null,null,null,null,null,null,null,null,null,null,null,null,null,"Modular support for Zenergy OU or Sarel Spacial 3D"]
[5,80965,1,{"$f":"IF(B16<>\"\",VLOOKUP(IF(ISNUMBER(B16),TEXT(B16,\"0\"),B16),Pricelist!$A$3:$F$60643,6,FALSE),\"\")","v":"SZT"},{"$f":"IF(B16<>\"\",VLOOKUP(IF(ISNUMBER(B16),TEXT(B16,\"0\"),B16),Pricelist!$A$3:$F$60643,2,FALSE),\"\")","v":"ZENERGY - PŁYTA MONTAŻOWA PEŁNA H2000 X W650 + WSPORNIKI,  ( 1850 X 550 )"},{"$f":"IF(B16<>\"\",VLOOKUP(IF(ISNUMBER(B16),TEXT(B16,\"0\"),B16),Pricelist!$A$3:$F$60643,5,FALSE),\"\")","v":"2019-10-02"},{"$f":"IF(B16<>\"\",VLOOKUP(IF(ISNUMBER(B16),TEXT(B16,\"0\"),B16),Pricelist!$A$3:$F$60643,3,FALSE),\"\")","v":627.20000000000005},0,{"$f":"IF(B16<>\"\",VLOOKUP(IF(ISNUMBER(B16),TEXT(B16,\"0\"),B16),Pricelist!$A$3:$F$60643,4,FALSE),\"\")","v":"1-ZE-01"},627.20000000000005,627.20000000000005,null,"1-ZE-06",0,null,0,null,80965,1,"ZENERGY - PŁYTA MONTAŻOWA PEŁNA H2000 X W650 + WSPORNIKI,  ( 1850 X 550 )",null,null,null,null,null,null,null,null,null,null,null,null,null,null,"Mounting plates for Zenergy OU"]
[6,81265,1,{"$f":"IF(B17<>\"\",VLOOKUP(IF(ISNUMBER(B17),TEXT(B17,\"0\"),B17),Pricelist!$A$3:$F$60643,6,FALSE),\"\")","v":"SZT"},{"$f":"IF(B17<>\"\",VLOOKUP(IF(ISNUMBER(B17),TEXT(B17,\"0\"),B17),Pricelist!$A$3:$F$60643,2,FALSE),\"\")","v":"ZENERGY - OSŁONA TYLNA PEŁNA IP30, H2000 X W650"},{"$f":"IF(B17<>\"\",VLOOKUP(IF(ISNUMBER(B17),TEXT(B17,\"0\"),B17),Pricelist!$A$3:$F$60643,5,FALSE),\"\")","v":"2019-10-02"},{"$f":"IF(B17<>\"\",VLOOKUP(IF(ISNUMBER(B17),TEXT(B17,\"0\"),B17),Pricelist!$A$3:$F$60643,3,FALSE),\"\")","v":455.8},0,{"$f":"IF(B17<>\"\",VLOOKUP(IF(ISNUMBER(B17),TEXT(B17,\"0\"),B17),Pricelist!$A$3:$F$60643,4,FALSE),\"\")","v":"1-ZE-01"},455.8,455.8,null,"1-ZE-08",0,null,0,null,81265,1,"ZENERGY - OSŁONA TYLNA PEŁNA IP30, H2000 X W650",null,null,null,null,null,null,null,null,null,null,null,null,null,null,"AlCubar busbars"]
[7,84065,1,{"$f":"IF(B18<>\"\",VLOOKUP(IF(ISNUMBER(B18),TEXT(B18,\"0\"),B18),Pricelist!$A$3:$F$60643,6,FALSE),\"\")","v":"SZT"},{"$f":"IF(B18<>\"\",VLOOKUP(IF(ISNUMBER(B18),TEXT(B18,\"0\"),B18),Pricelist!$A$3:$F$60643,2,FALSE),\"\")","v":"ZENERGY - RAMA, H2000 X D400 X W650"},{"$f":"IF(B18<>\"\",VLOOKUP(IF(ISNUMBER(B18),TEXT(B18,\"0\"),B18),Pricelist!$A$3:$F$60643,5,FALSE),\"\")","v":"2019-10-02"},{"$f":"IF(B18<>\"\",VLOOKUP(IF(ISNUMBER(B18),TEXT(B18,\"0\"),B18),Pricelist!$A$3:$F$60643,3,FALSE),\"\")","v":736},0,{"$f":"IF(B18<>\"\",VLOOKUP(IF(ISNUMBER(B18),TEXT(B18,\"0\"),B18),Pricelist!$A$3:$F$60643,4,FALSE),\"\")","v":"1-ZE-01"},736,736,null,"1-ZE-09",0,null,0,null,84065,1,"ZENERGY - RAMA, H2000 X D400 X W650",null,null,null,null,null,null,null,null,null,null,null,null,null,null,"Zenergy OM (Prisma G equivalent)"]
[8,89340,1,{"$f":"IF(B19<>\"\",VLOOKUP(IF(ISNUMBER(B19),TEXT(B19,\"0\"),B19),Pricelist!$A$3:$F$60643,6,FALSE),\"\")","v":"SZT"},{"$f":"IF(B19<>\"\",VLOOKUP(IF(ISNUMBER(B19),TEXT(B19,\"0\"),B19),Pricelist!$A$3:$F$60643,2,FALSE),\"\")","v":"ZENERGY - OSŁONY BOCZNE PEŁNE IP30, H2000 X D400"},{"$f":"IF(B19<>\"\",VLOOKUP(IF(ISNUMBER(B19),TEXT(B19,\"0\"),B19),Pricelist!$A$3:$F$60643,5,FALSE),\"\")","v":"2019-10-02"},{"$f":"IF(B19<>\"\",VLOOKUP(IF(ISNUMBER(B19),TEXT(B19,\"0\"),B19),Pricelist!$A$3:$F$60643,3,FALSE),\"\")","v":568.5},0,{"$f":"IF(B19<>\"\",VLOOKUP(IF(ISNUMBER(B19),TEXT(B19,\"0\"),B19),Pricelist!$A$3:$F$60643,4,FALSE),\"\")","v":"1-ZE-01"},568.5,568.5,null,"1-ZE-10",0,null,0,null,89340,1,"ZENERGY - OSŁONY BOCZNE PEŁNE IP30, H2000 X D400",null,null,null,null,null,null,null,null,null,null,null,null,null,null,"Components (sub-products)"]
[9,"00015",1,{"$f":"IF(B20<>\"\",VLOOKUP(IF(ISNUMBER(B20),TEXT(B20,\"0\"),B20),Pricelist!$A$3:$F$60643,6,FALSE),\"\")","v":"SZT"},{"$f":"IF(B20<>\"\",VLOOKUP(IF(ISNUMBER(B20),TEXT(B20,\"0\"),B20),Pricelist!$A$3:$F$60643,2,FALSE),\"\")","v":"ZENERGY ON/PT - DWA WSPORNIKI SZYN DIN OBUDOWY H850 15M - H750MM"},{"$f":"IF(B20<>\"\",VLOOKUP(IF(ISNUMBER(B20),TEXT(B20,\"0\"),B20),Pricelist!$A$3:$F$60643,5,FALSE),\"\")","v":"2018-10-22"},{"$f":"IF(B20<>\"\",VLOOKUP(IF(ISNUMBER(B20),TEXT(B20,\"0\"),B20),Pricelist!$A$3:$F$60643,3,FALSE),\"\")","v":45.3},0,{"$f":"IF(B20<>\"\",VLOOKUP(IF(ISNUMBER(B20),TEXT(B20,\"0\"),B20),Pricelist!$A$3:$F$60643,4,FALSE),\"\")","v":"1-ZE-03"},45.3,45.3,null,"1-ZE-18",0,null,0,null,"00015",1,"ZENERGY ON/PT - DWA WSPORNIKI SZYN DIN OBUDOWY H850 15M - H750MM",null,null,null,null,null,null,null,null,null,null,null,null,null,null,"Zenergy OM - Doors"]
[10,"20052",1,{"$f":"IF(B21<>\"\",VLOOKUP(IF(ISNUMBER(B21),TEXT(B21,\"0\"),B21),Pricelist!$A$3:$F$60643,6,FALSE),\"\")","v":"M"},{"$f":"IF(B21<>\"\",VLOOKUP(IF(ISNUMBER(B21),TEXT(B21,\"0\"),B21),Pricelist!$A$3:$F$60643,2,FALSE),\"\")","v":"ALCUBAR - PROFIL ANODOWANY ALCUBAR H100, 2500 MM2, 2 ROWKI CU, 2500A DT 55C"},{"$f":"IF(B21<>\"\",VLOOKUP(IF(ISNUMBER(B21),TEXT(B21,\"0\"),B21),Pricelist!$A$3:$F$60643,5,FALSE),\"\")","v":"2018-10-22"},{"$f":"IF(B21<>\"\",VLOOKUP(IF(ISNUMBER(B21),TEXT(B21,\"0\"),B21),Pricelist!$A$3:$F$60643,3,FALSE),\"\")","v":419},0,{"$f":"IF(B21<>\"\",VLOOKUP(IF(ISNUMBER(B21),TEXT(B21,\"0\"),B21),Pricelist!$A$3:$F$60643,4,FALSE),\"\")","v":"1-ZE-08"},419,419,null,"1-ZE-19",0,null,0,null,"20052",1,"ALCUBAR - PROFIL ANODOWANY ALCUBAR H100, 2500 MM2, 2 ROWKI CU, 2500A DT 55C",null,null,null,null,null,null,null,null,null,null,null,null,null,null,"Zenergy OM - Accessories"]
["","","",{"$f":"IF(B22<>\"\",VLOOKUP(IF(ISNUMBER(B22),TEXT(B22,\"0\"),B22),Pricelist!$A$3:$F$60643,6,FALSE),\"\")","v":""},{"$f":"IF(B22<>\"\",VLOOKUP(IF(ISNUMBER(B22),TEXT(B22,\"0\"),B22),Pricelist!$A$3:$F$60643,2,FALSE),\"\")","v":""},{"$f":"IF(B22<>\"\",VLOOKUP(IF(ISNUMBER(B22),TEXT(B22,\"0\"),B22),Pricelist!$A$3:$F$60643,5,FALSE),\"\")","v":""},{"$f":"IF(B22<>\"\",VLOOKUP(IF(ISNUMBER(B22),TEXT(B22,\"0\"),B22),Pricelist!$A$3:$F$60643,3,FALSE),\"\")","v":""},"",{"$f":"IF(B22<>\"\",VLOOKUP(IF(ISNUMBER(B22),TEXT(B22,\"0\"),B22),Pricelist!$A$3:$F$60643,4,FALSE),\"\")","v":""},"","",null,null,null,null,"",null,"","",""]
["","","",{"$f":"IF(B23<>\"\",VLOOKUP(IF(ISNUMBER(B23),TEXT(B23,\"0\"),B23),Pricelist!$A$3:$F$60643,6,FALSE),\"\")","v":""},{"$f":"IF(B23<>\"\",VLOOKUP(IF(ISNUMBER(B23),TEXT(B23,\"0\"),B23),Pricelist!$A$3:$F$60643,2,FALSE),\"\")","v":""},{"$f":"IF(B23<>\"\",VLOOKUP(IF(ISNUMBER(B23),TEXT(B23,\"0\"),B23),Pricelist!$A$3:$F$60643,5,FALSE),\"\")","v":""},{"$f":"IF(B23<>\"\",VLOOKUP(IF(ISNUMBER(B23),TEXT(B23,\"0\"),B23),Pricelist!$A$3:$F$60643,3,FALSE),\"\")","v":""},"",{"$f":"IF(B23<>\"\",VLOOKUP(IF(ISNUMBER(B23),TEXT(B23,\"0\"),B23),Pricelist!$A$3:$F$60643,4,FALSE),\"\")","v":""},"","",null,null,null,null,"",null,"","",""]
["","","",{"$f":"IF(B24<>\"\",VLOOKUP(IF(ISNUMBER(B24),TEXT(B24,\"0\"),B24),Pricelist!$A$3:$F$60643,6,FALSE),\"\")","v":""},{"$f":"IF(B24<>\"\",VLOOKUP(IF(ISNUMBER(B24),TEXT(B24,\"0\"),B24),Pricelist!$A$3:$F$60643,2,FALSE),\"\")","v":""},{"$f":"IF(B24<>\"\",VLOOKUP(IF(ISNUMBER(B24),TEXT(B24,\"0\"),B24),Pricelist!$A$3:$F$60643,5,FALSE),\"\")","v":""},{"$f":"IF(B24<>\"\",VLOOKUP(IF(ISNUMBER(B24),TEXT(B24,\"0\"),B24),Pricelist!$A$3:$F$60643,3,FALSE),\"\")","v":""},"",{"$f":"IF(B24<>\"\",VLOOKUP(IF(ISNUMBER(B24),TEXT(B24,\"0\"),B24),Pricelist!$A$3:$F$60643,4,FALSE),\"\")","v":""},"","",null,null,null,null,"",null,"","",""]
["","","",{"$f":"IF(B25<>\"\",VLOOKUP(IF(ISNUMBER(B25),TEXT(B25,\"0\"),B25),Pricelist!$A$3:$F$60643,6,FALSE),\"\")","v":""},{"$f":"IF(B25<>\"\",VLOOKUP(IF(ISNUMBER(B25),TEXT(B25,\"0\"),B25),Pricelist!$A$3:$F$60643,2,FALSE),\"\")","v":""},{"$f":"IF(B25<>\"\",VLOOKUP(IF(ISNUMBER(B25),TEXT(B25,\"0\"),B25),Pricelist!$A$3:$F$60643,5,FALSE),\"\")","v":""},{"$f":"IF(B25<>\"\",VLOOKUP(IF(ISNUMBER(B25),TEXT(B25,\"0\"),B25),Pricelist!$A$3:$F$60643,3,FALSE),\"\")","v":""},"",{"$f":"IF(B25<>\"\",VLOOKUP(IF(ISNUMBER(B25),TEXT(B25,\"0\"),B25),Pricelist!$A$3:$F$60643,4,FALSE),\"\")","v":""},"","",null,null,null,null,"",null,"","",""]
["","","",{"$f":"IF(B26<>\"\",VLOOKUP(IF(ISNUMBER(B26),TEXT(B26,\"0\"),B26),Pricelist!$A$3:$F$60643,6,FALSE),\"\")","v":""},{"$f":"IF(B26<>\"\",VLOOKUP(IF(ISNUMBER(B26),TEXT(B26,\"0\"),B26),Pricelist!$A$3:$F$60643,2,FALSE),\"\")","v":""},{"$f":"IF(B26<>\"\",VLOOKUP(IF(ISNUMBER(B26),TEXT(B26,\"0\"),B26),Pricelist!$A$3:$F$60643,5,FALSE),\"\")","v":""},{"$f":"IF(B26<>\"\",VLOOKUP(IF(ISNUMBER(B26),TEXT(B26,\"0\"),B26),Pricelist!$A$3:$F$60643,3,FALSE),\"\")","v":""},"",{"$f":"IF(B26<>\"\",VLOOKUP(IF(ISNUMBER(B26),TEXT(B26,\"0\"),B26),Pricelist!$A$3:$F$60643,4,FALSE),\"\")","v":""},"","",null,null,null,null,"",null,"","",""]
["","","",{"$f":"IF(B27<>\"\",VLOOKUP(IF(ISNUMBER(B27),TEXT(B27,\"0\"),B27),Pricelist!$A$3:$F$60643,6,FALSE),\"\")","v":""},{"$f":"IF(B27<>\"\",VLOOKUP(IF(ISNUMBER(B27),TEXT(B27,\"0\"),B27),Pricelist!$A$3:$F$60643,2,FALSE),\"\")","v":""},{"$f":"IF(B27<>\"\",VLOOKUP(IF(ISNUMBER(B27),TEXT(B27,\"0\"),B27),Pricelist!$A$3:$F$60643,5,FALSE),\"\")","v":""},{"$f":"IF(B27<>\"\",VLOOKUP(IF(ISNUMBER(B27),TEXT(B27,\"0\"),B27),Pricelist!$A$3:$F$60643,3,FALSE),\"\")","v":""},"",{"$f":"IF(B27<>\"\",VLOOKUP(IF(ISNUMBER(B27),TEXT(B27,\"0\"),B27),Pricelist!$A$3:$F$60643,4,FALSE),\"\")","v":""},"","",null,null,null,null,"",null,"","",""]
["","","",{"$f":"IF(B28<>\"\",VLOOKUP(IF(ISNUMBER(B28),TEXT(B28,\"0\"),B28),Pricelist!$A$3:$F$60643,6,FALSE),\"\")","v":""},{"$f":"IF(B28<>\"\",VLOOKUP(IF(ISNUMBER(B28),TEXT(B28,\"0\"),B28),Pricelist!$A$3:$F$60643,2,FALSE),\"\")","v":""},{"$f":"IF(B28<>\"\",VLOOKUP(IF(ISNUMBER(B28),TEXT(B28,\"0\"),B28),Pricelist!$A$3:$F$60643,5,FALSE),\"\")","v":""},{"$f":"IF(B28<>\"\",VLOOKUP(IF(ISNUMBER(B28),TEXT(B28,\"0\"),B28),Pricelist!$A$3:$F$60643,3,FALSE),\"\")","v":""},"",{"$f":"IF(B28<>\"\",VLOOKUP(IF(ISNUMBER(B28),TEXT(B28,\"0\"),B28),Pricelist!$A$3:$F$60643,4,FALSE),\"\")","v":""},"","",null,null,null,null,"",null,"","",""]
["","","",{"$f":"IF(B29<>\"\",VLOOKUP(IF(ISNUMBER(B29),TEXT(B29,\"0\"),B29),Pricelist!$A$3:$F$60643,6,FALSE),\"\")","v":""},{"$f":"IF(B29<>\"\",VLOOKUP(IF(ISNUMBER(B29),TEXT(B29,\"0\"),B29),Pricelist!$A$3:$F$60643,2,FALSE),\"\")","v":""},{"$f":"IF(B29<>\"\",VLOOKUP(IF(ISNUMBER(B29),TEXT(B29,\"0\"),B29),Pricelist!$A$3:$F$60643,5,FALSE),\"\")","v":""},{"$f":"IF(B29<>\"\",VLOOKUP(IF(ISNUMBER(B29),TEXT(B29,\"0\"),B29),Pricelist!$A$3:$F$60643,3,FALSE),\"\")","v":""},"",{"$f":"IF(B29<>\"\",VLOOKUP(IF(ISNUMBER(B29),TEXT(B29,\"0\"),B29),Pricelist!$A$3:$F$60643,4,FALSE),\"\")","v":""},"","",null,null,null,null,"",null,"","",""]
["","","",{"$f":"IF(B30<>\"\",VLOOKUP(IF(ISNUMBER(B30),TEXT(B30,\"0\"),B30),Pricelist!$A$3:$F$60643,6,FALSE),\"\")","v":""},{"$f":"IF(B30<>\"\",VLOOKUP(IF(ISNUMBER(B30),TEXT(B30,\"0\"),B30),Pricelist!$A$3:$F$60643,2,FALSE),\"\")","v":""},{"$f":"IF(B30<>\"\",VLOOKUP(IF(ISNUMBER(B30),TEXT(B30,\"0\"),B30),Pricelist!$A$3:$F$60643,5,FALSE),\"\")","v":""},{"$f":"IF(B30<>\"\",VLOOKUP(IF(ISNUMBER(B30),TEXT(B30,\"0\"),B30),Pricelist!$A$3:$F$60643,3,FALSE),\"\")","v":""},"",{"$f":"IF(B30<>\"\",VLOOKUP(IF(ISNUMBER(B30),TEXT(B30,\"0\"),B30),Pricelist!$A$3:$F$60643,4,FALSE),\"\")","v":""},"","",null,null,null,null,"",null,"","",""]
["","","",{"$f":"IF(B31<>\"\",VLOOKUP(IF(ISNUMBER(B31),TEXT(B31,\"0\"),B31),Pricelist!$A$3:$F$60643,6,FALSE),\"\")","v":""},{"$f":"IF(B31<>\"\",VLOOKUP(IF(ISNUMBER(B31),TEXT(B31,\"0\"),B31),Pricelist!$A$3:$F$60643,2,FALSE),\"\")","v":""},{"$f":"IF(B31<>\"\",VLOOKUP(IF(ISNUMBER(B31),TEXT(B31,\"0\"),B31),Pricelist!$A$3:$F$60643,5,FALSE),\"\")","v":""},{"$f":"IF(B31<>\"\",VLOOKUP(IF(ISNUMBER(B31),TEXT(B31,\"0\"),B31),Pricelist!$A$3:$F$60643,3,FALSE),\"\")","v":""},"",{"$f":"IF(B31<>\"\",VLOOKUP(IF(ISNUMBER(B31),TEXT(B31,\"0\"),B31),Pricelist!$A$3:$F$60643,4,FALSE),\"\")","v":""},"","",null,null,null,null,"",null,"","",""]
["","","",{"$f":"IF(B32<>\"\",VLOOKUP(IF(ISNUMBER(B32),TEXT(B32,\"0\"),B32),Pricelist!$A$3:$F$60643,6,FALSE),\"\")","v":""},{"$f":"IF(B32<>\"\",VLOOKUP(IF(ISNUMBER(B32),TEXT(B32,\"0\"),B32),Pricelist!$A$3:$F$60643,2,FALSE),\"\")","v":""},{"$f":"IF(B32<>\"\",VLOOKUP(IF(ISNUMBER(B32),TEXT(B32,\"0\"),B32),Pricelist!$A$3:$F$60643,5,FALSE),\"\")","v":""},{"$f":"IF(B32<>\"\",VLOOKUP(IF(ISNUMBER(B32),TEXT(B32,\"0\"),B32),Pricelist!$A$3:$F$60643,3,FALSE),\"\")","v":""},"",{"$f":"IF(B32<>\"\",VLOOKUP(IF(ISNUMBER(B32),TEXT(B32,\"0\"),B32),Pricelist!$A$3:$F$60643,4,FALSE),\"\")","v":""},"","",null,null,null,null,"",null,"","",""]
["","","",{"$f":"IF(B33<>\"\",VLOOKUP(IF(ISNUMBER(B33),TEXT(B33,\"0\"),B33),Pricelist!$A$3:$F$60643,6,FALSE),\"\")","v":""},{"$f":"IF(B33<>\"\",VLOOKUP(IF(ISNUMBER(B33),TEXT(B33,\"0\"),B33),Pricelist!$A$3:$F$60643,2,FALSE),\"\")","v":""},{"$f":"IF(B33<>\"\",VLOOKUP(IF(ISNUMBER(B33),TEXT(B33,\"0\"),B33),Pricelist!$A$3:$F$60643,5,FALSE),\"\")","v":""},{"$f":"IF(B33<>\"\",VLOOKUP(IF(ISNUMBER(B33),TEXT(B33,\"0\"),B33),Pricelist!$A$3:$F$60643,3,FALSE),\"\")","v":""},"",{"$f":"IF(B33<>\"\",VLOOKUP(IF(ISNUMBER(B33),TEXT(B33,\"0\"),B33),Pricelist!$A$3:$F$60643,4,FALSE),\"\")","v":""},"","",null,null,null,null,"",null,"","",""]
["","","",{"$f":"IF(B34<>\"\",VLOOKUP(IF(ISNUMBER(B34),TEXT(B34,\"0\"),B34),Pricelist!$A$3:$F$60643,6,FALSE),\"\")","v":""},{"$f":"IF(B34<>\"\",VLOOKUP(IF(ISNUMBER(B34),TEXT(B34,\"0\"),B34),Pricelist!$A$3:$F$60643,2,FALSE),\"\")","v":""},{"$f":"IF(B34<>\"\",VLOOKUP(IF(ISNUMBER(B34),TEXT(B34,\"0\"),B34),Pricelist!$A$3:$F$60643,5,FALSE),\"\")","v":""},{"$f":"IF(B34<>\"\",VLOOKUP(IF(ISNUMBER(B34),TEXT(B34,\"0\"),B34),Pricelist!$A$3:$F$60643,3,FALSE),\"\")","v":""},"",{"$f":"IF(B34<>\"\",VLOOKUP(IF(ISNUMBER(B34),TEXT(B34,\"0\"),B34),Pricelist!$A$3:$F$60643,4,FALSE),\"\")","v":""},"","",null,null,null,null,"",null,"","",""]
["","","",{"$f":"IF(B35<>\"\",VLOOKUP(IF(ISNUMBER(B35),TEXT(B35,\"0\"),B35),Pricelist!$A$3:$F$60643,6,FALSE),\"\")","v":""},{"$f":"IF(B35<>\"\",VLOOKUP(IF(ISNUMBER(B35),TEXT(B35,\"0\"),B35),Pricelist!$A$3:$F$60643,2,FALSE),\"\")","v":""},{"$f":"IF(B35<>\"\",VLOOKUP(IF(ISNUMBER(B35),TEXT(B35,\"0\"),B35),Pricelist!$A$3:$F$60643,5,FALSE),\"\")","v":""},{"$f":"IF(B35<>\"\",VLOOKUP(IF(ISNUMBER(B35),TEXT(B35,\"0\"),B35),Pricelist!$A$3:$F$60643,3,FALSE),\"\")","v":""},"",{"$f":"IF(B35<>\"\",VLOOKUP(IF(ISNUMBER(B35),TEXT(B35,\"0\"),B35),Pricelist!$A$3:$F$60643,4,FALSE),\"\")","v":""},"","",null,null,null,null,"",null,"","",""]
["","","",{"$f":"IF(B36<>\"\",VLOOKUP(IF(ISNUMBER(B36),TEXT(B36,\"0\"),B36),Pricelist!$A$3:$F$60643,6,FALSE),\"\")","v":""},{"$f":"IF(B36<>\"\",VLOOKUP(IF(ISNUMBER(B36),TEXT(B36,\"0\"),B36),Pricelist!$A$3:$F$60643,2,FALSE),\"\")","v":""},{"$f":"IF(B36<>\"\",VLOOKUP(IF(ISNUMBER(B36),TEXT(B36,\"0\"),B36),Pricelist!$A$3:$F$60643,5,FALSE),\"\")","v":""},{"$f":"IF(B36<>\"\",VLOOKUP(IF(ISNUMBER(B36),TEXT(B36,\"0\"),B36),Pricelist!$A$3:$F$60643,3,FALSE),\"\")","v":""},"",{"$f":"IF(B36<>\"\",VLOOKUP(IF(ISNUMBER(B36),TEXT(B36,\"0\"),B36),Pricelist!$A$3:$F$60643,4,FALSE),\"\")","v":""},"","",null,null,null,null,"",null,"","",""]
["","","",{"$f":"IF(B37<>\"\",VLOOKUP(IF(ISNUMBER(B37),TEXT(B37,\"0\"),B37),Pricelist!$A$3:$F$60643,6,FALSE),\"\")","v":""},{"$f":"IF(B37<>\"\",VLOOKUP(IF(ISNUMBER(B37),TEXT(B37,\"0\"),B37),Pricelist!$A$3:$F$60643,2,FALSE),\"\")","v":""},{"$f":"IF(B37<>\"\",VLOOKUP(IF(ISNUMBER(B37),TEXT(B37,\"0\"),B37),Pricelist!$A$3:$F$60643,5,FALSE),\"\")","v":""},{"$f":"IF(B37<>\"\",VLOOKUP(IF(ISNUMBER(B37),TEXT(B37,\"0\"),B37),Pricelist!$A$3:$F$60643,3,FALSE),\"\")","v":""},"",{"$f":"IF(B37<>\"\",VLOOKUP(IF(ISNUMBER(B37),TEXT(B37,\"0\"),B37),Pricelist!$A$3:$F$60643,4,FALSE),\"\")","v":""},"","",null,null,null,null,"",null,"","",""]
["","","",{"$f":"IF(B38<>\"\",VLOOKUP(IF(ISNUMBER(B38),TEXT(B38,\"0\"),B38),Pricelist!$A$3:$F$60643,6,FALSE),\"\")","v":""},{"$f":"IF(B38<>\"\",VLOOKUP(IF(ISNUMBER(B38),TEXT(B38,\"0\"),B38),Pricelist!$A$3:$F$60643,2,FALSE),\"\")","v":""},{"$f":"IF(B38<>\"\",VLOOKUP(IF(ISNUMBER(B38),TEXT(B38,\"0\"),B38),Pricelist!$A$3:$F$60643,5,FALSE),\"\")","v":""},{"$f":"IF(B38<>\"\",VLOOKUP(IF(ISNUMBER(B38),TEXT(B38,\"0\"),B38),Pricelist!$A$3:$F$60643,3,FALSE),\"\")","v":""},"",{"$f":"IF(B38<>\"\",VLOOKUP(IF(ISNUMBER(B38),TEXT(B38,\"0\"),B38),Pricelist!$A$3:$F$60643,4,FALSE),\"\")","v":""},"","",null,null,null,null,"",null,"","",""]
["","","",{"$f":"IF(B39<>\"\",VLOOKUP(IF(ISNUMBER(B39),TEXT(B39,\"0\"),B39),Pricelist!$A$3:$F$60643,6,FALSE),\"\")","v":""},{"$f":"IF(B39<>\"\",VLOOKUP(IF(ISNUMBER(B39),TEXT(B39,\"0\"),B39),Pricelist!$A$3:$F$60643,2,FALSE),\"\")","v":""},{"$f":"IF(B39<>\"\",VLOOKUP(IF(ISNUMBER(B39),TEXT(B39,\"0\"),B39),Pricelist!$A$3:$F$60643,5,FALSE),\"\")","v":""},{"$f":"IF(B39<>\"\",VLOOKUP(IF(ISNUMBER(B39),TEXT(B39,\"0\"),B39),Pricelist!$A$3:$F$60643,3,FALSE),\"\")","v":""},"",{"$f":"IF(B39<>\"\",VLOOKUP(IF(ISNUMBER(B39),TEXT(B39,\"0\"),B39),Pricelist!$A$3:$F$60643,4,FALSE),\"\")","v":""},"","",null,null,null,null,"",null,"","",""]
["","","",{"$f":"IF(B40<>\"\",VLOOKUP(IF(ISNUMBER(B40),TEXT(B40,\"0\"),B40),Pricelist!$A$3:$F$60643,6,FALSE),\"\")","v":""},{"$f":"IF(B40<>\"\",VLOOKUP(IF(ISNUMBER(B40),TEXT(B40,\"0\"),B40),Pricelist!$A$3:$F$60643,2,FALSE),\"\")","v":""},{"$f":"IF(B40<>\"\",VLOOKUP(IF(ISNUMBER(B40),TEXT(B40,\"0\"),B40),Pricelist!$A$3:$F$60643,5,FALSE),\"\")","v":""},{"$f":"IF(B40<>\"\",VLOOKUP(IF(ISNUMBER(B40),TEXT(B40,\"0\"),B40),Pricelist!$A$3:$F$60643,3,FALSE),\"\")","v":""},"",{"$f":"IF(B40<>\"\",VLOOKUP(IF(ISNUMBER(B40),TEXT(B40,\"0\"),B40),Pricelist!$A$3:$F$60643,4,FALSE),\"\")","v":""},"","",null,null,null,null,"",null,"","",""]
["","","",{"$f":"IF(B41<>\"\",VLOOKUP(IF(ISNUMBER(B41),TEXT(B41,\"0\"),B41),Pricelist!$A$3:$F$60643,6,FALSE),\"\")","v":""},{"$f":"IF(B41<>\"\",VLOOKUP(IF(ISNUMBER(B41),TEXT(B41,\"0\"),B41),Pricelist!$A$3:$F$60643,2,FALSE),\"\")","v":""},{"$f":"IF(B41<>\"\",VLOOKUP(IF(ISNUMBER(B41),TEXT(B41,\"0\"),B41),Pricelist!$A$3:$F$60643,5,FALSE),\"\")","v":""},{"$f":"IF(B41<>\"\",VLOOKUP(IF(ISNUMBER(B41),TEXT(B41,\"0\"),B41),Pricelist!$A$3:$F$60643,3,FALSE),\"\")","v":""},"",{"$f":"IF(B41<>\"\",VLOOKUP(IF(ISNUMBER(B41),TEXT(B41,\"0\"),B41),Pricelist!$A$3:$F$60643,4,FALSE),\"\")","v":""},"","",null,null,null,null,"",null,"","",""]
["","","",{"$f":"IF(B42<>\"\",VLOOKUP(IF(ISNUMBER(B42),TEXT(B42,\"0\"),B42),Pricelist!$A$3:$F$60643,6,FALSE),\"\")","v":""},{"$f":"IF(B42<>\"\",VLOOKUP(IF(ISNUMBER(B42),TEXT(B42,\"0\"),B42),Pricelist!$A$3:$F$60643,2,FALSE),\"\")","v":""},{"$f":"IF(B42<>\"\",VLOOKUP(IF(ISNUMBER(B42),TEXT(B42,\"0\"),B42),Pricelist!$A$3:$F$60643,5,FALSE),\"\")","v":""},{"$f":"IF(B42<>\"\",VLOOKUP(IF(ISNUMBER(B42),TEXT(B42,\"0\"),B42),Pricelist!$A$3:$F$60643,3,FALSE),\"\")","v":""},"",{"$f":"IF(B42<>\"\",VLOOKUP(IF(ISNUMBER(B42),TEXT(B42,\"0\"),B42),Pricelist!$A$3:$F$60643,4,FALSE),\"\")","v":""},"","",null,null,null,null,"",null,"","",""]
["","","",{"$f":"IF(B43<>\"\",VLOOKUP(IF(ISNUMBER(B43),TEXT(B43,\"0\"),B43),Pricelist!$A$3:$F$60643,6,FALSE),\"\")","v":""},{"$f":"IF(B43<>\"\",VLOOKUP(IF(ISNUMBER(B43),TEXT(B43,\"0\"),B43),Pricelist!$A$3:$F$60643,2,FALSE),\"\")","v":""},{"$f":"IF(B43<>\"\",VLOOKUP(IF(ISNUMBER(B43),TEXT(B43,\"0\"),B43),Pricelist!$A$3:$F$60643,5,FALSE),\"\")","v":""},{"$f":"IF(B43<>\"\",VLOOKUP(IF(ISNUMBER(B43),TEXT(B43,\"0\"),B43),Pricelist!$A$3:$F$60643,3,FALSE),\"\")","v":""},"",{"$f":"IF(B43<>\"\",VLOOKUP(IF(ISNUMBER(B43),TEXT(B43,\"0\"),B43),Pricelist!$A$3:$F$60643,4,FALSE),\"\")","v":""},"","",null,null,null,null,"",null,"","",""]
["","","",{"$f":"IF(B44<>\"\",VLOOKUP(IF(ISNUMBER(B44),TEXT(B44,\"0\"),B44),Pricelist!$A$3:$F$60643,6,FALSE),\"\")","v":""},{"$f":"IF(B44<>\"\",VLOOKUP(IF(ISNUMBER(B44),TEXT(B44,\"0\"),B44),Pricelist!$A$3:$F$60643,2,FALSE),\"\")","v":""},{"$f":"IF(B44<>\"\",VLOOKUP(IF(ISNUMBER(B44),TEXT(B44,\"0\"),B44),Pricelist!$A$3:$F$60643,5,FALSE),\"\")","v":""},{"$f":"IF(B44<>\"\",VLOOKUP(IF(ISNUMBER(B44),TEXT(B44,\"0\"),B44),Pricelist!$A$3:$F$60643,3,FALSE),\"\")","v":""},"",{"$f":"IF(B44<>\"\",VLOOKUP(IF(ISNUMBER(B44),TEXT(B44,\"0\"),B44),Pricelist!$A$3:$F$60643,4,FALSE),\"\")","v":""},"","",null,null,null,null,"",null,"",{"$f":"IF(R44=\"\",\"\",C44)","v":""},""]
["","","",{"$f":"IF(B45<>\"\",VLOOKUP(IF(ISNUMBER(B45),TEXT(B45,\"0\"),B45),Pricelist!$A$3:$F$60643,6,FALSE),\"\")","v":""},{"$f":"IF(B45<>\"\",VLOOKUP(IF(ISNUMBER(B45),TEXT(B45,\"0\"),B45),Pricelist!$A$3:$F$60643,2,FALSE),\"\")","v":""},{"$f":"IF(B45<>\"\",VLOOKUP(IF(ISNUMBER(B45),TEXT(B45,\"0\"),B45),Pricelist!$A$3:$F$60643,5,FALSE),\"\")","v":""},{"$f":"IF(B45<>\"\",VLOOKUP(IF(ISNUMBER(B45),TEXT(B45,\"0\"),B45),Pricelist!$A$3:$F$60643,3,FALSE),\"\")","v":""},"",{"$f":"IF(B45<>\"\",VLOOKUP(IF(ISNUMBER(B45),TEXT(B45,\"0\"),B45),Pricelist!$A$3:$F$60643,4,FALSE),\"\")","v":""},"","",null,null,null,null,"",null,"","",""]
["","","",{"$f":"IF(B46<>\"\",VLOOKUP(IF(ISNUMBER(B46),TEXT(B46,\"0\"),B46),Pricelist!$A$3:$F$60643,6,FALSE),\"\")","v":""},{"$f":"IF(B46<>\"\",VLOOKUP(IF(ISNUMBER(B46),TEXT(B46,\"0\"),B46),Pricelist!$A$3:$F$60643,2,FALSE),\"\")","v":""},{"$f":"IF(B46<>\"\",VLOOKUP(IF(ISNUMBER(B46),TEXT(B46,\"0\"),B46),Pricelist!$A$3:$F$60643,5,FALSE),\"\")","v":""},{"$f":"IF(B46<>\"\",VLOOKUP(IF(ISNUMBER(B46),TEXT(B46,\"0\"),B46),Pricelist!$A$3:$F$60643,3,FALSE),\"\")","v":""},"",{"$f":"IF(B46<>\"\",VLOOKUP(IF(ISNUMBER(B46),TEXT(B46,\"0\"),B46),Pricelist!$A$3:$F$60643,4,FALSE),\"\")","v":""},"","",null,null,null,null,"",null,"","",""]
["","","",{"$f":"IF(B47<>\"\",VLOOKUP(IF(ISNUMBER(B47),TEXT(B47,\"0\"),B47),Pricelist!$A$3:$F$60643,6,FALSE),\"\")","v":""},{"$f":"IF(B47<>\"\",VLOOKUP(IF(ISNUMBER(B47),TEXT(B47,\"0\"),B47),Pricelist!$A$3:$F$60643,2,FALSE),\"\")","v":""},{"$f":"IF(B47<>\"\",VLOOKUP(IF(ISNUMBER(B47),TEXT(B47,\"0\"),B47),Pricelist!$A$3:$F$60643,5,FALSE),\"\")","v":""},{"$f":"IF(B47<>\"\",VLOOKUP(IF(ISNUMBER(B47),TEXT(B47,\"0\"),B47),Pricelist!$A$3:$F$60643,3,FALSE),\"\")","v":""},"",{"$f":"IF(B47<>\"\",VLOOKUP(IF(ISNUMBER(B47),TEXT(B47,\"0\"),B47),Pricelist!$A$3:$F$60643,4,FALSE),\"\")","v":""},"","",null,null,null,null,"",null,"","",""]
["","","",{"$f":"IF(B48<>\"\",VLOOKUP(IF(ISNUMBER(B48),TEXT(B48,\"0\"),B48),Pricelist!$A$3:$F$60643,6,FALSE),\"\")","v":""},{"$f":"IF(B48<>\"\",VLOOKUP(IF(ISNUMBER(B48),TEXT(B48,\"0\"),B48),Pricelist!$A$3:$F$60643,2,FALSE),\"\")","v":""},{"$f":"IF(B48<>\"\",VLOOKUP(IF(ISNUMBER(B48),TEXT(B48,\"0\"),B48),Pricelist!$A$3:$F$60643,5,FALSE),\"\")","v":""},{"$f":"IF(B48<>\"\",VLOOKUP(IF(ISNUMBER(B48),TEXT(B48,\"0\"),B48),Pricelist!$A$3:$F$60643,3,FALSE),\"\")","v":""},"",{"$f":"IF(B48<>\"\",VLOOKUP(IF(ISNUMBER(B48),TEXT(B48,\"0\"),B48),Pricelist!$A$3:$F$60643,4,FALSE),\"\")","v":""},"","",null,null,null,null,"",null,"","",""]
["","","",{"$f":"IF(B49<>\"\",VLOOKUP(IF(ISNUMBER(B49),TEXT(B49,\"0\"),B49),Pricelist!$A$3:$F$60643,6,FALSE),\"\")","v":""},{"$f":"IF(B49<>\"\",VLOOKUP(IF(ISNUMBER(B49),TEXT(B49,\"0\"),B49),Pricelist!$A$3:$F$60643,2,FALSE),\"\")","v":""},{"$f":"IF(B49<>\"\",VLOOKUP(IF(ISNUMBER(B49),TEXT(B49,\"0\"),B49),Pricelist!$A$3:$F$60643,5,FALSE),\"\")","v":""},{"$f":"IF(B49<>\"\",VLOOKUP(IF(ISNUMBER(B49),TEXT(B49,\"0\"),B49),Pricelist!$A$3:$F$60643,3,FALSE),\"\")","v":""},"",{"$f":"IF(B49<>\"\",VLOOKUP(IF(ISNUMBER(B49),TEXT(B49,\"0\"),B49),Pricelist!$A$3:$F$60643,4,FALSE),\"\")","v":""},"","",null,null,null,null,"",null,"","",""]
["","","",{"$f":"IF(B50<>\"\",VLOOKUP(IF(ISNUMBER(B50),TEXT(B50,\"0\"),B50),Pricelist!$A$3:$F$60643,6,FALSE),\"\")","v":""},{"$f":"IF(B50<>\"\",VLOOKUP(IF(ISNUMBER(B50),TEXT(B50,\"0\"),B50),Pricelist!$A$3:$F$60643,2,FALSE),\"\")","v":""},{"$f":"IF(B50<>\"\",VLOOKUP(IF(ISNUMBER(B50),TEXT(B50,\"0\"),B50),Pricelist!$A$3:$F$60643,5,FALSE),\"\")","v":""},{"$f":"IF(B50<>\"\",VLOOKUP(IF(ISNUMBER(B50),TEXT(B50,\"0\"),B50),Pricelist!$A$3:$F$60643,3,FALSE),\"\")","v":""},"",{"$f":"IF(B50<>\"\",VLOOKUP(IF(ISNUMBER(B50),TEXT(B50,\"0\"),B50),Pricelist!$A$3:$F$60643,4,FALSE),\"\")","v":""},"","",null,null,null,null,"",null,"","",""]
["","","",{"$f":"IF(B51<>\"\",VLOOKUP(IF(ISNUMBER(B51),TEXT(B51,\"0\"),B51),Pricelist!$A$3:$F$60643,6,FALSE),\"\")","v":""},{"$f":"IF(B51<>\"\",VLOOKUP(IF(ISNUMBER(B51),TEXT(B51,\"0\"),B51),Pricelist!$A$3:$F$60643,2,FALSE),\"\")","v":""},{"$f":"IF(B51<>\"\",VLOOKUP(IF(ISNUMBER(B51),TEXT(B51,\"0\"),B51),Pricelist!$A$3:$F$60643,5,FALSE),\"\")","v":""},{"$f":"IF(B51<>\"\",VLOOKUP(IF(ISNUMBER(B51),TEXT(B51,\"0\"),B51),Pricelist!$A$3:$F$60643,3,FALSE),\"\")","v":""},"",{"$f":"IF(B51<>\"\",VLOOKUP(IF(ISNUMBER(B51),TEXT(B51,\"0\"),B51),Pricelist!$A$3:$F$60643,4,FALSE),\"\")","v":""},"","",null,null,null,null,"",null,"","",""]
["","","",{"$f":"IF(B52<>\"\",VLOOKUP(IF(ISNUMBER(B52),TEXT(B52,\"0\"),B52),Pricelist!$A$3:$F$60643,6,FALSE),\"\")","v":""},{"$f":"IF(B52<>\"\",VLOOKUP(IF(ISNUMBER(B52),TEXT(B52,\"0\"),B52),Pricelist!$A$3:$F$60643,2,FALSE),\"\")","v":""},{"$f":"IF(B52<>\"\",VLOOKUP(IF(ISNUMBER(B52),TEXT(B52,\"0\"),B52),Pricelist!$A$3:$F$60643,5,FALSE),\"\")","v":""},{"$f":"IF(B52<>\"\",VLOOKUP(IF(ISNUMBER(B52),TEXT(B52,\"0\"),B52),Pricelist!$A$3:$F$60643,3,FALSE),\"\")","v":""},"",{"$f":"IF(B52<>\"\",VLOOKUP(IF(ISNUMBER(B52),TEXT(B52,\"0\"),B52),Pricelist!$A$3:$F$60643,4,FALSE),\"\")","v":""},"","",null,null,null,null,"",null,"","",""]
["","","",{"$f":"IF(B53<>\"\",VLOOKUP(IF(ISNUMBER(B53),TEXT(B53,\"0\"),B53),Pricelist!$A$3:$F$60643,6,FALSE),\"\")","v":""},{"$f":"IF(B53<>\"\",VLOOKUP(IF(ISNUMBER(B53),TEXT(B53,\"0\"),B53),Pricelist!$A$3:$F$60643,2,FALSE),\"\")","v":""},{"$f":"IF(B53<>\"\",VLOOKUP(IF(ISNUMBER(B53),TEXT(B53,\"0\"),B53),Pricelist!$A$3:$F$60643,5,FALSE),\"\")","v":""},{"$f":"IF(B53<>\"\",VLOOKUP(IF(ISNUMBER(B53),TEXT(B53,\"0\"),B53),Pricelist!$A$3:$F$60643,3,FALSE),\"\")","v":""},"",{"$f":"IF(B53<>\"\",VLOOKUP(IF(ISNUMBER(B53),TEXT(B53,\"0\"),B53),Pricelist!$A$3:$F$60643,4,FALSE),\"\")","v":""},"","",null,null,null,null,"",null,"","",""]
["","","",{"$f":"IF(B54<>\"\",VLOOKUP(IF(ISNUMBER(B54),TEXT(B54,\"0\"),B54),Pricelist!$A$3:$F$60643,6,FALSE),\"\")","v":""},{"$f":"IF(B54<>\"\",VLOOKUP(IF(ISNUMBER(B54),TEXT(B54,\"0\"),B54),Pricelist!$A$3:$F$60643,2,FALSE),\"\")","v":""},{"$f":"IF(B54<>\"\",VLOOKUP(IF(ISNUMBER(B54),TEXT(B54,\"0\"),B54),Pricelist!$A$3:$F$60643,5,FALSE),\"\")","v":""},{"$f":"IF(B54<>\"\",VLOOKUP(IF(ISNUMBER(B54),TEXT(B54,\"0\"),B54),Pricelist!$A$3:$F$60643,3,FALSE),\"\")","v":""},"",{"$f":"IF(B54<>\"\",VLOOKUP(IF(ISNUMBER(B54),TEXT(B54,\"0\"),B54),Pricelist!$A$3:$F$60643,4,FALSE),\"\")","v":""},"","",null,null,null,null,"",null,"","",""]
["","","",{"$f":"IF(B55<>\"\",VLOOKUP(IF(ISNUMBER(B55),TEXT(B55,\"0\"),B55),Pricelist!$A$3:$F$60643,6,FALSE),\"\")","v":""},{"$f":"IF(B55<>\"\",VLOOKUP(IF(ISNUMBER(B55),TEXT(B55,\"0\"),B55),Pricelist!$A$3:$F$60643,2,FALSE),\"\")","v":""},{"$f":"IF(B55<>\"\",VLOOKUP(IF(ISNUMBER(B55),TEXT(B55,\"0\"),B55),Pricelist!$A$3:$F$60643,5,FALSE),\"\")","v":""},{"$f":"IF(B55<>\"\",VLOOKUP(IF(ISNUMBER(B55),TEXT(B55,\"0\"),B55),Pricelist!$A$3:$F$60643,3,FALSE),\"\")","v":""},"",{"$f":"IF(B55<>\"\",VLOOKUP(IF(ISNUMBER(B55),TEXT(B55,\"0\"),B55),Pricelist!$A$3:$F$60643,4,FALSE),\"\")","v":""},"","",null,null,null,null,"",null,"","",""]
["","","",{"$f":"IF(B56<>\"\",VLOOKUP(IF(ISNUMBER(B56),TEXT(B56,\"0\"),B56),Pricelist!$A$3:$F$60643,6,FALSE),\"\")","v":""},{"$f":"IF(B56<>\"\",VLOOKUP(IF(ISNUMBER(B56),TEXT(B56,\"0\"),B56),Pricelist!$A$3:$F$60643,2,FALSE),\"\")","v":""},{"$f":"IF(B56<>\"\",VLOOKUP(IF(ISNUMBER(B56),TEXT(B56,\"0\"),B56),Pricelist!$A$3:$F$60643,5,FALSE),\"\")","v":""},{"$f":"IF(B56<>\"\",VLOOKUP(IF(ISNUMBER(B56),TEXT(B56,\"0\"),B56),Pricelist!$A$3:$F$60643,3,FALSE),\"\")","v":""},"",{"$f":"IF(B56<>\"\",VLOOKUP(IF(ISNUMBER(B56),TEXT(B56,\"0\"),B56),Pricelist!$A$3:$F$60643,4,FALSE),\"\")","v":""},"","",null,null,null,null,"",null,"","",""]
["","","",{"$f":"IF(B57<>\"\",VLOOKUP(IF(ISNUMBER(B57),TEXT(B57,\"0\"),B57),Pricelist!$A$3:$F$60643,6,FALSE),\"\")","v":""},{"$f":"IF(B57<>\"\",VLOOKUP(IF(ISNUMBER(B57),TEXT(B57,\"0\"),B57),Pricelist!$A$3:$F$60643,2,FALSE),\"\")","v":""},{"$f":"IF(B57<>\"\",VLOOKUP(IF(ISNUMBER(B57),TEXT(B57,\"0\"),B57),Pricelist!$A$3:$F$60643,5,FALSE),\"\")","v":""},{"$f":"IF(B57<>\"\",VLOOKUP(IF(ISNUMBER(B57),TEXT(B57,\"0\"),B57),Pricelist!$A$3:$F$60643,3,FALSE),\"\")","v":""},"",{"$f":"IF(B57<>\"\",VLOOKUP(IF(ISNUMBER(B57),TEXT(B57,\"0\"),B57),Pricelist!$A$3:$F$60643,4,FALSE),\"\")","v":""},"","",null,null,null,null,"",null,"","",""]
["","","",{"$f":"IF(B58<>\"\",VLOOKUP(IF(ISNUMBER(B58),TEXT(B58,\"0\"),B58),Pricelist!$A$3:$F$60643,6,FALSE),\"\")","v":""},{"$f":"IF(B58<>\"\",VLOOKUP(IF(ISNUMBER(B58),TEXT(B58,\"0\"),B58),Pricelist!$A$3:$F$60643,2,FALSE),\"\")","v":""},{"$f":"IF(B58<>\"\",VLOOKUP(IF(ISNUMBER(B58),TEXT(B58,\"0\"),B58),Pricelist!$A$3:$F$60643,5,FALSE),\"\")","v":""},{"$f":"IF(B58<>\"\",VLOOKUP(IF(ISNUMBER(B58),TEXT(B58,\"0\"),B58),Pricelist!$A$3:$F$60643,3,FALSE),\"\")","v":""},"",{"$f":"IF(B58<>\"\",VLOOKUP(IF(ISNUMBER(B58),TEXT(B58,\"0\"),B58),Pricelist!$A$3:$F$60643,4,FALSE),\"\")","v":""},"","",null,null,null,null,"",null,"","",""]
["","","",{"$f":"IF(B59<>\"\",VLOOKUP(IF(ISNUMBER(B59),TEXT(B59,\"0\"),B59),Pricelist!$A$3:$F$60643,6,FALSE),\"\")","v":""},{"$f":"IF(B59<>\"\",VLOOKUP(IF(ISNUMBER(B59),TEXT(B59,\"0\"),B59),Pricelist!$A$3:$F$60643,2,FALSE),\"\")","v":""},{"$f":"IF(B59<>\"\",VLOOKUP(IF(ISNUMBER(B59),TEXT(B59,\"0\"),B59),Pricelist!$A$3:$F$60643,5,FALSE),\"\")","v":""},{"$f":"IF(B59<>\"\",VLOOKUP(IF(ISNUMBER(B59),TEXT(B59,\"0\"),B59),Pricelist!$A$3:$F$60643,3,FALSE),\"\")","v":""},"",{"$f":"IF(B59<>\"\",VLOOKUP(IF(ISNUMBER(B59),TEXT(B59,\"0\"),B59),Pricelist!$A$3:$F$60643,4,FALSE),\"\")","v":""},"","",null,null,null,null,"",null,"","",""]
["","","",{"$f":"IF(B60<>\"\",VLOOKUP(IF(ISNUMBER(B60),TEXT(B60,\"0\"),B60),Pricelist!$A$3:$F$60643,6,FALSE),\"\")","v":""},{"$f":"IF(B60<>\"\",VLOOKUP(IF(ISNUMBER(B60),TEXT(B60,\"0\"),B60),Pricelist!$A$3:$F$60643,2,FALSE),\"\")","v":""},{"$f":"IF(B60<>\"\",VLOOKUP(IF(ISNUMBER(B60),TEXT(B60,\"0\"),B60),Pricelist!$A$3:$F$60643,5,FALSE),\"\")","v":""},{"$f":"IF(B60<>\"\",VLOOKUP(IF(ISNUMBER(B60),TEXT(B60,\"0\"),B60),Pricelist!$A$3:$F$60643,3,FALSE),\"\")","v":""},"",{"$f":"IF(B60<>\"\",VLOOKUP(IF(ISNUMBER(B60),TEXT(B60,\"0\"),B60),Pricelist!$A$3:$F$60643,4,FALSE),\"\")","v":""},"","",null,null,null,null,"",null,"","",""]
["","","",{"$f":"IF(B61<>\"\",VLOOKUP(IF(ISNUMBER(B61),TEXT(B61,\"0\"),B61),Pricelist!$A$3:$F$60643,6,FALSE),\"\")","v":""},{"$f":"IF(B61<>\"\",VLOOKUP(IF(ISNUMBER(B61),TEXT(B61,\"0\"),B61),Pricelist!$A$3:$F$60643,2,FALSE),\"\")","v":""},{"$f":"IF(B61<>\"\",VLOOKUP(IF(ISNUMBER(B61),TEXT(B61,\"0\"),B61),Pricelist!$A$3:$F$60643,5,FALSE),\"\")","v":""},{"$f":"IF(B61<>\"\",VLOOKUP(IF(ISNUMBER(B61),TEXT(B61,\"0\"),B61),Pricelist!$A$3:$F$60643,3,FALSE),\"\")","v":""},"",{"$f":"IF(B61<>\"\",VLOOKUP(IF(ISNUMBER(B61),TEXT(B61,\"0\"),B61),Pricelist!$A$3:$F$60643,4,FALSE),\"\")","v":""},"","",null,null,null,null,"",null,"","",""]
["","","",{"$f":"IF(B62<>\"\",VLOOKUP(IF(ISNUMBER(B62),TEXT(B62,\"0\"),B62),Pricelist!$A$3:$F$60643,6,FALSE),\"\")","v":""},{"$f":"IF(B62<>\"\",VLOOKUP(IF(ISNUMBER(B62),TEXT(B62,\"0\"),B62),Pricelist!$A$3:$F$60643,2,FALSE),\"\")","v":""},{"$f":"IF(B62<>\"\",VLOOKUP(IF(ISNUMBER(B62),TEXT(B62,\"0\"),B62),Pricelist!$A$3:$F$60643,5,FALSE),\"\")","v":""},{"$f":"IF(B62<>\"\",VLOOKUP(IF(ISNUMBER(B62),TEXT(B62,\"0\"),B62),Pricelist!$A$3:$F$60643,3,FALSE),\"\")","v":""},"",{"$f":"IF(B62<>\"\",VLOOKUP(IF(ISNUMBER(B62),TEXT(B62,\"0\"),B62),Pricelist!$A$3:$F$60643,4,FALSE),\"\")","v":""},"","",null,null,null,null,"",null,"","",""]
["","","",{"$f":"IF(B63<>\"\",VLOOKUP(IF(ISNUMBER(B63),TEXT(B63,\"0\"),B63),Pricelist!$A$3:$F$60643,6,FALSE),\"\")","v":""},{"$f":"IF(B63<>\"\",VLOOKUP(IF(ISNUMBER(B63),TEXT(B63,\"0\"),B63),Pricelist!$A$3:$F$60643,2,FALSE),\"\")","v":""},{"$f":"IF(B63<>\"\",VLOOKUP(IF(ISNUMBER(B63),TEXT(B63,\"0\"),B63),Pricelist!$A$3:$F$60643,5,FALSE),\"\")","v":""},{"$f":"IF(B63<>\"\",VLOOKUP(IF(ISNUMBER(B63),TEXT(B63,\"0\"),B63),Pricelist!$A$3:$F$60643,3,FALSE),\"\")","v":""},"",{"$f":"IF(B63<>\"\",VLOOKUP(IF(ISNUMBER(B63),TEXT(B63,\"0\"),B63),Pricelist!$A$3:$F$60643,4,FALSE),\"\")","v":""},"","",null,null,null,null,"",null,"","",""]
["","","",{"$f":"IF(B64<>\"\",VLOOKUP(IF(ISNUMBER(B64),TEXT(B64,\"0\"),B64),Pricelist!$A$3:$F$60643,6,FALSE),\"\")","v":""},{"$f":"IF(B64<>\"\",VLOOKUP(IF(ISNUMBER(B64),TEXT(B64,\"0\"),B64),Pricelist!$A$3:$F$60643,2,FALSE),\"\")","v":""},{"$f":"IF(B64<>\"\",VLOOKUP(IF(ISNUMBER(B64),TEXT(B64,\"0\"),B64),Pricelist!$A$3:$F$60643,5,FALSE),\"\")","v":""},{"$f":"IF(B64<>\"\",VLOOKUP(IF(ISNUMBER(B64),TEXT(B64,\"0\"),B64),Pricelist!$A$3:$F$60643,3,FALSE),\"\")","v":""},"",{"$f":"IF(B64<>\"\",VLOOKUP(IF(ISNUMBER(B64),TEXT(B64,\"0\"),B64),Pricelist!$A$3:$F$60643,4,FALSE),\"\")","v":""},"","",null,null,null,null,"",null,"","",""]
["","","",{"$f":"IF(B65<>\"\",VLOOKUP(IF(ISNUMBER(B65),TEXT(B65,\"0\"),B65),Pricelist!$A$3:$F$60643,6,FALSE),\"\")","v":""},{"$f":"IF(B65<>\"\",VLOOKUP(IF(ISNUMBER(B65),TEXT(B65,\"0\"),B65),Pricelist!$A$3:$F$60643,2,FALSE),\"\")","v":""},{"$f":"IF(B65<>\"\",VLOOKUP(IF(ISNUMBER(B65),TEXT(B65,\"0\"),B65),Pricelist!$A$3:$F$60643,5,FALSE),\"\")","v":""},{"$f":"IF(B65<>\"\",VLOOKUP(IF(ISNUMBER(B65),TEXT(B65,\"0\"),B65),Pricelist!$A$3:$F$60643,3,FALSE),\"\")","v":""},"",{"$f":"IF(B65<>\"\",VLOOKUP(IF(ISNUMBER(B65),TEXT(B65,\"0\"),B65),Pricelist!$A$3:$F$60643,4,FALSE),\"\")","v":""},"","",null,null,null,null,"",null,"","",""]
["","","",{"$f":"IF(B66<>\"\",VLOOKUP(IF(ISNUMBER(B66),TEXT(B66,\"0\"),B66),Pricelist!$A$3:$F$60643,6,FALSE),\"\")","v":""},{"$f":"IF(B66<>\"\",VLOOKUP(IF(ISNUMBER(B66),TEXT(B66,\"0\"),B66),Pricelist!$A$3:$F$60643,2,FALSE),\"\")","v":""},{"$f":"IF(B66<>\"\",VLOOKUP(IF(ISNUMBER(B66),TEXT(B66,\"0\"),B66),Pricelist!$A$3:$F$60643,5,FALSE),\"\")","v":""},{"$f":"IF(B66<>\"\",VLOOKUP(IF(ISNUMBER(B66),TEXT(B66,\"0\"),B66),Pricelist!$A$3:$F$60643,3,FALSE),\"\")","v":""},"",{"$f":"IF(B66<>\"\",VLOOKUP(IF(ISNUMBER(B66),TEXT(B66,\"0\"),B66),Pricelist!$A$3:$F$60643,4,FALSE),\"\")","v":""},"","",null,null,null,null,"",null,"","",""]
["","","",{"$f":"IF(B67<>\"\",VLOOKUP(IF(ISNUMBER(B67),TEXT(B67,\"0\"),B67),Pricelist!$A$3:$F$60643,6,FALSE),\"\")","v":""},{"$f":"IF(B67<>\"\",VLOOKUP(IF(ISNUMBER(B67),TEXT(B67,\"0\"),B67),Pricelist!$A$3:$F$60643,2,FALSE),\"\")","v":""},{"$f":"IF(B67<>\"\",VLOOKUP(IF(ISNUMBER(B67),TEXT(B67,\"0\"),B67),Pricelist!$A$3:$F$60643,5,FALSE),\"\")","v":""},{"$f":"IF(B67<>\"\",VLOOKUP(IF(ISNUMBER(B67),TEXT(B67,\"0\"),B67),Pricelist!$A$3:$F$60643,3,FALSE),\"\")","v":""},"",{"$f":"IF(B67<>\"\",VLOOKUP(IF(ISNUMBER(B67),TEXT(B67,\"0\"),B67),Pricelist!$A$3:$F$60643,4,FALSE),\"\")","v":""},"","",null,null,null,null,"",null,"","",""]
["","","",{"$f":"IF(B68<>\"\",VLOOKUP(IF(ISNUMBER(B68),TEXT(B68,\"0\"),B68),Pricelist!$A$3:$F$60643,6,FALSE),\"\")","v":""},{"$f":"IF(B68<>\"\",VLOOKUP(IF(ISNUMBER(B68),TEXT(B68,\"0\"),B68),Pricelist!$A$3:$F$60643,2,FALSE),\"\")","v":""},{"$f":"IF(B68<>\"\",VLOOKUP(IF(ISNUMBER(B68),TEXT(B68,\"0\"),B68),Pricelist!$A$3:$F$60643,5,FALSE),\"\")","v":""},{"$f":"IF(B68<>\"\",VLOOKUP(IF(ISNUMBER(B68),TEXT(B68,\"0\"),B68),Pricelist!$A$3:$F$60643,3,FALSE),\"\")","v":""},"",{"$f":"IF(B68<>\"\",VLOOKUP(IF(ISNUMBER(B68),TEXT(B68,\"0\"),B68),Pricelist!$A$3:$F$60643,4,FALSE),\"\")","v":""},"","",null,null,null,null,"",null,"","",""]
["","","",{"$f":"IF(B69<>\"\",VLOOKUP(IF(ISNUMBER(B69),TEXT(B69,\"0\"),B69),Pricelist!$A$3:$F$60643,6,FALSE),\"\")","v":""},{"$f":"IF(B69<>\"\",VLOOKUP(IF(ISNUMBER(B69),TEXT(B69,\"0\"),B69),Pricelist!$A$3:$F$60643,2,FALSE),\"\")","v":""},{"$f":"IF(B69<>\"\",VLOOKUP(IF(ISNUMBER(B69),TEXT(B69,\"0\"),B69),Pricelist!$A$3:$F$60643,5,FALSE),\"\")","v":""},{"$f":"IF(B69<>\"\",VLOOKUP(IF(ISNUMBER(B69),TEXT(B69,\"0\"),B69),Pricelist!$A$3:$F$60643,3,FALSE),\"\")","v":""},"",{"$f":"IF(B69<>\"\",VLOOKUP(IF(ISNUMBER(B69),TEXT(B69,\"0\"),B69),Pricelist!$A$3:$F$60643,4,FALSE),\"\")","v":""},"","",null,null,null,null,"",null,"","",""]
["","","",{"$f":"IF(B70<>\"\",VLOOKUP(IF(ISNUMBER(B70),TEXT(B70,\"0\"),B70),Pricelist!$A$3:$F$60643,6,FALSE),\"\")","v":""},{"$f":"IF(B70<>\"\",VLOOKUP(IF(ISNUMBER(B70),TEXT(B70,\"0\"),B70),Pricelist!$A$3:$F$60643,2,FALSE),\"\")","v":""},{"$f":"IF(B70<>\"\",VLOOKUP(IF(ISNUMBER(B70),TEXT(B70,\"0\"),B70),Pricelist!$A$3:$F$60643,5,FALSE),\"\")","v":""},{"$f":"IF(B70<>\"\",VLOOKUP(IF(ISNUMBER(B70),TEXT(B70,\"0\"),B70),Pricelist!$A$3:$F$60643,3,FALSE),\"\")","v":""},"",{"$f":"IF(B70<>\"\",VLOOKUP(IF(ISNUMBER(B70),TEXT(B70,\"0\"),B70),Pricelist!$A$3:$F$60643,4,FALSE),\"\")","v":""},"","",null,null,null,null,"",null,"","",""]
["","","",{"$f":"IF(B71<>\"\",VLOOKUP(IF(ISNUMBER(B71),TEXT(B71,\"0\"),B71),Pricelist!$A$3:$F$60643,6,FALSE),\"\")","v":""},{"$f":"IF(B71<>\"\",VLOOKUP(IF(ISNUMBER(B71),TEXT(B71,\"0\"),B71),Pricelist!$A$3:$F$60643,2,FALSE),\"\")","v":""},{"$f":"IF(B71<>\"\",VLOOKUP(IF(ISNUMBER(B71),TEXT(B71,\"0\"),B71),Pricelist!$A$3:$F$60643,5,FALSE),\"\")","v":""},{"$f":"IF(B71<>\"\",VLOOKUP(IF(ISNUMBER(B71),TEXT(B71,\"0\"),B71),Pricelist!$A$3:$F$60643,3,FALSE),\"\")","v":""},"",{"$f":"IF(B71<>\"\",VLOOKUP(IF(ISNUMBER(B71),TEXT(B71,\"0\"),B71),Pricelist!$A$3:$F$60643,4,FALSE),\"\")","v":""},"","",null,null,null,null,"",null,"","",""]
["","","",{"$f":"IF(B72<>\"\",VLOOKUP(IF(ISNUMBER(B72),TEXT(B72,\"0\"),B72),Pricelist!$A$3:$F$60643,6,FALSE),\"\")","v":""},{"$f":"IF(B72<>\"\",VLOOKUP(IF(ISNUMBER(B72),TEXT(B72,\"0\"),B72),Pricelist!$A$3:$F$60643,2,FALSE),\"\")","v":""},{"$f":"IF(B72<>\"\",VLOOKUP(IF(ISNUMBER(B72),TEXT(B72,\"0\"),B72),Pricelist!$A$3:$F$60643,5,FALSE),\"\")","v":""},{"$f":"IF(B72<>\"\",VLOOKUP(IF(ISNUMBER(B72),TEXT(B72,\"0\"),B72),Pricelist!$A$3:$F$60643,3,FALSE),\"\")","v":""},"",{"$f":"IF(B72<>\"\",VLOOKUP(IF(ISNUMBER(B72),TEXT(B72,\"0\"),B72),Pricelist!$A$3:$F$60643,4,FALSE),\"\")","v":""},"","",null,null,null,null,"",null,"","",""]
["","","",{"$f":"IF(B73<>\"\",VLOOKUP(IF(ISNUMBER(B73),TEXT(B73,\"0\"),B73),Pricelist!$A$3:$F$60643,6,FALSE),\"\")","v":""},{"$f":"IF(B73<>\"\",VLOOKUP(IF(ISNUMBER(B73),TEXT(B73,\"0\"),B73),Pricelist!$A$3:$F$60643,2,FALSE),\"\")","v":""},{"$f":"IF(B73<>\"\",VLOOKUP(IF(ISNUMBER(B73),TEXT(B73,\"0\"),B73),Pricelist!$A$3:$F$60643,5,FALSE),\"\")","v":""},{"$f":"IF(B73<>\"\",VLOOKUP(IF(ISNUMBER(B73),TEXT(B73,\"0\"),B73),Pricelist!$A$3:$F$60643,3,FALSE),\"\")","v":""},"",{"$f":"IF(B73<>\"\",VLOOKUP(IF(ISNUMBER(B73),TEXT(B73,\"0\"),B73),Pricelist!$A$3:$F$60643,4,FALSE),\"\")","v":""},"","",null,null,null,null,"",null,"","",""]
["","","",{"$f":"IF(B74<>\"\",VLOOKUP(IF(ISNUMBER(B74),TEXT(B74,\"0\"),B74),Pricelist!$A$3:$F$60643,6,FALSE),\"\")","v":""},{"$f":"IF(B74<>\"\",VLOOKUP(IF(ISNUMBER(B74),TEXT(B74,\"0\"),B74),Pricelist!$A$3:$F$60643,2,FALSE),\"\")","v":""},{"$f":"IF(B74<>\"\",VLOOKUP(IF(ISNUMBER(B74),TEXT(B74,\"0\"),B74),Pricelist!$A$3:$F$60643,5,FALSE),\"\")","v":""},{"$f":"IF(B74<>\"\",VLOOKUP(IF(ISNUMBER(B74),TEXT(B74,\"0\"),B74),Pricelist!$A$3:$F$60643,3,FALSE),\"\")","v":""},"",{"$f":"IF(B74<>\"\",VLOOKUP(IF(ISNUMBER(B74),TEXT(B74,\"0\"),B74),Pricelist!$A$3:$F$60643,4,FALSE),\"\")","v":""},"","",null,null,null,null,"",null,"","",""]
["","","",{"$f":"IF(B75<>\"\",VLOOKUP(IF(ISNUMBER(B75),TEXT(B75,\"0\"),B75),Pricelist!$A$3:$F$60643,6,FALSE),\"\")","v":""},{"$f":"IF(B75<>\"\",VLOOKUP(IF(ISNUMBER(B75),TEXT(B75,\"0\"),B75),Pricelist!$A$3:$F$60643,2,FALSE),\"\")","v":""},{"$f":"IF(B75<>\"\",VLOOKUP(IF(ISNUMBER(B75),TEXT(B75,\"0\"),B75),Pricelist!$A$3:$F$60643,5,FALSE),\"\")","v":""},{"$f":"IF(B75<>\"\",VLOOKUP(IF(ISNUMBER(B75),TEXT(B75,\"0\"),B75),Pricelist!$A$3:$F$60643,3,FALSE),\"\")","v":""},"",{"$f":"IF(B75<>\"\",VLOOKUP(IF(ISNUMBER(B75),TEXT(B75,\"0\"),B75),Pricelist!$A$3:$F$60643,4,FALSE),\"\")","v":""},"","",null,null,null,null,"",null,"","",""]
[{"$f":"IF(B76<>\"\",A75+1,\"\")","v":""},"","",{"$f":"IF(B76<>\"\",VLOOKUP(IF(ISNUMBER(B76),TEXT(B76,\"0\"),B76),Pricelist!$A$3:$F$60643,6,FALSE),\"\")","v":""},{"$f":"IF(B76<>\"\",VLOOKUP(IF(ISNUMBER(B76),TEXT(B76,\"0\"),B76),Pricelist!$A$3:$F$60643,2,FALSE),\"\")","v":""},{"$f":"IF(B76<>\"\",VLOOKUP(IF(ISNUMBER(B76),TEXT(B76,\"0\"),B76),Pricelist!$A$3:$F$60643,5,FALSE),\"\")","v":""},{"$f":"IF(B76<>\"\",VLOOKUP(IF(ISNUMBER(B76),TEXT(B76,\"0\"),B76),Pricelist!$A$3:$F$60643,3,FALSE),\"\")","v":""},{"$f":"IF(B76<>\"\",VLOOKUP(IF(ISNUMBER(I76),TEXT(I76,\"0\"),I76),$M$12:$N$44,2,FALSE),\"\")","v":""},{"$f":"IF(B76<>\"\",VLOOKUP(IF(ISNUMBER(B76),TEXT(B76,\"0\"),B76),Pricelist!$A$3:$F$60643,4,FALSE),\"\")","v":""},{"$f":"IF(B76<>\"\",G76*(1-H76),\"\")","v":""},{"$f":"IF(B76<>\"\",C76*(1-H76)*G76,\"\")","v":""},null,null,null,null,"",null,"",{"$f":"IF(R76=\"\",\"\",C76)","v":""},""]
["","","",{"$f":"IF(B77<>\"\",VLOOKUP(IF(ISNUMBER(B77),TEXT(B77,\"0\"),B77),Pricelist!$A$3:$F$60643,6,FALSE),\"\")","v":""},{"$f":"IF(B77<>\"\",VLOOKUP(IF(ISNUMBER(B77),TEXT(B77,\"0\"),B77),Pricelist!$A$3:$F$60643,2,FALSE),\"\")","v":""},{"$f":"IF(B77<>\"\",VLOOKUP(IF(ISNUMBER(B77),TEXT(B77,\"0\"),B77),Pricelist!$A$3:$F$60643,5,FALSE),\"\")","v":""},{"$f":"IF(B77<>\"\",VLOOKUP(IF(ISNUMBER(B77),TEXT(B77,\"0\"),B77),Pricelist!$A$3:$F$60643,3,FALSE),\"\")","v":""},"",{"$f":"IF(B77<>\"\",VLOOKUP(IF(ISNUMBER(B77),TEXT(B77,\"0\"),B77),Pricelist!$A$3:$F$60643,4,FALSE),\"\")","v":""},"","",null,null,null,null,{"$f":"IF(B77<>\"\",$K$2,\"\")","v":""},null,{"$f":"IF(B77>1,B77,\"\")","v":""},"",{"$f":"IF(B77=\"\",\"\",E77)","v":""}]
["","","",{"$f":"IF(B78<>\"\",VLOOKUP(IF(ISNUMBER(B78),TEXT(B78,\"0\"),B78),Pricelist!$A$3:$F$60643,6,FALSE),\"\")","v":""},{"$f":"IF(B78<>\"\",VLOOKUP(IF(ISNUMBER(B78),TEXT(B78,\"0\"),B78),Pricelist!$A$3:$F$60643,2,FALSE),\"\")","v":""},{"$f":"IF(B78<>\"\",VLOOKUP(IF(ISNUMBER(B78),TEXT(B78,\"0\"),B78),Pricelist!$A$3:$F$60643,5,FALSE),\"\")","v":""},{"$f":"IF(B78<>\"\",VLOOKUP(IF(ISNUMBER(B78),TEXT(B78,\"0\"),B78),Pricelist!$A$3:$F$60643,3,FALSE),\"\")","v":""},"",{"$f":"IF(B78<>\"\",VLOOKUP(IF(ISNUMBER(B78),TEXT(B78,\"0\"),B78),Pricelist!$A$3:$F$60643,4,FALSE),\"\")","v":""},"","",null,null,null,null,"",null,"","",""]
["","","",{"$f":"IF(B79<>\"\",VLOOKUP(IF(ISNUMBER(B79),TEXT(B79,\"0\"),B79),Pricelist!$A$3:$F$60643,6,FALSE),\"\")","v":""},{"$f":"IF(B79<>\"\",VLOOKUP(IF(ISNUMBER(B79),TEXT(B79,\"0\"),B79),Pricelist!$A$3:$F$60643,2,FALSE),\"\")","v":""},{"$f":"IF(B79<>\"\",VLOOKUP(IF(ISNUMBER(B79),TEXT(B79,\"0\"),B79),Pricelist!$A$3:$F$60643,5,FALSE),\"\")","v":""},{"$f":"IF(B79<>\"\",VLOOKUP(IF(ISNUMBER(B79),TEXT(B79,\"0\"),B79),Pricelist!$A$3:$F$60643,3,FALSE),\"\")","v":""},"",{"$f":"IF(B79<>\"\",VLOOKUP(IF(ISNUMBER(B79),TEXT(B79,\"0\"),B79),Pricelist!$A$3:$F$60643,4,FALSE),\"\")","v":""},"","",null,null,null,null,"",null,"","",""]
["","","",{"$f":"IF(B80<>\"\",VLOOKUP(IF(ISNUMBER(B80),TEXT(B80,\"0\"),B80),Pricelist!$A$3:$F$60643,6,FALSE),\"\")","v":""},{"$f":"IF(B80<>\"\",VLOOKUP(IF(ISNUMBER(B80),TEXT(B80,\"0\"),B80),Pricelist!$A$3:$F$60643,2,FALSE),\"\")","v":""},{"$f":"IF(B80<>\"\",VLOOKUP(IF(ISNUMBER(B80),TEXT(B80,\"0\"),B80),Pricelist!$A$3:$F$60643,5,FALSE),\"\")","v":""},{"$f":"IF(B80<>\"\",VLOOKUP(IF(ISNUMBER(B80),TEXT(B80,\"0\"),B80),Pricelist!$A$3:$F$60643,3,FALSE),\"\")","v":""},"",{"$f":"IF(B80<>\"\",VLOOKUP(IF(ISNUMBER(B80),TEXT(B80,\"0\"),B80),Pricelist!$A$3:$F$60643,4,FALSE),\"\")","v":""},"","",null,null,null,null,"",null,"","",""]
["","","",{"$f":"IF(B81<>\"\",VLOOKUP(IF(ISNUMBER(B81),TEXT(B81,\"0\"),B81),Pricelist!$A$3:$F$60643,6,FALSE),\"\")","v":""},{"$f":"IF(B81<>\"\",VLOOKUP(IF(ISNUMBER(B81),TEXT(B81,\"0\"),B81),Pricelist!$A$3:$F$60643,2,FALSE),\"\")","v":""},{"$f":"IF(B81<>\"\",VLOOKUP(IF(ISNUMBER(B81),TEXT(B81,\"0\"),B81),Pricelist!$A$3:$F$60643,5,FALSE),\"\")","v":""},{"$f":"IF(B81<>\"\",VLOOKUP(IF(ISNUMBER(B81),TEXT(B81,\"0\"),B81),Pricelist!$A$3:$F$60643,3,FALSE),\"\")","v":""},"",{"$f":"IF(B81<>\"\",VLOOKUP(IF(ISNUMBER(B81),TEXT(B81,\"0\"),B81),Pricelist!$A$3:$F$60643,4,FALSE),\"\")","v":""},"","",null,null,null,null,"",null,"","",""]
["","","",{"$f":"IF(B82<>\"\",VLOOKUP(IF(ISNUMBER(B82),TEXT(B82,\"0\"),B82),Pricelist!$A$3:$F$60643,6,FALSE),\"\")","v":""},{"$f":"IF(B82<>\"\",VLOOKUP(IF(ISNUMBER(B82),TEXT(B82,\"0\"),B82),Pricelist!$A$3:$F$60643,2,FALSE),\"\")","v":""},{"$f":"IF(B82<>\"\",VLOOKUP(IF(ISNUMBER(B82),TEXT(B82,\"0\"),B82),Pricelist!$A$3:$F$60643,5,FALSE),\"\")","v":""},{"$f":"IF(B82<>\"\",VLOOKUP(IF(ISNUMBER(B82),TEXT(B82,\"0\"),B82),Pricelist!$A$3:$F$60643,3,FALSE),\"\")","v":""},"",{"$f":"IF(B82<>\"\",VLOOKUP(IF(ISNUMBER(B82),TEXT(B82,\"0\"),B82),Pricelist!$A$3:$F$60643,4,FALSE),\"\")","v":""},"","",null,null,null,null,"",null,"","",""]
["","","",{"$f":"IF(B83<>\"\",VLOOKUP(IF(ISNUMBER(B83),TEXT(B83,\"0\"),B83),Pricelist!$A$3:$F$60643,6,FALSE),\"\")","v":""},{"$f":"IF(B83<>\"\",VLOOKUP(IF(ISNUMBER(B83),TEXT(B83,\"0\"),B83),Pricelist!$A$3:$F$60643,2,FALSE),\"\")","v":""},{"$f":"IF(B83<>\"\",VLOOKUP(IF(ISNUMBER(B83),TEXT(B83,\"0\"),B83),Pricelist!$A$3:$F$60643,5,FALSE),\"\")","v":""},{"$f":"IF(B83<>\"\",VLOOKUP(IF(ISNUMBER(B83),TEXT(B83,\"0\"),B83),Pricelist!$A$3:$F$60643,3,FALSE),\"\")","v":""},"",{"$f":"IF(B83<>\"\",VLOOKUP(IF(ISNUMBER(B83),TEXT(B83,\"0\"),B83),Pricelist!$A$3:$F$60643,4,FALSE),\"\")","v":""},"","",null,null,null,null,"",null,"","",""]
["","","",{"$f":"IF(B84<>\"\",VLOOKUP(IF(ISNUMBER(B84),TEXT(B84,\"0\"),B84),Pricelist!$A$3:$F$60643,6,FALSE),\"\")","v":""},{"$f":"IF(B84<>\"\",VLOOKUP(IF(ISNUMBER(B84),TEXT(B84,\"0\"),B84),Pricelist!$A$3:$F$60643,2,FALSE),\"\")","v":""},{"$f":"IF(B84<>\"\",VLOOKUP(IF(ISNUMBER(B84),TEXT(B84,\"0\"),B84),Pricelist!$A$3:$F$60643,5,FALSE),\"\")","v":""},{"$f":"IF(B84<>\"\",VLOOKUP(IF(ISNUMBER(B84),TEXT(B84,\"0\"),B84),Pricelist!$A$3:$F$60643,3,FALSE),\"\")","v":""},"",{"$f":"IF(B84<>\"\",VLOOKUP(IF(ISNUMBER(B84),TEXT(B84,\"0\"),B84),Pricelist!$A$3:$F$60643,4,FALSE),\"\")","v":""},"","",null,null,null,null,"",null,"","",""]
["","","",{"$f":"IF(B85<>\"\",VLOOKUP(IF(ISNUMBER(B85),TEXT(B85,\"0\"),B85),Pricelist!$A$3:$F$60643,6,FALSE),\"\")","v":""},{"$f":"IF(B85<>\"\",VLOOKUP(IF(ISNUMBER(B85),TEXT(B85,\"0\"),B85),Pricelist!$A$3:$F$60643,2,FALSE),\"\")","v":""},{"$f":"IF(B85<>\"\",VLOOKUP(IF(ISNUMBER(B85),TEXT(B85,\"0\"),B85),Pricelist!$A$3:$F$60643,5,FALSE),\"\")","v":""},{"$f":"IF(B85<>\"\",VLOOKUP(IF(ISNUMBER(B85),TEXT(B85,\"0\"),B85),Pricelist!$A$3:$F$60643,3,FALSE),\"\")","v":""},"",{"$f":"IF(B85<>\"\",VLOOKUP(IF(ISNUMBER(B85),TEXT(B85,\"0\"),B85),Pricelist!$A$3:$F$60643,4,FALSE),\"\")","v":""},"","",null,null,null,null,"",null,"","",""]
["","","",{"$f":"IF(B86<>\"\",VLOOKUP(IF(ISNUMBER(B86),TEXT(B86,\"0\"),B86),Pricelist!$A$3:$F$60643,6,FALSE),\"\")","v":""},{"$f":"IF(B86<>\"\",VLOOKUP(IF(ISNUMBER(B86),TEXT(B86,\"0\"),B86),Pricelist!$A$3:$F$60643,2,FALSE),\"\")","v":""},{"$f":"IF(B86<>\"\",VLOOKUP(IF(ISNUMBER(B86),TEXT(B86,\"0\"),B86),Pricelist!$A$3:$F$60643,5,FALSE),\"\")","v":""},{"$f":"IF(B86<>\"\",VLOOKUP(IF(ISNUMBER(B86),TEXT(B86,\"0\"),B86),Pricelist!$A$3:$F$60643,3,FALSE),\"\")","v":""},"",{"$f":"IF(B86<>\"\",VLOOKUP(IF(ISNUMBER(B86),TEXT(B86,\"0\"),B86),Pricelist!$A$3:$F$60643,4,FALSE),\"\")","v":""},"","",null,null,null,null,"",null,"","",""]
["","","",{"$f":"IF(B87<>\"\",VLOOKUP(IF(ISNUMBER(B87),TEXT(B87,\"0\"),B87),Pricelist!$A$3:$F$60643,6,FALSE),\"\")","v":""},{"$f":"IF(B87<>\"\",VLOOKUP(IF(ISNUMBER(B87),TEXT(B87,\"0\"),B87),Pricelist!$A$3:$F$60643,2,FALSE),\"\")","v":""},{"$f":"IF(B87<>\"\",VLOOKUP(IF(ISNUMBER(B87),TEXT(B87,\"0\"),B87),Pricelist!$A$3:$F$60643,5,FALSE),\"\")","v":""},{"$f":"IF(B87<>\"\",VLOOKUP(IF(ISNUMBER(B87),TEXT(B87,\"0\"),B87),Pricelist!$A$3:$F$60643,3,FALSE),\"\")","v":""},"",{"$f":"IF(B87<>\"\",VLOOKUP(IF(ISNUMBER(B87),TEXT(B87,\"0\"),B87),Pricelist!$A$3:$F$60643,4,FALSE),\"\")","v":""},"","",null,null,null,null,"",null,"","",""]
["","","",{"$f":"IF(B88<>\"\",VLOOKUP(IF(ISNUMBER(B88),TEXT(B88,\"0\"),B88),Pricelist!$A$3:$F$60643,6,FALSE),\"\")","v":""},{"$f":"IF(B88<>\"\",VLOOKUP(IF(ISNUMBER(B88),TEXT(B88,\"0\"),B88),Pricelist!$A$3:$F$60643,2,FALSE),\"\")","v":""},{"$f":"IF(B88<>\"\",VLOOKUP(IF(ISNUMBER(B88),TEXT(B88,\"0\"),B88),Pricelist!$A$3:$F$60643,5,FALSE),\"\")","v":""},{"$f":"IF(B88<>\"\",VLOOKUP(IF(ISNUMBER(B88),TEXT(B88,\"0\"),B88),Pricelist!$A$3:$F$60643,3,FALSE),\"\")","v":""},"",{"$f":"IF(B88<>\"\",VLOOKUP(IF(ISNUMBER(B88),TEXT(B88,\"0\"),B88),Pricelist!$A$3:$F$60643,4,FALSE),\"\")","v":""},"","",null,null,null,null,"",null,"","",""]
["","","",{"$f":"IF(B89<>\"\",VLOOKUP(IF(ISNUMBER(B89),TEXT(B89,\"0\"),B89),Pricelist!$A$3:$F$60643,6,FALSE),\"\")","v":""},{"$f":"IF(B89<>\"\",VLOOKUP(IF(ISNUMBER(B89),TEXT(B89,\"0\"),B89),Pricelist!$A$3:$F$60643,2,FALSE),\"\")","v":""},{"$f":"IF(B89<>\"\",VLOOKUP(IF(ISNUMBER(B89),TEXT(B89,\"0\"),B89),Pricelist!$A$3:$F$60643,5,FALSE),\"\")","v":""},{"$f":"IF(B89<>\"\",VLOOKUP(IF(ISNUMBER(B89),TEXT(B89,\"0\"),B89),Pricelist!$A$3:$F$60643,3,FALSE),\"\")","v":""},"",{"$f":"IF(B89<>\"\",VLOOKUP(IF(ISNUMBER(B89),TEXT(B89,\"0\"),B89),Pricelist!$A$3:$F$60643,4,FALSE),\"\")","v":""},"","",null,null,null,null,"",null,"","",""]
["","","",{"$f":"IF(B90<>\"\",VLOOKUP(IF(ISNUMBER(B90),TEXT(B90,\"0\"),B90),Pricelist!$A$3:$F$60643,6,FALSE),\"\")","v":""},{"$f":"IF(B90<>\"\",VLOOKUP(IF(ISNUMBER(B90),TEXT(B90,\"0\"),B90),Pricelist!$A$3:$F$60643,2,FALSE),\"\")","v":""},{"$f":"IF(B90<>\"\",VLOOKUP(IF(ISNUMBER(B90),TEXT(B90,\"0\"),B90),Pricelist!$A$3:$F$60643,5,FALSE),\"\")","v":""},{"$f":"IF(B90<>\"\",VLOOKUP(IF(ISNUMBER(B90),TEXT(B90,\"0\"),B90),Pricelist!$A$3:$F$60643,3,FALSE),\"\")","v":""},"",{"$f":"IF(B90<>\"\",VLOOKUP(IF(ISNUMBER(B90),TEXT(B90,\"0\"),B90),Pricelist!$A$3:$F$60643,4,FALSE),\"\")","v":""},"","",null,null,null,null,"",null,"","",""]
["","","",{"$f":"IF(B91<>\"\",VLOOKUP(IF(ISNUMBER(B91),TEXT(B91,\"0\"),B91),Pricelist!$A$3:$F$60643,6,FALSE),\"\")","v":""},{"$f":"IF(B91<>\"\",VLOOKUP(IF(ISNUMBER(B91),TEXT(B91,\"0\"),B91),Pricelist!$A$3:$F$60643,2,FALSE),\"\")","v":""},{"$f":"IF(B91<>\"\",VLOOKUP(IF(ISNUMBER(B91),TEXT(B91,\"0\"),B91),Pricelist!$A$3:$F$60643,5,FALSE),\"\")","v":""},{"$f":"IF(B91<>\"\",VLOOKUP(IF(ISNUMBER(B91),TEXT(B91,\"0\"),B91),Pricelist!$A$3:$F$60643,3,FALSE),\"\")","v":""},"",{"$f":"IF(B91<>\"\",VLOOKUP(IF(ISNUMBER(B91),TEXT(B91,\"0\"),B91),Pricelist!$A$3:$F$60643,4,FALSE),\"\")","v":""},"","",null,null,null,null,"",null,"","",""]
["","","",{"$f":"IF(B92<>\"\",VLOOKUP(IF(ISNUMBER(B92),TEXT(B92,\"0\"),B92),Pricelist!$A$3:$F$60643,6,FALSE),\"\")","v":""},{"$f":"IF(B92<>\"\",VLOOKUP(IF(ISNUMBER(B92),TEXT(B92,\"0\"),B92),Pricelist!$A$3:$F$60643,2,FALSE),\"\")","v":""},{"$f":"IF(B92<>\"\",VLOOKUP(IF(ISNUMBER(B92),TEXT(B92,\"0\"),B92),Pricelist!$A$3:$F$60643,5,FALSE),\"\")","v":""},{"$f":"IF(B92<>\"\",VLOOKUP(IF(ISNUMBER(B92),TEXT(B92,\"0\"),B92),Pricelist!$A$3:$F$60643,3,FALSE),\"\")","v":""},"",{"$f":"IF(B92<>\"\",VLOOKUP(IF(ISNUMBER(B92),TEXT(B92,\"0\"),B92),Pricelist!$A$3:$F$60643,4,FALSE),\"\")","v":""},"","",null,null,null,null,"",null,"","",""]
["","","",{"$f":"IF(B93<>\"\",VLOOKUP(IF(ISNUMBER(B93),TEXT(B93,\"0\"),B93),Pricelist!$A$3:$F$60643,6,FALSE),\"\")","v":""},{"$f":"IF(B93<>\"\",VLOOKUP(IF(ISNUMBER(B93),TEXT(B93,\"0\"),B93),Pricelist!$A$3:$F$60643,2,FALSE),\"\")","v":""},{"$f":"IF(B93<>\"\",VLOOKUP(IF(ISNUMBER(B93),TEXT(B93,\"0\"),B93),Pricelist!$A$3:$F$60643,5,FALSE),\"\")","v":""},{"$f":"IF(B93<>\"\",VLOOKUP(IF(ISNUMBER(B93),TEXT(B93,\"0\"),B93),Pricelist!$A$3:$F$60643,3,FALSE),\"\")","v":""},"",{"$f":"IF(B93<>\"\",VLOOKUP(IF(ISNUMBER(B93),TEXT(B93,\"0\"),B93),Pricelist!$A$3:$F$60643,4,FALSE),\"\")","v":""},"","",null,null,null,null,"",null,"","",""]
["","","",{"$f":"IF(B94<>\"\",VLOOKUP(IF(ISNUMBER(B94),TEXT(B94,\"0\"),B94),Pricelist!$A$3:$F$60643,6,FALSE),\"\")","v":""},{"$f":"IF(B94<>\"\",VLOOKUP(IF(ISNUMBER(B94),TEXT(B94,\"0\"),B94),Pricelist!$A$3:$F$60643,2,FALSE),\"\")","v":""},{"$f":"IF(B94<>\"\",VLOOKUP(IF(ISNUMBER(B94),TEXT(B94,\"0\"),B94),Pricelist!$A$3:$F$60643,5,FALSE),\"\")","v":""},{"$f":"IF(B94<>\"\",VLOOKUP(IF(ISNUMBER(B94),TEXT(B94,\"0\"),B94),Pricelist!$A$3:$F$60643,3,FALSE),\"\")","v":""},"",{"$f":"IF(B94<>\"\",VLOOKUP(IF(ISNUMBER(B94),TEXT(B94,\"0\"),B94),Pricelist!$A$3:$F$60643,4,FALSE),\"\")","v":""},"","",null,null,null,null,"",null,"","",""]
["","","",{"$f":"IF(B95<>\"\",VLOOKUP(IF(ISNUMBER(B95),TEXT(B95,\"0\"),B95),Pricelist!$A$3:$F$60643,6,FALSE),\"\")","v":""},{"$f":"IF(B95<>\"\",VLOOKUP(IF(ISNUMBER(B95),TEXT(B95,\"0\"),B95),Pricelist!$A$3:$F$60643,2,FALSE),\"\")","v":""},{"$f":"IF(B95<>\"\",VLOOKUP(IF(ISNUMBER(B95),TEXT(B95,\"0\"),B95),Pricelist!$A$3:$F$60643,5,FALSE),\"\")","v":""},{"$f":"IF(B95<>\"\",VLOOKUP(IF(ISNUMBER(B95),TEXT(B95,\"0\"),B95),Pricelist!$A$3:$F$60643,3,FALSE),\"\")","v":""},"",{"$f":"IF(B95<>\"\",VLOOKUP(IF(ISNUMBER(B95),TEXT(B95,\"0\"),B95),Pricelist!$A$3:$F$60643,4,FALSE),\"\")","v":""},"","",null,null,null,null,"",null,"","",""]
["","","",{"$f":"IF(B96<>\"\",VLOOKUP(IF(ISNUMBER(B96),TEXT(B96,\"0\"),B96),Pricelist!$A$3:$F$60643,6,FALSE),\"\")","v":""},{"$f":"IF(B96<>\"\",VLOOKUP(IF(ISNUMBER(B96),TEXT(B96,\"0\"),B96),Pricelist!$A$3:$F$60643,2,FALSE),\"\")","v":""},{"$f":"IF(B96<>\"\",VLOOKUP(IF(ISNUMBER(B96),TEXT(B96,\"0\"),B96),Pricelist!$A$3:$F$60643,5,FALSE),\"\")","v":""},{"$f":"IF(B96<>\"\",VLOOKUP(IF(ISNUMBER(B96),TEXT(B96,\"0\"),B96),Pricelist!$A$3:$F$60643,3,FALSE),\"\")","v":""},"",{"$f":"IF(B96<>\"\",VLOOKUP(IF(ISNUMBER(B96),TEXT(B96,\"0\"),B96),Pricelist!$A$3:$F$60643,4,FALSE),\"\")","v":""},"","",null,null,null,null,"",null,"","",""]
["","","",{"$f":"IF(B97<>\"\",VLOOKUP(IF(ISNUMBER(B97),TEXT(B97,\"0\"),B97),Pricelist!$A$3:$F$60643,6,FALSE),\"\")","v":""},{"$f":"IF(B97<>\"\",VLOOKUP(IF(ISNUMBER(B97),TEXT(B97,\"0\"),B97),Pricelist!$A$3:$F$60643,2,FALSE),\"\")","v":""},{"$f":"IF(B97<>\"\",VLOOKUP(IF(ISNUMBER(B97),TEXT(B97,\"0\"),B97),Pricelist!$A$3:$F$60643,5,FALSE),\"\")","v":""},{"$f":"IF(B97<>\"\",VLOOKUP(IF(ISNUMBER(B97),TEXT(B97,\"0\"),B97),Pricelist!$A$3:$F$60643,3,FALSE),\"\")","v":""},"",{"$f":"IF(B97<>\"\",VLOOKUP(IF(ISNUMBER(B97),TEXT(B97,\"0\"),B97),Pricelist!$A$3:$F$60643,4,FALSE),\"\")","v":""},"","",null,null,null,null,"",null,"","",""]
["","","",{"$f":"IF(B98<>\"\",VLOOKUP(IF(ISNUMBER(B98),TEXT(B98,\"0\"),B98),Pricelist!$A$3:$F$60643,6,FALSE),\"\")","v":""},{"$f":"IF(B98<>\"\",VLOOKUP(IF(ISNUMBER(B98),TEXT(B98,\"0\"),B98),Pricelist!$A$3:$F$60643,2,FALSE),\"\")","v":""},{"$f":"IF(B98<>\"\",VLOOKUP(IF(ISNUMBER(B98),TEXT(B98,\"0\"),B98),Pricelist!$A$3:$F$60643,5,FALSE),\"\")","v":""},{"$f":"IF(B98<>\"\",VLOOKUP(IF(ISNUMBER(B98),TEXT(B98,\"0\"),B98),Pricelist!$A$3:$F$60643,3,FALSE),\"\")","v":""},"",{"$f":"IF(B98<>\"\",VLOOKUP(IF(ISNUMBER(B98),TEXT(B98,\"0\"),B98),Pricelist!$A$3:$F$60643,4,FALSE),\"\")","v":""},"","",null,null,null,null,"",null,"","",""]
["","","",{"$f":"IF(B99<>\"\",VLOOKUP(IF(ISNUMBER(B99),TEXT(B99,\"0\"),B99),Pricelist!$A$3:$F$60643,6,FALSE),\"\")","v":""},{"$f":"IF(B99<>\"\",VLOOKUP(IF(ISNUMBER(B99),TEXT(B99,\"0\"),B99),Pricelist!$A$3:$F$60643,2,FALSE),\"\")","v":""},{"$f":"IF(B99<>\"\",VLOOKUP(IF(ISNUMBER(B99),TEXT(B99,\"0\"),B99),Pricelist!$A$3:$F$60643,5,FALSE),\"\")","v":""},{"$f":"IF(B99<>\"\",VLOOKUP(IF(ISNUMBER(B99),TEXT(B99,\"0\"),B99),Pricelist!$A$3:$F$60643,3,FALSE),\"\")","v":""},"",{"$f":"IF(B99<>\"\",VLOOKUP(IF(ISNUMBER(B99),TEXT(B99,\"0\"),B99),Pricelist!$A$3:$F$60643,4,FALSE),\"\")","v":""},"","",null,null,null,null,"",null,"","",""]
["","","",{"$f":"IF(B100<>\"\",VLOOKUP(IF(ISNUMBER(B100),TEXT(B100,\"0\"),B100),Pricelist!$A$3:$F$60643,6,FALSE),\"\")","v":""},{"$f":"IF(B100<>\"\",VLOOKUP(IF(ISNUMBER(B100),TEXT(B100,\"0\"),B100),Pricelist!$A$3:$F$60643,2,FALSE),\"\")","v":""},{"$f":"IF(B100<>\"\",VLOOKUP(IF(ISNUMBER(B100),TEXT(B100,\"0\"),B100),Pricelist!$A$3:$F$60643,5,FALSE),\"\")","v":""},{"$f":"IF(B100<>\"\",VLOOKUP(IF(ISNUMBER(B100),TEXT(B100,\"0\"),B100),Pricelist!$A$3:$F$60643,3,FALSE),\"\")","v":""},"",{"$f":"IF(B100<>\"\",VLOOKUP(IF(ISNUMBER(B100),TEXT(B100,\"0\"),B100),Pricelist!$A$3:$F$60643,4,FALSE),\"\")","v":""},"","",null,null,null,null,"",null,"","",""]
["","","",{"$f":"IF(B101<>\"\",VLOOKUP(IF(ISNUMBER(B101),TEXT(B101,\"0\"),B101),Pricelist!$A$3:$F$60643,6,FALSE),\"\")","v":""},{"$f":"IF(B101<>\"\",VLOOKUP(IF(ISNUMBER(B101),TEXT(B101,\"0\"),B101),Pricelist!$A$3:$F$60643,2,FALSE),\"\")","v":""},{"$f":"IF(B101<>\"\",VLOOKUP(IF(ISNUMBER(B101),TEXT(B101,\"0\"),B101),Pricelist!$A$3:$F$60643,5,FALSE),\"\")","v":""},{"$f":"IF(B101<>\"\",VLOOKUP(IF(ISNUMBER(B101),TEXT(B101,\"0\"),B101),Pricelist!$A$3:$F$60643,3,FALSE),\"\")","v":""},"",{"$f":"IF(B101<>\"\",VLOOKUP(IF(ISNUMBER(B101),TEXT(B101,\"0\"),B101),Pricelist!$A$3:$F$60643,4,FALSE),\"\")","v":""},"","",null,null,null,null,"",null,"","",""]
["","","",{"$f":"IF(B102<>\"\",VLOOKUP(IF(ISNUMBER(B102),TEXT(B102,\"0\"),B102),Pricelist!$A$3:$F$60643,6,FALSE),\"\")","v":""},{"$f":"IF(B102<>\"\",VLOOKUP(IF(ISNUMBER(B102),TEXT(B102,\"0\"),B102),Pricelist!$A$3:$F$60643,2,FALSE),\"\")","v":""},{"$f":"IF(B102<>\"\",VLOOKUP(IF(ISNUMBER(B102),TEXT(B102,\"0\"),B102),Pricelist!$A$3:$F$60643,5,FALSE),\"\")","v":""},{"$f":"IF(B102<>\"\",VLOOKUP(IF(ISNUMBER(B102),TEXT(B102,\"0\"),B102),Pricelist!$A$3:$F$60643,3,FALSE),\"\")","v":""},"",{"$f":"IF(B102<>\"\",VLOOKUP(IF(ISNUMBER(B102),TEXT(B102,\"0\"),B102),Pricelist!$A$3:$F$60643,4,FALSE),\"\")","v":""},"","",null,null,null,null,"",null,"","",""]
["","","",{"$f":"IF(B103<>\"\",VLOOKUP(IF(ISNUMBER(B103),TEXT(B103,\"0\"),B103),Pricelist!$A$3:$F$60643,6,FALSE),\"\")","v":""},{"$f":"IF(B103<>\"\",VLOOKUP(IF(ISNUMBER(B103),TEXT(B103,\"0\"),B103),Pricelist!$A$3:$F$60643,2,FALSE),\"\")","v":""},{"$f":"IF(B103<>\"\",VLOOKUP(IF(ISNUMBER(B103),TEXT(B103,\"0\"),B103),Pricelist!$A$3:$F$60643,5,FALSE),\"\")","v":""},{"$f":"IF(B103<>\"\",VLOOKUP(IF(ISNUMBER(B103),TEXT(B103,\"0\"),B103),Pricelist!$A$3:$F$60643,3,FALSE),\"\")","v":""},"",{"$f":"IF(B103<>\"\",VLOOKUP(IF(ISNUMBER(B103),TEXT(B103,\"0\"),B103),Pricelist!$A$3:$F$60643,4,FALSE),\"\")","v":""},"","",null,null,null,null,"",null,"","",""]
["","","",{"$f":"IF(B104<>\"\",VLOOKUP(IF(ISNUMBER(B104),TEXT(B104,\"0\"),B104),Pricelist!$A$3:$F$60643,6,FALSE),\"\")","v":""},{"$f":"IF(B104<>\"\",VLOOKUP(IF(ISNUMBER(B104),TEXT(B104,\"0\"),B104),Pricelist!$A$3:$F$60643,2,FALSE),\"\")","v":""},{"$f":"IF(B104<>\"\",VLOOKUP(IF(ISNUMBER(B104),TEXT(B104,\"0\"),B104),Pricelist!$A$3:$F$60643,5,FALSE),\"\")","v":""},{"$f":"IF(B104<>\"\",VLOOKUP(IF(ISNUMBER(B104),TEXT(B104,\"0\"),B104),Pricelist!$A$3:$F$60643,3,FALSE),\"\")","v":""},"",{"$f":"IF(B104<>\"\",VLOOKUP(IF(ISNUMBER(B104),TEXT(B104,\"0\"),B104),Pricelist!$A$3:$F$60643,4,FALSE),\"\")","v":""},"","",null,null,null,null,"",null,"","",""]
["","","",{"$f":"IF(B105<>\"\",VLOOKUP(IF(ISNUMBER(B105),TEXT(B105,\"0\"),B105),Pricelist!$A$3:$F$60643,6,FALSE),\"\")","v":""},{"$f":"IF(B105<>\"\",VLOOKUP(IF(ISNUMBER(B105),TEXT(B105,\"0\"),B105),Pricelist!$A$3:$F$60643,2,FALSE),\"\")","v":""},{"$f":"IF(B105<>\"\",VLOOKUP(IF(ISNUMBER(B105),TEXT(B105,\"0\"),B105),Pricelist!$A$3:$F$60643,5,FALSE),\"\")","v":""},{"$f":"IF(B105<>\"\",VLOOKUP(IF(ISNUMBER(B105),TEXT(B105,\"0\"),B105),Pricelist!$A$3:$F$60643,3,FALSE),\"\")","v":""},"",{"$f":"IF(B105<>\"\",VLOOKUP(IF(ISNUMBER(B105),TEXT(B105,\"0\"),B105),Pricelist!$A$3:$F$60643,4,FALSE),\"\")","v":""},"","",null,null,null,null,"",null,"","",""]
["","","",{"$f":"IF(B106<>\"\",VLOOKUP(IF(ISNUMBER(B106),TEXT(B106,\"0\"),B106),Pricelist!$A$3:$F$60643,6,FALSE),\"\")","v":""},{"$f":"IF(B106<>\"\",VLOOKUP(IF(ISNUMBER(B106),TEXT(B106,\"0\"),B106),Pricelist!$A$3:$F$60643,2,FALSE),\"\")","v":""},{"$f":"IF(B106<>\"\",VLOOKUP(IF(ISNUMBER(B106),TEXT(B106,\"0\"),B106),Pricelist!$A$3:$F$60643,5,FALSE),\"\")","v":""},{"$f":"IF(B106<>\"\",VLOOKUP(IF(ISNUMBER(B106),TEXT(B106,\"0\"),B106),Pricelist!$A$3:$F$60643,3,FALSE),\"\")","v":""},"",{"$f":"IF(B106<>\"\",VLOOKUP(IF(ISNUMBER(B106),TEXT(B106,\"0\"),B106),Pricelist!$A$3:$F$60643,4,FALSE),\"\")","v":""},"","",null,null,null,null,"",null,"","",""]
["","","",{"$f":"IF(B107<>\"\",VLOOKUP(IF(ISNUMBER(B107),TEXT(B107,\"0\"),B107),Pricelist!$A$3:$F$60643,6,FALSE),\"\")","v":""},{"$f":"IF(B107<>\"\",VLOOKUP(IF(ISNUMBER(B107),TEXT(B107,\"0\"),B107),Pricelist!$A$3:$F$60643,2,FALSE),\"\")","v":""},{"$f":"IF(B107<>\"\",VLOOKUP(IF(ISNUMBER(B107),TEXT(B107,\"0\"),B107),Pricelist!$A$3:$F$60643,5,FALSE),\"\")","v":""},{"$f":"IF(B107<>\"\",VLOOKUP(IF(ISNUMBER(B107),TEXT(B107,\"0\"),B107),Pricelist!$A$3:$F$60643,3,FALSE),\"\")","v":""},"",{"$f":"IF(B107<>\"\",VLOOKUP(IF(ISNUMBER(B107),TEXT(B107,\"0\"),B107),Pricelist!$A$3:$F$60643,4,FALSE),\"\")","v":""},"","",null,null,null,null,"",null,"","",""]
["","","",{"$f":"IF(B108<>\"\",VLOOKUP(IF(ISNUMBER(B108),TEXT(B108,\"0\"),B108),Pricelist!$A$3:$F$60643,6,FALSE),\"\")","v":""},{"$f":"IF(B108<>\"\",VLOOKUP(IF(ISNUMBER(B108),TEXT(B108,\"0\"),B108),Pricelist!$A$3:$F$60643,2,FALSE),\"\")","v":""},{"$f":"IF(B108<>\"\",VLOOKUP(IF(ISNUMBER(B108),TEXT(B108,\"0\"),B108),Pricelist!$A$3:$F$60643,5,FALSE),\"\")","v":""},{"$f":"IF(B108<>\"\",VLOOKUP(IF(ISNUMBER(B108),TEXT(B108,\"0\"),B108),Pricelist!$A$3:$F$60643,3,FALSE),\"\")","v":""},"",{"$f":"IF(B108<>\"\",VLOOKUP(IF(ISNUMBER(B108),TEXT(B108,\"0\"),B108),Pricelist!$A$3:$F$60643,4,FALSE),\"\")","v":""},"","",null,null,null,null,"",null,"","",""]
["","","",{"$f":"IF(B109<>\"\",VLOOKUP(IF(ISNUMBER(B109),TEXT(B109,\"0\"),B109),Pricelist!$A$3:$F$60643,6,FALSE),\"\")","v":""},{"$f":"IF(B109<>\"\",VLOOKUP(IF(ISNUMBER(B109),TEXT(B109,\"0\"),B109),Pricelist!$A$3:$F$60643,2,FALSE),\"\")","v":""},{"$f":"IF(B109<>\"\",VLOOKUP(IF(ISNUMBER(B109),TEXT(B109,\"0\"),B109),Pricelist!$A$3:$F$60643,5,FALSE),\"\")","v":""},{"$f":"IF(B109<>\"\",VLOOKUP(IF(ISNUMBER(B109),TEXT(B109,\"0\"),B109),Pricelist!$A$3:$F$60643,3,FALSE),\"\")","v":""},"",{"$f":"IF(B109<>\"\",VLOOKUP(IF(ISNUMBER(B109),TEXT(B109,\"0\"),B109),Pricelist!$A$3:$F$60643,4,FALSE),\"\")","v":""},"","",null,null,null,null,"",null,"","",""]
["","","",{"$f":"IF(B110<>\"\",VLOOKUP(IF(ISNUMBER(B110),TEXT(B110,\"0\"),B110),Pricelist!$A$3:$F$60643,6,FALSE),\"\")","v":""},{"$f":"IF(B110<>\"\",VLOOKUP(IF(ISNUMBER(B110),TEXT(B110,\"0\"),B110),Pricelist!$A$3:$F$60643,2,FALSE),\"\")","v":""},{"$f":"IF(B110<>\"\",VLOOKUP(IF(ISNUMBER(B110),TEXT(B110,\"0\"),B110),Pricelist!$A$3:$F$60643,5,FALSE),\"\")","v":""},{"$f":"IF(B110<>\"\",VLOOKUP(IF(ISNUMBER(B110),TEXT(B110,\"0\"),B110),Pricelist!$A$3:$F$60643,3,FALSE),\"\")","v":""},"",{"$f":"IF(B110<>\"\",VLOOKUP(IF(ISNUMBER(B110),TEXT(B110,\"0\"),B110),Pricelist!$A$3:$F$60643,4,FALSE),\"\")","v":""},"","",null,null,null,null,"",null,"","",""]
["","","",{"$f":"IF(B111<>\"\",VLOOKUP(IF(ISNUMBER(B111),TEXT(B111,\"0\"),B111),Pricelist!$A$3:$F$60643,6,FALSE),\"\")","v":""},{"$f":"IF(B111<>\"\",VLOOKUP(IF(ISNUMBER(B111),TEXT(B111,\"0\"),B111),Pricelist!$A$3:$F$60643,2,FALSE),\"\")","v":""},{"$f":"IF(B111<>\"\",VLOOKUP(IF(ISNUMBER(B111),TEXT(B111,\"0\"),B111),Pricelist!$A$3:$F$60643,5,FALSE),\"\")","v":""},{"$f":"IF(B111<>\"\",VLOOKUP(IF(ISNUMBER(B111),TEXT(B111,\"0\"),B111),Pricelist!$A$3:$F$60643,3,FALSE),\"\")","v":""},"",{"$f":"IF(B111<>\"\",VLOOKUP(IF(ISNUMBER(B111),TEXT(B111,\"0\"),B111),Pricelist!$A$3:$F$60643,4,FALSE),\"\")","v":""},"","",null,null,null,null,"",null,"","",""]
["","","",{"$f":"IF(B112<>\"\",VLOOKUP(IF(ISNUMBER(B112),TEXT(B112,\"0\"),B112),Pricelist!$A$3:$F$60643,6,FALSE),\"\")","v":""},{"$f":"IF(B112<>\"\",VLOOKUP(IF(ISNUMBER(B112),TEXT(B112,\"0\"),B112),Pricelist!$A$3:$F$60643,2,FALSE),\"\")","v":""},{"$f":"IF(B112<>\"\",VLOOKUP(IF(ISNUMBER(B112),TEXT(B112,\"0\"),B112),Pricelist!$A$3:$F$60643,5,FALSE),\"\")","v":""},{"$f":"IF(B112<>\"\",VLOOKUP(IF(ISNUMBER(B112),TEXT(B112,\"0\"),B112),Pricelist!$A$3:$F$60643,3,FALSE),\"\")","v":""},"",{"$f":"IF(B112<>\"\",VLOOKUP(IF(ISNUMBER(B112),TEXT(B112,\"0\"),B112),Pricelist!$A$3:$F$60643,4,FALSE),\"\")","v":""},"","",null,null,null,null,"",null,"","",""]
["","","",{"$f":"IF(B113<>\"\",VLOOKUP(IF(ISNUMBER(B113),TEXT(B113,\"0\"),B113),Pricelist!$A$3:$F$60643,6,FALSE),\"\")","v":""},{"$f":"IF(B113<>\"\",VLOOKUP(IF(ISNUMBER(B113),TEXT(B113,\"0\"),B113),Pricelist!$A$3:$F$60643,2,FALSE),\"\")","v":""},{"$f":"IF(B113<>\"\",VLOOKUP(IF(ISNUMBER(B113),TEXT(B113,\"0\"),B113),Pricelist!$A$3:$F$60643,5,FALSE),\"\")","v":""},{"$f":"IF(B113<>\"\",VLOOKUP(IF(ISNUMBER(B113),TEXT(B113,\"0\"),B113),Pricelist!$A$3:$F$60643,3,FALSE),\"\")","v":""},"",{"$f":"IF(B113<>\"\",VLOOKUP(IF(ISNUMBER(B113),TEXT(B113,\"0\"),B113),Pricelist!$A$3:$F$60643,4,FALSE),\"\")","v":""},"","",null,null,null,null,"",null,"","",""]
["","","",{"$f":"IF(B114<>\"\",VLOOKUP(IF(ISNUMBER(B114),TEXT(B114,\"0\"),B114),Pricelist!$A$3:$F$60643,6,FALSE),\"\")","v":""},{"$f":"IF(B114<>\"\",VLOOKUP(IF(ISNUMBER(B114),TEXT(B114,\"0\"),B114),Pricelist!$A$3:$F$60643,2,FALSE),\"\")","v":""},{"$f":"IF(B114<>\"\",VLOOKUP(IF(ISNUMBER(B114),TEXT(B114,\"0\"),B114),Pricelist!$A$3:$F$60643,5,FALSE),\"\")","v":""},{"$f":"IF(B114<>\"\",VLOOKUP(IF(ISNUMBER(B114),TEXT(B114,\"0\"),B114),Pricelist!$A$3:$F$60643,3,FALSE),\"\")","v":""},"",{"$f":"IF(B114<>\"\",VLOOKUP(IF(ISNUMBER(B114),TEXT(B114,\"0\"),B114),Pricelist!$A$3:$F$60643,4,FALSE),\"\")","v":""},"","",null,null,null,null,"",null,"","",""]
["","","",{"$f":"IF(B115<>\"\",VLOOKUP(IF(ISNUMBER(B115),TEXT(B115,\"0\"),B115),Pricelist!$A$3:$F$60643,6,FALSE),\"\")","v":""},{"$f":"IF(B115<>\"\",VLOOKUP(IF(ISNUMBER(B115),TEXT(B115,\"0\"),B115),Pricelist!$A$3:$F$60643,2,FALSE),\"\")","v":""},{"$f":"IF(B115<>\"\",VLOOKUP(IF(ISNUMBER(B115),TEXT(B115,\"0\"),B115),Pricelist!$A$3:$F$60643,5,FALSE),\"\")","v":""},{"$f":"IF(B115<>\"\",VLOOKUP(IF(ISNUMBER(B115),TEXT(B115,\"0\"),B115),Pricelist!$A$3:$F$60643,3,FALSE),\"\")","v":""},"",{"$f":"IF(B115<>\"\",VLOOKUP(IF(ISNUMBER(B115),TEXT(B115,\"0\"),B115),Pricelist!$A$3:$F$60643,4,FALSE),\"\")","v":""},"","",null,null,null,null,"",null,"","",""]
["","","",{"$f":"IF(B116<>\"\",VLOOKUP(IF(ISNUMBER(B116),TEXT(B116,\"0\"),B116),Pricelist!$A$3:$F$60643,6,FALSE),\"\")","v":""},{"$f":"IF(B116<>\"\",VLOOKUP(IF(ISNUMBER(B116),TEXT(B116,\"0\"),B116),Pricelist!$A$3:$F$60643,2,FALSE),\"\")","v":""},{"$f":"IF(B116<>\"\",VLOOKUP(IF(ISNUMBER(B116),TEXT(B116,\"0\"),B116),Pricelist!$A$3:$F$60643,5,FALSE),\"\")","v":""},{"$f":"IF(B116<>\"\",VLOOKUP(IF(ISNUMBER(B116),TEXT(B116,\"0\"),B116),Pricelist!$A$3:$F$60643,3,FALSE),\"\")","v":""},"",{"$f":"IF(B116<>\"\",VLOOKUP(IF(ISNUMBER(B116),TEXT(B116,\"0\"),B116),Pricelist!$A$3:$F$60643,4,FALSE),\"\")","v":""},"","",null,null,null,null,"",null,"","",""]
["","","",{"$f":"IF(B117<>\"\",VLOOKUP(IF(ISNUMBER(B117),TEXT(B117,\"0\"),B117),Pricelist!$A$3:$F$60643,6,FALSE),\"\")","v":""},{"$f":"IF(B117<>\"\",VLOOKUP(IF(ISNUMBER(B117),TEXT(B117,\"0\"),B117),Pricelist!$A$3:$F$60643,2,FALSE),\"\")","v":""},{"$f":"IF(B117<>\"\",VLOOKUP(IF(ISNUMBER(B117),TEXT(B117,\"0\"),B117),Pricelist!$A$3:$F$60643,5,FALSE),\"\")","v":""},{"$f":"IF(B117<>\"\",VLOOKUP(IF(ISNUMBER(B117),TEXT(B117,\"0\"),B117),Pricelist!$A$3:$F$60643,3,FALSE),\"\")","v":""},"",{"$f":"IF(B117<>\"\",VLOOKUP(IF(ISNUMBER(B117),TEXT(B117,\"0\"),B117),Pricelist!$A$3:$F$60643,4,FALSE),\"\")","v":""},"","",null,null,null,null,"",null,"","",""]
["","","",{"$f":"IF(B118<>\"\",VLOOKUP(IF(ISNUMBER(B118),TEXT(B118,\"0\"),B118),Pricelist!$A$3:$F$60643,6,FALSE),\"\")","v":""},{"$f":"IF(B118<>\"\",VLOOKUP(IF(ISNUMBER(B118),TEXT(B118,\"0\"),B118),Pricelist!$A$3:$F$60643,2,FALSE),\"\")","v":""},{"$f":"IF(B118<>\"\",VLOOKUP(IF(ISNUMBER(B118),TEXT(B118,\"0\"),B118),Pricelist!$A$3:$F$60643,5,FALSE),\"\")","v":""},{"$f":"IF(B118<>\"\",VLOOKUP(IF(ISNUMBER(B118),TEXT(B118,\"0\"),B118),Pricelist!$A$3:$F$60643,3,FALSE),\"\")","v":""},"",{"$f":"IF(B118<>\"\",VLOOKUP(IF(ISNUMBER(B118),TEXT(B118,\"0\"),B118),Pricelist!$A$3:$F$60643,4,FALSE),\"\")","v":""},"","",null,null,null,null,"",null,"","",""]
["","","",{"$f":"IF(B119<>\"\",VLOOKUP(IF(ISNUMBER(B119),TEXT(B119,\"0\"),B119),Pricelist!$A$3:$F$60643,6,FALSE),\"\")","v":""},{"$f":"IF(B119<>\"\",VLOOKUP(IF(ISNUMBER(B119),TEXT(B119,\"0\"),B119),Pricelist!$A$3:$F$60643,2,FALSE),\"\")","v":""},{"$f":"IF(B119<>\"\",VLOOKUP(IF(ISNUMBER(B119),TEXT(B119,\"0\"),B119),Pricelist!$A$3:$F$60643,5,FALSE),\"\")","v":""},{"$f":"IF(B119<>\"\",VLOOKUP(IF(ISNUMBER(B119),TEXT(B119,\"0\"),B119),Pricelist!$A$3:$F$60643,3,FALSE),\"\")","v":""},"",{"$f":"IF(B119<>\"\",VLOOKUP(IF(ISNUMBER(B119),TEXT(B119,\"0\"),B119),Pricelist!$A$3:$F$60643,4,FALSE),\"\")","v":""},"","",null,null,null,null,"",null,"","",""]
["","","",{"$f":"IF(B120<>\"\",VLOOKUP(IF(ISNUMBER(B120),TEXT(B120,\"0\"),B120),Pricelist!$A$3:$F$60643,6,FALSE),\"\")","v":""},{"$f":"IF(B120<>\"\",VLOOKUP(IF(ISNUMBER(B120),TEXT(B120,\"0\"),B120),Pricelist!$A$3:$F$60643,2,FALSE),\"\")","v":""},{"$f":"IF(B120<>\"\",VLOOKUP(IF(ISNUMBER(B120),TEXT(B120,\"0\"),B120),Pricelist!$A$3:$F$60643,5,FALSE),\"\")","v":""},{"$f":"IF(B120<>\"\",VLOOKUP(IF(ISNUMBER(B120),TEXT(B120,\"0\"),B120),Pricelist!$A$3:$F$60643,3,FALSE),\"\")","v":""},"",{"$f":"IF(B120<>\"\",VLOOKUP(IF(ISNUMBER(B120),TEXT(B120,\"0\"),B120),Pricelist!$A$3:$F$60643,4,FALSE),\"\")","v":""},"","",null,null,null,null,"",null,"","",""]
["","","",{"$f":"IF(B121<>\"\",VLOOKUP(IF(ISNUMBER(B121),TEXT(B121,\"0\"),B121),Pricelist!$A$3:$F$60643,6,FALSE),\"\")","v":""},{"$f":"IF(B121<>\"\",VLOOKUP(IF(ISNUMBER(B121),TEXT(B121,\"0\"),B121),Pricelist!$A$3:$F$60643,2,FALSE),\"\")","v":""},{"$f":"IF(B121<>\"\",VLOOKUP(IF(ISNUMBER(B121),TEXT(B121,\"0\"),B121),Pricelist!$A$3:$F$60643,5,FALSE),\"\")","v":""},{"$f":"IF(B121<>\"\",VLOOKUP(IF(ISNUMBER(B121),TEXT(B121,\"0\"),B121),Pricelist!$A$3:$F$60643,3,FALSE),\"\")","v":""},"",{"$f":"IF(B121<>\"\",VLOOKUP(IF(ISNUMBER(B121),TEXT(B121,\"0\"),B121),Pricelist!$A$3:$F$60643,4,FALSE),\"\")","v":""},"","",null,null,null,null,"",null,"","",""]
["","","",{"$f":"IF(B122<>\"\",VLOOKUP(IF(ISNUMBER(B122),TEXT(B122,\"0\"),B122),Pricelist!$A$3:$F$60643,6,FALSE),\"\")","v":""},{"$f":"IF(B122<>\"\",VLOOKUP(IF(ISNUMBER(B122),TEXT(B122,\"0\"),B122),Pricelist!$A$3:$F$60643,2,FALSE),\"\")","v":""},{"$f":"IF(B122<>\"\",VLOOKUP(IF(ISNUMBER(B122),TEXT(B122,\"0\"),B122),Pricelist!$A$3:$F$60643,5,FALSE),\"\")","v":""},{"$f":"IF(B122<>\"\",VLOOKUP(IF(ISNUMBER(B122),TEXT(B122,\"0\"),B122),Pricelist!$A$3:$F$60643,3,FALSE),\"\")","v":""},"",{"$f":"IF(B122<>\"\",VLOOKUP(IF(ISNUMBER(B122),TEXT(B122,\"0\"),B122),Pricelist!$A$3:$F$60643,4,FALSE),\"\")","v":""},"","",null,null,null,null,"",null,"","",""]
["","","",{"$f":"IF(B123<>\"\",VLOOKUP(IF(ISNUMBER(B123),TEXT(B123,\"0\"),B123),Pricelist!$A$3:$F$60643,6,FALSE),\"\")","v":""},{"$f":"IF(B123<>\"\",VLOOKUP(IF(ISNUMBER(B123),TEXT(B123,\"0\"),B123),Pricelist!$A$3:$F$60643,2,FALSE),\"\")","v":""},{"$f":"IF(B123<>\"\",VLOOKUP(IF(ISNUMBER(B123),TEXT(B123,\"0\"),B123),Pricelist!$A$3:$F$60643,5,FALSE),\"\")","v":""},{"$f":"IF(B123<>\"\",VLOOKUP(IF(ISNUMBER(B123),TEXT(B123,\"0\"),B123),Pricelist!$A$3:$F$60643,3,FALSE),\"\")","v":""},"",{"$f":"IF(B123<>\"\",VLOOKUP(IF(ISNUMBER(B123),TEXT(B123,\"0\"),B123),Pricelist!$A$3:$F$60643,4,FALSE),\"\")","v":""},"","",null,null,null,null,"",null,"","",""]
["","","",{"$f":"IF(B124<>\"\",VLOOKUP(IF(ISNUMBER(B124),TEXT(B124,\"0\"),B124),Pricelist!$A$3:$F$60643,6,FALSE),\"\")","v":""},{"$f":"IF(B124<>\"\",VLOOKUP(IF(ISNUMBER(B124),TEXT(B124,\"0\"),B124),Pricelist!$A$3:$F$60643,2,FALSE),\"\")","v":""},{"$f":"IF(B124<>\"\",VLOOKUP(IF(ISNUMBER(B124),TEXT(B124,\"0\"),B124),Pricelist!$A$3:$F$60643,5,FALSE),\"\")","v":""},{"$f":"IF(B124<>\"\",VLOOKUP(IF(ISNUMBER(B124),TEXT(B124,\"0\"),B124),Pricelist!$A$3:$F$60643,3,FALSE),\"\")","v":""},"",{"$f":"IF(B124<>\"\",VLOOKUP(IF(ISNUMBER(B124),TEXT(B124,\"0\"),B124),Pricelist!$A$3:$F$60643,4,FALSE),\"\")","v":""},"","",null,null,null,null,"",null,"","",""]
["","","",{"$f":"IF(B125<>\"\",VLOOKUP(IF(ISNUMBER(B125),TEXT(B125,\"0\"),B125),Pricelist!$A$3:$F$60643,6,FALSE),\"\")","v":""},{"$f":"IF(B125<>\"\",VLOOKUP(IF(ISNUMBER(B125),TEXT(B125,\"0\"),B125),Pricelist!$A$3:$F$60643,2,FALSE),\"\")","v":""},{"$f":"IF(B125<>\"\",VLOOKUP(IF(ISNUMBER(B125),TEXT(B125,\"0\"),B125),Pricelist!$A$3:$F$60643,5,FALSE),\"\")","v":""},{"$f":"IF(B125<>\"\",VLOOKUP(IF(ISNUMBER(B125),TEXT(B125,\"0\"),B125),Pricelist!$A$3:$F$60643,3,FALSE),\"\")","v":""},"",{"$f":"IF(B125<>\"\",VLOOKUP(IF(ISNUMBER(B125),TEXT(B125,\"0\"),B125),Pricelist!$A$3:$F$60643,4,FALSE),\"\")","v":""},"","",null,null,null,null,"",null,"","",""]
["","","",{"$f":"IF(B126<>\"\",VLOOKUP(IF(ISNUMBER(B126),TEXT(B126,\"0\"),B126),Pricelist!$A$3:$F$60643,6,FALSE),\"\")","v":""},{"$f":"IF(B126<>\"\",VLOOKUP(IF(ISNUMBER(B126),TEXT(B126,\"0\"),B126),Pricelist!$A$3:$F$60643,2,FALSE),\"\")","v":""},{"$f":"IF(B126<>\"\",VLOOKUP(IF(ISNUMBER(B126),TEXT(B126,\"0\"),B126),Pricelist!$A$3:$F$60643,5,FALSE),\"\")","v":""},{"$f":"IF(B126<>\"\",VLOOKUP(IF(ISNUMBER(B126),TEXT(B126,\"0\"),B126),Pricelist!$A$3:$F$60643,3,FALSE),\"\")","v":""},"",{"$f":"IF(B126<>\"\",VLOOKUP(IF(ISNUMBER(B126),TEXT(B126,\"0\"),B126),Pricelist!$A$3:$F$60643,4,FALSE),\"\")","v":""},"","",null,null,null,null,"",null,"","",""]
["","","",{"$f":"IF(B127<>\"\",VLOOKUP(IF(ISNUMBER(B127),TEXT(B127,\"0\"),B127),Pricelist!$A$3:$F$60643,6,FALSE),\"\")","v":""},{"$f":"IF(B127<>\"\",VLOOKUP(IF(ISNUMBER(B127),TEXT(B127,\"0\"),B127),Pricelist!$A$3:$F$60643,2,FALSE),\"\")","v":""},{"$f":"IF(B127<>\"\",VLOOKUP(IF(ISNUMBER(B127),TEXT(B127,\"0\"),B127),Pricelist!$A$3:$F$60643,5,FALSE),\"\")","v":""},{"$f":"IF(B127<>\"\",VLOOKUP(IF(ISNUMBER(B127),TEXT(B127,\"0\"),B127),Pricelist!$A$3:$F$60643,3,FALSE),\"\")","v":""},"",{"$f":"IF(B127<>\"\",VLOOKUP(IF(ISNUMBER(B127),TEXT(B127,\"0\"),B127),Pricelist!$A$3:$F$60643,4,FALSE),\"\")","v":""},"","",null,null,null,null,"",null,"","",""]
["","","",{"$f":"IF(B128<>\"\",VLOOKUP(IF(ISNUMBER(B128),TEXT(B128,\"0\"),B128),Pricelist!$A$3:$F$60643,6,FALSE),\"\")","v":""},{"$f":"IF(B128<>\"\",VLOOKUP(IF(ISNUMBER(B128),TEXT(B128,\"0\"),B128),Pricelist!$A$3:$F$60643,2,FALSE),\"\")","v":""},{"$f":"IF(B128<>\"\",VLOOKUP(IF(ISNUMBER(B128),TEXT(B128,\"0\"),B128),Pricelist!$A$3:$F$60643,5,FALSE),\"\")","v":""},{"$f":"IF(B128<>\"\",VLOOKUP(IF(ISNUMBER(B128),TEXT(B128,\"0\"),B128),Pricelist!$A$3:$F$60643,3,FALSE),\"\")","v":""},"",{"$f":"IF(B128<>\"\",VLOOKUP(IF(ISNUMBER(B128),TEXT(B128,\"0\"),B128),Pricelist!$A$3:$F$60643,4,FALSE),\"\")","v":""},"","",null,null,null,null,"",null,"","",""]
["","","",{"$f":"IF(B129<>\"\",VLOOKUP(IF(ISNUMBER(B129),TEXT(B129,\"0\"),B129),Pricelist!$A$3:$F$60643,6,FALSE),\"\")","v":""},{"$f":"IF(B129<>\"\",VLOOKUP(IF(ISNUMBER(B129),TEXT(B129,\"0\"),B129),Pricelist!$A$3:$F$60643,2,FALSE),\"\")","v":""},{"$f":"IF(B129<>\"\",VLOOKUP(IF(ISNUMBER(B129),TEXT(B129,\"0\"),B129),Pricelist!$A$3:$F$60643,5,FALSE),\"\")","v":""},{"$f":"IF(B129<>\"\",VLOOKUP(IF(ISNUMBER(B129),TEXT(B129,\"0\"),B129),Pricelist!$A$3:$F$60643,3,FALSE),\"\")","v":""},"",{"$f":"IF(B129<>\"\",VLOOKUP(IF(ISNUMBER(B129),TEXT(B129,\"0\"),B129),Pricelist!$A$3:$F$60643,4,FALSE),\"\")","v":""},"","",null,null,null,null,"",null,"","",""]
["","","",{"$f":"IF(B130<>\"\",VLOOKUP(IF(ISNUMBER(B130),TEXT(B130,\"0\"),B130),Pricelist!$A$3:$F$60643,6,FALSE),\"\")","v":""},{"$f":"IF(B130<>\"\",VLOOKUP(IF(ISNUMBER(B130),TEXT(B130,\"0\"),B130),Pricelist!$A$3:$F$60643,2,FALSE),\"\")","v":""},{"$f":"IF(B130<>\"\",VLOOKUP(IF(ISNUMBER(B130),TEXT(B130,\"0\"),B130),Pricelist!$A$3:$F$60643,5,FALSE),\"\")","v":""},{"$f":"IF(B130<>\"\",VLOOKUP(IF(ISNUMBER(B130),TEXT(B130,\"0\"),B130),Pricelist!$A$3:$F$60643,3,FALSE),\"\")","v":""},"",{"$f":"IF(B130<>\"\",VLOOKUP(IF(ISNUMBER(B130),TEXT(B130,\"0\"),B130),Pricelist!$A$3:$F$60643,4,FALSE),\"\")","v":""},"","",null,null,null,null,"",null,"","",""]
["","","",{"$f":"IF(B131<>\"\",VLOOKUP(IF(ISNUMBER(B131),TEXT(B131,\"0\"),B131),Pricelist!$A$3:$F$60643,6,FALSE),\"\")","v":""},{"$f":"IF(B131<>\"\",VLOOKUP(IF(ISNUMBER(B131),TEXT(B131,\"0\"),B131),Pricelist!$A$3:$F$60643,2,FALSE),\"\")","v":""},{"$f":"IF(B131<>\"\",VLOOKUP(IF(ISNUMBER(B131),TEXT(B131,\"0\"),B131),Pricelist!$A$3:$F$60643,5,FALSE),\"\")","v":""},{"$f":"IF(B131<>\"\",VLOOKUP(IF(ISNUMBER(B131),TEXT(B131,\"0\"),B131),Pricelist!$A$3:$F$60643,3,FALSE),\"\")","v":""},"",{"$f":"IF(B131<>\"\",VLOOKUP(IF(ISNUMBER(B131),TEXT(B131,\"0\"),B131),Pricelist!$A$3:$F$60643,4,FALSE),\"\")","v":""},"","",null,null,null,null,"",null,"","",""]
["","","",{"$f":"IF(B132<>\"\",VLOOKUP(IF(ISNUMBER(B132),TEXT(B132,\"0\"),B132),Pricelist!$A$3:$F$60643,6,FALSE),\"\")","v":""},{"$f":"IF(B132<>\"\",VLOOKUP(IF(ISNUMBER(B132),TEXT(B132,\"0\"),B132),Pricelist!$A$3:$F$60643,2,FALSE),\"\")","v":""},{"$f":"IF(B132<>\"\",VLOOKUP(IF(ISNUMBER(B132),TEXT(B132,\"0\"),B132),Pricelist!$A$3:$F$60643,5,FALSE),\"\")","v":""},{"$f":"IF(B132<>\"\",VLOOKUP(IF(ISNUMBER(B132),TEXT(B132,\"0\"),B132),Pricelist!$A$3:$F$60643,3,FALSE),\"\")","v":""},"",{"$f":"IF(B132<>\"\",VLOOKUP(IF(ISNUMBER(B132),TEXT(B132,\"0\"),B132),Pricelist!$A$3:$F$60643,4,FALSE),\"\")","v":""},"","",null,null,null,null,"",null,"","",""]
["","","",{"$f":"IF(B133<>\"\",VLOOKUP(IF(ISNUMBER(B133),TEXT(B133,\"0\"),B133),Pricelist!$A$3:$F$60643,6,FALSE),\"\")","v":""},{"$f":"IF(B133<>\"\",VLOOKUP(IF(ISNUMBER(B133),TEXT(B133,\"0\"),B133),Pricelist!$A$3:$F$60643,2,FALSE),\"\")","v":""},{"$f":"IF(B133<>\"\",VLOOKUP(IF(ISNUMBER(B133),TEXT(B133,\"0\"),B133),Pricelist!$A$3:$F$60643,5,FALSE),\"\")","v":""},{"$f":"IF(B133<>\"\",VLOOKUP(IF(ISNUMBER(B133),TEXT(B133,\"0\"),B133),Pricelist!$A$3:$F$60643,3,FALSE),\"\")","v":""},"",{"$f":"IF(B133<>\"\",VLOOKUP(IF(ISNUMBER(B133),TEXT(B133,\"0\"),B133),Pricelist!$A$3:$F$60643,4,FALSE),\"\")","v":""},"","",null,null,null,null,"",null,"","",""]
["","","",{"$f":"IF(B134<>\"\",VLOOKUP(IF(ISNUMBER(B134),TEXT(B134,\"0\"),B134),Pricelist!$A$3:$F$60643,6,FALSE),\"\")","v":""},{"$f":"IF(B134<>\"\",VLOOKUP(IF(ISNUMBER(B134),TEXT(B134,\"0\"),B134),Pricelist!$A$3:$F$60643,2,FALSE),\"\")","v":""},{"$f":"IF(B134<>\"\",VLOOKUP(IF(ISNUMBER(B134),TEXT(B134,\"0\"),B134),Pricelist!$A$3:$F$60643,5,FALSE),\"\")","v":""},{"$f":"IF(B134<>\"\",VLOOKUP(IF(ISNUMBER(B134),TEXT(B134,\"0\"),B134),Pricelist!$A$3:$F$60643,3,FALSE),\"\")","v":""},"",{"$f":"IF(B134<>\"\",VLOOKUP(IF(ISNUMBER(B134),TEXT(B134,\"0\"),B134),Pricelist!$A$3:$F$60643,4,FALSE),\"\")","v":""},"","",null,null,null,null,"",null,"","",""]
["","","",{"$f":"IF(B135<>\"\",VLOOKUP(IF(ISNUMBER(B135),TEXT(B135,\"0\"),B135),Pricelist!$A$3:$F$60643,6,FALSE),\"\")","v":""},{"$f":"IF(B135<>\"\",VLOOKUP(IF(ISNUMBER(B135),TEXT(B135,\"0\"),B135),Pricelist!$A$3:$F$60643,2,FALSE),\"\")","v":""},{"$f":"IF(B135<>\"\",VLOOKUP(IF(ISNUMBER(B135),TEXT(B135,\"0\"),B135),Pricelist!$A$3:$F$60643,5,FALSE),\"\")","v":""},{"$f":"IF(B135<>\"\",VLOOKUP(IF(ISNUMBER(B135),TEXT(B135,\"0\"),B135),Pricelist!$A$3:$F$60643,3,FALSE),\"\")","v":""},"",{"$f":"IF(B135<>\"\",VLOOKUP(IF(ISNUMBER(B135),TEXT(B135,\"0\"),B135),Pricelist!$A$3:$F$60643,4,FALSE),\"\")","v":""},"","",null,null,null,null,"",null,"","",""]
["","","",{"$f":"IF(B136<>\"\",VLOOKUP(IF(ISNUMBER(B136),TEXT(B136,\"0\"),B136),Pricelist!$A$3:$F$60643,6,FALSE),\"\")","v":""},{"$f":"IF(B136<>\"\",VLOOKUP(IF(ISNUMBER(B136),TEXT(B136,\"0\"),B136),Pricelist!$A$3:$F$60643,2,FALSE),\"\")","v":""},{"$f":"IF(B136<>\"\",VLOOKUP(IF(ISNUMBER(B136),TEXT(B136,\"0\"),B136),Pricelist!$A$3:$F$60643,5,FALSE),\"\")","v":""},{"$f":"IF(B136<>\"\",VLOOKUP(IF(ISNUMBER(B136),TEXT(B136,\"0\"),B136),Pricelist!$A$3:$F$60643,3,FALSE),\"\")","v":""},"",{"$f":"IF(B136<>\"\",VLOOKUP(IF(ISNUMBER(B136),TEXT(B136,\"0\"),B136),Pricelist!$A$3:$F$60643,4,FALSE),\"\")","v":""},"","",null,null,null,null,"",null,"","",""]
["","","",{"$f":"IF(B137<>\"\",VLOOKUP(IF(ISNUMBER(B137),TEXT(B137,\"0\"),B137),Pricelist!$A$3:$F$60643,6,FALSE),\"\")","v":""},{"$f":"IF(B137<>\"\",VLOOKUP(IF(ISNUMBER(B137),TEXT(B137,\"0\"),B137),Pricelist!$A$3:$F$60643,2,FALSE),\"\")","v":""},{"$f":"IF(B137<>\"\",VLOOKUP(IF(ISNUMBER(B137),TEXT(B137,\"0\"),B137),Pricelist!$A$3:$F$60643,5,FALSE),\"\")","v":""},{"$f":"IF(B137<>\"\",VLOOKUP(IF(ISNUMBER(B137),TEXT(B137,\"0\"),B137),Pricelist!$A$3:$F$60643,3,FALSE),\"\")","v":""},"",{"$f":"IF(B137<>\"\",VLOOKUP(IF(ISNUMBER(B137),TEXT(B137,\"0\"),B137),Pricelist!$A$3:$F$60643,4,FALSE),\"\")","v":""},"","",null,null,null,null,"",null,"","",""]
["","","",{"$f":"IF(B138<>\"\",VLOOKUP(IF(ISNUMBER(B138),TEXT(B138,\"0\"),B138),Pricelist!$A$3:$F$60643,6,FALSE),\"\")","v":""},{"$f":"IF(B138<>\"\",VLOOKUP(IF(ISNUMBER(B138),TEXT(B138,\"0\"),B138),Pricelist!$A$3:$F$60643,2,FALSE),\"\")","v":""},{"$f":"IF(B138<>\"\",VLOOKUP(IF(ISNUMBER(B138),TEXT(B138,\"0\"),B138),Pricelist!$A$3:$F$60643,5,FALSE),\"\")","v":""},{"$f":"IF(B138<>\"\",VLOOKUP(IF(ISNUMBER(B138),TEXT(B138,\"0\"),B138),Pricelist!$A$3:$F$60643,3,FALSE),\"\")","v":""},"",{"$f":"IF(B138<>\"\",VLOOKUP(IF(ISNUMBER(B138),TEXT(B138,\"0\"),B138),Pricelist!$A$3:$F$60643,4,FALSE),\"\")","v":""},"","",null,null,null,null,"",null,"","",""]
["","","",{"$f":"IF(B139<>\"\",VLOOKUP(IF(ISNUMBER(B139),TEXT(B139,\"0\"),B139),Pricelist!$A$3:$F$60643,6,FALSE),\"\")","v":""},{"$f":"IF(B139<>\"\",VLOOKUP(IF(ISNUMBER(B139),TEXT(B139,\"0\"),B139),Pricelist!$A$3:$F$60643,2,FALSE),\"\")","v":""},{"$f":"IF(B139<>\"\",VLOOKUP(IF(ISNUMBER(B139),TEXT(B139,\"0\"),B139),Pricelist!$A$3:$F$60643,5,FALSE),\"\")","v":""},{"$f":"IF(B139<>\"\",VLOOKUP(IF(ISNUMBER(B139),TEXT(B139,\"0\"),B139),Pricelist!$A$3:$F$60643,3,FALSE),\"\")","v":""},"",{"$f":"IF(B139<>\"\",VLOOKUP(IF(ISNUMBER(B139),TEXT(B139,\"0\"),B139),Pricelist!$A$3:$F$60643,4,FALSE),\"\")","v":""},"","",null,null,null,null,"",null,"","",""]
[{"$f":"IF(B140<>\"\",A139+1,\"\")","v":""},"","",{"$f":"IF(B140<>\"\",VLOOKUP(IF(ISNUMBER(B140),TEXT(B140,\"0\"),B140),Pricelist!$A$3:$F$60643,6,FALSE),\"\")","v":""},{"$f":"IF(B140<>\"\",VLOOKUP(IF(ISNUMBER(B140),TEXT(B140,\"0\"),B140),Pricelist!$A$3:$F$60643,2,FALSE),\"\")","v":""},{"$f":"IF(B140<>\"\",VLOOKUP(IF(ISNUMBER(B140),TEXT(B140,\"0\"),B140),Pricelist!$A$3:$F$60643,5,FALSE),\"\")","v":""},{"$f":"IF(B140<>\"\",VLOOKUP(IF(ISNUMBER(B140),TEXT(B140,\"0\"),B140),Pricelist!$A$3:$F$60643,3,FALSE),\"\")","v":""},{"$f":"IF(B140<>\"\",VLOOKUP(IF(ISNUMBER(I140),TEXT(I140,\"0\"),I140),$M$12:$N$44,2,FALSE),\"\")","v":""},{"$f":"IF(B140<>\"\",VLOOKUP(IF(ISNUMBER(B140),TEXT(B140,\"0\"),B140),Pricelist!$A$3:$F$60643,4,FALSE),\"\")","v":""},{"$f":"IF(B140<>\"\",G140*(1-H140),\"\")","v":""},{"$f":"IF(B140<>\"\",C140*(1-H140)*G140,\"\")","v":""},null,null,null,null,"",null,"",{"$f":"IF(R140=\"\",\"\",C140)","v":""},""]
["","","",{"$f":"IF(B141<>\"\",VLOOKUP(IF(ISNUMBER(B141),TEXT(B141,\"0\"),B141),Pricelist!$A$3:$F$60643,6,FALSE),\"\")","v":""},{"$f":"IF(B141<>\"\",VLOOKUP(IF(ISNUMBER(B141),TEXT(B141,\"0\"),B141),Pricelist!$A$3:$F$60643,2,FALSE),\"\")","v":""},{"$f":"IF(B141<>\"\",VLOOKUP(IF(ISNUMBER(B141),TEXT(B141,\"0\"),B141),Pricelist!$A$3:$F$60643,5,FALSE),\"\")","v":""},{"$f":"IF(B141<>\"\",VLOOKUP(IF(ISNUMBER(B141),TEXT(B141,\"0\"),B141),Pricelist!$A$3:$F$60643,3,FALSE),\"\")","v":""},"",{"$f":"IF(B141<>\"\",VLOOKUP(IF(ISNUMBER(B141),TEXT(B141,\"0\"),B141),Pricelist!$A$3:$F$60643,4,FALSE),\"\")","v":""},"","",null,null,null,null,{"$f":"IF(B141<>\"\",$K$2,\"\")","v":""},null,{"$f":"IF(B141>1,B141,\"\")","v":""},"",{"$f":"IF(B141=\"\",\"\",E141)","v":""}]
["","","",{"$f":"IF(B142<>\"\",VLOOKUP(IF(ISNUMBER(B142),TEXT(B142,\"0\"),B142),Pricelist!$A$3:$F$60643,6,FALSE),\"\")","v":""},{"$f":"IF(B142<>\"\",VLOOKUP(IF(ISNUMBER(B142),TEXT(B142,\"0\"),B142),Pricelist!$A$3:$F$60643,2,FALSE),\"\")","v":""},{"$f":"IF(B142<>\"\",VLOOKUP(IF(ISNUMBER(B142),TEXT(B142,\"0\"),B142),Pricelist!$A$3:$F$60643,5,FALSE),\"\")","v":""},{"$f":"IF(B142<>\"\",VLOOKUP(IF(ISNUMBER(B142),TEXT(B142,\"0\"),B142),Pricelist!$A$3:$F$60643,3,FALSE),\"\")","v":""},"",{"$f":"IF(B142<>\"\",VLOOKUP(IF(ISNUMBER(B142),TEXT(B142,\"0\"),B142),Pricelist!$A$3:$F$60643,4,FALSE),\"\")","v":""},"","",null,null,null,null,"",null,"","",""]
["","","",{"$f":"IF(B143<>\"\",VLOOKUP(IF(ISNUMBER(B143),TEXT(B143,\"0\"),B143),Pricelist!$A$3:$F$60643,6,FALSE),\"\")","v":""},{"$f":"IF(B143<>\"\",VLOOKUP(IF(ISNUMBER(B143),TEXT(B143,\"0\"),B143),Pricelist!$A$3:$F$60643,2,FALSE),\"\")","v":""},{"$f":"IF(B143<>\"\",VLOOKUP(IF(ISNUMBER(B143),TEXT(B143,\"0\"),B143),Pricelist!$A$3:$F$60643,5,FALSE),\"\")","v":""},{"$f":"IF(B143<>\"\",VLOOKUP(IF(ISNUMBER(B143),TEXT(B143,\"0\"),B143),Pricelist!$A$3:$F$60643,3,FALSE),\"\")","v":""},"",{"$f":"IF(B143<>\"\",VLOOKUP(IF(ISNUMBER(B143),TEXT(B143,\"0\"),B143),Pricelist!$A$3:$F$60643,4,FALSE),\"\")","v":""},"","",null,null,null,null,"",null,"","",""]
["","","",{"$f":"IF(B144<>\"\",VLOOKUP(IF(ISNUMBER(B144),TEXT(B144,\"0\"),B144),Pricelist!$A$3:$F$60643,6,FALSE),\"\")","v":""},{"$f":"IF(B144<>\"\",VLOOKUP(IF(ISNUMBER(B144),TEXT(B144,\"0\"),B144),Pricelist!$A$3:$F$60643,2,FALSE),\"\")","v":""},{"$f":"IF(B144<>\"\",VLOOKUP(IF(ISNUMBER(B144),TEXT(B144,\"0\"),B144),Pricelist!$A$3:$F$60643,5,FALSE),\"\")","v":""},{"$f":"IF(B144<>\"\",VLOOKUP(IF(ISNUMBER(B144),TEXT(B144,\"0\"),B144),Pricelist!$A$3:$F$60643,3,FALSE),\"\")","v":""},"",{"$f":"IF(B144<>\"\",VLOOKUP(IF(ISNUMBER(B144),TEXT(B144,\"0\"),B144),Pricelist!$A$3:$F$60643,4,FALSE),\"\")","v":""},"","",null,null,null,null,"",null,"","",""]
["","","",{"$f":"IF(B145<>\"\",VLOOKUP(IF(ISNUMBER(B145),TEXT(B145,\"0\"),B145),Pricelist!$A$3:$F$60643,6,FALSE),\"\")","v":""},{"$f":"IF(B145<>\"\",VLOOKUP(IF(ISNUMBER(B145),TEXT(B145,\"0\"),B145),Pricelist!$A$3:$F$60643,2,FALSE),\"\")","v":""},{"$f":"IF(B145<>\"\",VLOOKUP(IF(ISNUMBER(B145),TEXT(B145,\"0\"),B145),Pricelist!$A$3:$F$60643,5,FALSE),\"\")","v":""},{"$f":"IF(B145<>\"\",VLOOKUP(IF(ISNUMBER(B145),TEXT(B145,\"0\"),B145),Pricelist!$A$3:$F$60643,3,FALSE),\"\")","v":""},"",{"$f":"IF(B145<>\"\",VLOOKUP(IF(ISNUMBER(B145),TEXT(B145,\"0\"),B145),Pricelist!$A$3:$F$60643,4,FALSE),\"\")","v":""},"","",null,null,null,null,"",null,"","",""]
["","","",{"$f":"IF(B146<>\"\",VLOOKUP(IF(ISNUMBER(B146),TEXT(B146,\"0\"),B146),Pricelist!$A$3:$F$60643,6,FALSE),\"\")","v":""},{"$f":"IF(B146<>\"\",VLOOKUP(IF(ISNUMBER(B146),TEXT(B146,\"0\"),B146),Pricelist!$A$3:$F$60643,2,FALSE),\"\")","v":""},{"$f":"IF(B146<>\"\",VLOOKUP(IF(ISNUMBER(B146),TEXT(B146,\"0\"),B146),Pricelist!$A$3:$F$60643,5,FALSE),\"\")","v":""},{"$f":"IF(B146<>\"\",VLOOKUP(IF(ISNUMBER(B146),TEXT(B146,\"0\"),B146),Pricelist!$A$3:$F$60643,3,FALSE),\"\")","v":""},"",{"$f":"IF(B146<>\"\",VLOOKUP(IF(ISNUMBER(B146),TEXT(B146,\"0\"),B146),Pricelist!$A$3:$F$60643,4,FALSE),\"\")","v":""},"","",null,null,null,null,"",null,"","",""]
["","","",{"$f":"IF(B147<>\"\",VLOOKUP(IF(ISNUMBER(B147),TEXT(B147,\"0\"),B147),Pricelist!$A$3:$F$60643,6,FALSE),\"\")","v":""},{"$f":"IF(B147<>\"\",VLOOKUP(IF(ISNUMBER(B147),TEXT(B147,\"0\"),B147),Pricelist!$A$3:$F$60643,2,FALSE),\"\")","v":""},{"$f":"IF(B147<>\"\",VLOOKUP(IF(ISNUMBER(B147),TEXT(B147,\"0\"),B147),Pricelist!$A$3:$F$60643,5,FALSE),\"\")","v":""},{"$f":"IF(B147<>\"\",VLOOKUP(IF(ISNUMBER(B147),TEXT(B147,\"0\"),B147),Pricelist!$A$3:$F$60643,3,FALSE),\"\")","v":""},"",{"$f":"IF(B147<>\"\",VLOOKUP(IF(ISNUMBER(B147),TEXT(B147,\"0\"),B147),Pricelist!$A$3:$F$60643,4,FALSE),\"\")","v":""},"","",null,null,null,null,"",null,"","",""]
["","","",{"$f":"IF(B148<>\"\",VLOOKUP(IF(ISNUMBER(B148),TEXT(B148,\"0\"),B148),Pricelist!$A$3:$F$60643,6,FALSE),\"\")","v":""},{"$f":"IF(B148<>\"\",VLOOKUP(IF(ISNUMBER(B148),TEXT(B148,\"0\"),B148),Pricelist!$A$3:$F$60643,2,FALSE),\"\")","v":""},{"$f":"IF(B148<>\"\",VLOOKUP(IF(ISNUMBER(B148),TEXT(B148,\"0\"),B148),Pricelist!$A$3:$F$60643,5,FALSE),\"\")","v":""},{"$f":"IF(B148<>\"\",VLOOKUP(IF(ISNUMBER(B148),TEXT(B148,\"0\"),B148),Pricelist!$A$3:$F$60643,3,FALSE),\"\")","v":""},"",{"$f":"IF(B148<>\"\",VLOOKUP(IF(ISNUMBER(B148),TEXT(B148,\"0\"),B148),Pricelist!$A$3:$F$60643,4,FALSE),\"\")","v":""},"","",null,null,null,null,"",null,"","",""]
["","","",{"$f":"IF(B149<>\"\",VLOOKUP(IF(ISNUMBER(B149),TEXT(B149,\"0\"),B149),Pricelist!$A$3:$F$60643,6,FALSE),\"\")","v":""},{"$f":"IF(B149<>\"\",VLOOKUP(IF(ISNUMBER(B149),TEXT(B149,\"0\"),B149),Pricelist!$A$3:$F$60643,2,FALSE),\"\")","v":""},{"$f":"IF(B149<>\"\",VLOOKUP(IF(ISNUMBER(B149),TEXT(B149,\"0\"),B149),Pricelist!$A$3:$F$60643,5,FALSE),\"\")","v":""},{"$f":"IF(B149<>\"\",VLOOKUP(IF(ISNUMBER(B149),TEXT(B149,\"0\"),B149),Pricelist!$A$3:$F$60643,3,FALSE),\"\")","v":""},"",{"$f":"IF(B149<>\"\",VLOOKUP(IF(ISNUMBER(B149),TEXT(B149,\"0\"),B149),Pricelist!$A$3:$F$60643,4,FALSE),\"\")","v":""},"","",null,null,null,null,"",null,"","",""]
["","","",{"$f":"IF(B150<>\"\",VLOOKUP(IF(ISNUMBER(B150),TEXT(B150,\"0\"),B150),Pricelist!$A$3:$F$60643,6,FALSE),\"\")","v":""},{"$f":"IF(B150<>\"\",VLOOKUP(IF(ISNUMBER(B150),TEXT(B150,\"0\"),B150),Pricelist!$A$3:$F$60643,2,FALSE),\"\")","v":""},{"$f":"IF(B150<>\"\",VLOOKUP(IF(ISNUMBER(B150),TEXT(B150,\"0\"),B150),Pricelist!$A$3:$F$60643,5,FALSE),\"\")","v":""},{"$f":"IF(B150<>\"\",VLOOKUP(IF(ISNUMBER(B150),TEXT(B150,\"0\"),B150),Pricelist!$A$3:$F$60643,3,FALSE),\"\")","v":""},"",{"$f":"IF(B150<>\"\",VLOOKUP(IF(ISNUMBER(B150),TEXT(B150,\"0\"),B150),Pricelist!$A$3:$F$60643,4,FALSE),\"\")","v":""},"","",null,null,null,null,"",null,"","",""]
["","","",{"$f":"IF(B151<>\"\",VLOOKUP(IF(ISNUMBER(B151),TEXT(B151,\"0\"),B151),Pricelist!$A$3:$F$60643,6,FALSE),\"\")","v":""},{"$f":"IF(B151<>\"\",VLOOKUP(IF(ISNUMBER(B151),TEXT(B151,\"0\"),B151),Pricelist!$A$3:$F$60643,2,FALSE),\"\")","v":""},{"$f":"IF(B151<>\"\",VLOOKUP(IF(ISNUMBER(B151),TEXT(B151,\"0\"),B151),Pricelist!$A$3:$F$60643,5,FALSE),\"\")","v":""},{"$f":"IF(B151<>\"\",VLOOKUP(IF(ISNUMBER(B151),TEXT(B151,\"0\"),B151),Pricelist!$A$3:$F$60643,3,FALSE),\"\")","v":""},"",{"$f":"IF(B151<>\"\",VLOOKUP(IF(ISNUMBER(B151),TEXT(B151,\"0\"),B151),Pricelist!$A$3:$F$60643,4,FALSE),\"\")","v":""},"","",null,null,null,null,"",null,"","",""]
["","","",{"$f":"IF(B152<>\"\",VLOOKUP(IF(ISNUMBER(B152),TEXT(B152,\"0\"),B152),Pricelist!$A$3:$F$60643,6,FALSE),\"\")","v":""},{"$f":"IF(B152<>\"\",VLOOKUP(IF(ISNUMBER(B152),TEXT(B152,\"0\"),B152),Pricelist!$A$3:$F$60643,2,FALSE),\"\")","v":""},{"$f":"IF(B152<>\"\",VLOOKUP(IF(ISNUMBER(B152),TEXT(B152,\"0\"),B152),Pricelist!$A$3:$F$60643,5,FALSE),\"\")","v":""},{"$f":"IF(B152<>\"\",VLOOKUP(IF(ISNUMBER(B152),TEXT(B152,\"0\"),B152),Pricelist!$A$3:$F$60643,3,FALSE),\"\")","v":""},"",{"$f":"IF(B152<>\"\",VLOOKUP(IF(ISNUMBER(B152),TEXT(B152,\"0\"),B152),Pricelist!$A$3:$F$60643,4,FALSE),\"\")","v":""},"","",null,null,null,null,"",null,"","",""]
["","","",{"$f":"IF(B153<>\"\",VLOOKUP(IF(ISNUMBER(B153),TEXT(B153,\"0\"),B153),Pricelist!$A$3:$F$60643,6,FALSE),\"\")","v":""},{"$f":"IF(B153<>\"\",VLOOKUP(IF(ISNUMBER(B153),TEXT(B153,\"0\"),B153),Pricelist!$A$3:$F$60643,2,FALSE),\"\")","v":""},{"$f":"IF(B153<>\"\",VLOOKUP(IF(ISNUMBER(B153),TEXT(B153,\"0\"),B153),Pricelist!$A$3:$F$60643,5,FALSE),\"\")","v":""},{"$f":"IF(B153<>\"\",VLOOKUP(IF(ISNUMBER(B153),TEXT(B153,\"0\"),B153),Pricelist!$A$3:$F$60643,3,FALSE),\"\")","v":""},"",{"$f":"IF(B153<>\"\",VLOOKUP(IF(ISNUMBER(B153),TEXT(B153,\"0\"),B153),Pricelist!$A$3:$F$60643,4,FALSE),\"\")","v":""},"","",null,null,null,null,"",null,"","",""]
["","","",{"$f":"IF(B154<>\"\",VLOOKUP(IF(ISNUMBER(B154),TEXT(B154,\"0\"),B154),Pricelist!$A$3:$F$60643,6,FALSE),\"\")","v":""},{"$f":"IF(B154<>\"\",VLOOKUP(IF(ISNUMBER(B154),TEXT(B154,\"0\"),B154),Pricelist!$A$3:$F$60643,2,FALSE),\"\")","v":""},{"$f":"IF(B154<>\"\",VLOOKUP(IF(ISNUMBER(B154),TEXT(B154,\"0\"),B154),Pricelist!$A$3:$F$60643,5,FALSE),\"\")","v":""},{"$f":"IF(B154<>\"\",VLOOKUP(IF(ISNUMBER(B154),TEXT(B154,\"0\"),B154),Pricelist!$A$3:$F$60643,3,FALSE),\"\")","v":""},"",{"$f":"IF(B154<>\"\",VLOOKUP(IF(ISNUMBER(B154),TEXT(B154,\"0\"),B154),Pricelist!$A$3:$F$60643,4,FALSE),\"\")","v":""},"","",null,null,null,null,"",null,"","",""]
["","","",{"$f":"IF(B155<>\"\",VLOOKUP(IF(ISNUMBER(B155),TEXT(B155,\"0\"),B155),Pricelist!$A$3:$F$60643,6,FALSE),\"\")","v":""},{"$f":"IF(B155<>\"\",VLOOKUP(IF(ISNUMBER(B155),TEXT(B155,\"0\"),B155),Pricelist!$A$3:$F$60643,2,FALSE),\"\")","v":""},{"$f":"IF(B155<>\"\",VLOOKUP(IF(ISNUMBER(B155),TEXT(B155,\"0\"),B155),Pricelist!$A$3:$F$60643,5,FALSE),\"\")","v":""},{"$f":"IF(B155<>\"\",VLOOKUP(IF(ISNUMBER(B155),TEXT(B155,\"0\"),B155),Pricelist!$A$3:$F$60643,3,FALSE),\"\")","v":""},"",{"$f":"IF(B155<>\"\",VLOOKUP(IF(ISNUMBER(B155),TEXT(B155,\"0\"),B155),Pricelist!$A$3:$F$60643,4,FALSE),\"\")","v":""},"","",null,null,null,null,"",null,"","",""]
["","","",{"$f":"IF(B156<>\"\",VLOOKUP(IF(ISNUMBER(B156),TEXT(B156,\"0\"),B156),Pricelist!$A$3:$F$60643,6,FALSE),\"\")","v":""},{"$f":"IF(B156<>\"\",VLOOKUP(IF(ISNUMBER(B156),TEXT(B156,\"0\"),B156),Pricelist!$A$3:$F$60643,2,FALSE),\"\")","v":""},{"$f":"IF(B156<>\"\",VLOOKUP(IF(ISNUMBER(B156),TEXT(B156,\"0\"),B156),Pricelist!$A$3:$F$60643,5,FALSE),\"\")","v":""},{"$f":"IF(B156<>\"\",VLOOKUP(IF(ISNUMBER(B156),TEXT(B156,\"0\"),B156),Pricelist!$A$3:$F$60643,3,FALSE),\"\")","v":""},"",{"$f":"IF(B156<>\"\",VLOOKUP(IF(ISNUMBER(B156),TEXT(B156,\"0\"),B156),Pricelist!$A$3:$F$60643,4,FALSE),\"\")","v":""},"","",null,null,null,null,"",null,"","",""]
["","","",{"$f":"IF(B157<>\"\",VLOOKUP(IF(ISNUMBER(B157),TEXT(B157,\"0\"),B157),Pricelist!$A$3:$F$60643,6,FALSE),\"\")","v":""},{"$f":"IF(B157<>\"\",VLOOKUP(IF(ISNUMBER(B157),TEXT(B157,\"0\"),B157),Pricelist!$A$3:$F$60643,2,FALSE),\"\")","v":""},{"$f":"IF(B157<>\"\",VLOOKUP(IF(ISNUMBER(B157),TEXT(B157,\"0\"),B157),Pricelist!$A$3:$F$60643,5,FALSE),\"\")","v":""},{"$f":"IF(B157<>\"\",VLOOKUP(IF(ISNUMBER(B157),TEXT(B157,\"0\"),B157),Pricelist!$A$3:$F$60643,3,FALSE),\"\")","v":""},"",{"$f":"IF(B157<>\"\",VLOOKUP(IF(ISNUMBER(B157),TEXT(B157,\"0\"),B157),Pricelist!$A$3:$F$60643,4,FALSE),\"\")","v":""},"","",null,null,null,null,"",null,"","",""]
["","","",{"$f":"IF(B158<>\"\",VLOOKUP(IF(ISNUMBER(B158),TEXT(B158,\"0\"),B158),Pricelist!$A$3:$F$60643,6,FALSE),\"\")","v":""},{"$f":"IF(B158<>\"\",VLOOKUP(IF(ISNUMBER(B158),TEXT(B158,\"0\"),B158),Pricelist!$A$3:$F$60643,2,FALSE),\"\")","v":""},{"$f":"IF(B158<>\"\",VLOOKUP(IF(ISNUMBER(B158),TEXT(B158,\"0\"),B158),Pricelist!$A$3:$F$60643,5,FALSE),\"\")","v":""},{"$f":"IF(B158<>\"\",VLOOKUP(IF(ISNUMBER(B158),TEXT(B158,\"0\"),B158),Pricelist!$A$3:$F$60643,3,FALSE),\"\")","v":""},"",{"$f":"IF(B158<>\"\",VLOOKUP(IF(ISNUMBER(B158),TEXT(B158,\"0\"),B158),Pricelist!$A$3:$F$60643,4,FALSE),\"\")","v":""},"","",null,null,null,null,"",null,"","",""]
["","","",{"$f":"IF(B159<>\"\",VLOOKUP(IF(ISNUMBER(B159),TEXT(B159,\"0\"),B159),Pricelist!$A$3:$F$60643,6,FALSE),\"\")","v":""},{"$f":"IF(B159<>\"\",VLOOKUP(IF(ISNUMBER(B159),TEXT(B159,\"0\"),B159),Pricelist!$A$3:$F$60643,2,FALSE),\"\")","v":""},{"$f":"IF(B159<>\"\",VLOOKUP(IF(ISNUMBER(B159),TEXT(B159,\"0\"),B159),Pricelist!$A$3:$F$60643,5,FALSE),\"\")","v":""},{"$f":"IF(B159<>\"\",VLOOKUP(IF(ISNUMBER(B159),TEXT(B159,\"0\"),B159),Pricelist!$A$3:$F$60643,3,FALSE),\"\")","v":""},"",{"$f":"IF(B159<>\"\",VLOOKUP(IF(ISNUMBER(B159),TEXT(B159,\"0\"),B159),Pricelist!$A$3:$F$60643,4,FALSE),\"\")","v":""},"","",null,null,null,null,"",null,"","",""]
["","","",{"$f":"IF(B160<>\"\",VLOOKUP(IF(ISNUMBER(B160),TEXT(B160,\"0\"),B160),Pricelist!$A$3:$F$60643,6,FALSE),\"\")","v":""},{"$f":"IF(B160<>\"\",VLOOKUP(IF(ISNUMBER(B160),TEXT(B160,\"0\"),B160),Pricelist!$A$3:$F$60643,2,FALSE),\"\")","v":""},{"$f":"IF(B160<>\"\",VLOOKUP(IF(ISNUMBER(B160),TEXT(B160,\"0\"),B160),Pricelist!$A$3:$F$60643,5,FALSE),\"\")","v":""},{"$f":"IF(B160<>\"\",VLOOKUP(IF(ISNUMBER(B160),TEXT(B160,\"0\"),B160),Pricelist!$A$3:$F$60643,3,FALSE),\"\")","v":""},"",{"$f":"IF(B160<>\"\",VLOOKUP(IF(ISNUMBER(B160),TEXT(B160,\"0\"),B160),Pricelist!$A$3:$F$60643,4,FALSE),\"\")","v":""},"","",null,null,null,null,"",null,"","",""]
["","","",{"$f":"IF(B161<>\"\",VLOOKUP(IF(ISNUMBER(B161),TEXT(B161,\"0\"),B161),Pricelist!$A$3:$F$60643,6,FALSE),\"\")","v":""},{"$f":"IF(B161<>\"\",VLOOKUP(IF(ISNUMBER(B161),TEXT(B161,\"0\"),B161),Pricelist!$A$3:$F$60643,2,FALSE),\"\")","v":""},{"$f":"IF(B161<>\"\",VLOOKUP(IF(ISNUMBER(B161),TEXT(B161,\"0\"),B161),Pricelist!$A$3:$F$60643,5,FALSE),\"\")","v":""},{"$f":"IF(B161<>\"\",VLOOKUP(IF(ISNUMBER(B161),TEXT(B161,\"0\"),B161),Pricelist!$A$3:$F$60643,3,FALSE),\"\")","v":""},"",{"$f":"IF(B161<>\"\",VLOOKUP(IF(ISNUMBER(B161),TEXT(B161,\"0\"),B161),Pricelist!$A$3:$F$60643,4,FALSE),\"\")","v":""},"","",null,null,null,null,"",null,"","",""]
["","","",{"$f":"IF(B162<>\"\",VLOOKUP(IF(ISNUMBER(B162),TEXT(B162,\"0\"),B162),Pricelist!$A$3:$F$60643,6,FALSE),\"\")","v":""},{"$f":"IF(B162<>\"\",VLOOKUP(IF(ISNUMBER(B162),TEXT(B162,\"0\"),B162),Pricelist!$A$3:$F$60643,2,FALSE),\"\")","v":""},{"$f":"IF(B162<>\"\",VLOOKUP(IF(ISNUMBER(B162),TEXT(B162,\"0\"),B162),Pricelist!$A$3:$F$60643,5,FALSE),\"\")","v":""},{"$f":"IF(B162<>\"\",VLOOKUP(IF(ISNUMBER(B162),TEXT(B162,\"0\"),B162),Pricelist!$A$3:$F$60643,3,FALSE),\"\")","v":""},"",{"$f":"IF(B162<>\"\",VLOOKUP(IF(ISNUMBER(B162),TEXT(B162,\"0\"),B162),Pricelist!$A$3:$F$60643,4,FALSE),\"\")","v":""},"","",null,null,null,null,"",null,"","",""]
["","","",{"$f":"IF(B163<>\"\",VLOOKUP(IF(ISNUMBER(B163),TEXT(B163,\"0\"),B163),Pricelist!$A$3:$F$60643,6,FALSE),\"\")","v":""},{"$f":"IF(B163<>\"\",VLOOKUP(IF(ISNUMBER(B163),TEXT(B163,\"0\"),B163),Pricelist!$A$3:$F$60643,2,FALSE),\"\")","v":""},{"$f":"IF(B163<>\"\",VLOOKUP(IF(ISNUMBER(B163),TEXT(B163,\"0\"),B163),Pricelist!$A$3:$F$60643,5,FALSE),\"\")","v":""},{"$f":"IF(B163<>\"\",VLOOKUP(IF(ISNUMBER(B163),TEXT(B163,\"0\"),B163),Pricelist!$A$3:$F$60643,3,FALSE),\"\")","v":""},"",{"$f":"IF(B163<>\"\",VLOOKUP(IF(ISNUMBER(B163),TEXT(B163,\"0\"),B163),Pricelist!$A$3:$F$60643,4,FALSE),\"\")","v":""},"","",null,null,null,null,"",null,"","",""]
["","","",{"$f":"IF(B164<>\"\",VLOOKUP(IF(ISNUMBER(B164),TEXT(B164,\"0\"),B164),Pricelist!$A$3:$F$60643,6,FALSE),\"\")","v":""},{"$f":"IF(B164<>\"\",VLOOKUP(IF(ISNUMBER(B164),TEXT(B164,\"0\"),B164),Pricelist!$A$3:$F$60643,2,FALSE),\"\")","v":""},{"$f":"IF(B164<>\"\",VLOOKUP(IF(ISNUMBER(B164),TEXT(B164,\"0\"),B164),Pricelist!$A$3:$F$60643,5,FALSE),\"\")","v":""},{"$f":"IF(B164<>\"\",VLOOKUP(IF(ISNUMBER(B164),TEXT(B164,\"0\"),B164),Pricelist!$A$3:$F$60643,3,FALSE),\"\")","v":""},"",{"$f":"IF(B164<>\"\",VLOOKUP(IF(ISNUMBER(B164),TEXT(B164,\"0\"),B164),Pricelist!$A$3:$F$60643,4,FALSE),\"\")","v":""},"","",null,null,null,null,"",null,"","",""]
["","","",{"$f":"IF(B165<>\"\",VLOOKUP(IF(ISNUMBER(B165),TEXT(B165,\"0\"),B165),Pricelist!$A$3:$F$60643,6,FALSE),\"\")","v":""},{"$f":"IF(B165<>\"\",VLOOKUP(IF(ISNUMBER(B165),TEXT(B165,\"0\"),B165),Pricelist!$A$3:$F$60643,2,FALSE),\"\")","v":""},{"$f":"IF(B165<>\"\",VLOOKUP(IF(ISNUMBER(B165),TEXT(B165,\"0\"),B165),Pricelist!$A$3:$F$60643,5,FALSE),\"\")","v":""},{"$f":"IF(B165<>\"\",VLOOKUP(IF(ISNUMBER(B165),TEXT(B165,\"0\"),B165),Pricelist!$A$3:$F$60643,3,FALSE),\"\")","v":""},"",{"$f":"IF(B165<>\"\",VLOOKUP(IF(ISNUMBER(B165),TEXT(B165,\"0\"),B165),Pricelist!$A$3:$F$60643,4,FALSE),\"\")","v":""},"","",null,null,null,null,"",null,"","",""]
["","","",{"$f":"IF(B166<>\"\",VLOOKUP(IF(ISNUMBER(B166),TEXT(B166,\"0\"),B166),Pricelist!$A$3:$F$60643,6,FALSE),\"\")","v":""},{"$f":"IF(B166<>\"\",VLOOKUP(IF(ISNUMBER(B166),TEXT(B166,\"0\"),B166),Pricelist!$A$3:$F$60643,2,FALSE),\"\")","v":""},{"$f":"IF(B166<>\"\",VLOOKUP(IF(ISNUMBER(B166),TEXT(B166,\"0\"),B166),Pricelist!$A$3:$F$60643,5,FALSE),\"\")","v":""},{"$f":"IF(B166<>\"\",VLOOKUP(IF(ISNUMBER(B166),TEXT(B166,\"0\"),B166),Pricelist!$A$3:$F$60643,3,FALSE),\"\")","v":""},"",{"$f":"IF(B166<>\"\",VLOOKUP(IF(ISNUMBER(B166),TEXT(B166,\"0\"),B166),Pricelist!$A$3:$F$60643,4,FALSE),\"\")","v":""},"","",null,null,null,null,"",null,"","",""]
["","","",{"$f":"IF(B167<>\"\",VLOOKUP(IF(ISNUMBER(B167),TEXT(B167,\"0\"),B167),Pricelist!$A$3:$F$60643,6,FALSE),\"\")","v":""},{"$f":"IF(B167<>\"\",VLOOKUP(IF(ISNUMBER(B167),TEXT(B167,\"0\"),B167),Pricelist!$A$3:$F$60643,2,FALSE),\"\")","v":""},{"$f":"IF(B167<>\"\",VLOOKUP(IF(ISNUMBER(B167),TEXT(B167,\"0\"),B167),Pricelist!$A$3:$F$60643,5,FALSE),\"\")","v":""},{"$f":"IF(B167<>\"\",VLOOKUP(IF(ISNUMBER(B167),TEXT(B167,\"0\"),B167),Pricelist!$A$3:$F$60643,3,FALSE),\"\")","v":""},"",{"$f":"IF(B167<>\"\",VLOOKUP(IF(ISNUMBER(B167),TEXT(B167,\"0\"),B167),Pricelist!$A$3:$F$60643,4,FALSE),\"\")","v":""},"","",null,null,null,null,"",null,"","",""]
["","","",{"$f":"IF(B168<>\"\",VLOOKUP(IF(ISNUMBER(B168),TEXT(B168,\"0\"),B168),Pricelist!$A$3:$F$60643,6,FALSE),\"\")","v":""},{"$f":"IF(B168<>\"\",VLOOKUP(IF(ISNUMBER(B168),TEXT(B168,\"0\"),B168),Pricelist!$A$3:$F$60643,2,FALSE),\"\")","v":""},{"$f":"IF(B168<>\"\",VLOOKUP(IF(ISNUMBER(B168),TEXT(B168,\"0\"),B168),Pricelist!$A$3:$F$60643,5,FALSE),\"\")","v":""},{"$f":"IF(B168<>\"\",VLOOKUP(IF(ISNUMBER(B168),TEXT(B168,\"0\"),B168),Pricelist!$A$3:$F$60643,3,FALSE),\"\")","v":""},"",{"$f":"IF(B168<>\"\",VLOOKUP(IF(ISNUMBER(B168),TEXT(B168,\"0\"),B168),Pricelist!$A$3:$F$60643,4,FALSE),\"\")","v":""},"","",null,null,null,null,"",null,"","",""]
["","","",{"$f":"IF(B169<>\"\",VLOOKUP(IF(ISNUMBER(B169),TEXT(B169,\"0\"),B169),Pricelist!$A$3:$F$60643,6,FALSE),\"\")","v":""},{"$f":"IF(B169<>\"\",VLOOKUP(IF(ISNUMBER(B169),TEXT(B169,\"0\"),B169),Pricelist!$A$3:$F$60643,2,FALSE),\"\")","v":""},{"$f":"IF(B169<>\"\",VLOOKUP(IF(ISNUMBER(B169),TEXT(B169,\"0\"),B169),Pricelist!$A$3:$F$60643,5,FALSE),\"\")","v":""},{"$f":"IF(B169<>\"\",VLOOKUP(IF(ISNUMBER(B169),TEXT(B169,\"0\"),B169),Pricelist!$A$3:$F$60643,3,FALSE),\"\")","v":""},"",{"$f":"IF(B169<>\"\",VLOOKUP(IF(ISNUMBER(B169),TEXT(B169,\"0\"),B169),Pricelist!$A$3:$F$60643,4,FALSE),\"\")","v":""},"","",null,null,null,null,"",null,"","",""]
["","","",{"$f":"IF(B170<>\"\",VLOOKUP(IF(ISNUMBER(B170),TEXT(B170,\"0\"),B170),Pricelist!$A$3:$F$60643,6,FALSE),\"\")","v":""},{"$f":"IF(B170<>\"\",VLOOKUP(IF(ISNUMBER(B170),TEXT(B170,\"0\"),B170),Pricelist!$A$3:$F$60643,2,FALSE),\"\")","v":""},{"$f":"IF(B170<>\"\",VLOOKUP(IF(ISNUMBER(B170),TEXT(B170,\"0\"),B170),Pricelist!$A$3:$F$60643,5,FALSE),\"\")","v":""},{"$f":"IF(B170<>\"\",VLOOKUP(IF(ISNUMBER(B170),TEXT(B170,\"0\"),B170),Pricelist!$A$3:$F$60643,3,FALSE),\"\")","v":""},"",{"$f":"IF(B170<>\"\",VLOOKUP(IF(ISNUMBER(B170),TEXT(B170,\"0\"),B170),Pricelist!$A$3:$F$60643,4,FALSE),\"\")","v":""},"","",null,null,null,null,"",null,"","",""]
["","","",{"$f":"IF(B171<>\"\",VLOOKUP(IF(ISNUMBER(B171),TEXT(B171,\"0\"),B171),Pricelist!$A$3:$F$60643,6,FALSE),\"\")","v":""},{"$f":"IF(B171<>\"\",VLOOKUP(IF(ISNUMBER(B171),TEXT(B171,\"0\"),B171),Pricelist!$A$3:$F$60643,2,FALSE),\"\")","v":""},{"$f":"IF(B171<>\"\",VLOOKUP(IF(ISNUMBER(B171),TEXT(B171,\"0\"),B171),Pricelist!$A$3:$F$60643,5,FALSE),\"\")","v":""},{"$f":"IF(B171<>\"\",VLOOKUP(IF(ISNUMBER(B171),TEXT(B171,\"0\"),B171),Pricelist!$A$3:$F$60643,3,FALSE),\"\")","v":""},"",{"$f":"IF(B171<>\"\",VLOOKUP(IF(ISNUMBER(B171),TEXT(B171,\"0\"),B171),Pricelist!$A$3:$F$60643,4,FALSE),\"\")","v":""},"","",null,null,null,null,"",null,"","",""]
["","","",{"$f":"IF(B172<>\"\",VLOOKUP(IF(ISNUMBER(B172),TEXT(B172,\"0\"),B172),Pricelist!$A$3:$F$60643,6,FALSE),\"\")","v":""},{"$f":"IF(B172<>\"\",VLOOKUP(IF(ISNUMBER(B172),TEXT(B172,\"0\"),B172),Pricelist!$A$3:$F$60643,2,FALSE),\"\")","v":""},{"$f":"IF(B172<>\"\",VLOOKUP(IF(ISNUMBER(B172),TEXT(B172,\"0\"),B172),Pricelist!$A$3:$F$60643,5,FALSE),\"\")","v":""},{"$f":"IF(B172<>\"\",VLOOKUP(IF(ISNUMBER(B172),TEXT(B172,\"0\"),B172),Pricelist!$A$3:$F$60643,3,FALSE),\"\")","v":""},"",{"$f":"IF(B172<>\"\",VLOOKUP(IF(ISNUMBER(B172),TEXT(B172,\"0\"),B172),Pricelist!$A$3:$F$60643,4,FALSE),\"\")","v":""},"","",null,null,null,null,"",null,"","",""]
["","","",{"$f":"IF(B173<>\"\",VLOOKUP(IF(ISNUMBER(B173),TEXT(B173,\"0\"),B173),Pricelist!$A$3:$F$60643,6,FALSE),\"\")","v":""},{"$f":"IF(B173<>\"\",VLOOKUP(IF(ISNUMBER(B173),TEXT(B173,\"0\"),B173),Pricelist!$A$3:$F$60643,2,FALSE),\"\")","v":""},{"$f":"IF(B173<>\"\",VLOOKUP(IF(ISNUMBER(B173),TEXT(B173,\"0\"),B173),Pricelist!$A$3:$F$60643,5,FALSE),\"\")","v":""},{"$f":"IF(B173<>\"\",VLOOKUP(IF(ISNUMBER(B173),TEXT(B173,\"0\"),B173),Pricelist!$A$3:$F$60643,3,FALSE),\"\")","v":""},"",{"$f":"IF(B173<>\"\",VLOOKUP(IF(ISNUMBER(B173),TEXT(B173,\"0\"),B173),Pricelist!$A$3:$F$60643,4,FALSE),\"\")","v":""},"","",null,null,null,null,"",null,"","",""]
["","","",{"$f":"IF(B174<>\"\",VLOOKUP(IF(ISNUMBER(B174),TEXT(B174,\"0\"),B174),Pricelist!$A$3:$F$60643,6,FALSE),\"\")","v":""},{"$f":"IF(B174<>\"\",VLOOKUP(IF(ISNUMBER(B174),TEXT(B174,\"0\"),B174),Pricelist!$A$3:$F$60643,2,FALSE),\"\")","v":""},{"$f":"IF(B174<>\"\",VLOOKUP(IF(ISNUMBER(B174),TEXT(B174,\"0\"),B174),Pricelist!$A$3:$F$60643,5,FALSE),\"\")","v":""},{"$f":"IF(B174<>\"\",VLOOKUP(IF(ISNUMBER(B174),TEXT(B174,\"0\"),B174),Pricelist!$A$3:$F$60643,3,FALSE),\"\")","v":""},"",{"$f":"IF(B174<>\"\",VLOOKUP(IF(ISNUMBER(B174),TEXT(B174,\"0\"),B174),Pricelist!$A$3:$F$60643,4,FALSE),\"\")","v":""},"","",null,null,null,null,"",null,"","",""]
["","","",{"$f":"IF(B175<>\"\",VLOOKUP(IF(ISNUMBER(B175),TEXT(B175,\"0\"),B175),Pricelist!$A$3:$F$60643,6,FALSE),\"\")","v":""},{"$f":"IF(B175<>\"\",VLOOKUP(IF(ISNUMBER(B175),TEXT(B175,\"0\"),B175),Pricelist!$A$3:$F$60643,2,FALSE),\"\")","v":""},{"$f":"IF(B175<>\"\",VLOOKUP(IF(ISNUMBER(B175),TEXT(B175,\"0\"),B175),Pricelist!$A$3:$F$60643,5,FALSE),\"\")","v":""},{"$f":"IF(B175<>\"\",VLOOKUP(IF(ISNUMBER(B175),TEXT(B175,\"0\"),B175),Pricelist!$A$3:$F$60643,3,FALSE),\"\")","v":""},"",{"$f":"IF(B175<>\"\",VLOOKUP(IF(ISNUMBER(B175),TEXT(B175,\"0\"),B175),Pricelist!$A$3:$F$60643,4,FALSE),\"\")","v":""},"","",null,null,null,null,"",null,"","",""]
["","","",{"$f":"IF(B176<>\"\",VLOOKUP(IF(ISNUMBER(B176),TEXT(B176,\"0\"),B176),Pricelist!$A$3:$F$60643,6,FALSE),\"\")","v":""},{"$f":"IF(B176<>\"\",VLOOKUP(IF(ISNUMBER(B176),TEXT(B176,\"0\"),B176),Pricelist!$A$3:$F$60643,2,FALSE),\"\")","v":""},{"$f":"IF(B176<>\"\",VLOOKUP(IF(ISNUMBER(B176),TEXT(B176,\"0\"),B176),Pricelist!$A$3:$F$60643,5,FALSE),\"\")","v":""},{"$f":"IF(B176<>\"\",VLOOKUP(IF(ISNUMBER(B176),TEXT(B176,\"0\"),B176),Pricelist!$A$3:$F$60643,3,FALSE),\"\")","v":""},"",{"$f":"IF(B176<>\"\",VLOOKUP(IF(ISNUMBER(B176),TEXT(B176,\"0\"),B176),Pricelist!$A$3:$F$60643,4,FALSE),\"\")","v":""},"","",null,null,null,null,"",null,"","",""]
["","","",{"$f":"IF(B177<>\"\",VLOOKUP(IF(ISNUMBER(B177),TEXT(B177,\"0\"),B177),Pricelist!$A$3:$F$60643,6,FALSE),\"\")","v":""},{"$f":"IF(B177<>\"\",VLOOKUP(IF(ISNUMBER(B177),TEXT(B177,\"0\"),B177),Pricelist!$A$3:$F$60643,2,FALSE),\"\")","v":""},{"$f":"IF(B177<>\"\",VLOOKUP(IF(ISNUMBER(B177),TEXT(B177,\"0\"),B177),Pricelist!$A$3:$F$60643,5,FALSE),\"\")","v":""},{"$f":"IF(B177<>\"\",VLOOKUP(IF(ISNUMBER(B177),TEXT(B177,\"0\"),B177),Pricelist!$A$3:$F$60643,3,FALSE),\"\")","v":""},"",{"$f":"IF(B177<>\"\",VLOOKUP(IF(ISNUMBER(B177),TEXT(B177,\"0\"),B177),Pricelist!$A$3:$F$60643,4,FALSE),\"\")","v":""},"","",null,null,null,null,"",null,"","",""]
["","","",{"$f":"IF(B178<>\"\",VLOOKUP(IF(ISNUMBER(B178),TEXT(B178,\"0\"),B178),Pricelist!$A$3:$F$60643,6,FALSE),\"\")","v":""},{"$f":"IF(B178<>\"\",VLOOKUP(IF(ISNUMBER(B178),TEXT(B178,\"0\"),B178),Pricelist!$A$3:$F$60643,2,FALSE),\"\")","v":""},{"$f":"IF(B178<>\"\",VLOOKUP(IF(ISNUMBER(B178),TEXT(B178,\"0\"),B178),Pricelist!$A$3:$F$60643,5,FALSE),\"\")","v":""},{"$f":"IF(B178<>\"\",VLOOKUP(IF(ISNUMBER(B178),TEXT(B178,\"0\"),B178),Pricelist!$A$3:$F$60643,3,FALSE),\"\")","v":""},"",{"$f":"IF(B178<>\"\",VLOOKUP(IF(ISNUMBER(B178),TEXT(B178,\"0\"),B178),Pricelist!$A$3:$F$60643,4,FALSE),\"\")","v":""},"","",null,null,null,null,"",null,"","",""]
["","","",{"$f":"IF(B179<>\"\",VLOOKUP(IF(ISNUMBER(B179),TEXT(B179,\"0\"),B179),Pricelist!$A$3:$F$60643,6,FALSE),\"\")","v":""},{"$f":"IF(B179<>\"\",VLOOKUP(IF(ISNUMBER(B179),TEXT(B179,\"0\"),B179),Pricelist!$A$3:$F$60643,2,FALSE),\"\")","v":""},{"$f":"IF(B179<>\"\",VLOOKUP(IF(ISNUMBER(B179),TEXT(B179,\"0\"),B179),Pricelist!$A$3:$F$60643,5,FALSE),\"\")","v":""},{"$f":"IF(B179<>\"\",VLOOKUP(IF(ISNUMBER(B179),TEXT(B179,\"0\"),B179),Pricelist!$A$3:$F$60643,3,FALSE),\"\")","v":""},"",{"$f":"IF(B179<>\"\",VLOOKUP(IF(ISNUMBER(B179),TEXT(B179,\"0\"),B179),Pricelist!$A$3:$F$60643,4,FALSE),\"\")","v":""},"","",null,null,null,null,"",null,"","",""]
["","","",{"$f":"IF(B180<>\"\",VLOOKUP(IF(ISNUMBER(B180),TEXT(B180,\"0\"),B180),Pricelist!$A$3:$F$60643,6,FALSE),\"\")","v":""},{"$f":"IF(B180<>\"\",VLOOKUP(IF(ISNUMBER(B180),TEXT(B180,\"0\"),B180),Pricelist!$A$3:$F$60643,2,FALSE),\"\")","v":""},{"$f":"IF(B180<>\"\",VLOOKUP(IF(ISNUMBER(B180),TEXT(B180,\"0\"),B180),Pricelist!$A$3:$F$60643,5,FALSE),\"\")","v":""},{"$f":"IF(B180<>\"\",VLOOKUP(IF(ISNUMBER(B180),TEXT(B180,\"0\"),B180),Pricelist!$A$3:$F$60643,3,FALSE),\"\")","v":""},"",{"$f":"IF(B180<>\"\",VLOOKUP(IF(ISNUMBER(B180),TEXT(B180,\"0\"),B180),Pricelist!$A$3:$F$60643,4,FALSE),\"\")","v":""},"","",null,null,null,null,"",null,"","",""]
["","","",{"$f":"IF(B181<>\"\",VLOOKUP(IF(ISNUMBER(B181),TEXT(B181,\"0\"),B181),Pricelist!$A$3:$F$60643,6,FALSE),\"\")","v":""},{"$f":"IF(B181<>\"\",VLOOKUP(IF(ISNUMBER(B181),TEXT(B181,\"0\"),B181),Pricelist!$A$3:$F$60643,2,FALSE),\"\")","v":""},{"$f":"IF(B181<>\"\",VLOOKUP(IF(ISNUMBER(B181),TEXT(B181,\"0\"),B181),Pricelist!$A$3:$F$60643,5,FALSE),\"\")","v":""},{"$f":"IF(B181<>\"\",VLOOKUP(IF(ISNUMBER(B181),TEXT(B181,\"0\"),B181),Pricelist!$A$3:$F$60643,3,FALSE),\"\")","v":""},"",{"$f":"IF(B181<>\"\",VLOOKUP(IF(ISNUMBER(B181),TEXT(B181,\"0\"),B181),Pricelist!$A$3:$F$60643,4,FALSE),\"\")","v":""},"","",null,null,null,null,"",null,"","",""]
["","","",{"$f":"IF(B182<>\"\",VLOOKUP(IF(ISNUMBER(B182),TEXT(B182,\"0\"),B182),Pricelist!$A$3:$F$60643,6,FALSE),\"\")","v":""},{"$f":"IF(B182<>\"\",VLOOKUP(IF(ISNUMBER(B182),TEXT(B182,\"0\"),B182),Pricelist!$A$3:$F$60643,2,FALSE),\"\")","v":""},{"$f":"IF(B182<>\"\",VLOOKUP(IF(ISNUMBER(B182),TEXT(B182,\"0\"),B182),Pricelist!$A$3:$F$60643,5,FALSE),\"\")","v":""},{"$f":"IF(B182<>\"\",VLOOKUP(IF(ISNUMBER(B182),TEXT(B182,\"0\"),B182),Pricelist!$A$3:$F$60643,3,FALSE),\"\")","v":""},"",{"$f":"IF(B182<>\"\",VLOOKUP(IF(ISNUMBER(B182),TEXT(B182,\"0\"),B182),Pricelist!$A$3:$F$60643,4,FALSE),\"\")","v":""},"","",null,null,null,null,"",null,"","",""]
["","","",{"$f":"IF(B183<>\"\",VLOOKUP(IF(ISNUMBER(B183),TEXT(B183,\"0\"),B183),Pricelist!$A$3:$F$60643,6,FALSE),\"\")","v":""},{"$f":"IF(B183<>\"\",VLOOKUP(IF(ISNUMBER(B183),TEXT(B183,\"0\"),B183),Pricelist!$A$3:$F$60643,2,FALSE),\"\")","v":""},{"$f":"IF(B183<>\"\",VLOOKUP(IF(ISNUMBER(B183),TEXT(B183,\"0\"),B183),Pricelist!$A$3:$F$60643,5,FALSE),\"\")","v":""},{"$f":"IF(B183<>\"\",VLOOKUP(IF(ISNUMBER(B183),TEXT(B183,\"0\"),B183),Pricelist!$A$3:$F$60643,3,FALSE),\"\")","v":""},"",{"$f":"IF(B183<>\"\",VLOOKUP(IF(ISNUMBER(B183),TEXT(B183,\"0\"),B183),Pricelist!$A$3:$F$60643,4,FALSE),\"\")","v":""},"","",null,null,null,null,"",null,"","",""]
["","","",{"$f":"IF(B184<>\"\",VLOOKUP(IF(ISNUMBER(B184),TEXT(B184,\"0\"),B184),Pricelist!$A$3:$F$60643,6,FALSE),\"\")","v":""},{"$f":"IF(B184<>\"\",VLOOKUP(IF(ISNUMBER(B184),TEXT(B184,\"0\"),B184),Pricelist!$A$3:$F$60643,2,FALSE),\"\")","v":""},{"$f":"IF(B184<>\"\",VLOOKUP(IF(ISNUMBER(B184),TEXT(B184,\"0\"),B184),Pricelist!$A$3:$F$60643,5,FALSE),\"\")","v":""},{"$f":"IF(B184<>\"\",VLOOKUP(IF(ISNUMBER(B184),TEXT(B184,\"0\"),B184),Pricelist!$A$3:$F$60643,3,FALSE),\"\")","v":""},"",{"$f":"IF(B184<>\"\",VLOOKUP(IF(ISNUMBER(B184),TEXT(B184,\"0\"),B184),Pricelist!$A$3:$F$60643,4,FALSE),\"\")","v":""},"","",null,null,null,null,"",null,"","",""]
["","","",{"$f":"IF(B185<>\"\",VLOOKUP(IF(ISNUMBER(B185),TEXT(B185,\"0\"),B185),Pricelist!$A$3:$F$60643,6,FALSE),\"\")","v":""},{"$f":"IF(B185<>\"\",VLOOKUP(IF(ISNUMBER(B185),TEXT(B185,\"0\"),B185),Pricelist!$A$3:$F$60643,2,FALSE),\"\")","v":""},{"$f":"IF(B185<>\"\",VLOOKUP(IF(ISNUMBER(B185),TEXT(B185,\"0\"),B185),Pricelist!$A$3:$F$60643,5,FALSE),\"\")","v":""},{"$f":"IF(B185<>\"\",VLOOKUP(IF(ISNUMBER(B185),TEXT(B185,\"0\"),B185),Pricelist!$A$3:$F$60643,3,FALSE),\"\")","v":""},"",{"$f":"IF(B185<>\"\",VLOOKUP(IF(ISNUMBER(B185),TEXT(B185,\"0\"),B185),Pricelist!$A$3:$F$60643,4,FALSE),\"\")","v":""},"","",null,null,null,null,"",null,"","",""]
["","","",{"$f":"IF(B186<>\"\",VLOOKUP(IF(ISNUMBER(B186),TEXT(B186,\"0\"),B186),Pricelist!$A$3:$F$60643,6,FALSE),\"\")","v":""},{"$f":"IF(B186<>\"\",VLOOKUP(IF(ISNUMBER(B186),TEXT(B186,\"0\"),B186),Pricelist!$A$3:$F$60643,2,FALSE),\"\")","v":""},{"$f":"IF(B186<>\"\",VLOOKUP(IF(ISNUMBER(B186),TEXT(B186,\"0\"),B186),Pricelist!$A$3:$F$60643,5,FALSE),\"\")","v":""},{"$f":"IF(B186<>\"\",VLOOKUP(IF(ISNUMBER(B186),TEXT(B186,\"0\"),B186),Pricelist!$A$3:$F$60643,3,FALSE),\"\")","v":""},"",{"$f":"IF(B186<>\"\",VLOOKUP(IF(ISNUMBER(B186),TEXT(B186,\"0\"),B186),Pricelist!$A$3:$F$60643,4,FALSE),\"\")","v":""},"","",null,null,null,null,"",null,"","",""]
["","","",{"$f":"IF(B187<>\"\",VLOOKUP(IF(ISNUMBER(B187),TEXT(B187,\"0\"),B187),Pricelist!$A$3:$F$60643,6,FALSE),\"\")","v":""},{"$f":"IF(B187<>\"\",VLOOKUP(IF(ISNUMBER(B187),TEXT(B187,\"0\"),B187),Pricelist!$A$3:$F$60643,2,FALSE),\"\")","v":""},{"$f":"IF(B187<>\"\",VLOOKUP(IF(ISNUMBER(B187),TEXT(B187,\"0\"),B187),Pricelist!$A$3:$F$60643,5,FALSE),\"\")","v":""},{"$f":"IF(B187<>\"\",VLOOKUP(IF(ISNUMBER(B187),TEXT(B187,\"0\"),B187),Pricelist!$A$3:$F$60643,3,FALSE),\"\")","v":""},"",{"$f":"IF(B187<>\"\",VLOOKUP(IF(ISNUMBER(B187),TEXT(B187,\"0\"),B187),Pricelist!$A$3:$F$60643,4,FALSE),\"\")","v":""},"","",null,null,null,null,"",null,"","",""]
["","","",{"$f":"IF(B188<>\"\",VLOOKUP(IF(ISNUMBER(B188),TEXT(B188,\"0\"),B188),Pricelist!$A$3:$F$60643,6,FALSE),\"\")","v":""},{"$f":"IF(B188<>\"\",VLOOKUP(IF(ISNUMBER(B188),TEXT(B188,\"0\"),B188),Pricelist!$A$3:$F$60643,2,FALSE),\"\")","v":""},{"$f":"IF(B188<>\"\",VLOOKUP(IF(ISNUMBER(B188),TEXT(B188,\"0\"),B188),Pricelist!$A$3:$F$60643,5,FALSE),\"\")","v":""},{"$f":"IF(B188<>\"\",VLOOKUP(IF(ISNUMBER(B188),TEXT(B188,\"0\"),B188),Pricelist!$A$3:$F$60643,3,FALSE),\"\")","v":""},"",{"$f":"IF(B188<>\"\",VLOOKUP(IF(ISNUMBER(B188),TEXT(B188,\"0\"),B188),Pricelist!$A$3:$F$60643,4,FALSE),\"\")","v":""},"","",null,null,null,null,"",null,"","",""]
["","","",{"$f":"IF(B189<>\"\",VLOOKUP(IF(ISNUMBER(B189),TEXT(B189,\"0\"),B189),Pricelist!$A$3:$F$60643,6,FALSE),\"\")","v":""},{"$f":"IF(B189<>\"\",VLOOKUP(IF(ISNUMBER(B189),TEXT(B189,\"0\"),B189),Pricelist!$A$3:$F$60643,2,FALSE),\"\")","v":""},{"$f":"IF(B189<>\"\",VLOOKUP(IF(ISNUMBER(B189),TEXT(B189,\"0\"),B189),Pricelist!$A$3:$F$60643,5,FALSE),\"\")","v":""},{"$f":"IF(B189<>\"\",VLOOKUP(IF(ISNUMBER(B189),TEXT(B189,\"0\"),B189),Pricelist!$A$3:$F$60643,3,FALSE),\"\")","v":""},"",{"$f":"IF(B189<>\"\",VLOOKUP(IF(ISNUMBER(B189),TEXT(B189,\"0\"),B189),Pricelist!$A$3:$F$60643,4,FALSE),\"\")","v":""},"","",null,null,null,null,"",null,"","",""]
["","","",{"$f":"IF(B190<>\"\",VLOOKUP(IF(ISNUMBER(B190),TEXT(B190,\"0\"),B190),Pricelist!$A$3:$F$60643,6,FALSE),\"\")","v":""},{"$f":"IF(B190<>\"\",VLOOKUP(IF(ISNUMBER(B190),TEXT(B190,\"0\"),B190),Pricelist!$A$3:$F$60643,2,FALSE),\"\")","v":""},{"$f":"IF(B190<>\"\",VLOOKUP(IF(ISNUMBER(B190),TEXT(B190,\"0\"),B190),Pricelist!$A$3:$F$60643,5,FALSE),\"\")","v":""},{"$f":"IF(B190<>\"\",VLOOKUP(IF(ISNUMBER(B190),TEXT(B190,\"0\"),B190),Pricelist!$A$3:$F$60643,3,FALSE),\"\")","v":""},"",{"$f":"IF(B190<>\"\",VLOOKUP(IF(ISNUMBER(B190),TEXT(B190,\"0\"),B190),Pricelist!$A$3:$F$60643,4,FALSE),\"\")","v":""},"","",null,null,null,null,"",null,"","",""]
["","","",{"$f":"IF(B191<>\"\",VLOOKUP(IF(ISNUMBER(B191),TEXT(B191,\"0\"),B191),Pricelist!$A$3:$F$60643,6,FALSE),\"\")","v":""},{"$f":"IF(B191<>\"\",VLOOKUP(IF(ISNUMBER(B191),TEXT(B191,\"0\"),B191),Pricelist!$A$3:$F$60643,2,FALSE),\"\")","v":""},{"$f":"IF(B191<>\"\",VLOOKUP(IF(ISNUMBER(B191),TEXT(B191,\"0\"),B191),Pricelist!$A$3:$F$60643,5,FALSE),\"\")","v":""},{"$f":"IF(B191<>\"\",VLOOKUP(IF(ISNUMBER(B191),TEXT(B191,\"0\"),B191),Pricelist!$A$3:$F$60643,3,FALSE),\"\")","v":""},"",{"$f":"IF(B191<>\"\",VLOOKUP(IF(ISNUMBER(B191),TEXT(B191,\"0\"),B191),Pricelist!$A$3:$F$60643,4,FALSE),\"\")","v":""},"","",null,null,null,null,"",null,"","",""]
["","","",{"$f":"IF(B192<>\"\",VLOOKUP(IF(ISNUMBER(B192),TEXT(B192,\"0\"),B192),Pricelist!$A$3:$F$60643,6,FALSE),\"\")","v":""},{"$f":"IF(B192<>\"\",VLOOKUP(IF(ISNUMBER(B192),TEXT(B192,\"0\"),B192),Pricelist!$A$3:$F$60643,2,FALSE),\"\")","v":""},{"$f":"IF(B192<>\"\",VLOOKUP(IF(ISNUMBER(B192),TEXT(B192,\"0\"),B192),Pricelist!$A$3:$F$60643,5,FALSE),\"\")","v":""},{"$f":"IF(B192<>\"\",VLOOKUP(IF(ISNUMBER(B192),TEXT(B192,\"0\"),B192),Pricelist!$A$3:$F$60643,3,FALSE),\"\")","v":""},"",{"$f":"IF(B192<>\"\",VLOOKUP(IF(ISNUMBER(B192),TEXT(B192,\"0\"),B192),Pricelist!$A$3:$F$60643,4,FALSE),\"\")","v":""},"","",null,null,null,null,"",null,"","",""]
["","","",{"$f":"IF(B193<>\"\",VLOOKUP(IF(ISNUMBER(B193),TEXT(B193,\"0\"),B193),Pricelist!$A$3:$F$60643,6,FALSE),\"\")","v":""},{"$f":"IF(B193<>\"\",VLOOKUP(IF(ISNUMBER(B193),TEXT(B193,\"0\"),B193),Pricelist!$A$3:$F$60643,2,FALSE),\"\")","v":""},{"$f":"IF(B193<>\"\",VLOOKUP(IF(ISNUMBER(B193),TEXT(B193,\"0\"),B193),Pricelist!$A$3:$F$60643,5,FALSE),\"\")","v":""},{"$f":"IF(B193<>\"\",VLOOKUP(IF(ISNUMBER(B193),TEXT(B193,\"0\"),B193),Pricelist!$A$3:$F$60643,3,FALSE),\"\")","v":""},"",{"$f":"IF(B193<>\"\",VLOOKUP(IF(ISNUMBER(B193),TEXT(B193,\"0\"),B193),Pricelist!$A$3:$F$60643,4,FALSE),\"\")","v":""},"","",null,null,null,null,"",null,"","",""]
["","","",{"$f":"IF(B194<>\"\",VLOOKUP(IF(ISNUMBER(B194),TEXT(B194,\"0\"),B194),Pricelist!$A$3:$F$60643,6,FALSE),\"\")","v":""},{"$f":"IF(B194<>\"\",VLOOKUP(IF(ISNUMBER(B194),TEXT(B194,\"0\"),B194),Pricelist!$A$3:$F$60643,2,FALSE),\"\")","v":""},{"$f":"IF(B194<>\"\",VLOOKUP(IF(ISNUMBER(B194),TEXT(B194,\"0\"),B194),Pricelist!$A$3:$F$60643,5,FALSE),\"\")","v":""},{"$f":"IF(B194<>\"\",VLOOKUP(IF(ISNUMBER(B194),TEXT(B194,\"0\"),B194),Pricelist!$A$3:$F$60643,3,FALSE),\"\")","v":""},"",{"$f":"IF(B194<>\"\",VLOOKUP(IF(ISNUMBER(B194),TEXT(B194,\"0\"),B194),Pricelist!$A$3:$F$60643,4,FALSE),\"\")","v":""},"","",null,null,null,null,"",null,"","",""]
["","","",{"$f":"IF(B195<>\"\",VLOOKUP(IF(ISNUMBER(B195),TEXT(B195,\"0\"),B195),Pricelist!$A$3:$F$60643,6,FALSE),\"\")","v":""},{"$f":"IF(B195<>\"\",VLOOKUP(IF(ISNUMBER(B195),TEXT(B195,\"0\"),B195),Pricelist!$A$3:$F$60643,2,FALSE),\"\")","v":""},{"$f":"IF(B195<>\"\",VLOOKUP(IF(ISNUMBER(B195),TEXT(B195,\"0\"),B195),Pricelist!$A$3:$F$60643,5,FALSE),\"\")","v":""},{"$f":"IF(B195<>\"\",VLOOKUP(IF(ISNUMBER(B195),TEXT(B195,\"0\"),B195),Pricelist!$A$3:$F$60643,3,FALSE),\"\")","v":""},"",{"$f":"IF(B195<>\"\",VLOOKUP(IF(ISNUMBER(B195),TEXT(B195,\"0\"),B195),Pricelist!$A$3:$F$60643,4,FALSE),\"\")","v":""},"","",null,null,null,null,"",null,"","",""]
["","","",{"$f":"IF(B196<>\"\",VLOOKUP(IF(ISNUMBER(B196),TEXT(B196,\"0\"),B196),Pricelist!$A$3:$F$60643,6,FALSE),\"\")","v":""},{"$f":"IF(B196<>\"\",VLOOKUP(IF(ISNUMBER(B196),TEXT(B196,\"0\"),B196),Pricelist!$A$3:$F$60643,2,FALSE),\"\")","v":""},{"$f":"IF(B196<>\"\",VLOOKUP(IF(ISNUMBER(B196),TEXT(B196,\"0\"),B196),Pricelist!$A$3:$F$60643,5,FALSE),\"\")","v":""},{"$f":"IF(B196<>\"\",VLOOKUP(IF(ISNUMBER(B196),TEXT(B196,\"0\"),B196),Pricelist!$A$3:$F$60643,3,FALSE),\"\")","v":""},"",{"$f":"IF(B196<>\"\",VLOOKUP(IF(ISNUMBER(B196),TEXT(B196,\"0\"),B196),Pricelist!$A$3:$F$60643,4,FALSE),\"\")","v":""},"","",null,null,null,null,"",null,"","",""]
["","","",{"$f":"IF(B197<>\"\",VLOOKUP(IF(ISNUMBER(B197),TEXT(B197,\"0\"),B197),Pricelist!$A$3:$F$60643,6,FALSE),\"\")","v":""},{"$f":"IF(B197<>\"\",VLOOKUP(IF(ISNUMBER(B197),TEXT(B197,\"0\"),B197),Pricelist!$A$3:$F$60643,2,FALSE),\"\")","v":""},{"$f":"IF(B197<>\"\",VLOOKUP(IF(ISNUMBER(B197),TEXT(B197,\"0\"),B197),Pricelist!$A$3:$F$60643,5,FALSE),\"\")","v":""},{"$f":"IF(B197<>\"\",VLOOKUP(IF(ISNUMBER(B197),TEXT(B197,\"0\"),B197),Pricelist!$A$3:$F$60643,3,FALSE),\"\")","v":""},"",{"$f":"IF(B197<>\"\",VLOOKUP(IF(ISNUMBER(B197),TEXT(B197,\"0\"),B197),Pricelist!$A$3:$F$60643,4,FALSE),\"\")","v":""},"","",null,null,null,null,"",null,"","",""]
["","","",{"$f":"IF(B198<>\"\",VLOOKUP(IF(ISNUMBER(B198),TEXT(B198,\"0\"),B198),Pricelist!$A$3:$F$60643,6,FALSE),\"\")","v":""},{"$f":"IF(B198<>\"\",VLOOKUP(IF(ISNUMBER(B198),TEXT(B198,\"0\"),B198),Pricelist!$A$3:$F$60643,2,FALSE),\"\")","v":""},{"$f":"IF(B198<>\"\",VLOOKUP(IF(ISNUMBER(B198),TEXT(B198,\"0\"),B198),Pricelist!$A$3:$F$60643,5,FALSE),\"\")","v":""},{"$f":"IF(B198<>\"\",VLOOKUP(IF(ISNUMBER(B198),TEXT(B198,\"0\"),B198),Pricelist!$A$3:$F$60643,3,FALSE),\"\")","v":""},"",{"$f":"IF(B198<>\"\",VLOOKUP(IF(ISNUMBER(B198),TEXT(B198,\"0\"),B198),Pricelist!$A$3:$F$60643,4,FALSE),\"\")","v":""},"","",null,null,null,null,"",null,"","",""]
["","","",{"$f":"IF(B199<>\"\",VLOOKUP(IF(ISNUMBER(B199),TEXT(B199,\"0\"),B199),Pricelist!$A$3:$F$60643,6,FALSE),\"\")","v":""},{"$f":"IF(B199<>\"\",VLOOKUP(IF(ISNUMBER(B199),TEXT(B199,\"0\"),B199),Pricelist!$A$3:$F$60643,2,FALSE),\"\")","v":""},{"$f":"IF(B199<>\"\",VLOOKUP(IF(ISNUMBER(B199),TEXT(B199,\"0\"),B199),Pricelist!$A$3:$F$60643,5,FALSE),\"\")","v":""},{"$f":"IF(B199<>\"\",VLOOKUP(IF(ISNUMBER(B199),TEXT(B199,\"0\"),B199),Pricelist!$A$3:$F$60643,3,FALSE),\"\")","v":""},"",{"$f":"IF(B199<>\"\",VLOOKUP(IF(ISNUMBER(B199),TEXT(B199,\"0\"),B199),Pricelist!$A$3:$F$60643,4,FALSE),\"\")","v":""},"","",null,null,null,null,"",null,"","",""]
["","","",{"$f":"IF(B200<>\"\",VLOOKUP(IF(ISNUMBER(B200),TEXT(B200,\"0\"),B200),Pricelist!$A$3:$F$60643,6,FALSE),\"\")","v":""},{"$f":"IF(B200<>\"\",VLOOKUP(IF(ISNUMBER(B200),TEXT(B200,\"0\"),B200),Pricelist!$A$3:$F$60643,2,FALSE),\"\")","v":""},{"$f":"IF(B200<>\"\",VLOOKUP(IF(ISNUMBER(B200),TEXT(B200,\"0\"),B200),Pricelist!$A$3:$F$60643,5,FALSE),\"\")","v":""},{"$f":"IF(B200<>\"\",VLOOKUP(IF(ISNUMBER(B200),TEXT(B200,\"0\"),B200),Pricelist!$A$3:$F$60643,3,FALSE),\"\")","v":""},"",{"$f":"IF(B200<>\"\",VLOOKUP(IF(ISNUMBER(B200),TEXT(B200,\"0\"),B200),Pricelist!$A$3:$F$60643,4,FALSE),\"\")","v":""},"","",null,null,null,null,"",null,"","",""]
["","","",{"$f":"IF(B201<>\"\",VLOOKUP(IF(ISNUMBER(B201),TEXT(B201,\"0\"),B201),Pricelist!$A$3:$F$60643,6,FALSE),\"\")","v":""},{"$f":"IF(B201<>\"\",VLOOKUP(IF(ISNUMBER(B201),TEXT(B201,\"0\"),B201),Pricelist!$A$3:$F$60643,2,FALSE),\"\")","v":""},{"$f":"IF(B201<>\"\",VLOOKUP(IF(ISNUMBER(B201),TEXT(B201,\"0\"),B201),Pricelist!$A$3:$F$60643,5,FALSE),\"\")","v":""},{"$f":"IF(B201<>\"\",VLOOKUP(IF(ISNUMBER(B201),TEXT(B201,\"0\"),B201),Pricelist!$A$3:$F$60643,3,FALSE),\"\")","v":""},"",{"$f":"IF(B201<>\"\",VLOOKUP(IF(ISNUMBER(B201),TEXT(B201,\"0\"),B201),Pricelist!$A$3:$F$60643,4,FALSE),\"\")","v":""},"","",null,null,null,null,"",null,"","",""]
["","","",{"$f":"IF(B202<>\"\",VLOOKUP(IF(ISNUMBER(B202),TEXT(B202,\"0\"),B202),Pricelist!$A$3:$F$60643,6,FALSE),\"\")","v":""},{"$f":"IF(B202<>\"\",VLOOKUP(IF(ISNUMBER(B202),TEXT(B202,\"0\"),B202),Pricelist!$A$3:$F$60643,2,FALSE),\"\")","v":""},{"$f":"IF(B202<>\"\",VLOOKUP(IF(ISNUMBER(B202),TEXT(B202,\"0\"),B202),Pricelist!$A$3:$F$60643,5,FALSE),\"\")","v":""},{"$f":"IF(B202<>\"\",VLOOKUP(IF(ISNUMBER(B202),TEXT(B202,\"0\"),B202),Pricelist!$A$3:$F$60643,3,FALSE),\"\")","v":""},"",{"$f":"IF(B202<>\"\",VLOOKUP(IF(ISNUMBER(B202),TEXT(B202,\"0\"),B202),Pricelist!$A$3:$F$60643,4,FALSE),\"\")","v":""},"","",null,null,null,null,"",null,"","",""]
["","","",{"$f":"IF(B203<>\"\",VLOOKUP(IF(ISNUMBER(B203),TEXT(B203,\"0\"),B203),Pricelist!$A$3:$F$60643,6,FALSE),\"\")","v":""},{"$f":"IF(B203<>\"\",VLOOKUP(IF(ISNUMBER(B203),TEXT(B203,\"0\"),B203),Pricelist!$A$3:$F$60643,2,FALSE),\"\")","v":""},{"$f":"IF(B203<>\"\",VLOOKUP(IF(ISNUMBER(B203),TEXT(B203,\"0\"),B203),Pricelist!$A$3:$F$60643,5,FALSE),\"\")","v":""},{"$f":"IF(B203<>\"\",VLOOKUP(IF(ISNUMBER(B203),TEXT(B203,\"0\"),B203),Pricelist!$A$3:$F$60643,3,FALSE),\"\")","v":""},"",{"$f":"IF(B203<>\"\",VLOOKUP(IF(ISNUMBER(B203),TEXT(B203,\"0\"),B203),Pricelist!$A$3:$F$60643,4,FALSE),\"\")","v":""},"","",null,null,null,null,"",null,"","",""]
[{"$f":"IF(B204<>\"\",A203+1,\"\")","v":""},"","",{"$f":"IF(B204<>\"\",VLOOKUP(IF(ISNUMBER(B204),TEXT(B204,\"0\"),B204),Pricelist!$A$3:$F$60643,6,FALSE),\"\")","v":""},{"$f":"IF(B204<>\"\",VLOOKUP(IF(ISNUMBER(B204),TEXT(B204,\"0\"),B204),Pricelist!$A$3:$F$60643,2,FALSE),\"\")","v":""},{"$f":"IF(B204<>\"\",VLOOKUP(IF(ISNUMBER(B204),TEXT(B204,\"0\"),B204),Pricelist!$A$3:$F$60643,5,FALSE),\"\")","v":""},{"$f":"IF(B204<>\"\",VLOOKUP(IF(ISNUMBER(B204),TEXT(B204,\"0\"),B204),Pricelist!$A$3:$F$60643,3,FALSE),\"\")","v":""},{"$f":"IF(B204<>\"\",VLOOKUP(IF(ISNUMBER(I204),TEXT(I204,\"0\"),I204),$M$12:$N$44,2,FALSE),\"\")","v":""},{"$f":"IF(B204<>\"\",VLOOKUP(IF(ISNUMBER(B204),TEXT(B204,\"0\"),B204),Pricelist!$A$3:$F$60643,4,FALSE),\"\")","v":""},{"$f":"IF(B204<>\"\",G204*(1-H204),\"\")","v":""},{"$f":"IF(B204<>\"\",C204*(1-H204)*G204,\"\")","v":""},null,null,null,null,"",null,"",{"$f":"IF(R204=\"\",\"\",C204)","v":""},""]
["","","",{"$f":"IF(B205<>\"\",VLOOKUP(IF(ISNUMBER(B205),TEXT(B205,\"0\"),B205),Pricelist!$A$3:$F$60643,6,FALSE),\"\")","v":""},{"$f":"IF(B205<>\"\",VLOOKUP(IF(ISNUMBER(B205),TEXT(B205,\"0\"),B205),Pricelist!$A$3:$F$60643,2,FALSE),\"\")","v":""},{"$f":"IF(B205<>\"\",VLOOKUP(IF(ISNUMBER(B205),TEXT(B205,\"0\"),B205),Pricelist!$A$3:$F$60643,5,FALSE),\"\")","v":""},{"$f":"IF(B205<>\"\",VLOOKUP(IF(ISNUMBER(B205),TEXT(B205,\"0\"),B205),Pricelist!$A$3:$F$60643,3,FALSE),\"\")","v":""},"",{"$f":"IF(B205<>\"\",VLOOKUP(IF(ISNUMBER(B205),TEXT(B205,\"0\"),B205),Pricelist!$A$3:$F$60643,4,FALSE),\"\")","v":""},"","",null,null,null,null,{"$f":"IF(B205<>\"\",$K$2,\"\")","v":""},null,{"$f":"IF(B205>1,B205,\"\")","v":""},"",{"$f":"IF(B205=\"\",\"\",E205)","v":""}]
["","","",{"$f":"IF(B206<>\"\",VLOOKUP(IF(ISNUMBER(B206),TEXT(B206,\"0\"),B206),Pricelist!$A$3:$F$60643,6,FALSE),\"\")","v":""},{"$f":"IF(B206<>\"\",VLOOKUP(IF(ISNUMBER(B206),TEXT(B206,\"0\"),B206),Pricelist!$A$3:$F$60643,2,FALSE),\"\")","v":""},{"$f":"IF(B206<>\"\",VLOOKUP(IF(ISNUMBER(B206),TEXT(B206,\"0\"),B206),Pricelist!$A$3:$F$60643,5,FALSE),\"\")","v":""},{"$f":"IF(B206<>\"\",VLOOKUP(IF(ISNUMBER(B206),TEXT(B206,\"0\"),B206),Pricelist!$A$3:$F$60643,3,FALSE),\"\")","v":""},"",{"$f":"IF(B206<>\"\",VLOOKUP(IF(ISNUMBER(B206),TEXT(B206,\"0\"),B206),Pricelist!$A$3:$F$60643,4,FALSE),\"\")","v":""},"","",null,null,null,null,"",null,"","",""]
["","","",{"$f":"IF(B207<>\"\",VLOOKUP(IF(ISNUMBER(B207),TEXT(B207,\"0\"),B207),Pricelist!$A$3:$F$60643,6,FALSE),\"\")","v":""},{"$f":"IF(B207<>\"\",VLOOKUP(IF(ISNUMBER(B207),TEXT(B207,\"0\"),B207),Pricelist!$A$3:$F$60643,2,FALSE),\"\")","v":""},{"$f":"IF(B207<>\"\",VLOOKUP(IF(ISNUMBER(B207),TEXT(B207,\"0\"),B207),Pricelist!$A$3:$F$60643,5,FALSE),\"\")","v":""},{"$f":"IF(B207<>\"\",VLOOKUP(IF(ISNUMBER(B207),TEXT(B207,\"0\"),B207),Pricelist!$A$3:$F$60643,3,FALSE),\"\")","v":""},"",{"$f":"IF(B207<>\"\",VLOOKUP(IF(ISNUMBER(B207),TEXT(B207,\"0\"),B207),Pricelist!$A$3:$F$60643,4,FALSE),\"\")","v":""},"","",null,null,null,null,"",null,"","",""]
["","","",{"$f":"IF(B208<>\"\",VLOOKUP(IF(ISNUMBER(B208),TEXT(B208,\"0\"),B208),Pricelist!$A$3:$F$60643,6,FALSE),\"\")","v":""},{"$f":"IF(B208<>\"\",VLOOKUP(IF(ISNUMBER(B208),TEXT(B208,\"0\"),B208),Pricelist!$A$3:$F$60643,2,FALSE),\"\")","v":""},{"$f":"IF(B208<>\"\",VLOOKUP(IF(ISNUMBER(B208),TEXT(B208,\"0\"),B208),Pricelist!$A$3:$F$60643,5,FALSE),\"\")","v":""},{"$f":"IF(B208<>\"\",VLOOKUP(IF(ISNUMBER(B208),TEXT(B208,\"0\"),B208),Pricelist!$A$3:$F$60643,3,FALSE),\"\")","v":""},"",{"$f":"IF(B208<>\"\",VLOOKUP(IF(ISNUMBER(B208),TEXT(B208,\"0\"),B208),Pricelist!$A$3:$F$60643,4,FALSE),\"\")","v":""},"","",null,null,null,null,"",null,"","",""]
["","","",{"$f":"IF(B209<>\"\",VLOOKUP(IF(ISNUMBER(B209),TEXT(B209,\"0\"),B209),Pricelist!$A$3:$F$60643,6,FALSE),\"\")","v":""},{"$f":"IF(B209<>\"\",VLOOKUP(IF(ISNUMBER(B209),TEXT(B209,\"0\"),B209),Pricelist!$A$3:$F$60643,2,FALSE),\"\")","v":""},{"$f":"IF(B209<>\"\",VLOOKUP(IF(ISNUMBER(B209),TEXT(B209,\"0\"),B209),Pricelist!$A$3:$F$60643,5,FALSE),\"\")","v":""},{"$f":"IF(B209<>\"\",VLOOKUP(IF(ISNUMBER(B209),TEXT(B209,\"0\"),B209),Pricelist!$A$3:$F$60643,3,FALSE),\"\")","v":""},"",{"$f":"IF(B209<>\"\",VLOOKUP(IF(ISNUMBER(B209),TEXT(B209,\"0\"),B209),Pricelist!$A$3:$F$60643,4,FALSE),\"\")","v":""},"","",null,null,null,null,"",null,"","",""]
["","","",{"$f":"IF(B210<>\"\",VLOOKUP(IF(ISNUMBER(B210),TEXT(B210,\"0\"),B210),Pricelist!$A$3:$F$60643,6,FALSE),\"\")","v":""},{"$f":"IF(B210<>\"\",VLOOKUP(IF(ISNUMBER(B210),TEXT(B210,\"0\"),B210),Pricelist!$A$3:$F$60643,2,FALSE),\"\")","v":""},{"$f":"IF(B210<>\"\",VLOOKUP(IF(ISNUMBER(B210),TEXT(B210,\"0\"),B210),Pricelist!$A$3:$F$60643,5,FALSE),\"\")","v":""},{"$f":"IF(B210<>\"\",VLOOKUP(IF(ISNUMBER(B210),TEXT(B210,\"0\"),B210),Pricelist!$A$3:$F$60643,3,FALSE),\"\")","v":""},"",{"$f":"IF(B210<>\"\",VLOOKUP(IF(ISNUMBER(B210),TEXT(B210,\"0\"),B210),Pricelist!$A$3:$F$60643,4,FALSE),\"\")","v":""},"","",null,null,null,null,"",null,"","",""]
["","","",{"$f":"IF(B211<>\"\",VLOOKUP(IF(ISNUMBER(B211),TEXT(B211,\"0\"),B211),Pricelist!$A$3:$F$60643,6,FALSE),\"\")","v":""},{"$f":"IF(B211<>\"\",VLOOKUP(IF(ISNUMBER(B211),TEXT(B211,\"0\"),B211),Pricelist!$A$3:$F$60643,2,FALSE),\"\")","v":""},{"$f":"IF(B211<>\"\",VLOOKUP(IF(ISNUMBER(B211),TEXT(B211,\"0\"),B211),Pricelist!$A$3:$F$60643,5,FALSE),\"\")","v":""},{"$f":"IF(B211<>\"\",VLOOKUP(IF(ISNUMBER(B211),TEXT(B211,\"0\"),B211),Pricelist!$A$3:$F$60643,3,FALSE),\"\")","v":""},"",{"$f":"IF(B211<>\"\",VLOOKUP(IF(ISNUMBER(B211),TEXT(B211,\"0\"),B211),Pricelist!$A$3:$F$60643,4,FALSE),\"\")","v":""},"","",null,null,null,null,"",null,"","",""]
["","","",{"$f":"IF(B212<>\"\",VLOOKUP(IF(ISNUMBER(B212),TEXT(B212,\"0\"),B212),Pricelist!$A$3:$F$60643,6,FALSE),\"\")","v":""},{"$f":"IF(B212<>\"\",VLOOKUP(IF(ISNUMBER(B212),TEXT(B212,\"0\"),B212),Pricelist!$A$3:$F$60643,2,FALSE),\"\")","v":""},{"$f":"IF(B212<>\"\",VLOOKUP(IF(ISNUMBER(B212),TEXT(B212,\"0\"),B212),Pricelist!$A$3:$F$60643,5,FALSE),\"\")","v":""},{"$f":"IF(B212<>\"\",VLOOKUP(IF(ISNUMBER(B212),TEXT(B212,\"0\"),B212),Pricelist!$A$3:$F$60643,3,FALSE),\"\")","v":""},"",{"$f":"IF(B212<>\"\",VLOOKUP(IF(ISNUMBER(B212),TEXT(B212,\"0\"),B212),Pricelist!$A$3:$F$60643,4,FALSE),\"\")","v":""},"","",null,null,null,null,"",null,"","",""]
["","","",{"$f":"IF(B213<>\"\",VLOOKUP(IF(ISNUMBER(B213),TEXT(B213,\"0\"),B213),Pricelist!$A$3:$F$60643,6,FALSE),\"\")","v":""},{"$f":"IF(B213<>\"\",VLOOKUP(IF(ISNUMBER(B213),TEXT(B213,\"0\"),B213),Pricelist!$A$3:$F$60643,2,FALSE),\"\")","v":""},{"$f":"IF(B213<>\"\",VLOOKUP(IF(ISNUMBER(B213),TEXT(B213,\"0\"),B213),Pricelist!$A$3:$F$60643,5,FALSE),\"\")","v":""},{"$f":"IF(B213<>\"\",VLOOKUP(IF(ISNUMBER(B213),TEXT(B213,\"0\"),B213),Pricelist!$A$3:$F$60643,3,FALSE),\"\")","v":""},"",{"$f":"IF(B213<>\"\",VLOOKUP(IF(ISNUMBER(B213),TEXT(B213,\"0\"),B213),Pricelist!$A$3:$F$60643,4,FALSE),\"\")","v":""},"","",null,null,null,null,"",null,"","",""]
["","","",{"$f":"IF(B214<>\"\",VLOOKUP(IF(ISNUMBER(B214),TEXT(B214,\"0\"),B214),Pricelist!$A$3:$F$60643,6,FALSE),\"\")","v":""},{"$f":"IF(B214<>\"\",VLOOKUP(IF(ISNUMBER(B214),TEXT(B214,\"0\"),B214),Pricelist!$A$3:$F$60643,2,FALSE),\"\")","v":""},{"$f":"IF(B214<>\"\",VLOOKUP(IF(ISNUMBER(B214),TEXT(B214,\"0\"),B214),Pricelist!$A$3:$F$60643,5,FALSE),\"\")","v":""},{"$f":"IF(B214<>\"\",VLOOKUP(IF(ISNUMBER(B214),TEXT(B214,\"0\"),B214),Pricelist!$A$3:$F$60643,3,FALSE),\"\")","v":""},"",{"$f":"IF(B214<>\"\",VLOOKUP(IF(ISNUMBER(B214),TEXT(B214,\"0\"),B214),Pricelist!$A$3:$F$60643,4,FALSE),\"\")","v":""},"","",null,null,null,null,"",null,"","",""]
["","","",{"$f":"IF(B215<>\"\",VLOOKUP(IF(ISNUMBER(B215),TEXT(B215,\"0\"),B215),Pricelist!$A$3:$F$60643,6,FALSE),\"\")","v":""},{"$f":"IF(B215<>\"\",VLOOKUP(IF(ISNUMBER(B215),TEXT(B215,\"0\"),B215),Pricelist!$A$3:$F$60643,2,FALSE),\"\")","v":""},{"$f":"IF(B215<>\"\",VLOOKUP(IF(ISNUMBER(B215),TEXT(B215,\"0\"),B215),Pricelist!$A$3:$F$60643,5,FALSE),\"\")","v":""},{"$f":"IF(B215<>\"\",VLOOKUP(IF(ISNUMBER(B215),TEXT(B215,\"0\"),B215),Pricelist!$A$3:$F$60643,3,FALSE),\"\")","v":""},"",{"$f":"IF(B215<>\"\",VLOOKUP(IF(ISNUMBER(B215),TEXT(B215,\"0\"),B215),Pricelist!$A$3:$F$60643,4,FALSE),\"\")","v":""},"","",null,null,null,null,"",null,"","",""]
["","","",{"$f":"IF(B216<>\"\",VLOOKUP(IF(ISNUMBER(B216),TEXT(B216,\"0\"),B216),Pricelist!$A$3:$F$60643,6,FALSE),\"\")","v":""},{"$f":"IF(B216<>\"\",VLOOKUP(IF(ISNUMBER(B216),TEXT(B216,\"0\"),B216),Pricelist!$A$3:$F$60643,2,FALSE),\"\")","v":""},{"$f":"IF(B216<>\"\",VLOOKUP(IF(ISNUMBER(B216),TEXT(B216,\"0\"),B216),Pricelist!$A$3:$F$60643,5,FALSE),\"\")","v":""},{"$f":"IF(B216<>\"\",VLOOKUP(IF(ISNUMBER(B216),TEXT(B216,\"0\"),B216),Pricelist!$A$3:$F$60643,3,FALSE),\"\")","v":""},"",{"$f":"IF(B216<>\"\",VLOOKUP(IF(ISNUMBER(B216),TEXT(B216,\"0\"),B216),Pricelist!$A$3:$F$60643,4,FALSE),\"\")","v":""},"","",null,null,null,null,"",null,"","",""]
["","","",{"$f":"IF(B217<>\"\",VLOOKUP(IF(ISNUMBER(B217),TEXT(B217,\"0\"),B217),Pricelist!$A$3:$F$60643,6,FALSE),\"\")","v":""},{"$f":"IF(B217<>\"\",VLOOKUP(IF(ISNUMBER(B217),TEXT(B217,\"0\"),B217),Pricelist!$A$3:$F$60643,2,FALSE),\"\")","v":""},{"$f":"IF(B217<>\"\",VLOOKUP(IF(ISNUMBER(B217),TEXT(B217,\"0\"),B217),Pricelist!$A$3:$F$60643,5,FALSE),\"\")","v":""},{"$f":"IF(B217<>\"\",VLOOKUP(IF(ISNUMBER(B217),TEXT(B217,\"0\"),B217),Pricelist!$A$3:$F$60643,3,FALSE),\"\")","v":""},"",{"$f":"IF(B217<>\"\",VLOOKUP(IF(ISNUMBER(B217),TEXT(B217,\"0\"),B217),Pricelist!$A$3:$F$60643,4,FALSE),\"\")","v":""},"","",null,null,null,null,"",null,"","",""]
["","","",{"$f":"IF(B218<>\"\",VLOOKUP(IF(ISNUMBER(B218),TEXT(B218,\"0\"),B218),Pricelist!$A$3:$F$60643,6,FALSE),\"\")","v":""},{"$f":"IF(B218<>\"\",VLOOKUP(IF(ISNUMBER(B218),TEXT(B218,\"0\"),B218),Pricelist!$A$3:$F$60643,2,FALSE),\"\")","v":""},{"$f":"IF(B218<>\"\",VLOOKUP(IF(ISNUMBER(B218),TEXT(B218,\"0\"),B218),Pricelist!$A$3:$F$60643,5,FALSE),\"\")","v":""},{"$f":"IF(B218<>\"\",VLOOKUP(IF(ISNUMBER(B218),TEXT(B218,\"0\"),B218),Pricelist!$A$3:$F$60643,3,FALSE),\"\")","v":""},"",{"$f":"IF(B218<>\"\",VLOOKUP(IF(ISNUMBER(B218),TEXT(B218,\"0\"),B218),Pricelist!$A$3:$F$60643,4,FALSE),\"\")","v":""},"","",null,null,null,null,"",null,"","",""]
["","","",{"$f":"IF(B219<>\"\",VLOOKUP(IF(ISNUMBER(B219),TEXT(B219,\"0\"),B219),Pricelist!$A$3:$F$60643,6,FALSE),\"\")","v":""},{"$f":"IF(B219<>\"\",VLOOKUP(IF(ISNUMBER(B219),TEXT(B219,\"0\"),B219),Pricelist!$A$3:$F$60643,2,FALSE),\"\")","v":""},{"$f":"IF(B219<>\"\",VLOOKUP(IF(ISNUMBER(B219),TEXT(B219,\"0\"),B219),Pricelist!$A$3:$F$60643,5,FALSE),\"\")","v":""},{"$f":"IF(B219<>\"\",VLOOKUP(IF(ISNUMBER(B219),TEXT(B219,\"0\"),B219),Pricelist!$A$3:$F$60643,3,FALSE),\"\")","v":""},"",{"$f":"IF(B219<>\"\",VLOOKUP(IF(ISNUMBER(B219),TEXT(B219,\"0\"),B219),Pricelist!$A$3:$F$60643,4,FALSE),\"\")","v":""},"","",null,null,null,null,"",null,"","",""]
["","","",{"$f":"IF(B220<>\"\",VLOOKUP(IF(ISNUMBER(B220),TEXT(B220,\"0\"),B220),Pricelist!$A$3:$F$60643,6,FALSE),\"\")","v":""},{"$f":"IF(B220<>\"\",VLOOKUP(IF(ISNUMBER(B220),TEXT(B220,\"0\"),B220),Pricelist!$A$3:$F$60643,2,FALSE),\"\")","v":""},{"$f":"IF(B220<>\"\",VLOOKUP(IF(ISNUMBER(B220),TEXT(B220,\"0\"),B220),Pricelist!$A$3:$F$60643,5,FALSE),\"\")","v":""},{"$f":"IF(B220<>\"\",VLOOKUP(IF(ISNUMBER(B220),TEXT(B220,\"0\"),B220),Pricelist!$A$3:$F$60643,3,FALSE),\"\")","v":""},"",{"$f":"IF(B220<>\"\",VLOOKUP(IF(ISNUMBER(B220),TEXT(B220,\"0\"),B220),Pricelist!$A$3:$F$60643,4,FALSE),\"\")","v":""},"","",null,null,null,null,"",null,"","",""]
["","","",{"$f":"IF(B221<>\"\",VLOOKUP(IF(ISNUMBER(B221),TEXT(B221,\"0\"),B221),Pricelist!$A$3:$F$60643,6,FALSE),\"\")","v":""},{"$f":"IF(B221<>\"\",VLOOKUP(IF(ISNUMBER(B221),TEXT(B221,\"0\"),B221),Pricelist!$A$3:$F$60643,2,FALSE),\"\")","v":""},{"$f":"IF(B221<>\"\",VLOOKUP(IF(ISNUMBER(B221),TEXT(B221,\"0\"),B221),Pricelist!$A$3:$F$60643,5,FALSE),\"\")","v":""},{"$f":"IF(B221<>\"\",VLOOKUP(IF(ISNUMBER(B221),TEXT(B221,\"0\"),B221),Pricelist!$A$3:$F$60643,3,FALSE),\"\")","v":""},"",{"$f":"IF(B221<>\"\",VLOOKUP(IF(ISNUMBER(B221),TEXT(B221,\"0\"),B221),Pricelist!$A$3:$F$60643,4,FALSE),\"\")","v":""},"","",null,null,null,null,"",null,"","",""]
["","","",{"$f":"IF(B222<>\"\",VLOOKUP(IF(ISNUMBER(B222),TEXT(B222,\"0\"),B222),Pricelist!$A$3:$F$60643,6,FALSE),\"\")","v":""},{"$f":"IF(B222<>\"\",VLOOKUP(IF(ISNUMBER(B222),TEXT(B222,\"0\"),B222),Pricelist!$A$3:$F$60643,2,FALSE),\"\")","v":""},{"$f":"IF(B222<>\"\",VLOOKUP(IF(ISNUMBER(B222),TEXT(B222,\"0\"),B222),Pricelist!$A$3:$F$60643,5,FALSE),\"\")","v":""},{"$f":"IF(B222<>\"\",VLOOKUP(IF(ISNUMBER(B222),TEXT(B222,\"0\"),B222),Pricelist!$A$3:$F$60643,3,FALSE),\"\")","v":""},"",{"$f":"IF(B222<>\"\",VLOOKUP(IF(ISNUMBER(B222),TEXT(B222,\"0\"),B222),Pricelist!$A$3:$F$60643,4,FALSE),\"\")","v":""},"","",null,null,null,null,"",null,"","",""]
["","","",{"$f":"IF(B223<>\"\",VLOOKUP(IF(ISNUMBER(B223),TEXT(B223,\"0\"),B223),Pricelist!$A$3:$F$60643,6,FALSE),\"\")","v":""},{"$f":"IF(B223<>\"\",VLOOKUP(IF(ISNUMBER(B223),TEXT(B223,\"0\"),B223),Pricelist!$A$3:$F$60643,2,FALSE),\"\")","v":""},{"$f":"IF(B223<>\"\",VLOOKUP(IF(ISNUMBER(B223),TEXT(B223,\"0\"),B223),Pricelist!$A$3:$F$60643,5,FALSE),\"\")","v":""},{"$f":"IF(B223<>\"\",VLOOKUP(IF(ISNUMBER(B223),TEXT(B223,\"0\"),B223),Pricelist!$A$3:$F$60643,3,FALSE),\"\")","v":""},"",{"$f":"IF(B223<>\"\",VLOOKUP(IF(ISNUMBER(B223),TEXT(B223,\"0\"),B223),Pricelist!$A$3:$F$60643,4,FALSE),\"\")","v":""},"","",null,null,null,null,"",null,"","",""]
["","","",{"$f":"IF(B224<>\"\",VLOOKUP(IF(ISNUMBER(B224),TEXT(B224,\"0\"),B224),Pricelist!$A$3:$F$60643,6,FALSE),\"\")","v":""},{"$f":"IF(B224<>\"\",VLOOKUP(IF(ISNUMBER(B224),TEXT(B224,\"0\"),B224),Pricelist!$A$3:$F$60643,2,FALSE),\"\")","v":""},{"$f":"IF(B224<>\"\",VLOOKUP(IF(ISNUMBER(B224),TEXT(B224,\"0\"),B224),Pricelist!$A$3:$F$60643,5,FALSE),\"\")","v":""},{"$f":"IF(B224<>\"\",VLOOKUP(IF(ISNUMBER(B224),TEXT(B224,\"0\"),B224),Pricelist!$A$3:$F$60643,3,FALSE),\"\")","v":""},"",{"$f":"IF(B224<>\"\",VLOOKUP(IF(ISNUMBER(B224),TEXT(B224,\"0\"),B224),Pricelist!$A$3:$F$60643,4,FALSE),\"\")","v":""},"","",null,null,null,null,"",null,"","",""]
["","","",{"$f":"IF(B225<>\"\",VLOOKUP(IF(ISNUMBER(B225),TEXT(B225,\"0\"),B225),Pricelist!$A$3:$F$60643,6,FALSE),\"\")","v":""},{"$f":"IF(B225<>\"\",VLOOKUP(IF(ISNUMBER(B225),TEXT(B225,\"0\"),B225),Pricelist!$A$3:$F$60643,2,FALSE),\"\")","v":""},{"$f":"IF(B225<>\"\",VLOOKUP(IF(ISNUMBER(B225),TEXT(B225,\"0\"),B225),Pricelist!$A$3:$F$60643,5,FALSE),\"\")","v":""},{"$f":"IF(B225<>\"\",VLOOKUP(IF(ISNUMBER(B225),TEXT(B225,\"0\"),B225),Pricelist!$A$3:$F$60643,3,FALSE),\"\")","v":""},"",{"$f":"IF(B225<>\"\",VLOOKUP(IF(ISNUMBER(B225),TEXT(B225,\"0\"),B225),Pricelist!$A$3:$F$60643,4,FALSE),\"\")","v":""},"","",null,null,null,null,"",null,"","",""]
["","","",{"$f":"IF(B226<>\"\",VLOOKUP(IF(ISNUMBER(B226),TEXT(B226,\"0\"),B226),Pricelist!$A$3:$F$60643,6,FALSE),\"\")","v":""},{"$f":"IF(B226<>\"\",VLOOKUP(IF(ISNUMBER(B226),TEXT(B226,\"0\"),B226),Pricelist!$A$3:$F$60643,2,FALSE),\"\")","v":""},{"$f":"IF(B226<>\"\",VLOOKUP(IF(ISNUMBER(B226),TEXT(B226,\"0\"),B226),Pricelist!$A$3:$F$60643,5,FALSE),\"\")","v":""},{"$f":"IF(B226<>\"\",VLOOKUP(IF(ISNUMBER(B226),TEXT(B226,\"0\"),B226),Pricelist!$A$3:$F$60643,3,FALSE),\"\")","v":""},"",{"$f":"IF(B226<>\"\",VLOOKUP(IF(ISNUMBER(B226),TEXT(B226,\"0\"),B226),Pricelist!$A$3:$F$60643,4,FALSE),\"\")","v":""},"","",null,null,null,null,"",null,"","",""]
["","","",{"$f":"IF(B227<>\"\",VLOOKUP(IF(ISNUMBER(B227),TEXT(B227,\"0\"),B227),Pricelist!$A$3:$F$60643,6,FALSE),\"\")","v":""},{"$f":"IF(B227<>\"\",VLOOKUP(IF(ISNUMBER(B227),TEXT(B227,\"0\"),B227),Pricelist!$A$3:$F$60643,2,FALSE),\"\")","v":""},{"$f":"IF(B227<>\"\",VLOOKUP(IF(ISNUMBER(B227),TEXT(B227,\"0\"),B227),Pricelist!$A$3:$F$60643,5,FALSE),\"\")","v":""},{"$f":"IF(B227<>\"\",VLOOKUP(IF(ISNUMBER(B227),TEXT(B227,\"0\"),B227),Pricelist!$A$3:$F$60643,3,FALSE),\"\")","v":""},"",{"$f":"IF(B227<>\"\",VLOOKUP(IF(ISNUMBER(B227),TEXT(B227,\"0\"),B227),Pricelist!$A$3:$F$60643,4,FALSE),\"\")","v":""},"","",null,null,null,null,"",null,"","",""]
["","","",{"$f":"IF(B228<>\"\",VLOOKUP(IF(ISNUMBER(B228),TEXT(B228,\"0\"),B228),Pricelist!$A$3:$F$60643,6,FALSE),\"\")","v":""},{"$f":"IF(B228<>\"\",VLOOKUP(IF(ISNUMBER(B228),TEXT(B228,\"0\"),B228),Pricelist!$A$3:$F$60643,2,FALSE),\"\")","v":""},{"$f":"IF(B228<>\"\",VLOOKUP(IF(ISNUMBER(B228),TEXT(B228,\"0\"),B228),Pricelist!$A$3:$F$60643,5,FALSE),\"\")","v":""},{"$f":"IF(B228<>\"\",VLOOKUP(IF(ISNUMBER(B228),TEXT(B228,\"0\"),B228),Pricelist!$A$3:$F$60643,3,FALSE),\"\")","v":""},"",{"$f":"IF(B228<>\"\",VLOOKUP(IF(ISNUMBER(B228),TEXT(B228,\"0\"),B228),Pricelist!$A$3:$F$60643,4,FALSE),\"\")","v":""},"","",null,null,null,null,"",null,"","",""]
["","","",{"$f":"IF(B229<>\"\",VLOOKUP(IF(ISNUMBER(B229),TEXT(B229,\"0\"),B229),Pricelist!$A$3:$F$60643,6,FALSE),\"\")","v":""},{"$f":"IF(B229<>\"\",VLOOKUP(IF(ISNUMBER(B229),TEXT(B229,\"0\"),B229),Pricelist!$A$3:$F$60643,2,FALSE),\"\")","v":""},{"$f":"IF(B229<>\"\",VLOOKUP(IF(ISNUMBER(B229),TEXT(B229,\"0\"),B229),Pricelist!$A$3:$F$60643,5,FALSE),\"\")","v":""},{"$f":"IF(B229<>\"\",VLOOKUP(IF(ISNUMBER(B229),TEXT(B229,\"0\"),B229),Pricelist!$A$3:$F$60643,3,FALSE),\"\")","v":""},"",{"$f":"IF(B229<>\"\",VLOOKUP(IF(ISNUMBER(B229),TEXT(B229,\"0\"),B229),Pricelist!$A$3:$F$60643,4,FALSE),\"\")","v":""},"","",null,null,null,null,"",null,"","",""]
["","","",{"$f":"IF(B230<>\"\",VLOOKUP(IF(ISNUMBER(B230),TEXT(B230,\"0\"),B230),Pricelist!$A$3:$F$60643,6,FALSE),\"\")","v":""},{"$f":"IF(B230<>\"\",VLOOKUP(IF(ISNUMBER(B230),TEXT(B230,\"0\"),B230),Pricelist!$A$3:$F$60643,2,FALSE),\"\")","v":""},{"$f":"IF(B230<>\"\",VLOOKUP(IF(ISNUMBER(B230),TEXT(B230,\"0\"),B230),Pricelist!$A$3:$F$60643,5,FALSE),\"\")","v":""},{"$f":"IF(B230<>\"\",VLOOKUP(IF(ISNUMBER(B230),TEXT(B230,\"0\"),B230),Pricelist!$A$3:$F$60643,3,FALSE),\"\")","v":""},"",{"$f":"IF(B230<>\"\",VLOOKUP(IF(ISNUMBER(B230),TEXT(B230,\"0\"),B230),Pricelist!$A$3:$F$60643,4,FALSE),\"\")","v":""},"","",null,null,null,null,"",null,"","",""]
["","","",{"$f":"IF(B231<>\"\",VLOOKUP(IF(ISNUMBER(B231),TEXT(B231,\"0\"),B231),Pricelist!$A$3:$F$60643,6,FALSE),\"\")","v":""},{"$f":"IF(B231<>\"\",VLOOKUP(IF(ISNUMBER(B231),TEXT(B231,\"0\"),B231),Pricelist!$A$3:$F$60643,2,FALSE),\"\")","v":""},{"$f":"IF(B231<>\"\",VLOOKUP(IF(ISNUMBER(B231),TEXT(B231,\"0\"),B231),Pricelist!$A$3:$F$60643,5,FALSE),\"\")","v":""},{"$f":"IF(B231<>\"\",VLOOKUP(IF(ISNUMBER(B231),TEXT(B231,\"0\"),B231),Pricelist!$A$3:$F$60643,3,FALSE),\"\")","v":""},"",{"$f":"IF(B231<>\"\",VLOOKUP(IF(ISNUMBER(B231),TEXT(B231,\"0\"),B231),Pricelist!$A$3:$F$60643,4,FALSE),\"\")","v":""},"","",null,null,null,null,"",null,"","",""]
["","","",{"$f":"IF(B232<>\"\",VLOOKUP(IF(ISNUMBER(B232),TEXT(B232,\"0\"),B232),Pricelist!$A$3:$F$60643,6,FALSE),\"\")","v":""},{"$f":"IF(B232<>\"\",VLOOKUP(IF(ISNUMBER(B232),TEXT(B232,\"0\"),B232),Pricelist!$A$3:$F$60643,2,FALSE),\"\")","v":""},{"$f":"IF(B232<>\"\",VLOOKUP(IF(ISNUMBER(B232),TEXT(B232,\"0\"),B232),Pricelist!$A$3:$F$60643,5,FALSE),\"\")","v":""},{"$f":"IF(B232<>\"\",VLOOKUP(IF(ISNUMBER(B232),TEXT(B232,\"0\"),B232),Pricelist!$A$3:$F$60643,3,FALSE),\"\")","v":""},"",{"$f":"IF(B232<>\"\",VLOOKUP(IF(ISNUMBER(B232),TEXT(B232,\"0\"),B232),Pricelist!$A$3:$F$60643,4,FALSE),\"\")","v":""},"","",null,null,null,null,"",null,"","",""]
["","","",{"$f":"IF(B233<>\"\",VLOOKUP(IF(ISNUMBER(B233),TEXT(B233,\"0\"),B233),Pricelist!$A$3:$F$60643,6,FALSE),\"\")","v":""},{"$f":"IF(B233<>\"\",VLOOKUP(IF(ISNUMBER(B233),TEXT(B233,\"0\"),B233),Pricelist!$A$3:$F$60643,2,FALSE),\"\")","v":""},{"$f":"IF(B233<>\"\",VLOOKUP(IF(ISNUMBER(B233),TEXT(B233,\"0\"),B233),Pricelist!$A$3:$F$60643,5,FALSE),\"\")","v":""},{"$f":"IF(B233<>\"\",VLOOKUP(IF(ISNUMBER(B233),TEXT(B233,\"0\"),B233),Pricelist!$A$3:$F$60643,3,FALSE),\"\")","v":""},"",{"$f":"IF(B233<>\"\",VLOOKUP(IF(ISNUMBER(B233),TEXT(B233,\"0\"),B233),Pricelist!$A$3:$F$60643,4,FALSE),\"\")","v":""},"","",null,null,null,null,"",null,"","",""]
["","","",{"$f":"IF(B234<>\"\",VLOOKUP(IF(ISNUMBER(B234),TEXT(B234,\"0\"),B234),Pricelist!$A$3:$F$60643,6,FALSE),\"\")","v":""},{"$f":"IF(B234<>\"\",VLOOKUP(IF(ISNUMBER(B234),TEXT(B234,\"0\"),B234),Pricelist!$A$3:$F$60643,2,FALSE),\"\")","v":""},{"$f":"IF(B234<>\"\",VLOOKUP(IF(ISNUMBER(B234),TEXT(B234,\"0\"),B234),Pricelist!$A$3:$F$60643,5,FALSE),\"\")","v":""},{"$f":"IF(B234<>\"\",VLOOKUP(IF(ISNUMBER(B234),TEXT(B234,\"0\"),B234),Pricelist!$A$3:$F$60643,3,FALSE),\"\")","v":""},"",{"$f":"IF(B234<>\"\",VLOOKUP(IF(ISNUMBER(B234),TEXT(B234,\"0\"),B234),Pricelist!$A$3:$F$60643,4,FALSE),\"\")","v":""},"","",null,null,null,null,"",null,"","",""]
["","","",{"$f":"IF(B235<>\"\",VLOOKUP(IF(ISNUMBER(B235),TEXT(B235,\"0\"),B235),Pricelist!$A$3:$F$60643,6,FALSE),\"\")","v":""},{"$f":"IF(B235<>\"\",VLOOKUP(IF(ISNUMBER(B235),TEXT(B235,\"0\"),B235),Pricelist!$A$3:$F$60643,2,FALSE),\"\")","v":""},{"$f":"IF(B235<>\"\",VLOOKUP(IF(ISNUMBER(B235),TEXT(B235,\"0\"),B235),Pricelist!$A$3:$F$60643,5,FALSE),\"\")","v":""},{"$f":"IF(B235<>\"\",VLOOKUP(IF(ISNUMBER(B235),TEXT(B235,\"0\"),B235),Pricelist!$A$3:$F$60643,3,FALSE),\"\")","v":""},"",{"$f":"IF(B235<>\"\",VLOOKUP(IF(ISNUMBER(B235),TEXT(B235,\"0\"),B235),Pricelist!$A$3:$F$60643,4,FALSE),\"\")","v":""},"","",null,null,null,null,"",null,"","",""]
["","","",{"$f":"IF(B236<>\"\",VLOOKUP(IF(ISNUMBER(B236),TEXT(B236,\"0\"),B236),Pricelist!$A$3:$F$60643,6,FALSE),\"\")","v":""},{"$f":"IF(B236<>\"\",VLOOKUP(IF(ISNUMBER(B236),TEXT(B236,\"0\"),B236),Pricelist!$A$3:$F$60643,2,FALSE),\"\")","v":""},{"$f":"IF(B236<>\"\",VLOOKUP(IF(ISNUMBER(B236),TEXT(B236,\"0\"),B236),Pricelist!$A$3:$F$60643,5,FALSE),\"\")","v":""},{"$f":"IF(B236<>\"\",VLOOKUP(IF(ISNUMBER(B236),TEXT(B236,\"0\"),B236),Pricelist!$A$3:$F$60643,3,FALSE),\"\")","v":""},"",{"$f":"IF(B236<>\"\",VLOOKUP(IF(ISNUMBER(B236),TEXT(B236,\"0\"),B236),Pricelist!$A$3:$F$60643,4,FALSE),\"\")","v":""},"","",null,null,null,null,"",null,"","",""]
["","","",{"$f":"IF(B237<>\"\",VLOOKUP(IF(ISNUMBER(B237),TEXT(B237,\"0\"),B237),Pricelist!$A$3:$F$60643,6,FALSE),\"\")","v":""},{"$f":"IF(B237<>\"\",VLOOKUP(IF(ISNUMBER(B237),TEXT(B237,\"0\"),B237),Pricelist!$A$3:$F$60643,2,FALSE),\"\")","v":""},{"$f":"IF(B237<>\"\",VLOOKUP(IF(ISNUMBER(B237),TEXT(B237,\"0\"),B237),Pricelist!$A$3:$F$60643,5,FALSE),\"\")","v":""},{"$f":"IF(B237<>\"\",VLOOKUP(IF(ISNUMBER(B237),TEXT(B237,\"0\"),B237),Pricelist!$A$3:$F$60643,3,FALSE),\"\")","v":""},"",{"$f":"IF(B237<>\"\",VLOOKUP(IF(ISNUMBER(B237),TEXT(B237,\"0\"),B237),Pricelist!$A$3:$F$60643,4,FALSE),\"\")","v":""},"","",null,null,null,null,"",null,"","",""]
["","","",{"$f":"IF(B238<>\"\",VLOOKUP(IF(ISNUMBER(B238),TEXT(B238,\"0\"),B238),Pricelist!$A$3:$F$60643,6,FALSE),\"\")","v":""},{"$f":"IF(B238<>\"\",VLOOKUP(IF(ISNUMBER(B238),TEXT(B238,\"0\"),B238),Pricelist!$A$3:$F$60643,2,FALSE),\"\")","v":""},{"$f":"IF(B238<>\"\",VLOOKUP(IF(ISNUMBER(B238),TEXT(B238,\"0\"),B238),Pricelist!$A$3:$F$60643,5,FALSE),\"\")","v":""},{"$f":"IF(B238<>\"\",VLOOKUP(IF(ISNUMBER(B238),TEXT(B238,\"0\"),B238),Pricelist!$A$3:$F$60643,3,FALSE),\"\")","v":""},"",{"$f":"IF(B238<>\"\",VLOOKUP(IF(ISNUMBER(B238),TEXT(B238,\"0\"),B238),Pricelist!$A$3:$F$60643,4,FALSE),\"\")","v":""},"","",null,null,null,null,"",null,"","",""]
["","","",{"$f":"IF(B239<>\"\",VLOOKUP(IF(ISNUMBER(B239),TEXT(B239,\"0\"),B239),Pricelist!$A$3:$F$60643,6,FALSE),\"\")","v":""},{"$f":"IF(B239<>\"\",VLOOKUP(IF(ISNUMBER(B239),TEXT(B239,\"0\"),B239),Pricelist!$A$3:$F$60643,2,FALSE),\"\")","v":""},{"$f":"IF(B239<>\"\",VLOOKUP(IF(ISNUMBER(B239),TEXT(B239,\"0\"),B239),Pricelist!$A$3:$F$60643,5,FALSE),\"\")","v":""},{"$f":"IF(B239<>\"\",VLOOKUP(IF(ISNUMBER(B239),TEXT(B239,\"0\"),B239),Pricelist!$A$3:$F$60643,3,FALSE),\"\")","v":""},"",{"$f":"IF(B239<>\"\",VLOOKUP(IF(ISNUMBER(B239),TEXT(B239,\"0\"),B239),Pricelist!$A$3:$F$60643,4,FALSE),\"\")","v":""},"","",null,null,null,null,"",null,"","",""]
["","","",{"$f":"IF(B240<>\"\",VLOOKUP(IF(ISNUMBER(B240),TEXT(B240,\"0\"),B240),Pricelist!$A$3:$F$60643,6,FALSE),\"\")","v":""},{"$f":"IF(B240<>\"\",VLOOKUP(IF(ISNUMBER(B240),TEXT(B240,\"0\"),B240),Pricelist!$A$3:$F$60643,2,FALSE),\"\")","v":""},{"$f":"IF(B240<>\"\",VLOOKUP(IF(ISNUMBER(B240),TEXT(B240,\"0\"),B240),Pricelist!$A$3:$F$60643,5,FALSE),\"\")","v":""},{"$f":"IF(B240<>\"\",VLOOKUP(IF(ISNUMBER(B240),TEXT(B240,\"0\"),B240),Pricelist!$A$3:$F$60643,3,FALSE),\"\")","v":""},"",{"$f":"IF(B240<>\"\",VLOOKUP(IF(ISNUMBER(B240),TEXT(B240,\"0\"),B240),Pricelist!$A$3:$F$60643,4,FALSE),\"\")","v":""},"","",null,null,null,null,"",null,"","",""]
["","","",{"$f":"IF(B241<>\"\",VLOOKUP(IF(ISNUMBER(B241),TEXT(B241,\"0\"),B241),Pricelist!$A$3:$F$60643,6,FALSE),\"\")","v":""},{"$f":"IF(B241<>\"\",VLOOKUP(IF(ISNUMBER(B241),TEXT(B241,\"0\"),B241),Pricelist!$A$3:$F$60643,2,FALSE),\"\")","v":""},{"$f":"IF(B241<>\"\",VLOOKUP(IF(ISNUMBER(B241),TEXT(B241,\"0\"),B241),Pricelist!$A$3:$F$60643,5,FALSE),\"\")","v":""},{"$f":"IF(B241<>\"\",VLOOKUP(IF(ISNUMBER(B241),TEXT(B241,\"0\"),B241),Pricelist!$A$3:$F$60643,3,FALSE),\"\")","v":""},"",{"$f":"IF(B241<>\"\",VLOOKUP(IF(ISNUMBER(B241),TEXT(B241,\"0\"),B241),Pricelist!$A$3:$F$60643,4,FALSE),\"\")","v":""},"","",null,null,null,null,"",null,"","",""]
["","","",{"$f":"IF(B242<>\"\",VLOOKUP(IF(ISNUMBER(B242),TEXT(B242,\"0\"),B242),Pricelist!$A$3:$F$60643,6,FALSE),\"\")","v":""},{"$f":"IF(B242<>\"\",VLOOKUP(IF(ISNUMBER(B242),TEXT(B242,\"0\"),B242),Pricelist!$A$3:$F$60643,2,FALSE),\"\")","v":""},{"$f":"IF(B242<>\"\",VLOOKUP(IF(ISNUMBER(B242),TEXT(B242,\"0\"),B242),Pricelist!$A$3:$F$60643,5,FALSE),\"\")","v":""},{"$f":"IF(B242<>\"\",VLOOKUP(IF(ISNUMBER(B242),TEXT(B242,\"0\"),B242),Pricelist!$A$3:$F$60643,3,FALSE),\"\")","v":""},"",{"$f":"IF(B242<>\"\",VLOOKUP(IF(ISNUMBER(B242),TEXT(B242,\"0\"),B242),Pricelist!$A$3:$F$60643,4,FALSE),\"\")","v":""},"","",null,null,null,null,"",null,"","",""]
["","","",{"$f":"IF(B243<>\"\",VLOOKUP(IF(ISNUMBER(B243),TEXT(B243,\"0\"),B243),Pricelist!$A$3:$F$60643,6,FALSE),\"\")","v":""},{"$f":"IF(B243<>\"\",VLOOKUP(IF(ISNUMBER(B243),TEXT(B243,\"0\"),B243),Pricelist!$A$3:$F$60643,2,FALSE),\"\")","v":""},{"$f":"IF(B243<>\"\",VLOOKUP(IF(ISNUMBER(B243),TEXT(B243,\"0\"),B243),Pricelist!$A$3:$F$60643,5,FALSE),\"\")","v":""},{"$f":"IF(B243<>\"\",VLOOKUP(IF(ISNUMBER(B243),TEXT(B243,\"0\"),B243),Pricelist!$A$3:$F$60643,3,FALSE),\"\")","v":""},"",{"$f":"IF(B243<>\"\",VLOOKUP(IF(ISNUMBER(B243),TEXT(B243,\"0\"),B243),Pricelist!$A$3:$F$60643,4,FALSE),\"\")","v":""},"","",null,null,null,null,"",null,"","",""]
["","","",{"$f":"IF(B244<>\"\",VLOOKUP(IF(ISNUMBER(B244),TEXT(B244,\"0\"),B244),Pricelist!$A$3:$F$60643,6,FALSE),\"\")","v":""},{"$f":"IF(B244<>\"\",VLOOKUP(IF(ISNUMBER(B244),TEXT(B244,\"0\"),B244),Pricelist!$A$3:$F$60643,2,FALSE),\"\")","v":""},{"$f":"IF(B244<>\"\",VLOOKUP(IF(ISNUMBER(B244),TEXT(B244,\"0\"),B244),Pricelist!$A$3:$F$60643,5,FALSE),\"\")","v":""},{"$f":"IF(B244<>\"\",VLOOKUP(IF(ISNUMBER(B244),TEXT(B244,\"0\"),B244),Pricelist!$A$3:$F$60643,3,FALSE),\"\")","v":""},"",{"$f":"IF(B244<>\"\",VLOOKUP(IF(ISNUMBER(B244),TEXT(B244,\"0\"),B244),Pricelist!$A$3:$F$60643,4,FALSE),\"\")","v":""},"","",null,null,null,null,"",null,"","",""]
["","","",{"$f":"IF(B245<>\"\",VLOOKUP(IF(ISNUMBER(B245),TEXT(B245,\"0\"),B245),Pricelist!$A$3:$F$60643,6,FALSE),\"\")","v":""},{"$f":"IF(B245<>\"\",VLOOKUP(IF(ISNUMBER(B245),TEXT(B245,\"0\"),B245),Pricelist!$A$3:$F$60643,2,FALSE),\"\")","v":""},{"$f":"IF(B245<>\"\",VLOOKUP(IF(ISNUMBER(B245),TEXT(B245,\"0\"),B245),Pricelist!$A$3:$F$60643,5,FALSE),\"\")","v":""},{"$f":"IF(B245<>\"\",VLOOKUP(IF(ISNUMBER(B245),TEXT(B245,\"0\"),B245),Pricelist!$A$3:$F$60643,3,FALSE),\"\")","v":""},"",{"$f":"IF(B245<>\"\",VLOOKUP(IF(ISNUMBER(B245),TEXT(B245,\"0\"),B245),Pricelist!$A$3:$F$60643,4,FALSE),\"\")","v":""},"","",null,null,null,null,"",null,"","",""]
["","","",{"$f":"IF(B246<>\"\",VLOOKUP(IF(ISNUMBER(B246),TEXT(B246,\"0\"),B246),Pricelist!$A$3:$F$60643,6,FALSE),\"\")","v":""},{"$f":"IF(B246<>\"\",VLOOKUP(IF(ISNUMBER(B246),TEXT(B246,\"0\"),B246),Pricelist!$A$3:$F$60643,2,FALSE),\"\")","v":""},{"$f":"IF(B246<>\"\",VLOOKUP(IF(ISNUMBER(B246),TEXT(B246,\"0\"),B246),Pricelist!$A$3:$F$60643,5,FALSE),\"\")","v":""},{"$f":"IF(B246<>\"\",VLOOKUP(IF(ISNUMBER(B246),TEXT(B246,\"0\"),B246),Pricelist!$A$3:$F$60643,3,FALSE),\"\")","v":""},"",{"$f":"IF(B246<>\"\",VLOOKUP(IF(ISNUMBER(B246),TEXT(B246,\"0\"),B246),Pricelist!$A$3:$F$60643,4,FALSE),\"\")","v":""},"","",null,null,null,null,"",null,"","",""]
["","","",{"$f":"IF(B247<>\"\",VLOOKUP(IF(ISNUMBER(B247),TEXT(B247,\"0\"),B247),Pricelist!$A$3:$F$60643,6,FALSE),\"\")","v":""},{"$f":"IF(B247<>\"\",VLOOKUP(IF(ISNUMBER(B247),TEXT(B247,\"0\"),B247),Pricelist!$A$3:$F$60643,2,FALSE),\"\")","v":""},{"$f":"IF(B247<>\"\",VLOOKUP(IF(ISNUMBER(B247),TEXT(B247,\"0\"),B247),Pricelist!$A$3:$F$60643,5,FALSE),\"\")","v":""},{"$f":"IF(B247<>\"\",VLOOKUP(IF(ISNUMBER(B247),TEXT(B247,\"0\"),B247),Pricelist!$A$3:$F$60643,3,FALSE),\"\")","v":""},"",{"$f":"IF(B247<>\"\",VLOOKUP(IF(ISNUMBER(B247),TEXT(B247,\"0\"),B247),Pricelist!$A$3:$F$60643,4,FALSE),\"\")","v":""},"","",null,null,null,null,"",null,"","",""]
["","","",{"$f":"IF(B248<>\"\",VLOOKUP(IF(ISNUMBER(B248),TEXT(B248,\"0\"),B248),Pricelist!$A$3:$F$60643,6,FALSE),\"\")","v":""},{"$f":"IF(B248<>\"\",VLOOKUP(IF(ISNUMBER(B248),TEXT(B248,\"0\"),B248),Pricelist!$A$3:$F$60643,2,FALSE),\"\")","v":""},{"$f":"IF(B248<>\"\",VLOOKUP(IF(ISNUMBER(B248),TEXT(B248,\"0\"),B248),Pricelist!$A$3:$F$60643,5,FALSE),\"\")","v":""},{"$f":"IF(B248<>\"\",VLOOKUP(IF(ISNUMBER(B248),TEXT(B248,\"0\"),B248),Pricelist!$A$3:$F$60643,3,FALSE),\"\")","v":""},"",{"$f":"IF(B248<>\"\",VLOOKUP(IF(ISNUMBER(B248),TEXT(B248,\"0\"),B248),Pricelist!$A$3:$F$60643,4,FALSE),\"\")","v":""},"","",null,null,null,null,"",null,"","",""]
["","","",{"$f":"IF(B249<>\"\",VLOOKUP(IF(ISNUMBER(B249),TEXT(B249,\"0\"),B249),Pricelist!$A$3:$F$60643,6,FALSE),\"\")","v":""},{"$f":"IF(B249<>\"\",VLOOKUP(IF(ISNUMBER(B249),TEXT(B249,\"0\"),B249),Pricelist!$A$3:$F$60643,2,FALSE),\"\")","v":""},{"$f":"IF(B249<>\"\",VLOOKUP(IF(ISNUMBER(B249),TEXT(B249,\"0\"),B249),Pricelist!$A$3:$F$60643,5,FALSE),\"\")","v":""},{"$f":"IF(B249<>\"\",VLOOKUP(IF(ISNUMBER(B249),TEXT(B249,\"0\"),B249),Pricelist!$A$3:$F$60643,3,FALSE),\"\")","v":""},"",{"$f":"IF(B249<>\"\",VLOOKUP(IF(ISNUMBER(B249),TEXT(B249,\"0\"),B249),Pricelist!$A$3:$F$60643,4,FALSE),\"\")","v":""},"","",null,null,null,null,"",null,"","",""]
["","","",{"$f":"IF(B250<>\"\",VLOOKUP(IF(ISNUMBER(B250),TEXT(B250,\"0\"),B250),Pricelist!$A$3:$F$60643,6,FALSE),\"\")","v":""},{"$f":"IF(B250<>\"\",VLOOKUP(IF(ISNUMBER(B250),TEXT(B250,\"0\"),B250),Pricelist!$A$3:$F$60643,2,FALSE),\"\")","v":""},{"$f":"IF(B250<>\"\",VLOOKUP(IF(ISNUMBER(B250),TEXT(B250,\"0\"),B250),Pricelist!$A$3:$F$60643,5,FALSE),\"\")","v":""},{"$f":"IF(B250<>\"\",VLOOKUP(IF(ISNUMBER(B250),TEXT(B250,\"0\"),B250),Pricelist!$A$3:$F$60643,3,FALSE),\"\")","v":""},"",{"$f":"IF(B250<>\"\",VLOOKUP(IF(ISNUMBER(B250),TEXT(B250,\"0\"),B250),Pricelist!$A$3:$F$60643,4,FALSE),\"\")","v":""},"","",null,null,null,null,"",null,"","",""]
["","","",{"$f":"IF(B251<>\"\",VLOOKUP(IF(ISNUMBER(B251),TEXT(B251,\"0\"),B251),Pricelist!$A$3:$F$60643,6,FALSE),\"\")","v":""},{"$f":"IF(B251<>\"\",VLOOKUP(IF(ISNUMBER(B251),TEXT(B251,\"0\"),B251),Pricelist!$A$3:$F$60643,2,FALSE),\"\")","v":""},{"$f":"IF(B251<>\"\",VLOOKUP(IF(ISNUMBER(B251),TEXT(B251,\"0\"),B251),Pricelist!$A$3:$F$60643,5,FALSE),\"\")","v":""},{"$f":"IF(B251<>\"\",VLOOKUP(IF(ISNUMBER(B251),TEXT(B251,\"0\"),B251),Pricelist!$A$3:$F$60643,3,FALSE),\"\")","v":""},"",{"$f":"IF(B251<>\"\",VLOOKUP(IF(ISNUMBER(B251),TEXT(B251,\"0\"),B251),Pricelist!$A$3:$F$60643,4,FALSE),\"\")","v":""},"","",null,null,null,null,"",null,"","",""]
["","","",{"$f":"IF(B252<>\"\",VLOOKUP(IF(ISNUMBER(B252),TEXT(B252,\"0\"),B252),Pricelist!$A$3:$F$60643,6,FALSE),\"\")","v":""},{"$f":"IF(B252<>\"\",VLOOKUP(IF(ISNUMBER(B252),TEXT(B252,\"0\"),B252),Pricelist!$A$3:$F$60643,2,FALSE),\"\")","v":""},{"$f":"IF(B252<>\"\",VLOOKUP(IF(ISNUMBER(B252),TEXT(B252,\"0\"),B252),Pricelist!$A$3:$F$60643,5,FALSE),\"\")","v":""},{"$f":"IF(B252<>\"\",VLOOKUP(IF(ISNUMBER(B252),TEXT(B252,\"0\"),B252),Pricelist!$A$3:$F$60643,3,FALSE),\"\")","v":""},"",{"$f":"IF(B252<>\"\",VLOOKUP(IF(ISNUMBER(B252),TEXT(B252,\"0\"),B252),Pricelist!$A$3:$F$60643,4,FALSE),\"\")","v":""},"","",null,null,null,null,"",null,"","",""]
["","","",{"$f":"IF(B253<>\"\",VLOOKUP(IF(ISNUMBER(B253),TEXT(B253,\"0\"),B253),Pricelist!$A$3:$F$60643,6,FALSE),\"\")","v":""},{"$f":"IF(B253<>\"\",VLOOKUP(IF(ISNUMBER(B253),TEXT(B253,\"0\"),B253),Pricelist!$A$3:$F$60643,2,FALSE),\"\")","v":""},{"$f":"IF(B253<>\"\",VLOOKUP(IF(ISNUMBER(B253),TEXT(B253,\"0\"),B253),Pricelist!$A$3:$F$60643,5,FALSE),\"\")","v":""},{"$f":"IF(B253<>\"\",VLOOKUP(IF(ISNUMBER(B253),TEXT(B253,\"0\"),B253),Pricelist!$A$3:$F$60643,3,FALSE),\"\")","v":""},"",{"$f":"IF(B253<>\"\",VLOOKUP(IF(ISNUMBER(B253),TEXT(B253,\"0\"),B253),Pricelist!$A$3:$F$60643,4,FALSE),\"\")","v":""},"","",null,null,null,null,"",null,"","",""]
["","","",{"$f":"IF(B254<>\"\",VLOOKUP(IF(ISNUMBER(B254),TEXT(B254,\"0\"),B254),Pricelist!$A$3:$F$60643,6,FALSE),\"\")","v":""},{"$f":"IF(B254<>\"\",VLOOKUP(IF(ISNUMBER(B254),TEXT(B254,\"0\"),B254),Pricelist!$A$3:$F$60643,2,FALSE),\"\")","v":""},{"$f":"IF(B254<>\"\",VLOOKUP(IF(ISNUMBER(B254),TEXT(B254,\"0\"),B254),Pricelist!$A$3:$F$60643,5,FALSE),\"\")","v":""},{"$f":"IF(B254<>\"\",VLOOKUP(IF(ISNUMBER(B254),TEXT(B254,\"0\"),B254),Pricelist!$A$3:$F$60643,3,FALSE),\"\")","v":""},"",{"$f":"IF(B254<>\"\",VLOOKUP(IF(ISNUMBER(B254),TEXT(B254,\"0\"),B254),Pricelist!$A$3:$F$60643,4,FALSE),\"\")","v":""},"","",null,null,null,null,"",null,"","",""]
["","","",{"$f":"IF(B255<>\"\",VLOOKUP(IF(ISNUMBER(B255),TEXT(B255,\"0\"),B255),Pricelist!$A$3:$F$60643,6,FALSE),\"\")","v":""},{"$f":"IF(B255<>\"\",VLOOKUP(IF(ISNUMBER(B255),TEXT(B255,\"0\"),B255),Pricelist!$A$3:$F$60643,2,FALSE),\"\")","v":""},{"$f":"IF(B255<>\"\",VLOOKUP(IF(ISNUMBER(B255),TEXT(B255,\"0\"),B255),Pricelist!$A$3:$F$60643,5,FALSE),\"\")","v":""},{"$f":"IF(B255<>\"\",VLOOKUP(IF(ISNUMBER(B255),TEXT(B255,\"0\"),B255),Pricelist!$A$3:$F$60643,3,FALSE),\"\")","v":""},"",{"$f":"IF(B255<>\"\",VLOOKUP(IF(ISNUMBER(B255),TEXT(B255,\"0\"),B255),Pricelist!$A$3:$F$60643,4,FALSE),\"\")","v":""},"","",null,null,null,null,"",null,"","",""]
["","","",{"$f":"IF(B256<>\"\",VLOOKUP(IF(ISNUMBER(B256),TEXT(B256,\"0\"),B256),Pricelist!$A$3:$F$60643,6,FALSE),\"\")","v":""},{"$f":"IF(B256<>\"\",VLOOKUP(IF(ISNUMBER(B256),TEXT(B256,\"0\"),B256),Pricelist!$A$3:$F$60643,2,FALSE),\"\")","v":""},{"$f":"IF(B256<>\"\",VLOOKUP(IF(ISNUMBER(B256),TEXT(B256,\"0\"),B256),Pricelist!$A$3:$F$60643,5,FALSE),\"\")","v":""},{"$f":"IF(B256<>\"\",VLOOKUP(IF(ISNUMBER(B256),TEXT(B256,\"0\"),B256),Pricelist!$A$3:$F$60643,3,FALSE),\"\")","v":""},"",{"$f":"IF(B256<>\"\",VLOOKUP(IF(ISNUMBER(B256),TEXT(B256,\"0\"),B256),Pricelist!$A$3:$F$60643,4,FALSE),\"\")","v":""},"","",null,null,null,null,"",null,"","",""]
["","","",{"$f":"IF(B257<>\"\",VLOOKUP(IF(ISNUMBER(B257),TEXT(B257,\"0\"),B257),Pricelist!$A$3:$F$60643,6,FALSE),\"\")","v":""},{"$f":"IF(B257<>\"\",VLOOKUP(IF(ISNUMBER(B257),TEXT(B257,\"0\"),B257),Pricelist!$A$3:$F$60643,2,FALSE),\"\")","v":""},{"$f":"IF(B257<>\"\",VLOOKUP(IF(ISNUMBER(B257),TEXT(B257,\"0\"),B257),Pricelist!$A$3:$F$60643,5,FALSE),\"\")","v":""},{"$f":"IF(B257<>\"\",VLOOKUP(IF(ISNUMBER(B257),TEXT(B257,\"0\"),B257),Pricelist!$A$3:$F$60643,3,FALSE),\"\")","v":""},"",{"$f":"IF(B257<>\"\",VLOOKUP(IF(ISNUMBER(B257),TEXT(B257,\"0\"),B257),Pricelist!$A$3:$F$60643,4,FALSE),\"\")","v":""},"","",null,null,null,null,"",null,"","",""]
["","","",{"$f":"IF(B258<>\"\",VLOOKUP(IF(ISNUMBER(B258),TEXT(B258,\"0\"),B258),Pricelist!$A$3:$F$60643,6,FALSE),\"\")","v":""},{"$f":"IF(B258<>\"\",VLOOKUP(IF(ISNUMBER(B258),TEXT(B258,\"0\"),B258),Pricelist!$A$3:$F$60643,2,FALSE),\"\")","v":""},{"$f":"IF(B258<>\"\",VLOOKUP(IF(ISNUMBER(B258),TEXT(B258,\"0\"),B258),Pricelist!$A$3:$F$60643,5,FALSE),\"\")","v":""},{"$f":"IF(B258<>\"\",VLOOKUP(IF(ISNUMBER(B258),TEXT(B258,\"0\"),B258),Pricelist!$A$3:$F$60643,3,FALSE),\"\")","v":""},"",{"$f":"IF(B258<>\"\",VLOOKUP(IF(ISNUMBER(B258),TEXT(B258,\"0\"),B258),Pricelist!$A$3:$F$60643,4,FALSE),\"\")","v":""},"","",null,null,null,null,"",null,"","",""]
["","","",{"$f":"IF(B259<>\"\",VLOOKUP(IF(ISNUMBER(B259),TEXT(B259,\"0\"),B259),Pricelist!$A$3:$F$60643,6,FALSE),\"\")","v":""},{"$f":"IF(B259<>\"\",VLOOKUP(IF(ISNUMBER(B259),TEXT(B259,\"0\"),B259),Pricelist!$A$3:$F$60643,2,FALSE),\"\")","v":""},{"$f":"IF(B259<>\"\",VLOOKUP(IF(ISNUMBER(B259),TEXT(B259,\"0\"),B259),Pricelist!$A$3:$F$60643,5,FALSE),\"\")","v":""},{"$f":"IF(B259<>\"\",VLOOKUP(IF(ISNUMBER(B259),TEXT(B259,\"0\"),B259),Pricelist!$A$3:$F$60643,3,FALSE),\"\")","v":""},"",{"$f":"IF(B259<>\"\",VLOOKUP(IF(ISNUMBER(B259),TEXT(B259,\"0\"),B259),Pricelist!$A$3:$F$60643,4,FALSE),\"\")","v":""},"","",null,null,null,null,"",null,"","",""]
["","","",{"$f":"IF(B260<>\"\",VLOOKUP(IF(ISNUMBER(B260),TEXT(B260,\"0\"),B260),Pricelist!$A$3:$F$60643,6,FALSE),\"\")","v":""},{"$f":"IF(B260<>\"\",VLOOKUP(IF(ISNUMBER(B260),TEXT(B260,\"0\"),B260),Pricelist!$A$3:$F$60643,2,FALSE),\"\")","v":""},{"$f":"IF(B260<>\"\",VLOOKUP(IF(ISNUMBER(B260),TEXT(B260,\"0\"),B260),Pricelist!$A$3:$F$60643,5,FALSE),\"\")","v":""},{"$f":"IF(B260<>\"\",VLOOKUP(IF(ISNUMBER(B260),TEXT(B260,\"0\"),B260),Pricelist!$A$3:$F$60643,3,FALSE),\"\")","v":""},"",{"$f":"IF(B260<>\"\",VLOOKUP(IF(ISNUMBER(B260),TEXT(B260,\"0\"),B260),Pricelist!$A$3:$F$60643,4,FALSE),\"\")","v":""},"","",null,null,null,null,"",null,"","",""]
["","","",{"$f":"IF(B261<>\"\",VLOOKUP(IF(ISNUMBER(B261),TEXT(B261,\"0\"),B261),Pricelist!$A$3:$F$60643,6,FALSE),\"\")","v":""},{"$f":"IF(B261<>\"\",VLOOKUP(IF(ISNUMBER(B261),TEXT(B261,\"0\"),B261),Pricelist!$A$3:$F$60643,2,FALSE),\"\")","v":""},{"$f":"IF(B261<>\"\",VLOOKUP(IF(ISNUMBER(B261),TEXT(B261,\"0\"),B261),Pricelist!$A$3:$F$60643,5,FALSE),\"\")","v":""},{"$f":"IF(B261<>\"\",VLOOKUP(IF(ISNUMBER(B261),TEXT(B261,\"0\"),B261),Pricelist!$A$3:$F$60643,3,FALSE),\"\")","v":""},"",{"$f":"IF(B261<>\"\",VLOOKUP(IF(ISNUMBER(B261),TEXT(B261,\"0\"),B261),Pricelist!$A$3:$F$60643,4,FALSE),\"\")","v":""},"","",null,null,null,null,"",null,"","",""]
["","","",{"$f":"IF(B262<>\"\",VLOOKUP(IF(ISNUMBER(B262),TEXT(B262,\"0\"),B262),Pricelist!$A$3:$F$60643,6,FALSE),\"\")","v":""},{"$f":"IF(B262<>\"\",VLOOKUP(IF(ISNUMBER(B262),TEXT(B262,\"0\"),B262),Pricelist!$A$3:$F$60643,2,FALSE),\"\")","v":""},{"$f":"IF(B262<>\"\",VLOOKUP(IF(ISNUMBER(B262),TEXT(B262,\"0\"),B262),Pricelist!$A$3:$F$60643,5,FALSE),\"\")","v":""},{"$f":"IF(B262<>\"\",VLOOKUP(IF(ISNUMBER(B262),TEXT(B262,\"0\"),B262),Pricelist!$A$3:$F$60643,3,FALSE),\"\")","v":""},"",{"$f":"IF(B262<>\"\",VLOOKUP(IF(ISNUMBER(B262),TEXT(B262,\"0\"),B262),Pricelist!$A$3:$F$60643,4,FALSE),\"\")","v":""},"","",null,null,null,null,"",null,"","",""]
["","","",{"$f":"IF(B263<>\"\",VLOOKUP(IF(ISNUMBER(B263),TEXT(B263,\"0\"),B263),Pricelist!$A$3:$F$60643,6,FALSE),\"\")","v":""},{"$f":"IF(B263<>\"\",VLOOKUP(IF(ISNUMBER(B263),TEXT(B263,\"0\"),B263),Pricelist!$A$3:$F$60643,2,FALSE),\"\")","v":""},{"$f":"IF(B263<>\"\",VLOOKUP(IF(ISNUMBER(B263),TEXT(B263,\"0\"),B263),Pricelist!$A$3:$F$60643,5,FALSE),\"\")","v":""},{"$f":"IF(B263<>\"\",VLOOKUP(IF(ISNUMBER(B263),TEXT(B263,\"0\"),B263),Pricelist!$A$3:$F$60643,3,FALSE),\"\")","v":""},"",{"$f":"IF(B263<>\"\",VLOOKUP(IF(ISNUMBER(B263),TEXT(B263,\"0\"),B263),Pricelist!$A$3:$F$60643,4,FALSE),\"\")","v":""},"","",null,null,null,null,"",null,"","",""]
["","","",{"$f":"IF(B264<>\"\",VLOOKUP(IF(ISNUMBER(B264),TEXT(B264,\"0\"),B264),Pricelist!$A$3:$F$60643,6,FALSE),\"\")","v":""},{"$f":"IF(B264<>\"\",VLOOKUP(IF(ISNUMBER(B264),TEXT(B264,\"0\"),B264),Pricelist!$A$3:$F$60643,2,FALSE),\"\")","v":""},{"$f":"IF(B264<>\"\",VLOOKUP(IF(ISNUMBER(B264),TEXT(B264,\"0\"),B264),Pricelist!$A$3:$F$60643,5,FALSE),\"\")","v":""},{"$f":"IF(B264<>\"\",VLOOKUP(IF(ISNUMBER(B264),TEXT(B264,\"0\"),B264),Pricelist!$A$3:$F$60643,3,FALSE),\"\")","v":""},"",{"$f":"IF(B264<>\"\",VLOOKUP(IF(ISNUMBER(B264),TEXT(B264,\"0\"),B264),Pricelist!$A$3:$F$60643,4,FALSE),\"\")","v":""},"","",null,null,null,null,"",null,"","",""]
["","","",{"$f":"IF(B265<>\"\",VLOOKUP(IF(ISNUMBER(B265),TEXT(B265,\"0\"),B265),Pricelist!$A$3:$F$60643,6,FALSE),\"\")","v":""},{"$f":"IF(B265<>\"\",VLOOKUP(IF(ISNUMBER(B265),TEXT(B265,\"0\"),B265),Pricelist!$A$3:$F$60643,2,FALSE),\"\")","v":""},{"$f":"IF(B265<>\"\",VLOOKUP(IF(ISNUMBER(B265),TEXT(B265,\"0\"),B265),Pricelist!$A$3:$F$60643,5,FALSE),\"\")","v":""},{"$f":"IF(B265<>\"\",VLOOKUP(IF(ISNUMBER(B265),TEXT(B265,\"0\"),B265),Pricelist!$A$3:$F$60643,3,FALSE),\"\")","v":""},"",{"$f":"IF(B265<>\"\",VLOOKUP(IF(ISNUMBER(B265),TEXT(B265,\"0\"),B265),Pricelist!$A$3:$F$60643,4,FALSE),\"\")","v":""},"","",null,null,null,null,"",null,"","",""]
["","","",{"$f":"IF(B266<>\"\",VLOOKUP(IF(ISNUMBER(B266),TEXT(B266,\"0\"),B266),Pricelist!$A$3:$F$60643,6,FALSE),\"\")","v":""},{"$f":"IF(B266<>\"\",VLOOKUP(IF(ISNUMBER(B266),TEXT(B266,\"0\"),B266),Pricelist!$A$3:$F$60643,2,FALSE),\"\")","v":""},{"$f":"IF(B266<>\"\",VLOOKUP(IF(ISNUMBER(B266),TEXT(B266,\"0\"),B266),Pricelist!$A$3:$F$60643,5,FALSE),\"\")","v":""},{"$f":"IF(B266<>\"\",VLOOKUP(IF(ISNUMBER(B266),TEXT(B266,\"0\"),B266),Pricelist!$A$3:$F$60643,3,FALSE),\"\")","v":""},"",{"$f":"IF(B266<>\"\",VLOOKUP(IF(ISNUMBER(B266),TEXT(B266,\"0\"),B266),Pricelist!$A$3:$F$60643,4,FALSE),\"\")","v":""},"","",null,null,null,null,"",null,"","",""]
["","","",{"$f":"IF(B267<>\"\",VLOOKUP(IF(ISNUMBER(B267),TEXT(B267,\"0\"),B267),Pricelist!$A$3:$F$60643,6,FALSE),\"\")","v":""},{"$f":"IF(B267<>\"\",VLOOKUP(IF(ISNUMBER(B267),TEXT(B267,\"0\"),B267),Pricelist!$A$3:$F$60643,2,FALSE),\"\")","v":""},{"$f":"IF(B267<>\"\",VLOOKUP(IF(ISNUMBER(B267),TEXT(B267,\"0\"),B267),Pricelist!$A$3:$F$60643,5,FALSE),\"\")","v":""},{"$f":"IF(B267<>\"\",VLOOKUP(IF(ISNUMBER(B267),TEXT(B267,\"0\"),B267),Pricelist!$A$3:$F$60643,3,FALSE),\"\")","v":""},"",{"$f":"IF(B267<>\"\",VLOOKUP(IF(ISNUMBER(B267),TEXT(B267,\"0\"),B267),Pricelist!$A$3:$F$60643,4,FALSE),\"\")","v":""},"","",null,null,null,null,"",null,"","",""]
[{"$f":"IF(B268<>\"\",A267+1,\"\")","v":""},"","",{"$f":"IF(B268<>\"\",VLOOKUP(IF(ISNUMBER(B268),TEXT(B268,\"0\"),B268),Pricelist!$A$3:$F$60643,6,FALSE),\"\")","v":""},{"$f":"IF(B268<>\"\",VLOOKUP(IF(ISNUMBER(B268),TEXT(B268,\"0\"),B268),Pricelist!$A$3:$F$60643,2,FALSE),\"\")","v":""},{"$f":"IF(B268<>\"\",VLOOKUP(IF(ISNUMBER(B268),TEXT(B268,\"0\"),B268),Pricelist!$A$3:$F$60643,5,FALSE),\"\")","v":""},{"$f":"IF(B268<>\"\",VLOOKUP(IF(ISNUMBER(B268),TEXT(B268,\"0\"),B268),Pricelist!$A$3:$F$60643,3,FALSE),\"\")","v":""},{"$f":"IF(B268<>\"\",VLOOKUP(IF(ISNUMBER(I268),TEXT(I268,\"0\"),I268),$M$12:$N$44,2,FALSE),\"\")","v":""},{"$f":"IF(B268<>\"\",VLOOKUP(IF(ISNUMBER(B268),TEXT(B268,\"0\"),B268),Pricelist!$A$3:$F$60643,4,FALSE),\"\")","v":""},{"$f":"IF(B268<>\"\",G268*(1-H268),\"\")","v":""},{"$f":"IF(B268<>\"\",C268*(1-H268)*G268,\"\")","v":""},null,null,null,null,"",null,"",{"$f":"IF(R268=\"\",\"\",C268)","v":""},""]
["","","",{"$f":"IF(B269<>\"\",VLOOKUP(IF(ISNUMBER(B269),TEXT(B269,\"0\"),B269),Pricelist!$A$3:$F$60643,6,FALSE),\"\")","v":""},{"$f":"IF(B269<>\"\",VLOOKUP(IF(ISNUMBER(B269),TEXT(B269,\"0\"),B269),Pricelist!$A$3:$F$60643,2,FALSE),\"\")","v":""},{"$f":"IF(B269<>\"\",VLOOKUP(IF(ISNUMBER(B269),TEXT(B269,\"0\"),B269),Pricelist!$A$3:$F$60643,5,FALSE),\"\")","v":""},{"$f":"IF(B269<>\"\",VLOOKUP(IF(ISNUMBER(B269),TEXT(B269,\"0\"),B269),Pricelist!$A$3:$F$60643,3,FALSE),\"\")","v":""},"",{"$f":"IF(B269<>\"\",VLOOKUP(IF(ISNUMBER(B269),TEXT(B269,\"0\"),B269),Pricelist!$A$3:$F$60643,4,FALSE),\"\")","v":""},"","",null,null,null,null,{"$f":"IF(B269<>\"\",$K$2,\"\")","v":""},null,{"$f":"IF(B269>1,B269,\"\")","v":""},"",{"$f":"IF(B269=\"\",\"\",E269)","v":""}]
["","","",{"$f":"IF(B270<>\"\",VLOOKUP(IF(ISNUMBER(B270),TEXT(B270,\"0\"),B270),Pricelist!$A$3:$F$60643,6,FALSE),\"\")","v":""},{"$f":"IF(B270<>\"\",VLOOKUP(IF(ISNUMBER(B270),TEXT(B270,\"0\"),B270),Pricelist!$A$3:$F$60643,2,FALSE),\"\")","v":""},{"$f":"IF(B270<>\"\",VLOOKUP(IF(ISNUMBER(B270),TEXT(B270,\"0\"),B270),Pricelist!$A$3:$F$60643,5,FALSE),\"\")","v":""},{"$f":"IF(B270<>\"\",VLOOKUP(IF(ISNUMBER(B270),TEXT(B270,\"0\"),B270),Pricelist!$A$3:$F$60643,3,FALSE),\"\")","v":""},"",{"$f":"IF(B270<>\"\",VLOOKUP(IF(ISNUMBER(B270),TEXT(B270,\"0\"),B270),Pricelist!$A$3:$F$60643,4,FALSE),\"\")","v":""},"","",null,null,null,null,"",null,"","",""]
["","","",{"$f":"IF(B271<>\"\",VLOOKUP(IF(ISNUMBER(B271),TEXT(B271,\"0\"),B271),Pricelist!$A$3:$F$60643,6,FALSE),\"\")","v":""},{"$f":"IF(B271<>\"\",VLOOKUP(IF(ISNUMBER(B271),TEXT(B271,\"0\"),B271),Pricelist!$A$3:$F$60643,2,FALSE),\"\")","v":""},{"$f":"IF(B271<>\"\",VLOOKUP(IF(ISNUMBER(B271),TEXT(B271,\"0\"),B271),Pricelist!$A$3:$F$60643,5,FALSE),\"\")","v":""},{"$f":"IF(B271<>\"\",VLOOKUP(IF(ISNUMBER(B271),TEXT(B271,\"0\"),B271),Pricelist!$A$3:$F$60643,3,FALSE),\"\")","v":""},"",{"$f":"IF(B271<>\"\",VLOOKUP(IF(ISNUMBER(B271),TEXT(B271,\"0\"),B271),Pricelist!$A$3:$F$60643,4,FALSE),\"\")","v":""},"","",null,null,null,null,"",null,"","",""]
["","","",{"$f":"IF(B272<>\"\",VLOOKUP(IF(ISNUMBER(B272),TEXT(B272,\"0\"),B272),Pricelist!$A$3:$F$60643,6,FALSE),\"\")","v":""},{"$f":"IF(B272<>\"\",VLOOKUP(IF(ISNUMBER(B272),TEXT(B272,\"0\"),B272),Pricelist!$A$3:$F$60643,2,FALSE),\"\")","v":""},{"$f":"IF(B272<>\"\",VLOOKUP(IF(ISNUMBER(B272),TEXT(B272,\"0\"),B272),Pricelist!$A$3:$F$60643,5,FALSE),\"\")","v":""},{"$f":"IF(B272<>\"\",VLOOKUP(IF(ISNUMBER(B272),TEXT(B272,\"0\"),B272),Pricelist!$A$3:$F$60643,3,FALSE),\"\")","v":""},"",{"$f":"IF(B272<>\"\",VLOOKUP(IF(ISNUMBER(B272),TEXT(B272,\"0\"),B272),Pricelist!$A$3:$F$60643,4,FALSE),\"\")","v":""},"","",null,null,null,null,"",null,"","",""]
["","","",{"$f":"IF(B273<>\"\",VLOOKUP(IF(ISNUMBER(B273),TEXT(B273,\"0\"),B273),Pricelist!$A$3:$F$60643,6,FALSE),\"\")","v":""},{"$f":"IF(B273<>\"\",VLOOKUP(IF(ISNUMBER(B273),TEXT(B273,\"0\"),B273),Pricelist!$A$3:$F$60643,2,FALSE),\"\")","v":""},{"$f":"IF(B273<>\"\",VLOOKUP(IF(ISNUMBER(B273),TEXT(B273,\"0\"),B273),Pricelist!$A$3:$F$60643,5,FALSE),\"\")","v":""},{"$f":"IF(B273<>\"\",VLOOKUP(IF(ISNUMBER(B273),TEXT(B273,\"0\"),B273),Pricelist!$A$3:$F$60643,3,FALSE),\"\")","v":""},"",{"$f":"IF(B273<>\"\",VLOOKUP(IF(ISNUMBER(B273),TEXT(B273,\"0\"),B273),Pricelist!$A$3:$F$60643,4,FALSE),\"\")","v":""},"","",null,null,null,null,"",null,"","",""]
["","","",{"$f":"IF(B274<>\"\",VLOOKUP(IF(ISNUMBER(B274),TEXT(B274,\"0\"),B274),Pricelist!$A$3:$F$60643,6,FALSE),\"\")","v":""},{"$f":"IF(B274<>\"\",VLOOKUP(IF(ISNUMBER(B274),TEXT(B274,\"0\"),B274),Pricelist!$A$3:$F$60643,2,FALSE),\"\")","v":""},{"$f":"IF(B274<>\"\",VLOOKUP(IF(ISNUMBER(B274),TEXT(B274,\"0\"),B274),Pricelist!$A$3:$F$60643,5,FALSE),\"\")","v":""},{"$f":"IF(B274<>\"\",VLOOKUP(IF(ISNUMBER(B274),TEXT(B274,\"0\"),B274),Pricelist!$A$3:$F$60643,3,FALSE),\"\")","v":""},"",{"$f":"IF(B274<>\"\",VLOOKUP(IF(ISNUMBER(B274),TEXT(B274,\"0\"),B274),Pricelist!$A$3:$F$60643,4,FALSE),\"\")","v":""},"","",null,null,null,null,"",null,"","",""]
["","","",{"$f":"IF(B275<>\"\",VLOOKUP(IF(ISNUMBER(B275),TEXT(B275,\"0\"),B275),Pricelist!$A$3:$F$60643,6,FALSE),\"\")","v":""},{"$f":"IF(B275<>\"\",VLOOKUP(IF(ISNUMBER(B275),TEXT(B275,\"0\"),B275),Pricelist!$A$3:$F$60643,2,FALSE),\"\")","v":""},{"$f":"IF(B275<>\"\",VLOOKUP(IF(ISNUMBER(B275),TEXT(B275,\"0\"),B275),Pricelist!$A$3:$F$60643,5,FALSE),\"\")","v":""},{"$f":"IF(B275<>\"\",VLOOKUP(IF(ISNUMBER(B275),TEXT(B275,\"0\"),B275),Pricelist!$A$3:$F$60643,3,FALSE),\"\")","v":""},"",{"$f":"IF(B275<>\"\",VLOOKUP(IF(ISNUMBER(B275),TEXT(B275,\"0\"),B275),Pricelist!$A$3:$F$60643,4,FALSE),\"\")","v":""},"","",null,null,null,null,"",null,"","",""]
["","","",{"$f":"IF(B276<>\"\",VLOOKUP(IF(ISNUMBER(B276),TEXT(B276,\"0\"),B276),Pricelist!$A$3:$F$60643,6,FALSE),\"\")","v":""},{"$f":"IF(B276<>\"\",VLOOKUP(IF(ISNUMBER(B276),TEXT(B276,\"0\"),B276),Pricelist!$A$3:$F$60643,2,FALSE),\"\")","v":""},{"$f":"IF(B276<>\"\",VLOOKUP(IF(ISNUMBER(B276),TEXT(B276,\"0\"),B276),Pricelist!$A$3:$F$60643,5,FALSE),\"\")","v":""},{"$f":"IF(B276<>\"\",VLOOKUP(IF(ISNUMBER(B276),TEXT(B276,\"0\"),B276),Pricelist!$A$3:$F$60643,3,FALSE),\"\")","v":""},"",{"$f":"IF(B276<>\"\",VLOOKUP(IF(ISNUMBER(B276),TEXT(B276,\"0\"),B276),Pricelist!$A$3:$F$60643,4,FALSE),\"\")","v":""},"","",null,null,null,null,"",null,"","",""]
["","","",{"$f":"IF(B277<>\"\",VLOOKUP(IF(ISNUMBER(B277),TEXT(B277,\"0\"),B277),Pricelist!$A$3:$F$60643,6,FALSE),\"\")","v":""},{"$f":"IF(B277<>\"\",VLOOKUP(IF(ISNUMBER(B277),TEXT(B277,\"0\"),B277),Pricelist!$A$3:$F$60643,2,FALSE),\"\")","v":""},{"$f":"IF(B277<>\"\",VLOOKUP(IF(ISNUMBER(B277),TEXT(B277,\"0\"),B277),Pricelist!$A$3:$F$60643,5,FALSE),\"\")","v":""},{"$f":"IF(B277<>\"\",VLOOKUP(IF(ISNUMBER(B277),TEXT(B277,\"0\"),B277),Pricelist!$A$3:$F$60643,3,FALSE),\"\")","v":""},"",{"$f":"IF(B277<>\"\",VLOOKUP(IF(ISNUMBER(B277),TEXT(B277,\"0\"),B277),Pricelist!$A$3:$F$60643,4,FALSE),\"\")","v":""},"","",null,null,null,null,"",null,"","",""]
["","","",{"$f":"IF(B278<>\"\",VLOOKUP(IF(ISNUMBER(B278),TEXT(B278,\"0\"),B278),Pricelist!$A$3:$F$60643,6,FALSE),\"\")","v":""},{"$f":"IF(B278<>\"\",VLOOKUP(IF(ISNUMBER(B278),TEXT(B278,\"0\"),B278),Pricelist!$A$3:$F$60643,2,FALSE),\"\")","v":""},{"$f":"IF(B278<>\"\",VLOOKUP(IF(ISNUMBER(B278),TEXT(B278,\"0\"),B278),Pricelist!$A$3:$F$60643,5,FALSE),\"\")","v":""},{"$f":"IF(B278<>\"\",VLOOKUP(IF(ISNUMBER(B278),TEXT(B278,\"0\"),B278),Pricelist!$A$3:$F$60643,3,FALSE),\"\")","v":""},"",{"$f":"IF(B278<>\"\",VLOOKUP(IF(ISNUMBER(B278),TEXT(B278,\"0\"),B278),Pricelist!$A$3:$F$60643,4,FALSE),\"\")","v":""},"","",null,null,null,null,"",null,"","",""]
["","","",{"$f":"IF(B279<>\"\",VLOOKUP(IF(ISNUMBER(B279),TEXT(B279,\"0\"),B279),Pricelist!$A$3:$F$60643,6,FALSE),\"\")","v":""},{"$f":"IF(B279<>\"\",VLOOKUP(IF(ISNUMBER(B279),TEXT(B279,\"0\"),B279),Pricelist!$A$3:$F$60643,2,FALSE),\"\")","v":""},{"$f":"IF(B279<>\"\",VLOOKUP(IF(ISNUMBER(B279),TEXT(B279,\"0\"),B279),Pricelist!$A$3:$F$60643,5,FALSE),\"\")","v":""},{"$f":"IF(B279<>\"\",VLOOKUP(IF(ISNUMBER(B279),TEXT(B279,\"0\"),B279),Pricelist!$A$3:$F$60643,3,FALSE),\"\")","v":""},"",{"$f":"IF(B279<>\"\",VLOOKUP(IF(ISNUMBER(B279),TEXT(B279,\"0\"),B279),Pricelist!$A$3:$F$60643,4,FALSE),\"\")","v":""},"","",null,null,null,null,"",null,"","",""]
["","","",{"$f":"IF(B280<>\"\",VLOOKUP(IF(ISNUMBER(B280),TEXT(B280,\"0\"),B280),Pricelist!$A$3:$F$60643,6,FALSE),\"\")","v":""},{"$f":"IF(B280<>\"\",VLOOKUP(IF(ISNUMBER(B280),TEXT(B280,\"0\"),B280),Pricelist!$A$3:$F$60643,2,FALSE),\"\")","v":""},{"$f":"IF(B280<>\"\",VLOOKUP(IF(ISNUMBER(B280),TEXT(B280,\"0\"),B280),Pricelist!$A$3:$F$60643,5,FALSE),\"\")","v":""},{"$f":"IF(B280<>\"\",VLOOKUP(IF(ISNUMBER(B280),TEXT(B280,\"0\"),B280),Pricelist!$A$3:$F$60643,3,FALSE),\"\")","v":""},"",{"$f":"IF(B280<>\"\",VLOOKUP(IF(ISNUMBER(B280),TEXT(B280,\"0\"),B280),Pricelist!$A$3:$F$60643,4,FALSE),\"\")","v":""},"","",null,null,null,null,"",null,"","",""]
["","","",{"$f":"IF(B281<>\"\",VLOOKUP(IF(ISNUMBER(B281),TEXT(B281,\"0\"),B281),Pricelist!$A$3:$F$60643,6,FALSE),\"\")","v":""},{"$f":"IF(B281<>\"\",VLOOKUP(IF(ISNUMBER(B281),TEXT(B281,\"0\"),B281),Pricelist!$A$3:$F$60643,2,FALSE),\"\")","v":""},{"$f":"IF(B281<>\"\",VLOOKUP(IF(ISNUMBER(B281),TEXT(B281,\"0\"),B281),Pricelist!$A$3:$F$60643,5,FALSE),\"\")","v":""},{"$f":"IF(B281<>\"\",VLOOKUP(IF(ISNUMBER(B281),TEXT(B281,\"0\"),B281),Pricelist!$A$3:$F$60643,3,FALSE),\"\")","v":""},"",{"$f":"IF(B281<>\"\",VLOOKUP(IF(ISNUMBER(B281),TEXT(B281,\"0\"),B281),Pricelist!$A$3:$F$60643,4,FALSE),\"\")","v":""},"","",null,null,null,null,"",null,"","",""]
["","","",{"$f":"IF(B282<>\"\",VLOOKUP(IF(ISNUMBER(B282),TEXT(B282,\"0\"),B282),Pricelist!$A$3:$F$60643,6,FALSE),\"\")","v":""},{"$f":"IF(B282<>\"\",VLOOKUP(IF(ISNUMBER(B282),TEXT(B282,\"0\"),B282),Pricelist!$A$3:$F$60643,2,FALSE),\"\")","v":""},{"$f":"IF(B282<>\"\",VLOOKUP(IF(ISNUMBER(B282),TEXT(B282,\"0\"),B282),Pricelist!$A$3:$F$60643,5,FALSE),\"\")","v":""},{"$f":"IF(B282<>\"\",VLOOKUP(IF(ISNUMBER(B282),TEXT(B282,\"0\"),B282),Pricelist!$A$3:$F$60643,3,FALSE),\"\")","v":""},"",{"$f":"IF(B282<>\"\",VLOOKUP(IF(ISNUMBER(B282),TEXT(B282,\"0\"),B282),Pricelist!$A$3:$F$60643,4,FALSE),\"\")","v":""},"","",null,null,null,null,"",null,"","",""]
["","","",{"$f":"IF(B283<>\"\",VLOOKUP(IF(ISNUMBER(B283),TEXT(B283,\"0\"),B283),Pricelist!$A$3:$F$60643,6,FALSE),\"\")","v":""},{"$f":"IF(B283<>\"\",VLOOKUP(IF(ISNUMBER(B283),TEXT(B283,\"0\"),B283),Pricelist!$A$3:$F$60643,2,FALSE),\"\")","v":""},{"$f":"IF(B283<>\"\",VLOOKUP(IF(ISNUMBER(B283),TEXT(B283,\"0\"),B283),Pricelist!$A$3:$F$60643,5,FALSE),\"\")","v":""},{"$f":"IF(B283<>\"\",VLOOKUP(IF(ISNUMBER(B283),TEXT(B283,\"0\"),B283),Pricelist!$A$3:$F$60643,3,FALSE),\"\")","v":""},"",{"$f":"IF(B283<>\"\",VLOOKUP(IF(ISNUMBER(B283),TEXT(B283,\"0\"),B283),Pricelist!$A$3:$F$60643,4,FALSE),\"\")","v":""},"","",null,null,null,null,"",null,"","",""]
["","","",{"$f":"IF(B284<>\"\",VLOOKUP(IF(ISNUMBER(B284),TEXT(B284,\"0\"),B284),Pricelist!$A$3:$F$60643,6,FALSE),\"\")","v":""},{"$f":"IF(B284<>\"\",VLOOKUP(IF(ISNUMBER(B284),TEXT(B284,\"0\"),B284),Pricelist!$A$3:$F$60643,2,FALSE),\"\")","v":""},{"$f":"IF(B284<>\"\",VLOOKUP(IF(ISNUMBER(B284),TEXT(B284,\"0\"),B284),Pricelist!$A$3:$F$60643,5,FALSE),\"\")","v":""},{"$f":"IF(B284<>\"\",VLOOKUP(IF(ISNUMBER(B284),TEXT(B284,\"0\"),B284),Pricelist!$A$3:$F$60643,3,FALSE),\"\")","v":""},"",{"$f":"IF(B284<>\"\",VLOOKUP(IF(ISNUMBER(B284),TEXT(B284,\"0\"),B284),Pricelist!$A$3:$F$60643,4,FALSE),\"\")","v":""},"","",null,null,null,null,"",null,"","",""]
["","","",{"$f":"IF(B285<>\"\",VLOOKUP(IF(ISNUMBER(B285),TEXT(B285,\"0\"),B285),Pricelist!$A$3:$F$60643,6,FALSE),\"\")","v":""},{"$f":"IF(B285<>\"\",VLOOKUP(IF(ISNUMBER(B285),TEXT(B285,\"0\"),B285),Pricelist!$A$3:$F$60643,2,FALSE),\"\")","v":""},{"$f":"IF(B285<>\"\",VLOOKUP(IF(ISNUMBER(B285),TEXT(B285,\"0\"),B285),Pricelist!$A$3:$F$60643,5,FALSE),\"\")","v":""},{"$f":"IF(B285<>\"\",VLOOKUP(IF(ISNUMBER(B285),TEXT(B285,\"0\"),B285),Pricelist!$A$3:$F$60643,3,FALSE),\"\")","v":""},"",{"$f":"IF(B285<>\"\",VLOOKUP(IF(ISNUMBER(B285),TEXT(B285,\"0\"),B285),Pricelist!$A$3:$F$60643,4,FALSE),\"\")","v":""},"","",null,null,null,null,"",null,"","",""]
["","","",{"$f":"IF(B286<>\"\",VLOOKUP(IF(ISNUMBER(B286),TEXT(B286,\"0\"),B286),Pricelist!$A$3:$F$60643,6,FALSE),\"\")","v":""},{"$f":"IF(B286<>\"\",VLOOKUP(IF(ISNUMBER(B286),TEXT(B286,\"0\"),B286),Pricelist!$A$3:$F$60643,2,FALSE),\"\")","v":""},{"$f":"IF(B286<>\"\",VLOOKUP(IF(ISNUMBER(B286),TEXT(B286,\"0\"),B286),Pricelist!$A$3:$F$60643,5,FALSE),\"\")","v":""},{"$f":"IF(B286<>\"\",VLOOKUP(IF(ISNUMBER(B286),TEXT(B286,\"0\"),B286),Pricelist!$A$3:$F$60643,3,FALSE),\"\")","v":""},"",{"$f":"IF(B286<>\"\",VLOOKUP(IF(ISNUMBER(B286),TEXT(B286,\"0\"),B286),Pricelist!$A$3:$F$60643,4,FALSE),\"\")","v":""},"","",null,null,null,null,"",null,"","",""]
["","","",{"$f":"IF(B287<>\"\",VLOOKUP(IF(ISNUMBER(B287),TEXT(B287,\"0\"),B287),Pricelist!$A$3:$F$60643,6,FALSE),\"\")","v":""},{"$f":"IF(B287<>\"\",VLOOKUP(IF(ISNUMBER(B287),TEXT(B287,\"0\"),B287),Pricelist!$A$3:$F$60643,2,FALSE),\"\")","v":""},{"$f":"IF(B287<>\"\",VLOOKUP(IF(ISNUMBER(B287),TEXT(B287,\"0\"),B287),Pricelist!$A$3:$F$60643,5,FALSE),\"\")","v":""},{"$f":"IF(B287<>\"\",VLOOKUP(IF(ISNUMBER(B287),TEXT(B287,\"0\"),B287),Pricelist!$A$3:$F$60643,3,FALSE),\"\")","v":""},"",{"$f":"IF(B287<>\"\",VLOOKUP(IF(ISNUMBER(B287),TEXT(B287,\"0\"),B287),Pricelist!$A$3:$F$60643,4,FALSE),\"\")","v":""},"","",null,null,null,null,"",null,"","",""]
["","","",{"$f":"IF(B288<>\"\",VLOOKUP(IF(ISNUMBER(B288),TEXT(B288,\"0\"),B288),Pricelist!$A$3:$F$60643,6,FALSE),\"\")","v":""},{"$f":"IF(B288<>\"\",VLOOKUP(IF(ISNUMBER(B288),TEXT(B288,\"0\"),B288),Pricelist!$A$3:$F$60643,2,FALSE),\"\")","v":""},{"$f":"IF(B288<>\"\",VLOOKUP(IF(ISNUMBER(B288),TEXT(B288,\"0\"),B288),Pricelist!$A$3:$F$60643,5,FALSE),\"\")","v":""},{"$f":"IF(B288<>\"\",VLOOKUP(IF(ISNUMBER(B288),TEXT(B288,\"0\"),B288),Pricelist!$A$3:$F$60643,3,FALSE),\"\")","v":""},"",{"$f":"IF(B288<>\"\",VLOOKUP(IF(ISNUMBER(B288),TEXT(B288,\"0\"),B288),Pricelist!$A$3:$F$60643,4,FALSE),\"\")","v":""},"","",null,null,null,null,"",null,"","",""]
["","","",{"$f":"IF(B289<>\"\",VLOOKUP(IF(ISNUMBER(B289),TEXT(B289,\"0\"),B289),Pricelist!$A$3:$F$60643,6,FALSE),\"\")","v":""},{"$f":"IF(B289<>\"\",VLOOKUP(IF(ISNUMBER(B289),TEXT(B289,\"0\"),B289),Pricelist!$A$3:$F$60643,2,FALSE),\"\")","v":""},{"$f":"IF(B289<>\"\",VLOOKUP(IF(ISNUMBER(B289),TEXT(B289,\"0\"),B289),Pricelist!$A$3:$F$60643,5,FALSE),\"\")","v":""},{"$f":"IF(B289<>\"\",VLOOKUP(IF(ISNUMBER(B289),TEXT(B289,\"0\"),B289),Pricelist!$A$3:$F$60643,3,FALSE),\"\")","v":""},"",{"$f":"IF(B289<>\"\",VLOOKUP(IF(ISNUMBER(B289),TEXT(B289,\"0\"),B289),Pricelist!$A$3:$F$60643,4,FALSE),\"\")","v":""},"","",null,null,null,null,"",null,"","",""]
["","","",{"$f":"IF(B290<>\"\",VLOOKUP(IF(ISNUMBER(B290),TEXT(B290,\"0\"),B290),Pricelist!$A$3:$F$60643,6,FALSE),\"\")","v":""},{"$f":"IF(B290<>\"\",VLOOKUP(IF(ISNUMBER(B290),TEXT(B290,\"0\"),B290),Pricelist!$A$3:$F$60643,2,FALSE),\"\")","v":""},{"$f":"IF(B290<>\"\",VLOOKUP(IF(ISNUMBER(B290),TEXT(B290,\"0\"),B290),Pricelist!$A$3:$F$60643,5,FALSE),\"\")","v":""},{"$f":"IF(B290<>\"\",VLOOKUP(IF(ISNUMBER(B290),TEXT(B290,\"0\"),B290),Pricelist!$A$3:$F$60643,3,FALSE),\"\")","v":""},"",{"$f":"IF(B290<>\"\",VLOOKUP(IF(ISNUMBER(B290),TEXT(B290,\"0\"),B290),Pricelist!$A$3:$F$60643,4,FALSE),\"\")","v":""},"","",null,null,null,null,"",null,"","",""]
["","","",{"$f":"IF(B291<>\"\",VLOOKUP(IF(ISNUMBER(B291),TEXT(B291,\"0\"),B291),Pricelist!$A$3:$F$60643,6,FALSE),\"\")","v":""},{"$f":"IF(B291<>\"\",VLOOKUP(IF(ISNUMBER(B291),TEXT(B291,\"0\"),B291),Pricelist!$A$3:$F$60643,2,FALSE),\"\")","v":""},{"$f":"IF(B291<>\"\",VLOOKUP(IF(ISNUMBER(B291),TEXT(B291,\"0\"),B291),Pricelist!$A$3:$F$60643,5,FALSE),\"\")","v":""},{"$f":"IF(B291<>\"\",VLOOKUP(IF(ISNUMBER(B291),TEXT(B291,\"0\"),B291),Pricelist!$A$3:$F$60643,3,FALSE),\"\")","v":""},"",{"$f":"IF(B291<>\"\",VLOOKUP(IF(ISNUMBER(B291),TEXT(B291,\"0\"),B291),Pricelist!$A$3:$F$60643,4,FALSE),\"\")","v":""},"","",null,null,null,null,"",null,"","",""]
["","","",{"$f":"IF(B292<>\"\",VLOOKUP(IF(ISNUMBER(B292),TEXT(B292,\"0\"),B292),Pricelist!$A$3:$F$60643,6,FALSE),\"\")","v":""},{"$f":"IF(B292<>\"\",VLOOKUP(IF(ISNUMBER(B292),TEXT(B292,\"0\"),B292),Pricelist!$A$3:$F$60643,2,FALSE),\"\")","v":""},{"$f":"IF(B292<>\"\",VLOOKUP(IF(ISNUMBER(B292),TEXT(B292,\"0\"),B292),Pricelist!$A$3:$F$60643,5,FALSE),\"\")","v":""},{"$f":"IF(B292<>\"\",VLOOKUP(IF(ISNUMBER(B292),TEXT(B292,\"0\"),B292),Pricelist!$A$3:$F$60643,3,FALSE),\"\")","v":""},"",{"$f":"IF(B292<>\"\",VLOOKUP(IF(ISNUMBER(B292),TEXT(B292,\"0\"),B292),Pricelist!$A$3:$F$60643,4,FALSE),\"\")","v":""},"","",null,null,null,null,"",null,"","",""]
["","","",{"$f":"IF(B293<>\"\",VLOOKUP(IF(ISNUMBER(B293),TEXT(B293,\"0\"),B293),Pricelist!$A$3:$F$60643,6,FALSE),\"\")","v":""},{"$f":"IF(B293<>\"\",VLOOKUP(IF(ISNUMBER(B293),TEXT(B293,\"0\"),B293),Pricelist!$A$3:$F$60643,2,FALSE),\"\")","v":""},{"$f":"IF(B293<>\"\",VLOOKUP(IF(ISNUMBER(B293),TEXT(B293,\"0\"),B293),Pricelist!$A$3:$F$60643,5,FALSE),\"\")","v":""},{"$f":"IF(B293<>\"\",VLOOKUP(IF(ISNUMBER(B293),TEXT(B293,\"0\"),B293),Pricelist!$A$3:$F$60643,3,FALSE),\"\")","v":""},"",{"$f":"IF(B293<>\"\",VLOOKUP(IF(ISNUMBER(B293),TEXT(B293,\"0\"),B293),Pricelist!$A$3:$F$60643,4,FALSE),\"\")","v":""},"","",null,null,null,null,"",null,"","",""]
["","","",{"$f":"IF(B294<>\"\",VLOOKUP(IF(ISNUMBER(B294),TEXT(B294,\"0\"),B294),Pricelist!$A$3:$F$60643,6,FALSE),\"\")","v":""},{"$f":"IF(B294<>\"\",VLOOKUP(IF(ISNUMBER(B294),TEXT(B294,\"0\"),B294),Pricelist!$A$3:$F$60643,2,FALSE),\"\")","v":""},{"$f":"IF(B294<>\"\",VLOOKUP(IF(ISNUMBER(B294),TEXT(B294,\"0\"),B294),Pricelist!$A$3:$F$60643,5,FALSE),\"\")","v":""},{"$f":"IF(B294<>\"\",VLOOKUP(IF(ISNUMBER(B294),TEXT(B294,\"0\"),B294),Pricelist!$A$3:$F$60643,3,FALSE),\"\")","v":""},"",{"$f":"IF(B294<>\"\",VLOOKUP(IF(ISNUMBER(B294),TEXT(B294,\"0\"),B294),Pricelist!$A$3:$F$60643,4,FALSE),\"\")","v":""},"","",null,null,null,null,"",null,"","",""]
["","","",{"$f":"IF(B295<>\"\",VLOOKUP(IF(ISNUMBER(B295),TEXT(B295,\"0\"),B295),Pricelist!$A$3:$F$60643,6,FALSE),\"\")","v":""},{"$f":"IF(B295<>\"\",VLOOKUP(IF(ISNUMBER(B295),TEXT(B295,\"0\"),B295),Pricelist!$A$3:$F$60643,2,FALSE),\"\")","v":""},{"$f":"IF(B295<>\"\",VLOOKUP(IF(ISNUMBER(B295),TEXT(B295,\"0\"),B295),Pricelist!$A$3:$F$60643,5,FALSE),\"\")","v":""},{"$f":"IF(B295<>\"\",VLOOKUP(IF(ISNUMBER(B295),TEXT(B295,\"0\"),B295),Pricelist!$A$3:$F$60643,3,FALSE),\"\")","v":""},"",{"$f":"IF(B295<>\"\",VLOOKUP(IF(ISNUMBER(B295),TEXT(B295,\"0\"),B295),Pricelist!$A$3:$F$60643,4,FALSE),\"\")","v":""},"","",null,null,null,null,"",null,"","",""]
["","","",{"$f":"IF(B296<>\"\",VLOOKUP(IF(ISNUMBER(B296),TEXT(B296,\"0\"),B296),Pricelist!$A$3:$F$60643,6,FALSE),\"\")","v":""},{"$f":"IF(B296<>\"\",VLOOKUP(IF(ISNUMBER(B296),TEXT(B296,\"0\"),B296),Pricelist!$A$3:$F$60643,2,FALSE),\"\")","v":""},{"$f":"IF(B296<>\"\",VLOOKUP(IF(ISNUMBER(B296),TEXT(B296,\"0\"),B296),Pricelist!$A$3:$F$60643,5,FALSE),\"\")","v":""},{"$f":"IF(B296<>\"\",VLOOKUP(IF(ISNUMBER(B296),TEXT(B296,\"0\"),B296),Pricelist!$A$3:$F$60643,3,FALSE),\"\")","v":""},"",{"$f":"IF(B296<>\"\",VLOOKUP(IF(ISNUMBER(B296),TEXT(B296,\"0\"),B296),Pricelist!$A$3:$F$60643,4,FALSE),\"\")","v":""},"","",null,null,null,null,"",null,"","",""]
["","","",{"$f":"IF(B297<>\"\",VLOOKUP(IF(ISNUMBER(B297),TEXT(B297,\"0\"),B297),Pricelist!$A$3:$F$60643,6,FALSE),\"\")","v":""},{"$f":"IF(B297<>\"\",VLOOKUP(IF(ISNUMBER(B297),TEXT(B297,\"0\"),B297),Pricelist!$A$3:$F$60643,2,FALSE),\"\")","v":""},{"$f":"IF(B297<>\"\",VLOOKUP(IF(ISNUMBER(B297),TEXT(B297,\"0\"),B297),Pricelist!$A$3:$F$60643,5,FALSE),\"\")","v":""},{"$f":"IF(B297<>\"\",VLOOKUP(IF(ISNUMBER(B297),TEXT(B297,\"0\"),B297),Pricelist!$A$3:$F$60643,3,FALSE),\"\")","v":""},"",{"$f":"IF(B297<>\"\",VLOOKUP(IF(ISNUMBER(B297),TEXT(B297,\"0\"),B297),Pricelist!$A$3:$F$60643,4,FALSE),\"\")","v":""},"","",null,null,null,null,"",null,"","",""]
["","","",{"$f":"IF(B298<>\"\",VLOOKUP(IF(ISNUMBER(B298),TEXT(B298,\"0\"),B298),Pricelist!$A$3:$F$60643,6,FALSE),\"\")","v":""},{"$f":"IF(B298<>\"\",VLOOKUP(IF(ISNUMBER(B298),TEXT(B298,\"0\"),B298),Pricelist!$A$3:$F$60643,2,FALSE),\"\")","v":""},{"$f":"IF(B298<>\"\",VLOOKUP(IF(ISNUMBER(B298),TEXT(B298,\"0\"),B298),Pricelist!$A$3:$F$60643,5,FALSE),\"\")","v":""},{"$f":"IF(B298<>\"\",VLOOKUP(IF(ISNUMBER(B298),TEXT(B298,\"0\"),B298),Pricelist!$A$3:$F$60643,3,FALSE),\"\")","v":""},"",{"$f":"IF(B298<>\"\",VLOOKUP(IF(ISNUMBER(B298),TEXT(B298,\"0\"),B298),Pricelist!$A$3:$F$60643,4,FALSE),\"\")","v":""},"","",null,null,null,null,"",null,"","",""]
["","","",{"$f":"IF(B299<>\"\",VLOOKUP(IF(ISNUMBER(B299),TEXT(B299,\"0\"),B299),Pricelist!$A$3:$F$60643,6,FALSE),\"\")","v":""},{"$f":"IF(B299<>\"\",VLOOKUP(IF(ISNUMBER(B299),TEXT(B299,\"0\"),B299),Pricelist!$A$3:$F$60643,2,FALSE),\"\")","v":""},{"$f":"IF(B299<>\"\",VLOOKUP(IF(ISNUMBER(B299),TEXT(B299,\"0\"),B299),Pricelist!$A$3:$F$60643,5,FALSE),\"\")","v":""},{"$f":"IF(B299<>\"\",VLOOKUP(IF(ISNUMBER(B299),TEXT(B299,\"0\"),B299),Pricelist!$A$3:$F$60643,3,FALSE),\"\")","v":""},"",{"$f":"IF(B299<>\"\",VLOOKUP(IF(ISNUMBER(B299),TEXT(B299,\"0\"),B299),Pricelist!$A$3:$F$60643,4,FALSE),\"\")","v":""},"","",null,null,null,null,"",null,"","",""]
["","","",{"$f":"IF(B300<>\"\",VLOOKUP(IF(ISNUMBER(B300),TEXT(B300,\"0\"),B300),Pricelist!$A$3:$F$60643,6,FALSE),\"\")","v":""},{"$f":"IF(B300<>\"\",VLOOKUP(IF(ISNUMBER(B300),TEXT(B300,\"0\"),B300),Pricelist!$A$3:$F$60643,2,FALSE),\"\")","v":""},{"$f":"IF(B300<>\"\",VLOOKUP(IF(ISNUMBER(B300),TEXT(B300,\"0\"),B300),Pricelist!$A$3:$F$60643,5,FALSE),\"\")","v":""},{"$f":"IF(B300<>\"\",VLOOKUP(IF(ISNUMBER(B300),TEXT(B300,\"0\"),B300),Pricelist!$A$3:$F$60643,3,FALSE),\"\")","v":""},"",{"$f":"IF(B300<>\"\",VLOOKUP(IF(ISNUMBER(B300),TEXT(B300,\"0\"),B300),Pricelist!$A$3:$F$60643,4,FALSE),\"\")","v":""},"","",null,null,null,null,"",null,"","",""]
[{"$f":"IF(B301<>\"\",A300+1,\"\")","v":""},"","",{"$f":"IF(B301<>\"\",VLOOKUP(IF(ISNUMBER(B301),TEXT(B301,\"0\"),B301),Pricelist!$A$3:$F$60643,6,FALSE),\"\")","v":""},{"$f":"IF(B301<>\"\",VLOOKUP(IF(ISNUMBER(B301),TEXT(B301,\"0\"),B301),Pricelist!$A$3:$F$60643,2,FALSE),\"\")","v":""},{"$f":"IF(B301<>\"\",VLOOKUP(IF(ISNUMBER(B301),TEXT(B301,\"0\"),B301),Pricelist!$A$3:$F$60643,5,FALSE),\"\")","v":""},{"$f":"IF(B301<>\"\",VLOOKUP(IF(ISNUMBER(B301),TEXT(B301,\"0\"),B301),Pricelist!$A$3:$F$60643,3,FALSE),\"\")","v":""},"",{"$f":"IF(B301<>\"\",VLOOKUP(IF(ISNUMBER(B301),TEXT(B301,\"0\"),B301),Pricelist!$A$3:$F$60643,4,FALSE),\"\")","v":""},{"$f":"IF(B301<>\"\",G301*(1-H301),\"\")","v":""},{"$f":"IF(B301<>\"\",C301*(1-H301)*G301,\"\")","v":""},null,null,null,null,"",null,"","",""]
[{"$f":"IF(B302<>\"\",A301+1,\"\")","v":""},"","",{"$f":"IF(B302<>\"\",VLOOKUP(IF(ISNUMBER(B302),TEXT(B302,\"0\"),B302),Pricelist!$A$3:$F$60643,6,FALSE),\"\")","v":""},{"$f":"IF(B302<>\"\",VLOOKUP(IF(ISNUMBER(B302),TEXT(B302,\"0\"),B302),Pricelist!$A$3:$F$60643,2,FALSE),\"\")","v":""},{"$f":"IF(B302<>\"\",VLOOKUP(IF(ISNUMBER(B302),TEXT(B302,\"0\"),B302),Pricelist!$A$3:$F$60643,5,FALSE),\"\")","v":""},{"$f":"IF(B302<>\"\",VLOOKUP(IF(ISNUMBER(B302),TEXT(B302,\"0\"),B302),Pricelist!$A$3:$F$60643,3,FALSE),\"\")","v":""},"",{"$f":"IF(B302<>\"\",VLOOKUP(IF(ISNUMBER(B302),TEXT(B302,\"0\"),B302),Pricelist!$A$3:$F$60643,4,FALSE),\"\")","v":""},{"$f":"IF(B302<>\"\",G302*(1-H302),\"\")","v":""},{"$f":"IF(B302<>\"\",C302*(1-H302)*G302,\"\")","v":""},null,null,null,null,"",null,"","",""]
[null,"","",{"$f":"IF(B303<>\"\",VLOOKUP(IF(ISNUMBER(B303),TEXT(B303,\"0\"),B303),Pricelist!$A$3:$F$60643,6,FALSE),\"\")","v":""},{"$f":"IF(B303<>\"\",VLOOKUP(IF(ISNUMBER(B303),TEXT(B303,\"0\"),B303),Pricelist!$A$3:$F$60643,2,FALSE),\"\")","v":""},{"$f":"IF(B303<>\"\",VLOOKUP(IF(ISNUMBER(B303),TEXT(B303,\"0\"),B303),Pricelist!$A$3:$F$60643,5,FALSE),\"\")","v":""},{"$f":"IF(B303<>\"\",VLOOKUP(IF(ISNUMBER(B303),TEXT(B303,\"0\"),B303),Pricelist!$A$3:$F$60643,3,FALSE),\"\")","v":""},"",{"$f":"IF(B303<>\"\",VLOOKUP(IF(ISNUMBER(B303),TEXT(B303,\"0\"),B303),Pricelist!$A$3:$F$60643,4,FALSE),\"\")","v":""},{"$f":"IF(B303<>\"\",G303*(1-H303),\"\")","v":""},{"$f":"IF(B303<>\"\",C303*(1-H303)*G303,\"\")","v":""},null,null,null,null,"",null,"","",""]
[null,"","",{"$f":"IF(B304<>\"\",VLOOKUP(IF(ISNUMBER(B304),TEXT(B304,\"0\"),B304),Pricelist!$A$3:$F$60643,6,FALSE),\"\")","v":""},{"$f":"IF(B304<>\"\",VLOOKUP(IF(ISNUMBER(B304),TEXT(B304,\"0\"),B304),Pricelist!$A$3:$F$60643,2,FALSE),\"\")","v":""},{"$f":"IF(B304<>\"\",VLOOKUP(IF(ISNUMBER(B304),TEXT(B304,\"0\"),B304),Pricelist!$A$3:$F$60643,5,FALSE),\"\")","v":""},{"$f":"IF(B304<>\"\",VLOOKUP(IF(ISNUMBER(B304),TEXT(B304,\"0\"),B304),Pricelist!$A$3:$F$60643,3,FALSE),\"\")","v":""},"",{"$f":"IF(B304<>\"\",VLOOKUP(IF(ISNUMBER(B304),TEXT(B304,\"0\"),B304),Pricelist!$A$3:$F$60643,4,FALSE),\"\")","v":""},{"$f":"IF(B304<>\"\",G304*(1-H304),\"\")","v":""},{"$f":"IF(B304<>\"\",C304*(1-H304)*G304,\"\")","v":""},null,null,null,null,"",null,"","",""]
[null,"","",{"$f":"IF(B305<>\"\",VLOOKUP(IF(ISNUMBER(B305),TEXT(B305,\"0\"),B305),Pricelist!$A$3:$F$60643,6,FALSE),\"\")","v":""},{"$f":"IF(B305<>\"\",VLOOKUP(IF(ISNUMBER(B305),TEXT(B305,\"0\"),B305),Pricelist!$A$3:$F$60643,2,FALSE),\"\")","v":""},{"$f":"IF(B305<>\"\",VLOOKUP(IF(ISNUMBER(B305),TEXT(B305,\"0\"),B305),Pricelist!$A$3:$F$60643,5,FALSE),\"\")","v":""},{"$f":"IF(B305<>\"\",VLOOKUP(IF(ISNUMBER(B305),TEXT(B305,\"0\"),B305),Pricelist!$A$3:$F$60643,3,FALSE),\"\")","v":""},"",{"$f":"IF(B305<>\"\",VLOOKUP(IF(ISNUMBER(B305),TEXT(B305,\"0\"),B305),Pricelist!$A$3:$F$60643,4,FALSE),\"\")","v":""},{"$f":"IF(B305<>\"\",G305*(1-H305),\"\")","v":""},{"$f":"IF(B305<>\"\",C305*(1-H305)*G305,\"\")","v":""},null,null,null,null,"",null,"","",""]

{"sheet":"Group","index":3,"n_rows":307,"n_cols":58,"rows_kept":307,"cut":false,"hidden":false,"merged":[[8,9,8,10],[10,46,10,49],[1,41,1,44]]}
[null,null,null,null,{"$f":"IF(F2<>\"\",\"Udzielono dodatkowego upustu:\",\"\")","v":""},null,null,1500,null,"Data:",{"$f":"TODAY()","v":"2022-03-02"}]
[null,null,null,null,null,null,null,null,null,null,null,null,null,null,null,null,null,null,null,null,null,null,null,null,null,null,null,null,null,null,null,null,null,null,null,null,null,null,1,null,"PROJEKT",{"$f":"CONCATENATE(AN16,AM14,AO16,AM14,AU11)","v":"__Wpisz nazwę zestawienia"}]
[null,null,null,null,null,null,null,null,null,null,null,null,null,null,null,null,null,null,null,null,null,null,null,null,null,null,null,null,null,null,null,null,null,null,null,null,null,null,null,{"$f":"IF(Selection!$Y$32=1,\"PROJEKT 1\",\"Project 1\")","v":"Project 1"},null,{"$f":"IF($R$2=1,\"1\",\"\")","v":""}]
[null,null,null,null,null,null,null,null,null,null,null,null,null,null,null,null,null,null,null,null,null,null,null,null,null,null,null,null,null,null,null,null,null,null,null,null,null,null,null,{"$f":"IF(Selection!$Y$32=1,\"PROJEKT 2\",\"Project 2\")","v":"Project 2"},null,{"$f":"IF($R$2=2,\"2\",\"\")","v":""}]
[null,null,null,null,null,null,null,null,null,null,null,null,null,null,null,null,null,null,null,null,null,null,null,null,null,null,null,null,null,null,null,null,null,null,null,null,null,null,null,{"$f":"IF(Selection!$Y$32=1,\"PROJEKT 3\",\"Project 3\")","v":"Project 3"},null,{"$f":"IF($R$2=3,\"3\",\"\")","v":""}]
[null,null,null,null,null,null,null,null,null,null,null,null,null,null,null,null,null,null,null,null,null,null,null,null,null,null,null,null,null,null,null,null,null,null,null,null,null,null,null,{"$f":"IF(Selection!$Y$32=1,\"PROJEKT 4\",\"Project 4\")","v":"Project 4"},null,{"$f":"IF($R$2=4,\"4\",\"\")","v":""}]
[null,null,null,null,{"$f":"Pricelist!$B$2","v":"Cennik wygenerowany 15.02.2022"},null,null,null,null,null,null,null,null,null,null,null,null,null,null,null,null,null,null,null,null,null,null,null,null,null,null,null,null,null,null,null,null,null,null,{"$f":"IF(Selection!$Y$32=1,\"PROJEKT 5\",\"Project 5\")","v":"Project 5"},null,{"$f":"IF($R$2=5,\"5\",\"\")","v":""}]
[null,null,null,null,null,null,null,null,null,null,null,null,null,null,null,null,null,null,null,null,null,null,null,null,null,null,null,null,null,null,null,null,null,null,null,null,null,null,null,{"$f":"IF(Selection!$Y$32=1,\"PROJEKT 6\",\"Project 6\")","v":"Project 6"},null,{"$f":"IF($R$2=6,\"6\",\"\")","v":""}]
[null,null,null,null,"Wpisz nazwę zestawienia",null,null,null,"Wartość",{"$f":"SUM(K12:K305)","v":0},null,null,null,null,null,null,null,null,null,null,null,null,null,null,null,null,null,null,null,null,null,null,null,null,null,null,null,null,null,{"$f":"IF(Selection!$Y$32=1,\"PROJEKT 7\",\"Project 7\")","v":"Project 7"},null,{"$f":"IF($R$2=7,\"7\",\"\")","v":""}]
["L.p","Numer","Szt.","Pak.","Opis","Dostęp","Cena za szt.","Upust","Grupa","Cena za szt.","Wartość",null,null,null,null,null,null,null,null,null,null,null,null,null,null,null,null,null,null,null,null,null,null,null,null,null,null,null,null,{"$f":"IF(Selection!$Y$32=1,\"PROJEKT 8\",\"Project 8\")","v":"Project 8"},null,{"$f":"IF($R$2=8,\"8\",\"\")","v":""},null,null,null,null,null,null,null,null,null,null,null,null,null,"Grupa","Rabat"]
[null,"katalogowy",null,"po",null,"ność","katalogowa",null,"upustu","po upuście","netto",null,null,null,null,null,null,null,null,null,null,null,null,null,null,null,null,null,null,null,null,null,null,null,null,null,null,null,null,{"$f":"IF(Selection!$Y$32=1,\"PROJEKT 9\",\"Project 9\")","v":"Project 9"},null,{"$f":"IF($R$2=9,\"9\",\"\")","v":""},null,null,null,null,{"$f":"IF(E9=\"\",\"\",E9)","v":"Wpisz nazwę zestawienia"},null,null,null,"WARTOŚĆ",null,null,null,null,"rabatowa"]
[{"$f":"IF(B12<>\"\",A11+1,\"\")","v":""},null,{"$f":"IF(A12<>\"\",1,\"\")","v":""},{"$f":"IF(B12<>\"\",VLOOKUP(IF(ISNUMBER(B12),TEXT(B12,\"0\"),B12),Pricelist!$A$53:$F$60643,6,FALSE),\"\")","v":""},{"$f":"IF(B12<>\"\",VLOOKUP(IF(ISNUMBER(B12),TEXT(B12,\"0\"),B12),Pricelist!$A$3:$F$60643,2,FALSE),\"\")","v":""},{"$f":"IF(B12<>\"\",VLOOKUP(IF(ISNUMBER(B12),TEXT(B12,\"0\"),B12),Pricelist!$A$53:$F$60643,5,FALSE),\"\")","v":""},{"$f":"IF(B12<>\"\",VLOOKUP(IF(ISNUMBER(B12),TEXT(B12,\"0\"),B12),Pricelist!$A$3:$F$60643,3,FALSE),\"\")","v":""},{"$f":"IF(B12<>\"\",VLOOKUP(IF(ISNUMBER(I12),TEXT(I12,\"0\"),I12),$BD$12:$BE$44,2,FALSE),\"\")","v":""},{"$f":"IF(B12<>\"\",VLOOKUP(IF(ISNUMBER(B12),TEXT(B12,\"0\"),B12),Pricelist!$A$3:$F$60643,4,FALSE),\"\")","v":""},{"$f":"IF(B12<>\"\",G12*(1-H12),\"\")","v":""},{"$f":"IF(B12<>\"\",C12*(1-H12)*G12,\"\")","v":""},null,null,null,null,{"$f":"IF(B12<>\"\",$K$2,\"\")","v":""},null,null,null,null,null,null,null,null,null,null,null,null,null,null,null,null,null,null,null,null,null,null,null,{"$f":"IF(Selection!$Y$32=1,\"PROJEKT 10\",\"Project 10\")","v":"Project 10"},null,{"$f":"IF($R$2=10,\"10\",\"\")","v":""},null,null,null,null,null,null,null,null,null,null,null,null,null,"1-ZE-01",0,"1-ZE-01"]
["",null,"",{"$f":"IF(B13<>\"\",VLOOKUP(IF(ISNUMBER(B13),TEXT(B13,\"0\"),B13),Pricelist!$A$53:$F$60643,6,FALSE),\"\")","v":""},{"$f":"IF(B13<>\"\",VLOOKUP(IF(ISNUMBER(B13),TEXT(B13,\"0\"),B13),Pricelist!$A$3:$F$60643,2,FALSE),\"\")","v":""},{"$f":"IF(B13<>\"\",VLOOKUP(IF(ISNUMBER(B13),TEXT(B13,\"0\"),B13),Pricelist!$A$53:$F$60643,5,FALSE),\"\")","v":""},{"$f":"IF(B13<>\"\",VLOOKUP(IF(ISNUMBER(B13),TEXT(B13,\"0\"),B13),Pricelist!$A$3:$F$60643,3,FALSE),\"\")","v":""},"",{"$f":"IF(B13<>\"\",VLOOKUP(IF(ISNUMBER(B13),TEXT(B13,\"0\"),B13),Pricelist!$A$3:$F$60643,4,FALSE),\"\")","v":""},"","",null,null,null,null,"",null,null,null,null,null,null,null,null,null,null,null,null,null,null,null,null,null,null,null,null,null,null,null,{"$f":"TODAY()","v":"2022-03-02"},null,null,null,null,null,null,null,null,null,null,null,null,null,null,null,"1-ZE-02",0,"1-ZE-02"]
["",null,"",{"$f":"IF(B14<>\"\",VLOOKUP(IF(ISNUMBER(B14),TEXT(B14,\"0\"),B14),Pricelist!$A$53:$F$60643,6,FALSE),\"\")","v":""},{"$f":"IF(B14<>\"\",VLOOKUP(IF(ISNUMBER(B14),TEXT(B14,\"0\"),B14),Pricelist!$A$3:$F$60643,2,FALSE),\"\")","v":""},{"$f":"IF(B14<>\"\",VLOOKUP(IF(ISNUMBER(B14),TEXT(B14,\"0\"),B14),Pricelist!$A$53:$F$60643,5,FALSE),\"\")","v":""},{"$f":"IF(B14<>\"\",VLOOKUP(IF(ISNUMBER(B14),TEXT(B14,\"0\"),B14),Pricelist!$A$3:$F$60643,3,FALSE),\"\")","v":""},"",{"$f":"IF(B14<>\"\",VLOOKUP(IF(ISNUMBER(B14),TEXT(B14,\"0\"),B14),Pricelist!$A$3:$F$60643,4,FALSE),\"\")","v":""},"","",null,null,null,null,{"$f":"IF(B14<>\"\",$K$2,\"\")","v":""},null,null,null,null,null,null,null,null,null,null,null,null,null,null,null,null,null,null,null,null,null,null,"_","2015-04-06",null,null,null,null,null,null,null,null,null,null,null,null,null,null,null,"1-ZE-03",0,"1-ZE-03"]
["",null,"",{"$f":"IF(B15<>\"\",VLOOKUP(IF(ISNUMBER(B15),TEXT(B15,\"0\"),B15),Pricelist!$A$53:$F$60643,6,FALSE),\"\")","v":""},{"$f":"IF(B15<>\"\",VLOOKUP(IF(ISNUMBER(B15),TEXT(B15,\"0\"),B15),Pricelist!$A$3:$F$60643,2,FALSE),\"\")","v":""},{"$f":"IF(B15<>\"\",VLOOKUP(IF(ISNUMBER(B15),TEXT(B15,\"0\"),B15),Pricelist!$A$53:$F$60643,5,FALSE),\"\")","v":""},{"$f":"IF(B15<>\"\",VLOOKUP(IF(ISNUMBER(B15),TEXT(B15,\"0\"),B15),Pricelist!$A$3:$F$60643,3,FALSE),\"\")","v":""},"",{"$f":"IF(B15<>\"\",VLOOKUP(IF(ISNUMBER(B15),TEXT(B15,\"0\"),B15),Pricelist!$A$3:$F$60643,4,FALSE),\"\")","v":""},"","",null,null,null,null,"",null,null,null,null,null,null,null,null,null,null,null,null,null,null,null,null,null,null,null,null,null,4,"/",6,"/",201,5,null,null,null,null,null,null,null,null,null,null,null,null,"1-ZE-04",0,"1-ZE-04"]
["",null,"",{"$f":"IF(B16<>\"\",VLOOKUP(IF(ISNUMBER(B16),TEXT(B16,\"0\"),B16),Pricelist!$A$53:$F$60643,6,FALSE),\"\")","v":""},{"$f":"IF(B16<>\"\",VLOOKUP(IF(ISNUMBER(B16),TEXT(B16,\"0\"),B16),Pricelist!$A$3:$F$60643,2,FALSE),\"\")","v":""},{"$f":"IF(B16<>\"\",VLOOKUP(IF(ISNUMBER(B16),TEXT(B16,\"0\"),B16),Pricelist!$A$53:$F$60643,5,FALSE),\"\")","v":""},{"$f":"IF(B16<>\"\",VLOOKUP(IF(ISNUMBER(B16),TEXT(B16,\"0\"),B16),Pricelist!$A$3:$F$60643,3,FALSE),\"\")","v":""},"",{"$f":"IF(B16<>\"\",VLOOKUP(IF(ISNUMBER(B16),TEXT(B16,\"0\"),B16),Pricelist!$A$3:$F$60643,4,FALSE),\"\")","v":""},"","",null,null,null,null,"",null,null,null,null,null,null,null,null,null,null,null,null,null,null,null,null,null,null,null,null,null,{"$f":"CONCATENATE(AL15,AM15,AN15,AO15,AP15,AQ15,AR15)","v":"4/6/2015"},null,null,null,null,null,null,null,null,null,null,null,null,null,null,null,null,null,"1-ZE-06",0,"1-ZE-06"]
["",null,"",{"$f":"IF(B17<>\"\",VLOOKUP(IF(ISNUMBER(B17),TEXT(B17,\"0\"),B17),Pricelist!$A$53:$F$60643,6,FALSE),\"\")","v":""},{"$f":"IF(B17<>\"\",VLOOKUP(IF(ISNUMBER(B17),TEXT(B17,\"0\"),B17),Pricelist!$A$3:$F$60643,2,FALSE),\"\")","v":""},{"$f":"IF(B17<>\"\",VLOOKUP(IF(ISNUMBER(B17),TEXT(B17,\"0\"),B17),Pricelist!$A$53:$F$60643,5,FALSE),\"\")","v":""},{"$f":"IF(B17<>\"\",VLOOKUP(IF(ISNUMBER(B17),TEXT(B17,\"0\"),B17),Pricelist!$A$3:$F$60643,3,FALSE),\"\")","v":""},"",{"$f":"IF(B17<>\"\",VLOOKUP(IF(ISNUMBER(B17),TEXT(B17,\"0\"),B17),Pricelist!$A$3:$F$60643,4,FALSE),\"\")","v":""},"","",null,null,null,null,"",null,null,null,null,null,null,null,null,null,null,null,null,null,null,null,null,null,null,null,null,null,null,null,null,null,null,null,null,null,null,null,null,null,null,null,null,null,null,null,"1-ZE-08",0,"1-ZE-08"]
["",null,"",{"$f":"IF(B18<>\"\",VLOOKUP(IF(ISNUMBER(B18),TEXT(B18,\"0\"),B18),Pricelist!$A$53:$F$60643,6,FALSE),\"\")","v":""},{"$f":"IF(B18<>\"\",VLOOKUP(IF(ISNUMBER(B18),TEXT(B18,\"0\"),B18),Pricelist!$A$3:$F$60643,2,FALSE),\"\")","v":""},{"$f":"IF(B18<>\"\",VLOOKUP(IF(ISNUMBER(B18),TEXT(B18,\"0\"),B18),Pricelist!$A$53:$F$60643,5,FALSE),\"\")","v":""},{"$f":"IF(B18<>\"\",VLOOKUP(IF(ISNUMBER(B18),TEXT(B18,\"0\"),B18),Pricelist!$A$3:$F$60643,3,FALSE),\"\")","v":""},"",{"$f":"IF(B18<>\"\",VLOOKUP(IF(ISNUMBER(B18),TEXT(B18,\"0\"),B18),Pricelist!$A$3:$F$60643,4,FALSE),\"\")","v":""},"","",null,null,null,null,{"$f":"IF(B18<>\"\",$K$2,\"\")","v":""},null,null,null,null,null,null,null,null,null,null,null,null,null,null,null,null,null,null,null,null,null,null,null,null,null,null,null,null,null,null,null,null,null,null,null,null,null,null,null,"1-ZE-09",0,"1-ZE-09"]
["",null,"",{"$f":"IF(B19<>\"\",VLOOKUP(IF(ISNUMBER(B19),TEXT(B19,\"0\"),B19),Pricelist!$A$53:$F$60643,6,FALSE),\"\")","v":""},{"$f":"IF(B19<>\"\",VLOOKUP(IF(ISNUMBER(B19),TEXT(B19,\"0\"),B19),Pricelist!$A$3:$F$60643,2,FALSE),\"\")","v":""},{"$f":"IF(B19<>\"\",VLOOKUP(IF(ISNUMBER(B19),TEXT(B19,\"0\"),B19),Pricelist!$A$53:$F$60643,5,FALSE),\"\")","v":""},{"$f":"IF(B19<>\"\",VLOOKUP(IF(ISNUMBER(B19),TEXT(B19,\"0\"),B19),Pricelist!$A$3:$F$60643,3,FALSE),\"\")","v":""},"",{"$f":"IF(B19<>\"\",VLOOKUP(IF(ISNUMBER(B19),TEXT(B19,\"0\"),B19),Pricelist!$A$3:$F$60643,4,FALSE),\"\")","v":""},"","",null,null,null,null,"",null,null,null,null,null,null,null,null,null,null,null,null,null,null,null,null,null,null,null,null,null,null,null,null,null,null,null,null,null,null,null,null,null,null,null,null,null,null,null,"1-ZE-10",0,"1-ZE-10"]
["",null,"",{"$f":"IF(B20<>\"\",VLOOKUP(IF(ISNUMBER(B20),TEXT(B20,\"0\"),B20),Pricelist!$A$53:$F$60643,6,FALSE),\"\")","v":""},{"$f":"IF(B20<>\"\",VLOOKUP(IF(ISNUMBER(B20),TEXT(B20,\"0\"),B20),Pricelist!$A$3:$F$60643,2,FALSE),\"\")","v":""},{"$f":"IF(B20<>\"\",VLOOKUP(IF(ISNUMBER(B20),TEXT(B20,\"0\"),B20),Pricelist!$A$53:$F$60643,5,FALSE),\"\")","v":""},{"$f":"IF(B20<>\"\",VLOOKUP(IF(ISNUMBER(B20),TEXT(B20,\"0\"),B20),Pricelist!$A$3:$F$60643,3,FALSE),\"\")","v":""},"",{"$f":"IF(B20<>\"\",VLOOKUP(IF(ISNUMBER(B20),TEXT(B20,\"0\"),B20),Pricelist!$A$3:$F$60643,4,FALSE),\"\")","v":""},"","",null,null,null,null,"",null,null,null,null,null,null,null,null,null,null,null,null,null,null,null,null,null,null,null,null,null,null,null,null,null,null,null,null,null,null,null,null,null,null,null,null,null,null,null,"1-ZE-18",0,"1-ZE-18"]
["",null,"",{"$f":"IF(B21<>\"\",VLOOKUP(IF(ISNUMBER(B21),TEXT(B21,\"0\"),B21),Pricelist!$A$53:$F$60643,6,FALSE),\"\")","v":""},{"$f":"IF(B21<>\"\",VLOOKUP(IF(ISNUMBER(B21),TEXT(B21,\"0\"),B21),Pricelist!$A$3:$F$60643,2,FALSE),\"\")","v":""},{"$f":"IF(B21<>\"\",VLOOKUP(IF(ISNUMBER(B21),TEXT(B21,\"0\"),B21),Pricelist!$A$53:$F$60643,5,FALSE),\"\")","v":""},{"$f":"IF(B21<>\"\",VLOOKUP(IF(ISNUMBER(B21),TEXT(B21,\"0\"),B21),Pricelist!$A$3:$F$60643,3,FALSE),\"\")","v":""},"",{"$f":"IF(B21<>\"\",VLOOKUP(IF(ISNUMBER(B21),TEXT(B21,\"0\"),B21),Pricelist!$A$3:$F$60643,4,FALSE),\"\")","v":""},"","",null,null,null,null,"",null,null,null,null,null,null,null,null,null,null,null,null,null,null,null,null,null,null,null,null,null,null,null,null,null,null,null,null,null,null,null,null,null,null,null,null,null,null,null,"1-ZE-19",0,"1-ZE-19"]
["",null,"",{"$f":"IF(B22<>\"\",VLOOKUP(IF(ISNUMBER(B22),TEXT(B22,\"0\"),B22),Pricelist!$A$53:$F$60643,6,FALSE),\"\")","v":""},{"$f":"IF(B22<>\"\",VLOOKUP(IF(ISNUMBER(B22),TEXT(B22,\"0\"),B22),Pricelist!$A$3:$F$60643,2,FALSE),\"\")","v":""},{"$f":"IF(B22<>\"\",VLOOKUP(IF(ISNUMBER(B22),TEXT(B22,\"0\"),B22),Pricelist!$A$53:$F$60643,5,FALSE),\"\")","v":""},{"$f":"IF(B22<>\"\",VLOOKUP(IF(ISNUMBER(B22),TEXT(B22,\"0\"),B22),Pricelist!$A$3:$F$60643,3,FALSE),\"\")","v":""},"",{"$f":"IF(B22<>\"\",VLOOKUP(IF(ISNUMBER(B22),TEXT(B22,\"0\"),B22),Pricelist!$A$3:$F$60643,4,FALSE),\"\")","v":""},"","",null,null,null,null,""]
["",null,"",{"$f":"IF(B23<>\"\",VLOOKUP(IF(ISNUMBER(B23),TEXT(B23,\"0\"),B23),Pricelist!$A$53:$F$60643,6,FALSE),\"\")","v":""},{"$f":"IF(B23<>\"\",VLOOKUP(IF(ISNUMBER(B23),TEXT(B23,\"0\"),B23),Pricelist!$A$3:$F$60643,2,FALSE),\"\")","v":""},{"$f":"IF(B23<>\"\",VLOOKUP(IF(ISNUMBER(B23),TEXT(B23,\"0\"),B23),Pricelist!$A$53:$F$60643,5,FALSE),\"\")","v":""},{"$f":"IF(B23<>\"\",VLOOKUP(IF(ISNUMBER(B23),TEXT(B23,\"0\"),B23),Pricelist!$A$3:$F$60643,3,FALSE),\"\")","v":""},"",{"$f":"IF(B23<>\"\",VLOOKUP(IF(ISNUMBER(B23),TEXT(B23,\"0\"),B23),Pricelist!$A$3:$F$60643,4,FALSE),\"\")","v":""},"","",null,null,null,null,""]
["",null,"",{"$f":"IF(B24<>\"\",VLOOKUP(IF(ISNUMBER(B24),TEXT(B24,\"0\"),B24),Pricelist!$A$53:$F$60643,6,FALSE),\"\")","v":""},{"$f":"IF(B24<>\"\",VLOOKUP(IF(ISNUMBER(B24),TEXT(B24,\"0\"),B24),Pricelist!$A$3:$F$60643,2,FALSE),\"\")","v":""},{"$f":"IF(B24<>\"\",VLOOKUP(IF(ISNUMBER(B24),TEXT(B24,\"0\"),B24),Pricelist!$A$53:$F$60643,5,FALSE),\"\")","v":""},{"$f":"IF(B24<>\"\",VLOOKUP(IF(ISNUMBER(B24),TEXT(B24,\"0\"),B24),Pricelist!$A$3:$F$60643,3,FALSE),\"\")","v":""},"",{"$f":"IF(B24<>\"\",VLOOKUP(IF(ISNUMBER(B24),TEXT(B24,\"0\"),B24),Pricelist!$A$3:$F$60643,4,FALSE),\"\")","v":""},"","",null,null,null,null,""]
["",null,"",{"$f":"IF(B25<>\"\",VLOOKUP(IF(ISNUMBER(B25),TEXT(B25,\"0\"),B25),Pricelist!$A$53:$F$60643,6,FALSE),\"\")","v":""},{"$f":"IF(B25<>\"\",VLOOKUP(IF(ISNUMBER(B25),TEXT(B25,\"0\"),B25),Pricelist!$A$3:$F$60643,2,FALSE),\"\")","v":""},{"$f":"IF(B25<>\"\",VLOOKUP(IF(ISNUMBER(B25),TEXT(B25,\"0\"),B25),Pricelist!$A$53:$F$60643,5,FALSE),\"\")","v":""},{"$f":"IF(B25<>\"\",VLOOKUP(IF(ISNUMBER(B25),TEXT(B25,\"0\"),B25),Pricelist!$A$3:$F$60643,3,FALSE),\"\")","v":""},"",{"$f":"IF(B25<>\"\",VLOOKUP(IF(ISNUMBER(B25),TEXT(B25,\"0\"),B25),Pricelist!$A$3:$F$60643,4,FALSE),\"\")","v":""},"","",null,null,null,null,{"$f":"IF(B25<>\"\",$K$2,\"\")","v":""}]
["",null,"",{"$f":"IF(B26<>\"\",VLOOKUP(IF(ISNUMBER(B26),TEXT(B26,\"0\"),B26),Pricelist!$A$53:$F$60643,6,FALSE),\"\")","v":""},{"$f":"IF(B26<>\"\",VLOOKUP(IF(ISNUMBER(B26),TEXT(B26,\"0\"),B26),Pricelist!$A$3:$F$60643,2,FALSE),\"\")","v":""},{"$f":"IF(B26<>\"\",VLOOKUP(IF(ISNUMBER(B26),TEXT(B26,\"0\"),B26),Pricelist!$A$53:$F$60643,5,FALSE),\"\")","v":""},{"$f":"IF(B26<>\"\",VLOOKUP(IF(ISNUMBER(B26),TEXT(B26,\"0\"),B26),Pricelist!$A$3:$F$60643,3,FALSE),\"\")","v":""},"",{"$f":"IF(B26<>\"\",VLOOKUP(IF(ISNUMBER(B26),TEXT(B26,\"0\"),B26),Pricelist!$A$3:$F$60643,4,FALSE),\"\")","v":""},"","",null,null,null,null,""]
["",null,"",{"$f":"IF(B27<>\"\",VLOOKUP(IF(ISNUMBER(B27),TEXT(B27,\"0\"),B27),Pricelist!$A$53:$F$60643,6,FALSE),\"\")","v":""},{"$f":"IF(B27<>\"\",VLOOKUP(IF(ISNUMBER(B27),TEXT(B27,\"0\"),B27),Pricelist!$A$3:$F$60643,2,FALSE),\"\")","v":""},{"$f":"IF(B27<>\"\",VLOOKUP(IF(ISNUMBER(B27),TEXT(B27,\"0\"),B27),Pricelist!$A$53:$F$60643,5,FALSE),\"\")","v":""},{"$f":"IF(B27<>\"\",VLOOKUP(IF(ISNUMBER(B27),TEXT(B27,\"0\"),B27),Pricelist!$A$3:$F$60643,3,FALSE),\"\")","v":""},"",{"$f":"IF(B27<>\"\",VLOOKUP(IF(ISNUMBER(B27),TEXT(B27,\"0\"),B27),Pricelist!$A$3:$F$60643,4,FALSE),\"\")","v":""},"","",null,null,null,null,""]
["",null,"",{"$f":"IF(B28<>\"\",VLOOKUP(IF(ISNUMBER(B28),TEXT(B28,\"0\"),B28),Pricelist!$A$53:$F$60643,6,FALSE),\"\")","v":""},{"$f":"IF(B28<>\"\",VLOOKUP(IF(ISNUMBER(B28),TEXT(B28,\"0\"),B28),Pricelist!$A$3:$F$60643,2,FALSE),\"\")","v":""},{"$f":"IF(B28<>\"\",VLOOKUP(IF(ISNUMBER(B28),TEXT(B28,\"0\"),B28),Pricelist!$A$53:$F$60643,5,FALSE),\"\")","v":""},{"$f":"IF(B28<>\"\",VLOOKUP(IF(ISNUMBER(B28),TEXT(B28,\"0\"),B28),Pricelist!$A$3:$F$60643,3,FALSE),\"\")","v":""},"",{"$f":"IF(B28<>\"\",VLOOKUP(IF(ISNUMBER(B28),TEXT(B28,\"0\"),B28),Pricelist!$A$3:$F$60643,4,FALSE),\"\")","v":""},"","",null,null,null,null,""]
["",null,"",{"$f":"IF(B29<>\"\",VLOOKUP(IF(ISNUMBER(B29),TEXT(B29,\"0\"),B29),Pricelist!$A$53:$F$60643,6,FALSE),\"\")","v":""},{"$f":"IF(B29<>\"\",VLOOKUP(IF(ISNUMBER(B29),TEXT(B29,\"0\"),B29),Pricelist!$A$3:$F$60643,2,FALSE),\"\")","v":""},{"$f":"IF(B29<>\"\",VLOOKUP(IF(ISNUMBER(B29),TEXT(B29,\"0\"),B29),Pricelist!$A$53:$F$60643,5,FALSE),\"\")","v":""},{"$f":"IF(B29<>\"\",VLOOKUP(IF(ISNUMBER(B29),TEXT(B29,\"0\"),B29),Pricelist!$A$3:$F$60643,3,FALSE),\"\")","v":""},"",{"$f":"IF(B29<>\"\",VLOOKUP(IF(ISNUMBER(B29),TEXT(B29,\"0\"),B29),Pricelist!$A$3:$F$60643,4,FALSE),\"\")","v":""},"","",null,null,null,null,""]
["",null,"",{"$f":"IF(B30<>\"\",VLOOKUP(IF(ISNUMBER(B30),TEXT(B30,\"0\"),B30),Pricelist!$A$53:$F$60643,6,FALSE),\"\")","v":""},{"$f":"IF(B30<>\"\",VLOOKUP(IF(ISNUMBER(B30),TEXT(B30,\"0\"),B30),Pricelist!$A$3:$F$60643,2,FALSE),\"\")","v":""},{"$f":"IF(B30<>\"\",VLOOKUP(IF(ISNUMBER(B30),TEXT(B30,\"0\"),B30),Pricelist!$A$53:$F$60643,5,FALSE),\"\")","v":""},{"$f":"IF(B30<>\"\",VLOOKUP(IF(ISNUMBER(B30),TEXT(B30,\"0\"),B30),Pricelist!$A$3:$F$60643,3,FALSE),\"\")","v":""},"",{"$f":"IF(B30<>\"\",VLOOKUP(IF(ISNUMBER(B30),TEXT(B30,\"0\"),B30),Pricelist!$A$3:$F$60643,4,FALSE),\"\")","v":""},"","",null,null,null,null,""]
["",null,"",{"$f":"IF(B31<>\"\",VLOOKUP(IF(ISNUMBER(B31),TEXT(B31,\"0\"),B31),Pricelist!$A$53:$F$60643,6,FALSE),\"\")","v":""},{"$f":"IF(B31<>\"\",VLOOKUP(IF(ISNUMBER(B31),TEXT(B31,\"0\"),B31),Pricelist!$A$3:$F$60643,2,FALSE),\"\")","v":""},{"$f":"IF(B31<>\"\",VLOOKUP(IF(ISNUMBER(B31),TEXT(B31,\"0\"),B31),Pricelist!$A$53:$F$60643,5,FALSE),\"\")","v":""},{"$f":"IF(B31<>\"\",VLOOKUP(IF(ISNUMBER(B31),TEXT(B31,\"0\"),B31),Pricelist!$A$3:$F$60643,3,FALSE),\"\")","v":""},"",{"$f":"IF(B31<>\"\",VLOOKUP(IF(ISNUMBER(B31),TEXT(B31,\"0\"),B31),Pricelist!$A$3:$F$60643,4,FALSE),\"\")","v":""},"","",null,null,null,null,""]
["",null,"",{"$f":"IF(B32<>\"\",VLOOKUP(IF(ISNUMBER(B32),TEXT(B32,\"0\"),B32),Pricelist!$A$53:$F$60643,6,FALSE),\"\")","v":""},{"$f":"IF(B32<>\"\",VLOOKUP(IF(ISNUMBER(B32),TEXT(B32,\"0\"),B32),Pricelist!$A$3:$F$60643,2,FALSE),\"\")","v":""},{"$f":"IF(B32<>\"\",VLOOKUP(IF(ISNUMBER(B32),TEXT(B32,\"0\"),B32),Pricelist!$A$53:$F$60643,5,FALSE),\"\")","v":""},{"$f":"IF(B32<>\"\",VLOOKUP(IF(ISNUMBER(B32),TEXT(B32,\"0\"),B32),Pricelist!$A$3:$F$60643,3,FALSE),\"\")","v":""},"",{"$f":"IF(B32<>\"\",VLOOKUP(IF(ISNUMBER(B32),TEXT(B32,\"0\"),B32),Pricelist!$A$3:$F$60643,4,FALSE),\"\")","v":""},"","",null,null,null,null,""]
["",null,"",{"$f":"IF(B33<>\"\",VLOOKUP(IF(ISNUMBER(B33),TEXT(B33,\"0\"),B33),Pricelist!$A$53:$F$60643,6,FALSE),\"\")","v":""},{"$f":"IF(B33<>\"\",VLOOKUP(IF(ISNUMBER(B33),TEXT(B33,\"0\"),B33),Pricelist!$A$3:$F$60643,2,FALSE),\"\")","v":""},{"$f":"IF(B33<>\"\",VLOOKUP(IF(ISNUMBER(B33),TEXT(B33,\"0\"),B33),Pricelist!$A$53:$F$60643,5,FALSE),\"\")","v":""},{"$f":"IF(B33<>\"\",VLOOKUP(IF(ISNUMBER(B33),TEXT(B33,\"0\"),B33),Pricelist!$A$3:$F$60643,3,FALSE),\"\")","v":""},"",{"$f":"IF(B33<>\"\",VLOOKUP(IF(ISNUMBER(B33),TEXT(B33,\"0\"),B33),Pricelist!$A$3:$F$60643,4,FALSE),\"\")","v":""},"","",null,null,null,null,""]
["",null,"",{"$f":"IF(B34<>\"\",VLOOKUP(IF(ISNUMBER(B34),TEXT(B34,\"0\"),B34),Pricelist!$A$53:$F$60643,6,FALSE),\"\")","v":""},{"$f":"IF(B34<>\"\",VLOOKUP(IF(ISNUMBER(B34),TEXT(B34,\"0\"),B34),Pricelist!$A$3:$F$60643,2,FALSE),\"\")","v":""},{"$f":"IF(B34<>\"\",VLOOKUP(IF(ISNUMBER(B34),TEXT(B34,\"0\"),B34),Pricelist!$A$53:$F$60643,5,FALSE),\"\")","v":""},{"$f":"IF(B34<>\"\",VLOOKUP(IF(ISNUMBER(B34),TEXT(B34,\"0\"),B34),Pricelist!$A$3:$F$60643,3,FALSE),\"\")","v":""},"",{"$f":"IF(B34<>\"\",VLOOKUP(IF(ISNUMBER(B34),TEXT(B34,\"0\"),B34),Pricelist!$A$3:$F$60643,4,FALSE),\"\")","v":""},"","",null,null,null,null,"",null,{"$f":"IF(B34>1,B34,\"\")","v":""},{"$f":"IF(R34=\"\",\"\",C34)","v":""}]
["",null,"",{"$f":"IF(B35<>\"\",VLOOKUP(IF(ISNUMBER(B35),TEXT(B35,\"0\"),B35),Pricelist!$A$53:$F$60643,6,FALSE),\"\")","v":""},{"$f":"IF(B35<>\"\",VLOOKUP(IF(ISNUMBER(B35),TEXT(B35,\"0\"),B35),Pricelist!$A$3:$F$60643,2,FALSE),\"\")","v":""},{"$f":"IF(B35<>\"\",VLOOKUP(IF(ISNUMBER(B35),TEXT(B35,\"0\"),B35),Pricelist!$A$53:$F$60643,5,FALSE),\"\")","v":""},{"$f":"IF(B35<>\"\",VLOOKUP(IF(ISNUMBER(B35),TEXT(B35,\"0\"),B35),Pricelist!$A$3:$F$60643,3,FALSE),\"\")","v":""},"",{"$f":"IF(B35<>\"\",VLOOKUP(IF(ISNUMBER(B35),TEXT(B35,\"0\"),B35),Pricelist!$A$3:$F$60643,4,FALSE),\"\")","v":""},"","",null,null,null,null,"",null,{"$f":"IF(B35>1,B35,\"\")","v":""},{"$f":"IF(R35=\"\",\"\",C35)","v":""}]
["",null,"",{"$f":"IF(B36<>\"\",VLOOKUP(IF(ISNUMBER(B36),TEXT(B36,\"0\"),B36),Pricelist!$A$53:$F$60643,6,FALSE),\"\")","v":""},{"$f":"IF(B36<>\"\",VLOOKUP(IF(ISNUMBER(B36),TEXT(B36,\"0\"),B36),Pricelist!$A$3:$F$60643,2,FALSE),\"\")","v":""},{"$f":"IF(B36<>\"\",VLOOKUP(IF(ISNUMBER(B36),TEXT(B36,\"0\"),B36),Pricelist!$A$53:$F$60643,5,FALSE),\"\")","v":""},{"$f":"IF(B36<>\"\",VLOOKUP(IF(ISNUMBER(B36),TEXT(B36,\"0\"),B36),Pricelist!$A$3:$F$60643,3,FALSE),\"\")","v":""},"",{"$f":"IF(B36<>\"\",VLOOKUP(IF(ISNUMBER(B36),TEXT(B36,\"0\"),B36),Pricelist!$A$3:$F$60643,4,FALSE),\"\")","v":""},"","",null,null,null,null,"",null,{"$f":"IF(B36>1,B36,\"\")","v":""},{"$f":"IF(R36=\"\",\"\",C36)","v":""}]
["",null,"",{"$f":"IF(B37<>\"\",VLOOKUP(IF(ISNUMBER(B37),TEXT(B37,\"0\"),B37),Pricelist!$A$53:$F$60643,6,FALSE),\"\")","v":""},{"$f":"IF(B37<>\"\",VLOOKUP(IF(ISNUMBER(B37),TEXT(B37,\"0\"),B37),Pricelist!$A$3:$F$60643,2,FALSE),\"\")","v":""},{"$f":"IF(B37<>\"\",VLOOKUP(IF(ISNUMBER(B37),TEXT(B37,\"0\"),B37),Pricelist!$A$53:$F$60643,5,FALSE),\"\")","v":""},{"$f":"IF(B37<>\"\",VLOOKUP(IF(ISNUMBER(B37),TEXT(B37,\"0\"),B37),Pricelist!$A$3:$F$60643,3,FALSE),\"\")","v":""},"",{"$f":"IF(B37<>\"\",VLOOKUP(IF(ISNUMBER(B37),TEXT(B37,\"0\"),B37),Pricelist!$A$3:$F$60643,4,FALSE),\"\")","v":""},"","",null,null,null,null,"",null,{"$f":"IF(B37>1,B37,\"\")","v":""},{"$f":"IF(R37=\"\",\"\",C37)","v":""}]
["",null,"",{"$f":"IF(B38<>\"\",VLOOKUP(IF(ISNUMBER(B38),TEXT(B38,\"0\"),B38),Pricelist!$A$53:$F$60643,6,FALSE),\"\")","v":""},{"$f":"IF(B38<>\"\",VLOOKUP(IF(ISNUMBER(B38),TEXT(B38,\"0\"),B38),Pricelist!$A$3:$F$60643,2,FALSE),\"\")","v":""},{"$f":"IF(B38<>\"\",VLOOKUP(IF(ISNUMBER(B38),TEXT(B38,\"0\"),B38),Pricelist!$A$53:$F$60643,5,FALSE),\"\")","v":""},{"$f":"IF(B38<>\"\",VLOOKUP(IF(ISNUMBER(B38),TEXT(B38,\"0\"),B38),Pricelist!$A$3:$F$60643,3,FALSE),\"\")","v":""},"",{"$f":"IF(B38<>\"\",VLOOKUP(IF(ISNUMBER(B38),TEXT(B38,\"0\"),B38),Pricelist!$A$3:$F$60643,4,FALSE),\"\")","v":""},"","",null,null,null,null,"",null,"",""]
["",null,"",{"$f":"IF(B39<>\"\",VLOOKUP(IF(ISNUMBER(B39),TEXT(B39,\"0\"),B39),Pricelist!$A$53:$F$60643,6,FALSE),\"\")","v":""},{"$f":"IF(B39<>\"\",VLOOKUP(IF(ISNUMBER(B39),TEXT(B39,\"0\"),B39),Pricelist!$A$3:$F$60643,2,FALSE),\"\")","v":""},{"$f":"IF(B39<>\"\",VLOOKUP(IF(ISNUMBER(B39),TEXT(B39,\"0\"),B39),Pricelist!$A$53:$F$60643,5,FALSE),\"\")","v":""},{"$f":"IF(B39<>\"\",VLOOKUP(IF(ISNUMBER(B39),TEXT(B39,\"0\"),B39),Pricelist!$A$3:$F$60643,3,FALSE),\"\")","v":""},"",{"$f":"IF(B39<>\"\",VLOOKUP(IF(ISNUMBER(B39),TEXT(B39,\"0\"),B39),Pricelist!$A$3:$F$60643,4,FALSE),\"\")","v":""},"","",null,null,null,null,"",null,"",""]
["",null,"",{"$f":"IF(B40<>\"\",VLOOKUP(IF(ISNUMBER(B40),TEXT(B40,\"0\"),B40),Pricelist!$A$53:$F$60643,6,FALSE),\"\")","v":""},{"$f":"IF(B40<>\"\",VLOOKUP(IF(ISNUMBER(B40),TEXT(B40,\"0\"),B40),Pricelist!$A$3:$F$60643,2,FALSE),\"\")","v":""},{"$f":"IF(B40<>\"\",VLOOKUP(IF(ISNUMBER(B40),TEXT(B40,\"0\"),B40),Pricelist!$A$53:$F$60643,5,FALSE),\"\")","v":""},{"$f":"IF(B40<>\"\",VLOOKUP(IF(ISNUMBER(B40),TEXT(B40,\"0\"),B40),Pricelist!$A$3:$F$60643,3,FALSE),\"\")","v":""},"",{"$f":"IF(B40<>\"\",VLOOKUP(IF(ISNUMBER(B40),TEXT(B40,\"0\"),B40),Pricelist!$A$3:$F$60643,4,FALSE),\"\")","v":""},"","",null,null,null,null,"",null,"",""]
["",null,"",{"$f":"IF(B41<>\"\",VLOOKUP(IF(ISNUMBER(B41),TEXT(B41,\"0\"),B41),Pricelist!$A$53:$F$60643,6,FALSE),\"\")","v":""},{"$f":"IF(B41<>\"\",VLOOKUP(IF(ISNUMBER(B41),TEXT(B41,\"0\"),B41),Pricelist!$A$3:$F$60643,2,FALSE),\"\")","v":""},{"$f":"IF(B41<>\"\",VLOOKUP(IF(ISNUMBER(B41),TEXT(B41,\"0\"),B41),Pricelist!$A$53:$F$60643,5,FALSE),\"\")","v":""},{"$f":"IF(B41<>\"\",VLOOKUP(IF(ISNUMBER(B41),TEXT(B41,\"0\"),B41),Pricelist!$A$3:$F$60643,3,FALSE),\"\")","v":""},"",{"$f":"IF(B41<>\"\",VLOOKUP(IF(ISNUMBER(B41),TEXT(B41,\"0\"),B41),Pricelist!$A$3:$F$60643,4,FALSE),\"\")","v":""},"","",null,null,null,null,"",null,"",""]
["",null,"",{"$f":"IF(B42<>\"\",VLOOKUP(IF(ISNUMBER(B42),TEXT(B42,\"0\"),B42),Pricelist!$A$53:$F$60643,6,FALSE),\"\")","v":""},{"$f":"IF(B42<>\"\",VLOOKUP(IF(ISNUMBER(B42),TEXT(B42,\"0\"),B42),Pricelist!$A$3:$F$60643,2,FALSE),\"\")","v":""},{"$f":"IF(B42<>\"\",VLOOKUP(IF(ISNUMBER(B42),TEXT(B42,\"0\"),B42),Pricelist!$A$53:$F$60643,5,FALSE),\"\")","v":""},{"$f":"IF(B42<>\"\",VLOOKUP(IF(ISNUMBER(B42),TEXT(B42,\"0\"),B42),Pricelist!$A$3:$F$60643,3,FALSE),\"\")","v":""},"",{"$f":"IF(B42<>\"\",VLOOKUP(IF(ISNUMBER(B42),TEXT(B42,\"0\"),B42),Pricelist!$A$3:$F$60643,4,FALSE),\"\")","v":""},"","",null,null,null,null,"",null,"",""]
["",null,"",{"$f":"IF(B43<>\"\",VLOOKUP(IF(ISNUMBER(B43),TEXT(B43,\"0\"),B43),Pricelist!$A$53:$F$60643,6,FALSE),\"\")","v":""},{"$f":"IF(B43<>\"\",VLOOKUP(IF(ISNUMBER(B43),TEXT(B43,\"0\"),B43),Pricelist!$A$3:$F$60643,2,FALSE),\"\")","v":""},{"$f":"IF(B43<>\"\",VLOOKUP(IF(ISNUMBER(B43),TEXT(B43,\"0\"),B43),Pricelist!$A$53:$F$60643,5,FALSE),\"\")","v":""},{"$f":"IF(B43<>\"\",VLOOKUP(IF(ISNUMBER(B43),TEXT(B43,\"0\"),B43),Pricelist!$A$3:$F$60643,3,FALSE),\"\")","v":""},"",{"$f":"IF(B43<>\"\",VLOOKUP(IF(ISNUMBER(B43),TEXT(B43,\"0\"),B43),Pricelist!$A$3:$F$60643,4,FALSE),\"\")","v":""},"","",null,null,null,null,"",null,"",""]
["",null,"",{"$f":"IF(B44<>\"\",VLOOKUP(IF(ISNUMBER(B44),TEXT(B44,\"0\"),B44),Pricelist!$A$53:$F$60643,6,FALSE),\"\")","v":""},{"$f":"IF(B44<>\"\",VLOOKUP(IF(ISNUMBER(B44),TEXT(B44,\"0\"),B44),Pricelist!$A$3:$F$60643,2,FALSE),\"\")","v":""},{"$f":"IF(B44<>\"\",VLOOKUP(IF(ISNUMBER(B44),TEXT(B44,\"0\"),B44),Pricelist!$A$53:$F$60643,5,FALSE),\"\")","v":""},{"$f":"IF(B44<>\"\",VLOOKUP(IF(ISNUMBER(B44),TEXT(B44,\"0\"),B44),Pricelist!$A$3:$F$60643,3,FALSE),\"\")","v":""},"",{"$f":"IF(B44<>\"\",VLOOKUP(IF(ISNUMBER(B44),TEXT(B44,\"0\"),B44),Pricelist!$A$3:$F$60643,4,FALSE),\"\")","v":""},"","",null,null,null,null,"",null,"",""]
["",null,"",{"$f":"IF(B45<>\"\",VLOOKUP(IF(ISNUMBER(B45),TEXT(B45,\"0\"),B45),Pricelist!$A$53:$F$60643,6,FALSE),\"\")","v":""},{"$f":"IF(B45<>\"\",VLOOKUP(IF(ISNUMBER(B45),TEXT(B45,\"0\"),B45),Pricelist!$A$3:$F$60643,2,FALSE),\"\")","v":""},{"$f":"IF(B45<>\"\",VLOOKUP(IF(ISNUMBER(B45),TEXT(B45,\"0\"),B45),Pricelist!$A$53:$F$60643,5,FALSE),\"\")","v":""},{"$f":"IF(B45<>\"\",VLOOKUP(IF(ISNUMBER(B45),TEXT(B45,\"0\"),B45),Pricelist!$A$3:$F$60643,3,FALSE),\"\")","v":""},"",{"$f":"IF(B45<>\"\",VLOOKUP(IF(ISNUMBER(B45),TEXT(B45,\"0\"),B45),Pricelist!$A$3:$F$60643,4,FALSE),\"\")","v":""},"","",null,null,null,null,"",null,"",""]
["",null,"",{"$f":"IF(B46<>\"\",VLOOKUP(IF(ISNUMBER(B46),TEXT(B46,\"0\"),B46),Pricelist!$A$53:$F$60643,6,FALSE),\"\")","v":""},{"$f":"IF(B46<>\"\",VLOOKUP(IF(ISNUMBER(B46),TEXT(B46,\"0\"),B46),Pricelist!$A$3:$F$60643,2,FALSE),\"\")","v":""},{"$f":"IF(B46<>\"\",VLOOKUP(IF(ISNUMBER(B46),TEXT(B46,\"0\"),B46),Pricelist!$A$53:$F$60643,5,FALSE),\"\")","v":""},{"$f":"IF(B46<>\"\",VLOOKUP(IF(ISNUMBER(B46),TEXT(B46,\"0\"),B46),Pricelist!$A$3:$F$60643,3,FALSE),\"\")","v":""},"",{"$f":"IF(B46<>\"\",VLOOKUP(IF(ISNUMBER(B46),TEXT(B46,\"0\"),B46),Pricelist!$A$3:$F$60643,4,FALSE),\"\")","v":""},"","",null,null,null,null,"","","",""]
["",null,"",{"$f":"IF(B47<>\"\",VLOOKUP(IF(ISNUMBER(B47),TEXT(B47,\"0\"),B47),Pricelist!$A$53:$F$60643,6,FALSE),\"\")","v":""},{"$f":"IF(B47<>\"\",VLOOKUP(IF(ISNUMBER(B47),TEXT(B47,\"0\"),B47),Pricelist!$A$3:$F$60643,2,FALSE),\"\")","v":""},{"$f":"IF(B47<>\"\",VLOOKUP(IF(ISNUMBER(B47),TEXT(B47,\"0\"),B47),Pricelist!$A$53:$F$60643,5,FALSE),\"\")","v":""},{"$f":"IF(B47<>\"\",VLOOKUP(IF(ISNUMBER(B47),TEXT(B47,\"0\"),B47),Pricelist!$A$3:$F$60643,3,FALSE),\"\")","v":""},"",{"$f":"IF(B47<>\"\",VLOOKUP(IF(ISNUMBER(B47),TEXT(B47,\"0\"),B47),Pricelist!$A$3:$F$60643,4,FALSE),\"\")","v":""},"","",null,null,null,null,"","","",""]
["",null,"",{"$f":"IF(B48<>\"\",VLOOKUP(IF(ISNUMBER(B48),TEXT(B48,\"0\"),B48),Pricelist!$A$53:$F$60643,6,FALSE),\"\")","v":""},{"$f":"IF(B48<>\"\",VLOOKUP(IF(ISNUMBER(B48),TEXT(B48,\"0\"),B48),Pricelist!$A$3:$F$60643,2,FALSE),\"\")","v":""},{"$f":"IF(B48<>\"\",VLOOKUP(IF(ISNUMBER(B48),TEXT(B48,\"0\"),B48),Pricelist!$A$53:$F$60643,5,FALSE),\"\")","v":""},{"$f":"IF(B48<>\"\",VLOOKUP(IF(ISNUMBER(B48),TEXT(B48,\"0\"),B48),Pricelist!$A$3:$F$60643,3,FALSE),\"\")","v":""},"",{"$f":"IF(B48<>\"\",VLOOKUP(IF(ISNUMBER(B48),TEXT(B48,\"0\"),B48),Pricelist!$A$3:$F$60643,4,FALSE),\"\")","v":""},"","",null,null,null,null,"","","",""]
["",null,"",{"$f":"IF(B49<>\"\",VLOOKUP(IF(ISNUMBER(B49),TEXT(B49,\"0\"),B49),Pricelist!$A$53:$F$60643,6,FALSE),\"\")","v":""},{"$f":"IF(B49<>\"\",VLOOKUP(IF(ISNUMBER(B49),TEXT(B49,\"0\"),B49),Pricelist!$A$3:$F$60643,2,FALSE),\"\")","v":""},{"$f":"IF(B49<>\"\",VLOOKUP(IF(ISNUMBER(B49),TEXT(B49,\"0\"),B49),Pricelist!$A$53:$F$60643,5,FALSE),\"\")","v":""},{"$f":"IF(B49<>\"\",VLOOKUP(IF(ISNUMBER(B49),TEXT(B49,\"0\"),B49),Pricelist!$A$3:$F$60643,3,FALSE),\"\")","v":""},"",{"$f":"IF(B49<>\"\",VLOOKUP(IF(ISNUMBER(B49),TEXT(B49,\"0\"),B49),Pricelist!$A$3:$F$60643,4,FALSE),\"\")","v":""},"","",null,null,null,null,"","","",""]
["",null,"",{"$f":"IF(B50<>\"\",VLOOKUP(IF(ISNUMBER(B50),TEXT(B50,\"0\"),B50),Pricelist!$A$53:$F$60643,6,FALSE),\"\")","v":""},{"$f":"IF(B50<>\"\",VLOOKUP(IF(ISNUMBER(B50),TEXT(B50,\"0\"),B50),Pricelist!$A$3:$F$60643,2,FALSE),\"\")","v":""},{"$f":"IF(B50<>\"\",VLOOKUP(IF(ISNUMBER(B50),TEXT(B50,\"0\"),B50),Pricelist!$A$53:$F$60643,5,FALSE),\"\")","v":""},{"$f":"IF(B50<>\"\",VLOOKUP(IF(ISNUMBER(B50),TEXT(B50,\"0\"),B50),Pricelist!$A$3:$F$60643,3,FALSE),\"\")","v":""},"",{"$f":"IF(B50<>\"\",VLOOKUP(IF(ISNUMBER(B50),TEXT(B50,\"0\"),B50),Pricelist!$A$3:$F$60643,4,FALSE),\"\")","v":""},"","",null,null,null,null,"","","",""]
["",null,"",{"$f":"IF(B51<>\"\",VLOOKUP(IF(ISNUMBER(B51),TEXT(B51,\"0\"),B51),Pricelist!$A$53:$F$60643,6,FALSE),\"\")","v":""},{"$f":"IF(B51<>\"\",VLOOKUP(IF(ISNUMBER(B51),TEXT(B51,\"0\"),B51),Pricelist!$A$3:$F$60643,2,FALSE),\"\")","v":""},{"$f":"IF(B51<>\"\",VLOOKUP(IF(ISNUMBER(B51),TEXT(B51,\"0\"),B51),Pricelist!$A$53:$F$60643,5,FALSE),\"\")","v":""},{"$f":"IF(B51<>\"\",VLOOKUP(IF(ISNUMBER(B51),TEXT(B51,\"0\"),B51),Pricelist!$A$3:$F$60643,3,FALSE),\"\")","v":""},"",{"$f":"IF(B51<>\"\",VLOOKUP(IF(ISNUMBER(B51),TEXT(B51,\"0\"),B51),Pricelist!$A$3:$F$60643,4,FALSE),\"\")","v":""},"","",null,null,null,null,"","","",""]
["",null,"",{"$f":"IF(B52<>\"\",VLOOKUP(IF(ISNUMBER(B52),TEXT(B52,\"0\"),B52),Pricelist!$A$53:$F$60643,6,FALSE),\"\")","v":""},{"$f":"IF(B52<>\"\",VLOOKUP(IF(ISNUMBER(B52),TEXT(B52,\"0\"),B52),Pricelist!$A$3:$F$60643,2,FALSE),\"\")","v":""},{"$f":"IF(B52<>\"\",VLOOKUP(IF(ISNUMBER(B52),TEXT(B52,\"0\"),B52),Pricelist!$A$53:$F$60643,5,FALSE),\"\")","v":""},{"$f":"IF(B52<>\"\",VLOOKUP(IF(ISNUMBER(B52),TEXT(B52,\"0\"),B52),Pricelist!$A$3:$F$60643,3,FALSE),\"\")","v":""},"",{"$f":"IF(B52<>\"\",VLOOKUP(IF(ISNUMBER(B52),TEXT(B52,\"0\"),B52),Pricelist!$A$3:$F$60643,4,FALSE),\"\")","v":""},"","",null,null,null,null,"","","",""]
["",null,"",{"$f":"IF(B53<>\"\",VLOOKUP(IF(ISNUMBER(B53),TEXT(B53,\"0\"),B53),Pricelist!$A$53:$F$60643,6,FALSE),\"\")","v":""},{"$f":"IF(B53<>\"\",VLOOKUP(IF(ISNUMBER(B53),TEXT(B53,\"0\"),B53),Pricelist!$A$3:$F$60643,2,FALSE),\"\")","v":""},{"$f":"IF(B53<>\"\",VLOOKUP(IF(ISNUMBER(B53),TEXT(B53,\"0\"),B53),Pricelist!$A$53:$F$60643,5,FALSE),\"\")","v":""},{"$f":"IF(B53<>\"\",VLOOKUP(IF(ISNUMBER(B53),TEXT(B53,\"0\"),B53),Pricelist!$A$3:$F$60643,3,FALSE),\"\")","v":""},"",{"$f":"IF(B53<>\"\",VLOOKUP(IF(ISNUMBER(B53),TEXT(B53,\"0\"),B53),Pricelist!$A$3:$F$60643,4,FALSE),\"\")","v":""},"","",null,null,null,null,"","","",""]
["",null,"",{"$f":"IF(B54<>\"\",VLOOKUP(IF(ISNUMBER(B54),TEXT(B54,\"0\"),B54),Pricelist!$A$53:$F$60643,6,FALSE),\"\")","v":""},{"$f":"IF(B54<>\"\",VLOOKUP(IF(ISNUMBER(B54),TEXT(B54,\"0\"),B54),Pricelist!$A$3:$F$60643,2,FALSE),\"\")","v":""},{"$f":"IF(B54<>\"\",VLOOKUP(IF(ISNUMBER(B54),TEXT(B54,\"0\"),B54),Pricelist!$A$53:$F$60643,5,FALSE),\"\")","v":""},{"$f":"IF(B54<>\"\",VLOOKUP(IF(ISNUMBER(B54),TEXT(B54,\"0\"),B54),Pricelist!$A$3:$F$60643,3,FALSE),\"\")","v":""},"",{"$f":"IF(B54<>\"\",VLOOKUP(IF(ISNUMBER(B54),TEXT(B54,\"0\"),B54),Pricelist!$A$3:$F$60643,4,FALSE),\"\")","v":""},"","",null,null,null,null,"","","",""]
["",null,"",{"$f":"IF(B55<>\"\",VLOOKUP(IF(ISNUMBER(B55),TEXT(B55,\"0\"),B55),Pricelist!$A$53:$F$60643,6,FALSE),\"\")","v":""},{"$f":"IF(B55<>\"\",VLOOKUP(IF(ISNUMBER(B55),TEXT(B55,\"0\"),B55),Pricelist!$A$3:$F$60643,2,FALSE),\"\")","v":""},{"$f":"IF(B55<>\"\",VLOOKUP(IF(ISNUMBER(B55),TEXT(B55,\"0\"),B55),Pricelist!$A$53:$F$60643,5,FALSE),\"\")","v":""},{"$f":"IF(B55<>\"\",VLOOKUP(IF(ISNUMBER(B55),TEXT(B55,\"0\"),B55),Pricelist!$A$3:$F$60643,3,FALSE),\"\")","v":""},"",{"$f":"IF(B55<>\"\",VLOOKUP(IF(ISNUMBER(B55),TEXT(B55,\"0\"),B55),Pricelist!$A$3:$F$60643,4,FALSE),\"\")","v":""},"","",null,null,null,null,"","","",""]
["",null,"",{"$f":"IF(B56<>\"\",VLOOKUP(IF(ISNUMBER(B56),TEXT(B56,\"0\"),B56),Pricelist!$A$53:$F$60643,6,FALSE),\"\")","v":""},{"$f":"IF(B56<>\"\",VLOOKUP(IF(ISNUMBER(B56),TEXT(B56,\"0\"),B56),Pricelist!$A$3:$F$60643,2,FALSE),\"\")","v":""},{"$f":"IF(B56<>\"\",VLOOKUP(IF(ISNUMBER(B56),TEXT(B56,\"0\"),B56),Pricelist!$A$53:$F$60643,5,FALSE),\"\")","v":""},{"$f":"IF(B56<>\"\",VLOOKUP(IF(ISNUMBER(B56),TEXT(B56,\"0\"),B56),Pricelist!$A$3:$F$60643,3,FALSE),\"\")","v":""},"",{"$f":"IF(B56<>\"\",VLOOKUP(IF(ISNUMBER(B56),TEXT(B56,\"0\"),B56),Pricelist!$A$3:$F$60643,4,FALSE),\"\")","v":""},"","",null,null,null,null,"","","",""]
["",null,"",{"$f":"IF(B57<>\"\",VLOOKUP(IF(ISNUMBER(B57),TEXT(B57,\"0\"),B57),Pricelist!$A$53:$F$60643,6,FALSE),\"\")","v":""},{"$f":"IF(B57<>\"\",VLOOKUP(IF(ISNUMBER(B57),TEXT(B57,\"0\"),B57),Pricelist!$A$3:$F$60643,2,FALSE),\"\")","v":""},{"$f":"IF(B57<>\"\",VLOOKUP(IF(ISNUMBER(B57),TEXT(B57,\"0\"),B57),Pricelist!$A$53:$F$60643,5,FALSE),\"\")","v":""},{"$f":"IF(B57<>\"\",VLOOKUP(IF(ISNUMBER(B57),TEXT(B57,\"0\"),B57),Pricelist!$A$3:$F$60643,3,FALSE),\"\")","v":""},"",{"$f":"IF(B57<>\"\",VLOOKUP(IF(ISNUMBER(B57),TEXT(B57,\"0\"),B57),Pricelist!$A$3:$F$60643,4,FALSE),\"\")","v":""},"","",null,null,null,null,"","","",""]
["",null,"",{"$f":"IF(B58<>\"\",VLOOKUP(IF(ISNUMBER(B58),TEXT(B58,\"0\"),B58),Pricelist!$A$53:$F$60643,6,FALSE),\"\")","v":""},{"$f":"IF(B58<>\"\",VLOOKUP(IF(ISNUMBER(B58),TEXT(B58,\"0\"),B58),Pricelist!$A$3:$F$60643,2,FALSE),\"\")","v":""},{"$f":"IF(B58<>\"\",VLOOKUP(IF(ISNUMBER(B58),TEXT(B58,\"0\"),B58),Pricelist!$A$53:$F$60643,5,FALSE),\"\")","v":""},{"$f":"IF(B58<>\"\",VLOOKUP(IF(ISNUMBER(B58),TEXT(B58,\"0\"),B58),Pricelist!$A$3:$F$60643,3,FALSE),\"\")","v":""},"",{"$f":"IF(B58<>\"\",VLOOKUP(IF(ISNUMBER(B58),TEXT(B58,\"0\"),B58),Pricelist!$A$3:$F$60643,4,FALSE),\"\")","v":""},"","",null,null,null,null,"","","",""]
["",null,"",{"$f":"IF(B59<>\"\",VLOOKUP(IF(ISNUMBER(B59),TEXT(B59,\"0\"),B59),Pricelist!$A$53:$F$60643,6,FALSE),\"\")","v":""},{"$f":"IF(B59<>\"\",VLOOKUP(IF(ISNUMBER(B59),TEXT(B59,\"0\"),B59),Pricelist!$A$3:$F$60643,2,FALSE),\"\")","v":""},{"$f":"IF(B59<>\"\",VLOOKUP(IF(ISNUMBER(B59),TEXT(B59,\"0\"),B59),Pricelist!$A$53:$F$60643,5,FALSE),\"\")","v":""},{"$f":"IF(B59<>\"\",VLOOKUP(IF(ISNUMBER(B59),TEXT(B59,\"0\"),B59),Pricelist!$A$3:$F$60643,3,FALSE),\"\")","v":""},"",{"$f":"IF(B59<>\"\",VLOOKUP(IF(ISNUMBER(B59),TEXT(B59,\"0\"),B59),Pricelist!$A$3:$F$60643,4,FALSE),\"\")","v":""},"","",null,null,null,null,"","","",""]
["",null,"",{"$f":"IF(B60<>\"\",VLOOKUP(IF(ISNUMBER(B60),TEXT(B60,\"0\"),B60),Pricelist!$A$53:$F$60643,6,FALSE),\"\")","v":""},{"$f":"IF(B60<>\"\",VLOOKUP(IF(ISNUMBER(B60),TEXT(B60,\"0\"),B60),Pricelist!$A$3:$F$60643,2,FALSE),\"\")","v":""},{"$f":"IF(B60<>\"\",VLOOKUP(IF(ISNUMBER(B60),TEXT(B60,\"0\"),B60),Pricelist!$A$53:$F$60643,5,FALSE),\"\")","v":""},{"$f":"IF(B60<>\"\",VLOOKUP(IF(ISNUMBER(B60),TEXT(B60,\"0\"),B60),Pricelist!$A$3:$F$60643,3,FALSE),\"\")","v":""},"",{"$f":"IF(B60<>\"\",VLOOKUP(IF(ISNUMBER(B60),TEXT(B60,\"0\"),B60),Pricelist!$A$3:$F$60643,4,FALSE),\"\")","v":""},"","",null,null,null,null,"","","",""]
["",null,"",{"$f":"IF(B61<>\"\",VLOOKUP(IF(ISNUMBER(B61),TEXT(B61,\"0\"),B61),Pricelist!$A$53:$F$60643,6,FALSE),\"\")","v":""},{"$f":"IF(B61<>\"\",VLOOKUP(IF(ISNUMBER(B61),TEXT(B61,\"0\"),B61),Pricelist!$A$3:$F$60643,2,FALSE),\"\")","v":""},{"$f":"IF(B61<>\"\",VLOOKUP(IF(ISNUMBER(B61),TEXT(B61,\"0\"),B61),Pricelist!$A$53:$F$60643,5,FALSE),\"\")","v":""},{"$f":"IF(B61<>\"\",VLOOKUP(IF(ISNUMBER(B61),TEXT(B61,\"0\"),B61),Pricelist!$A$3:$F$60643,3,FALSE),\"\")","v":""},"",{"$f":"IF(B61<>\"\",VLOOKUP(IF(ISNUMBER(B61),TEXT(B61,\"0\"),B61),Pricelist!$A$3:$F$60643,4,FALSE),\"\")","v":""},"","",null,null,null,null,"","","",""]
["",null,"",{"$f":"IF(B62<>\"\",VLOOKUP(IF(ISNUMBER(B62),TEXT(B62,\"0\"),B62),Pricelist!$A$53:$F$60643,6,FALSE),\"\")","v":""},{"$f":"IF(B62<>\"\",VLOOKUP(IF(ISNUMBER(B62),TEXT(B62,\"0\"),B62),Pricelist!$A$3:$F$60643,2,FALSE),\"\")","v":""},{"$f":"IF(B62<>\"\",VLOOKUP(IF(ISNUMBER(B62),TEXT(B62,\"0\"),B62),Pricelist!$A$53:$F$60643,5,FALSE),\"\")","v":""},{"$f":"IF(B62<>\"\",VLOOKUP(IF(ISNUMBER(B62),TEXT(B62,\"0\"),B62),Pricelist!$A$3:$F$60643,3,FALSE),\"\")","v":""},"",{"$f":"IF(B62<>\"\",VLOOKUP(IF(ISNUMBER(B62),TEXT(B62,\"0\"),B62),Pricelist!$A$3:$F$60643,4,FALSE),\"\")","v":""},"","",null,null,null,null,"","","",""]
["",null,"",{"$f":"IF(B63<>\"\",VLOOKUP(IF(ISNUMBER(B63),TEXT(B63,\"0\"),B63),Pricelist!$A$53:$F$60643,6,FALSE),\"\")","v":""},{"$f":"IF(B63<>\"\",VLOOKUP(IF(ISNUMBER(B63),TEXT(B63,\"0\"),B63),Pricelist!$A$3:$F$60643,2,FALSE),\"\")","v":""},{"$f":"IF(B63<>\"\",VLOOKUP(IF(ISNUMBER(B63),TEXT(B63,\"0\"),B63),Pricelist!$A$53:$F$60643,5,FALSE),\"\")","v":""},{"$f":"IF(B63<>\"\",VLOOKUP(IF(ISNUMBER(B63),TEXT(B63,\"0\"),B63),Pricelist!$A$3:$F$60643,3,FALSE),\"\")","v":""},"",{"$f":"IF(B63<>\"\",VLOOKUP(IF(ISNUMBER(B63),TEXT(B63,\"0\"),B63),Pricelist!$A$3:$F$60643,4,FALSE),\"\")","v":""},"","",null,null,null,null,"","","",""]
["",null,"",{"$f":"IF(B64<>\"\",VLOOKUP(IF(ISNUMBER(B64),TEXT(B64,\"0\"),B64),Pricelist!$A$53:$F$60643,6,FALSE),\"\")","v":""},{"$f":"IF(B64<>\"\",VLOOKUP(IF(ISNUMBER(B64),TEXT(B64,\"0\"),B64),Pricelist!$A$3:$F$60643,2,FALSE),\"\")","v":""},{"$f":"IF(B64<>\"\",VLOOKUP(IF(ISNUMBER(B64),TEXT(B64,\"0\"),B64),Pricelist!$A$53:$F$60643,5,FALSE),\"\")","v":""},{"$f":"IF(B64<>\"\",VLOOKUP(IF(ISNUMBER(B64),TEXT(B64,\"0\"),B64),Pricelist!$A$3:$F$60643,3,FALSE),\"\")","v":""},"",{"$f":"IF(B64<>\"\",VLOOKUP(IF(ISNUMBER(B64),TEXT(B64,\"0\"),B64),Pricelist!$A$3:$F$60643,4,FALSE),\"\")","v":""},"","",null,null,null,null,"","","",""]
["",null,"",{"$f":"IF(B65<>\"\",VLOOKUP(IF(ISNUMBER(B65),TEXT(B65,\"0\"),B65),Pricelist!$A$53:$F$60643,6,FALSE),\"\")","v":""},{"$f":"IF(B65<>\"\",VLOOKUP(IF(ISNUMBER(B65),TEXT(B65,\"0\"),B65),Pricelist!$A$3:$F$60643,2,FALSE),\"\")","v":""},{"$f":"IF(B65<>\"\",VLOOKUP(IF(ISNUMBER(B65),TEXT(B65,\"0\"),B65),Pricelist!$A$53:$F$60643,5,FALSE),\"\")","v":""},{"$f":"IF(B65<>\"\",VLOOKUP(IF(ISNUMBER(B65),TEXT(B65,\"0\"),B65),Pricelist!$A$3:$F$60643,3,FALSE),\"\")","v":""},"",{"$f":"IF(B65<>\"\",VLOOKUP(IF(ISNUMBER(B65),TEXT(B65,\"0\"),B65),Pricelist!$A$3:$F$60643,4,FALSE),\"\")","v":""},"","",null,null,null,null,"","","",""]
["",null,"",{"$f":"IF(B66<>\"\",VLOOKUP(IF(ISNUMBER(B66),TEXT(B66,\"0\"),B66),Pricelist!$A$53:$F$60643,6,FALSE),\"\")","v":""},{"$f":"IF(B66<>\"\",VLOOKUP(IF(ISNUMBER(B66),TEXT(B66,\"0\"),B66),Pricelist!$A$3:$F$60643,2,FALSE),\"\")","v":""},{"$f":"IF(B66<>\"\",VLOOKUP(IF(ISNUMBER(B66),TEXT(B66,\"0\"),B66),Pricelist!$A$53:$F$60643,5,FALSE),\"\")","v":""},{"$f":"IF(B66<>\"\",VLOOKUP(IF(ISNUMBER(B66),TEXT(B66,\"0\"),B66),Pricelist!$A$3:$F$60643,3,FALSE),\"\")","v":""},"",{"$f":"IF(B66<>\"\",VLOOKUP(IF(ISNUMBER(B66),TEXT(B66,\"0\"),B66),Pricelist!$A$3:$F$60643,4,FALSE),\"\")","v":""},"","",null,null,null,null,"","","",""]
["",null,"",{"$f":"IF(B67<>\"\",VLOOKUP(IF(ISNUMBER(B67),TEXT(B67,\"0\"),B67),Pricelist!$A$53:$F$60643,6,FALSE),\"\")","v":""},{"$f":"IF(B67<>\"\",VLOOKUP(IF(ISNUMBER(B67),TEXT(B67,\"0\"),B67),Pricelist!$A$3:$F$60643,2,FALSE),\"\")","v":""},{"$f":"IF(B67<>\"\",VLOOKUP(IF(ISNUMBER(B67),TEXT(B67,\"0\"),B67),Pricelist!$A$53:$F$60643,5,FALSE),\"\")","v":""},{"$f":"IF(B67<>\"\",VLOOKUP(IF(ISNUMBER(B67),TEXT(B67,\"0\"),B67),Pricelist!$A$3:$F$60643,3,FALSE),\"\")","v":""},"",{"$f":"IF(B67<>\"\",VLOOKUP(IF(ISNUMBER(B67),TEXT(B67,\"0\"),B67),Pricelist!$A$3:$F$60643,4,FALSE),\"\")","v":""},"","",null,null,null,null,"","","",""]
["",null,"",{"$f":"IF(B68<>\"\",VLOOKUP(IF(ISNUMBER(B68),TEXT(B68,\"0\"),B68),Pricelist!$A$53:$F$60643,6,FALSE),\"\")","v":""},{"$f":"IF(B68<>\"\",VLOOKUP(IF(ISNUMBER(B68),TEXT(B68,\"0\"),B68),Pricelist!$A$3:$F$60643,2,FALSE),\"\")","v":""},{"$f":"IF(B68<>\"\",VLOOKUP(IF(ISNUMBER(B68),TEXT(B68,\"0\"),B68),Pricelist!$A$53:$F$60643,5,FALSE),\"\")","v":""},{"$f":"IF(B68<>\"\",VLOOKUP(IF(ISNUMBER(B68),TEXT(B68,\"0\"),B68),Pricelist!$A$3:$F$60643,3,FALSE),\"\")","v":""},"",{"$f":"IF(B68<>\"\",VLOOKUP(IF(ISNUMBER(B68),TEXT(B68,\"0\"),B68),Pricelist!$A$3:$F$60643,4,FALSE),\"\")","v":""},"","",null,null,null,null,"","","",""]
["",null,"",{"$f":"IF(B69<>\"\",VLOOKUP(IF(ISNUMBER(B69),TEXT(B69,\"0\"),B69),Pricelist!$A$53:$F$60643,6,FALSE),\"\")","v":""},{"$f":"IF(B69<>\"\",VLOOKUP(IF(ISNUMBER(B69),TEXT(B69,\"0\"),B69),Pricelist!$A$3:$F$60643,2,FALSE),\"\")","v":""},{"$f":"IF(B69<>\"\",VLOOKUP(IF(ISNUMBER(B69),TEXT(B69,\"0\"),B69),Pricelist!$A$53:$F$60643,5,FALSE),\"\")","v":""},{"$f":"IF(B69<>\"\",VLOOKUP(IF(ISNUMBER(B69),TEXT(B69,\"0\"),B69),Pricelist!$A$3:$F$60643,3,FALSE),\"\")","v":""},"",{"$f":"IF(B69<>\"\",VLOOKUP(IF(ISNUMBER(B69),TEXT(B69,\"0\"),B69),Pricelist!$A$3:$F$60643,4,FALSE),\"\")","v":""},"","",null,null,null,null,"","","",""]
["",null,"",{"$f":"IF(B70<>\"\",VLOOKUP(IF(ISNUMBER(B70),TEXT(B70,\"0\"),B70),Pricelist!$A$53:$F$60643,6,FALSE),\"\")","v":""},{"$f":"IF(B70<>\"\",VLOOKUP(IF(ISNUMBER(B70),TEXT(B70,\"0\"),B70),Pricelist!$A$3:$F$60643,2,FALSE),\"\")","v":""},{"$f":"IF(B70<>\"\",VLOOKUP(IF(ISNUMBER(B70),TEXT(B70,\"0\"),B70),Pricelist!$A$53:$F$60643,5,FALSE),\"\")","v":""},{"$f":"IF(B70<>\"\",VLOOKUP(IF(ISNUMBER(B70),TEXT(B70,\"0\"),B70),Pricelist!$A$3:$F$60643,3,FALSE),\"\")","v":""},"",{"$f":"IF(B70<>\"\",VLOOKUP(IF(ISNUMBER(B70),TEXT(B70,\"0\"),B70),Pricelist!$A$3:$F$60643,4,FALSE),\"\")","v":""},"","",null,null,null,null,"","","",""]
["",null,"",{"$f":"IF(B71<>\"\",VLOOKUP(IF(ISNUMBER(B71),TEXT(B71,\"0\"),B71),Pricelist!$A$53:$F$60643,6,FALSE),\"\")","v":""},{"$f":"IF(B71<>\"\",VLOOKUP(IF(ISNUMBER(B71),TEXT(B71,\"0\"),B71),Pricelist!$A$3:$F$60643,2,FALSE),\"\")","v":""},{"$f":"IF(B71<>\"\",VLOOKUP(IF(ISNUMBER(B71),TEXT(B71,\"0\"),B71),Pricelist!$A$53:$F$60643,5,FALSE),\"\")","v":""},{"$f":"IF(B71<>\"\",VLOOKUP(IF(ISNUMBER(B71),TEXT(B71,\"0\"),B71),Pricelist!$A$3:$F$60643,3,FALSE),\"\")","v":""},"",{"$f":"IF(B71<>\"\",VLOOKUP(IF(ISNUMBER(B71),TEXT(B71,\"0\"),B71),Pricelist!$A$3:$F$60643,4,FALSE),\"\")","v":""},"","",null,null,null,null,"","","",""]
["",null,"",{"$f":"IF(B72<>\"\",VLOOKUP(IF(ISNUMBER(B72),TEXT(B72,\"0\"),B72),Pricelist!$A$53:$F$60643,6,FALSE),\"\")","v":""},{"$f":"IF(B72<>\"\",VLOOKUP(IF(ISNUMBER(B72),TEXT(B72,\"0\"),B72),Pricelist!$A$3:$F$60643,2,FALSE),\"\")","v":""},{"$f":"IF(B72<>\"\",VLOOKUP(IF(ISNUMBER(B72),TEXT(B72,\"0\"),B72),Pricelist!$A$53:$F$60643,5,FALSE),\"\")","v":""},{"$f":"IF(B72<>\"\",VLOOKUP(IF(ISNUMBER(B72),TEXT(B72,\"0\"),B72),Pricelist!$A$3:$F$60643,3,FALSE),\"\")","v":""},"",{"$f":"IF(B72<>\"\",VLOOKUP(IF(ISNUMBER(B72),TEXT(B72,\"0\"),B72),Pricelist!$A$3:$F$60643,4,FALSE),\"\")","v":""},"","",null,null,null,null,"","","",""]
["",null,"",{"$f":"IF(B73<>\"\",VLOOKUP(IF(ISNUMBER(B73),TEXT(B73,\"0\"),B73),Pricelist!$A$53:$F$60643,6,FALSE),\"\")","v":""},{"$f":"IF(B73<>\"\",VLOOKUP(IF(ISNUMBER(B73),TEXT(B73,\"0\"),B73),Pricelist!$A$3:$F$60643,2,FALSE),\"\")","v":""},{"$f":"IF(B73<>\"\",VLOOKUP(IF(ISNUMBER(B73),TEXT(B73,\"0\"),B73),Pricelist!$A$53:$F$60643,5,FALSE),\"\")","v":""},{"$f":"IF(B73<>\"\",VLOOKUP(IF(ISNUMBER(B73),TEXT(B73,\"0\"),B73),Pricelist!$A$3:$F$60643,3,FALSE),\"\")","v":""},"",{"$f":"IF(B73<>\"\",VLOOKUP(IF(ISNUMBER(B73),TEXT(B73,\"0\"),B73),Pricelist!$A$3:$F$60643,4,FALSE),\"\")","v":""},"","",null,null,null,null,"","","",""]
["",null,"",{"$f":"IF(B74<>\"\",VLOOKUP(IF(ISNUMBER(B74),TEXT(B74,\"0\"),B74),Pricelist!$A$53:$F$60643,6,FALSE),\"\")","v":""},{"$f":"IF(B74<>\"\",VLOOKUP(IF(ISNUMBER(B74),TEXT(B74,\"0\"),B74),Pricelist!$A$3:$F$60643,2,FALSE),\"\")","v":""},{"$f":"IF(B74<>\"\",VLOOKUP(IF(ISNUMBER(B74),TEXT(B74,\"0\"),B74),Pricelist!$A$53:$F$60643,5,FALSE),\"\")","v":""},{"$f":"IF(B74<>\"\",VLOOKUP(IF(ISNUMBER(B74),TEXT(B74,\"0\"),B74),Pricelist!$A$3:$F$60643,3,FALSE),\"\")","v":""},"",{"$f":"IF(B74<>\"\",VLOOKUP(IF(ISNUMBER(B74),TEXT(B74,\"0\"),B74),Pricelist!$A$3:$F$60643,4,FALSE),\"\")","v":""},"","",null,null,null,null,"","","",""]
["",null,"",{"$f":"IF(B75<>\"\",VLOOKUP(IF(ISNUMBER(B75),TEXT(B75,\"0\"),B75),Pricelist!$A$53:$F$60643,6,FALSE),\"\")","v":""},{"$f":"IF(B75<>\"\",VLOOKUP(IF(ISNUMBER(B75),TEXT(B75,\"0\"),B75),Pricelist!$A$3:$F$60643,2,FALSE),\"\")","v":""},{"$f":"IF(B75<>\"\",VLOOKUP(IF(ISNUMBER(B75),TEXT(B75,\"0\"),B75),Pricelist!$A$53:$F$60643,5,FALSE),\"\")","v":""},{"$f":"IF(B75<>\"\",VLOOKUP(IF(ISNUMBER(B75),TEXT(B75,\"0\"),B75),Pricelist!$A$3:$F$60643,3,FALSE),\"\")","v":""},"",{"$f":"IF(B75<>\"\",VLOOKUP(IF(ISNUMBER(B75),TEXT(B75,\"0\"),B75),Pricelist!$A$3:$F$60643,4,FALSE),\"\")","v":""},"","",null,null,null,null,"","","",""]
[{"$f":"IF(B76<>\"\",A75+1,\"\")","v":""},null,{"$f":"IF(A76<>\"\",1,\"\")","v":""},{"$f":"IF(B76<>\"\",VLOOKUP(IF(ISNUMBER(B76),TEXT(B76,\"0\"),B76),Pricelist!$A$53:$F$60643,6,FALSE),\"\")","v":""},{"$f":"IF(B76<>\"\",VLOOKUP(IF(ISNUMBER(B76),TEXT(B76,\"0\"),B76),Pricelist!$A$3:$F$60643,2,FALSE),\"\")","v":""},{"$f":"IF(B76<>\"\",VLOOKUP(IF(ISNUMBER(B76),TEXT(B76,\"0\"),B76),Pricelist!$A$53:$F$60643,5,FALSE),\"\")","v":""},{"$f":"IF(B76<>\"\",VLOOKUP(IF(ISNUMBER(B76),TEXT(B76,\"0\"),B76),Pricelist!$A$3:$F$60643,3,FALSE),\"\")","v":""},{"$f":"IF(B76<>\"\",VLOOKUP(IF(ISNUMBER(I76),TEXT(I76,\"0\"),I76),$BD$12:$BE$44,2,FALSE),\"\")","v":""},{"$f":"IF(B76<>\"\",VLOOKUP(IF(ISNUMBER(B76),TEXT(B76,\"0\"),B76),Pricelist!$A$3:$F$60643,4,FALSE),\"\")","v":""},{"$f":"IF(B76<>\"\",G76*(1-H76),\"\")","v":""},{"$f":"IF(B76<>\"\",C76*(1-H76)*G76,\"\")","v":""},null,null,null,null,{"$f":"IF(B76<>\"\",$K$2,\"\")","v":""},"","",{"$f":"IF(R76=\"\",\"\",C76)","v":""}]
["",null,"",{"$f":"IF(B77<>\"\",VLOOKUP(IF(ISNUMBER(B77),TEXT(B77,\"0\"),B77),Pricelist!$A$53:$F$60643,6,FALSE),\"\")","v":""},{"$f":"IF(B77<>\"\",VLOOKUP(IF(ISNUMBER(B77),TEXT(B77,\"0\"),B77),Pricelist!$A$3:$F$60643,2,FALSE),\"\")","v":""},{"$f":"IF(B77<>\"\",VLOOKUP(IF(ISNUMBER(B77),TEXT(B77,\"0\"),B77),Pricelist!$A$53:$F$60643,5,FALSE),\"\")","v":""},{"$f":"IF(B77<>\"\",VLOOKUP(IF(ISNUMBER(B77),TEXT(B77,\"0\"),B77),Pricelist!$A$3:$F$60643,3,FALSE),\"\")","v":""},"",{"$f":"IF(B77<>\"\",VLOOKUP(IF(ISNUMBER(B77),TEXT(B77,\"0\"),B77),Pricelist!$A$3:$F$60643,4,FALSE),\"\")","v":""},"","",null,null,null,null,"","",{"$f":"IF(B77>1,B77,\"\")","v":""},""]
["",null,"",{"$f":"IF(B78<>\"\",VLOOKUP(IF(ISNUMBER(B78),TEXT(B78,\"0\"),B78),Pricelist!$A$53:$F$60643,6,FALSE),\"\")","v":""},{"$f":"IF(B78<>\"\",VLOOKUP(IF(ISNUMBER(B78),TEXT(B78,\"0\"),B78),Pricelist!$A$3:$F$60643,2,FALSE),\"\")","v":""},{"$f":"IF(B78<>\"\",VLOOKUP(IF(ISNUMBER(B78),TEXT(B78,\"0\"),B78),Pricelist!$A$53:$F$60643,5,FALSE),\"\")","v":""},{"$f":"IF(B78<>\"\",VLOOKUP(IF(ISNUMBER(B78),TEXT(B78,\"0\"),B78),Pricelist!$A$3:$F$60643,3,FALSE),\"\")","v":""},"",{"$f":"IF(B78<>\"\",VLOOKUP(IF(ISNUMBER(B78),TEXT(B78,\"0\"),B78),Pricelist!$A$3:$F$60643,4,FALSE),\"\")","v":""},"","",null,null,null,null,"","","",""]
["",null,"",{"$f":"IF(B79<>\"\",VLOOKUP(IF(ISNUMBER(B79),TEXT(B79,\"0\"),B79),Pricelist!$A$53:$F$60643,6,FALSE),\"\")","v":""},{"$f":"IF(B79<>\"\",VLOOKUP(IF(ISNUMBER(B79),TEXT(B79,\"0\"),B79),Pricelist!$A$3:$F$60643,2,FALSE),\"\")","v":""},{"$f":"IF(B79<>\"\",VLOOKUP(IF(ISNUMBER(B79),TEXT(B79,\"0\"),B79),Pricelist!$A$53:$F$60643,5,FALSE),\"\")","v":""},{"$f":"IF(B79<>\"\",VLOOKUP(IF(ISNUMBER(B79),TEXT(B79,\"0\"),B79),Pricelist!$A$3:$F$60643,3,FALSE),\"\")","v":""},"",{"$f":"IF(B79<>\"\",VLOOKUP(IF(ISNUMBER(B79),TEXT(B79,\"0\"),B79),Pricelist!$A$3:$F$60643,4,FALSE),\"\")","v":""},"","",null,null,null,null,"","","",""]
["",null,"",{"$f":"IF(B80<>\"\",VLOOKUP(IF(ISNUMBER(B80),TEXT(B80,\"0\"),B80),Pricelist!$A$53:$F$60643,6,FALSE),\"\")","v":""},{"$f":"IF(B80<>\"\",VLOOKUP(IF(ISNUMBER(B80),TEXT(B80,\"0\"),B80),Pricelist!$A$3:$F$60643,2,FALSE),\"\")","v":""},{"$f":"IF(B80<>\"\",VLOOKUP(IF(ISNUMBER(B80),TEXT(B80,\"0\"),B80),Pricelist!$A$53:$F$60643,5,FALSE),\"\")","v":""},{"$f":"IF(B80<>\"\",VLOOKUP(IF(ISNUMBER(B80),TEXT(B80,\"0\"),B80),Pricelist!$A$3:$F$60643,3,FALSE),\"\")","v":""},"",{"$f":"IF(B80<>\"\",VLOOKUP(IF(ISNUMBER(B80),TEXT(B80,\"0\"),B80),Pricelist!$A$3:$F$60643,4,FALSE),\"\")","v":""},"","",null,null,null,null,"","","",""]
["",null,"",{"$f":"IF(B81<>\"\",VLOOKUP(IF(ISNUMBER(B81),TEXT(B81,\"0\"),B81),Pricelist!$A$53:$F$60643,6,FALSE),\"\")","v":""},{"$f":"IF(B81<>\"\",VLOOKUP(IF(ISNUMBER(B81),TEXT(B81,\"0\"),B81),Pricelist!$A$3:$F$60643,2,FALSE),\"\")","v":""},{"$f":"IF(B81<>\"\",VLOOKUP(IF(ISNUMBER(B81),TEXT(B81,\"0\"),B81),Pricelist!$A$53:$F$60643,5,FALSE),\"\")","v":""},{"$f":"IF(B81<>\"\",VLOOKUP(IF(ISNUMBER(B81),TEXT(B81,\"0\"),B81),Pricelist!$A$3:$F$60643,3,FALSE),\"\")","v":""},"",{"$f":"IF(B81<>\"\",VLOOKUP(IF(ISNUMBER(B81),TEXT(B81,\"0\"),B81),Pricelist!$A$3:$F$60643,4,FALSE),\"\")","v":""},"","",null,null,null,null,"","","",""]
["",null,"",{"$f":"IF(B82<>\"\",VLOOKUP(IF(ISNUMBER(B82),TEXT(B82,\"0\"),B82),Pricelist!$A$53:$F$60643,6,FALSE),\"\")","v":""},{"$f":"IF(B82<>\"\",VLOOKUP(IF(ISNUMBER(B82),TEXT(B82,\"0\"),B82),Pricelist!$A$3:$F$60643,2,FALSE),\"\")","v":""},{"$f":"IF(B82<>\"\",VLOOKUP(IF(ISNUMBER(B82),TEXT(B82,\"0\"),B82),Pricelist!$A$53:$F$60643,5,FALSE),\"\")","v":""},{"$f":"IF(B82<>\"\",VLOOKUP(IF(ISNUMBER(B82),TEXT(B82,\"0\"),B82),Pricelist!$A$3:$F$60643,3,FALSE),\"\")","v":""},"",{"$f":"IF(B82<>\"\",VLOOKUP(IF(ISNUMBER(B82),TEXT(B82,\"0\"),B82),Pricelist!$A$3:$F$60643,4,FALSE),\"\")","v":""},"","",null,null,null,null,"","","",""]
["",null,"",{"$f":"IF(B83<>\"\",VLOOKUP(IF(ISNUMBER(B83),TEXT(B83,\"0\"),B83),Pricelist!$A$53:$F$60643,6,FALSE),\"\")","v":""},{"$f":"IF(B83<>\"\",VLOOKUP(IF(ISNUMBER(B83),TEXT(B83,\"0\"),B83),Pricelist!$A$3:$F$60643,2,FALSE),\"\")","v":""},{"$f":"IF(B83<>\"\",VLOOKUP(IF(ISNUMBER(B83),TEXT(B83,\"0\"),B83),Pricelist!$A$53:$F$60643,5,FALSE),\"\")","v":""},{"$f":"IF(B83<>\"\",VLOOKUP(IF(ISNUMBER(B83),TEXT(B83,\"0\"),B83),Pricelist!$A$3:$F$60643,3,FALSE),\"\")","v":""},"",{"$f":"IF(B83<>\"\",VLOOKUP(IF(ISNUMBER(B83),TEXT(B83,\"0\"),B83),Pricelist!$A$3:$F$60643,4,FALSE),\"\")","v":""},"","",null,null,null,null,"","","",""]
["",null,"",{"$f":"IF(B84<>\"\",VLOOKUP(IF(ISNUMBER(B84),TEXT(B84,\"0\"),B84),Pricelist!$A$53:$F$60643,6,FALSE),\"\")","v":""},{"$f":"IF(B84<>\"\",VLOOKUP(IF(ISNUMBER(B84),TEXT(B84,\"0\"),B84),Pricelist!$A$3:$F$60643,2,FALSE),\"\")","v":""},{"$f":"IF(B84<>\"\",VLOOKUP(IF(ISNUMBER(B84),TEXT(B84,\"0\"),B84),Pricelist!$A$53:$F$60643,5,FALSE),\"\")","v":""},{"$f":"IF(B84<>\"\",VLOOKUP(IF(ISNUMBER(B84),TEXT(B84,\"0\"),B84),Pricelist!$A$3:$F$60643,3,FALSE),\"\")","v":""},"",{"$f":"IF(B84<>\"\",VLOOKUP(IF(ISNUMBER(B84),TEXT(B84,\"0\"),B84),Pricelist!$A$3:$F$60643,4,FALSE),\"\")","v":""},"","",null,null,null,null,"","","",""]
["",null,"",{"$f":"IF(B85<>\"\",VLOOKUP(IF(ISNUMBER(B85),TEXT(B85,\"0\"),B85),Pricelist!$A$53:$F$60643,6,FALSE),\"\")","v":""},{"$f":"IF(B85<>\"\",VLOOKUP(IF(ISNUMBER(B85),TEXT(B85,\"0\"),B85),Pricelist!$A$3:$F$60643,2,FALSE),\"\")","v":""},{"$f":"IF(B85<>\"\",VLOOKUP(IF(ISNUMBER(B85),TEXT(B85,\"0\"),B85),Pricelist!$A$53:$F$60643,5,FALSE),\"\")","v":""},{"$f":"IF(B85<>\"\",VLOOKUP(IF(ISNUMBER(B85),TEXT(B85,\"0\"),B85),Pricelist!$A$3:$F$60643,3,FALSE),\"\")","v":""},"",{"$f":"IF(B85<>\"\",VLOOKUP(IF(ISNUMBER(B85),TEXT(B85,\"0\"),B85),Pricelist!$A$3:$F$60643,4,FALSE),\"\")","v":""},"","",null,null,null,null,"","","",""]
["",null,"",{"$f":"IF(B86<>\"\",VLOOKUP(IF(ISNUMBER(B86),TEXT(B86,\"0\"),B86),Pricelist!$A$53:$F$60643,6,FALSE),\"\")","v":""},{"$f":"IF(B86<>\"\",VLOOKUP(IF(ISNUMBER(B86),TEXT(B86,\"0\"),B86),Pricelist!$A$3:$F$60643,2,FALSE),\"\")","v":""},{"$f":"IF(B86<>\"\",VLOOKUP(IF(ISNUMBER(B86),TEXT(B86,\"0\"),B86),Pricelist!$A$53:$F$60643,5,FALSE),\"\")","v":""},{"$f":"IF(B86<>\"\",VLOOKUP(IF(ISNUMBER(B86),TEXT(B86,\"0\"),B86),Pricelist!$A$3:$F$60643,3,FALSE),\"\")","v":""},"",{"$f":"IF(B86<>\"\",VLOOKUP(IF(ISNUMBER(B86),TEXT(B86,\"0\"),B86),Pricelist!$A$3:$F$60643,4,FALSE),\"\")","v":""},"","",null,null,null,null,"","","",""]
["",null,"",{"$f":"IF(B87<>\"\",VLOOKUP(IF(ISNUMBER(B87),TEXT(B87,\"0\"),B87),Pricelist!$A$53:$F$60643,6,FALSE),\"\")","v":""},{"$f":"IF(B87<>\"\",VLOOKUP(IF(ISNUMBER(B87),TEXT(B87,\"0\"),B87),Pricelist!$A$3:$F$60643,2,FALSE),\"\")","v":""},{"$f":"IF(B87<>\"\",VLOOKUP(IF(ISNUMBER(B87),TEXT(B87,\"0\"),B87),Pricelist!$A$53:$F$60643,5,FALSE),\"\")","v":""},{"$f":"IF(B87<>\"\",VLOOKUP(IF(ISNUMBER(B87),TEXT(B87,\"0\"),B87),Pricelist!$A$3:$F$60643,3,FALSE),\"\")","v":""},"",{"$f":"IF(B87<>\"\",VLOOKUP(IF(ISNUMBER(B87),TEXT(B87,\"0\"),B87),Pricelist!$A$3:$F$60643,4,FALSE),\"\")","v":""},"","",null,null,null,null,"","","",""]
["",null,"",{"$f":"IF(B88<>\"\",VLOOKUP(IF(ISNUMBER(B88),TEXT(B88,\"0\"),B88),Pricelist!$A$53:$F$60643,6,FALSE),\"\")","v":""},{"$f":"IF(B88<>\"\",VLOOKUP(IF(ISNUMBER(B88),TEXT(B88,\"0\"),B88),Pricelist!$A$3:$F$60643,2,FALSE),\"\")","v":""},{"$f":"IF(B88<>\"\",VLOOKUP(IF(ISNUMBER(B88),TEXT(B88,\"0\"),B88),Pricelist!$A$53:$F$60643,5,FALSE),\"\")","v":""},{"$f":"IF(B88<>\"\",VLOOKUP(IF(ISNUMBER(B88),TEXT(B88,\"0\"),B88),Pricelist!$A$3:$F$60643,3,FALSE),\"\")","v":""},"",{"$f":"IF(B88<>\"\",VLOOKUP(IF(ISNUMBER(B88),TEXT(B88,\"0\"),B88),Pricelist!$A$3:$F$60643,4,FALSE),\"\")","v":""},"","",null,null,null,null,"","","",""]
["",null,"",{"$f":"IF(B89<>\"\",VLOOKUP(IF(ISNUMBER(B89),TEXT(B89,\"0\"),B89),Pricelist!$A$53:$F$60643,6,FALSE),\"\")","v":""},{"$f":"IF(B89<>\"\",VLOOKUP(IF(ISNUMBER(B89),TEXT(B89,\"0\"),B89),Pricelist!$A$3:$F$60643,2,FALSE),\"\")","v":""},{"$f":"IF(B89<>\"\",VLOOKUP(IF(ISNUMBER(B89),TEXT(B89,\"0\"),B89),Pricelist!$A$53:$F$60643,5,FALSE),\"\")","v":""},{"$f":"IF(B89<>\"\",VLOOKUP(IF(ISNUMBER(B89),TEXT(B89,\"0\"),B89),Pricelist!$A$3:$F$60643,3,FALSE),\"\")","v":""},"",{"$f":"IF(B89<>\"\",VLOOKUP(IF(ISNUMBER(B89),TEXT(B89,\"0\"),B89),Pricelist!$A$3:$F$60643,4,FALSE),\"\")","v":""},"","",null,null,null,null,"","","",""]
["",null,"",{"$f":"IF(B90<>\"\",VLOOKUP(IF(ISNUMBER(B90),TEXT(B90,\"0\"),B90),Pricelist!$A$53:$F$60643,6,FALSE),\"\")","v":""},{"$f":"IF(B90<>\"\",VLOOKUP(IF(ISNUMBER(B90),TEXT(B90,\"0\"),B90),Pricelist!$A$3:$F$60643,2,FALSE),\"\")","v":""},{"$f":"IF(B90<>\"\",VLOOKUP(IF(ISNUMBER(B90),TEXT(B90,\"0\"),B90),Pricelist!$A$53:$F$60643,5,FALSE),\"\")","v":""},{"$f":"IF(B90<>\"\",VLOOKUP(IF(ISNUMBER(B90),TEXT(B90,\"0\"),B90),Pricelist!$A$3:$F$60643,3,FALSE),\"\")","v":""},"",{"$f":"IF(B90<>\"\",VLOOKUP(IF(ISNUMBER(B90),TEXT(B90,\"0\"),B90),Pricelist!$A$3:$F$60643,4,FALSE),\"\")","v":""},"","",null,null,null,null,"","","",""]
["",null,"",{"$f":"IF(B91<>\"\",VLOOKUP(IF(ISNUMBER(B91),TEXT(B91,\"0\"),B91),Pricelist!$A$53:$F$60643,6,FALSE),\"\")","v":""},{"$f":"IF(B91<>\"\",VLOOKUP(IF(ISNUMBER(B91),TEXT(B91,\"0\"),B91),Pricelist!$A$3:$F$60643,2,FALSE),\"\")","v":""},{"$f":"IF(B91<>\"\",VLOOKUP(IF(ISNUMBER(B91),TEXT(B91,\"0\"),B91),Pricelist!$A$53:$F$60643,5,FALSE),\"\")","v":""},{"$f":"IF(B91<>\"\",VLOOKUP(IF(ISNUMBER(B91),TEXT(B91,\"0\"),B91),Pricelist!$A$3:$F$60643,3,FALSE),\"\")","v":""},"",{"$f":"IF(B91<>\"\",VLOOKUP(IF(ISNUMBER(B91),TEXT(B91,\"0\"),B91),Pricelist!$A$3:$F$60643,4,FALSE),\"\")","v":""},"","",null,null,null,null,"","","",""]
["",null,"",{"$f":"IF(B92<>\"\",VLOOKUP(IF(ISNUMBER(B92),TEXT(B92,\"0\"),B92),Pricelist!$A$53:$F$60643,6,FALSE),\"\")","v":""},{"$f":"IF(B92<>\"\",VLOOKUP(IF(ISNUMBER(B92),TEXT(B92,\"0\"),B92),Pricelist!$A$3:$F$60643,2,FALSE),\"\")","v":""},{"$f":"IF(B92<>\"\",VLOOKUP(IF(ISNUMBER(B92),TEXT(B92,\"0\"),B92),Pricelist!$A$53:$F$60643,5,FALSE),\"\")","v":""},{"$f":"IF(B92<>\"\",VLOOKUP(IF(ISNUMBER(B92),TEXT(B92,\"0\"),B92),Pricelist!$A$3:$F$60643,3,FALSE),\"\")","v":""},"",{"$f":"IF(B92<>\"\",VLOOKUP(IF(ISNUMBER(B92),TEXT(B92,\"0\"),B92),Pricelist!$A$3:$F$60643,4,FALSE),\"\")","v":""},"","",null,null,null,null,"","","",""]
["",null,"",{"$f":"IF(B93<>\"\",VLOOKUP(IF(ISNUMBER(B93),TEXT(B93,\"0\"),B93),Pricelist!$A$53:$F$60643,6,FALSE),\"\")","v":""},{"$f":"IF(B93<>\"\",VLOOKUP(IF(ISNUMBER(B93),TEXT(B93,\"0\"),B93),Pricelist!$A$3:$F$60643,2,FALSE),\"\")","v":""},{"$f":"IF(B93<>\"\",VLOOKUP(IF(ISNUMBER(B93),TEXT(B93,\"0\"),B93),Pricelist!$A$53:$F$60643,5,FALSE),\"\")","v":""},{"$f":"IF(B93<>\"\",VLOOKUP(IF(ISNUMBER(B93),TEXT(B93,\"0\"),B93),Pricelist!$A$3:$F$60643,3,FALSE),\"\")","v":""},"",{"$f":"IF(B93<>\"\",VLOOKUP(IF(ISNUMBER(B93),TEXT(B93,\"0\"),B93),Pricelist!$A$3:$F$60643,4,FALSE),\"\")","v":""},"","",null,null,null,null,"","","",""]
["",null,"",{"$f":"IF(B94<>\"\",VLOOKUP(IF(ISNUMBER(B94),TEXT(B94,\"0\"),B94),Pricelist!$A$53:$F$60643,6,FALSE),\"\")","v":""},{"$f":"IF(B94<>\"\",VLOOKUP(IF(ISNUMBER(B94),TEXT(B94,\"0\"),B94),Pricelist!$A$3:$F$60643,2,FALSE),\"\")","v":""},{"$f":"IF(B94<>\"\",VLOOKUP(IF(ISNUMBER(B94),TEXT(B94,\"0\"),B94),Pricelist!$A$53:$F$60643,5,FALSE),\"\")","v":""},{"$f":"IF(B94<>\"\",VLOOKUP(IF(ISNUMBER(B94),TEXT(B94,\"0\"),B94),Pricelist!$A$3:$F$60643,3,FALSE),\"\")","v":""},"",{"$f":"IF(B94<>\"\",VLOOKUP(IF(ISNUMBER(B94),TEXT(B94,\"0\"),B94),Pricelist!$A$3:$F$60643,4,FALSE),\"\")","v":""},"","",null,null,null,null,"","","",""]
["",null,"",{"$f":"IF(B95<>\"\",VLOOKUP(IF(ISNUMBER(B95),TEXT(B95,\"0\"),B95),Pricelist!$A$53:$F$60643,6,FALSE),\"\")","v":""},{"$f":"IF(B95<>\"\",VLOOKUP(IF(ISNUMBER(B95),TEXT(B95,\"0\"),B95),Pricelist!$A$3:$F$60643,2,FALSE),\"\")","v":""},{"$f":"IF(B95<>\"\",VLOOKUP(IF(ISNUMBER(B95),TEXT(B95,\"0\"),B95),Pricelist!$A$53:$F$60643,5,FALSE),\"\")","v":""},{"$f":"IF(B95<>\"\",VLOOKUP(IF(ISNUMBER(B95),TEXT(B95,\"0\"),B95),Pricelist!$A$3:$F$60643,3,FALSE),\"\")","v":""},"",{"$f":"IF(B95<>\"\",VLOOKUP(IF(ISNUMBER(B95),TEXT(B95,\"0\"),B95),Pricelist!$A$3:$F$60643,4,FALSE),\"\")","v":""},"","",null,null,null,null,"","","",""]
["",null,"",{"$f":"IF(B96<>\"\",VLOOKUP(IF(ISNUMBER(B96),TEXT(B96,\"0\"),B96),Pricelist!$A$53:$F$60643,6,FALSE),\"\")","v":""},{"$f":"IF(B96<>\"\",VLOOKUP(IF(ISNUMBER(B96),TEXT(B96,\"0\"),B96),Pricelist!$A$3:$F$60643,2,FALSE),\"\")","v":""},{"$f":"IF(B96<>\"\",VLOOKUP(IF(ISNUMBER(B96),TEXT(B96,\"0\"),B96),Pricelist!$A$53:$F$60643,5,FALSE),\"\")","v":""},{"$f":"IF(B96<>\"\",VLOOKUP(IF(ISNUMBER(B96),TEXT(B96,\"0\"),B96),Pricelist!$A$3:$F$60643,3,FALSE),\"\")","v":""},"",{"$f":"IF(B96<>\"\",VLOOKUP(IF(ISNUMBER(B96),TEXT(B96,\"0\"),B96),Pricelist!$A$3:$F$60643,4,FALSE),\"\")","v":""},"","",null,null,null,null,"","","",""]
["",null,"",{"$f":"IF(B97<>\"\",VLOOKUP(IF(ISNUMBER(B97),TEXT(B97,\"0\"),B97),Pricelist!$A$53:$F$60643,6,FALSE),\"\")","v":""},{"$f":"IF(B97<>\"\",VLOOKUP(IF(ISNUMBER(B97),TEXT(B97,\"0\"),B97),Pricelist!$A$3:$F$60643,2,FALSE),\"\")","v":""},{"$f":"IF(B97<>\"\",VLOOKUP(IF(ISNUMBER(B97),TEXT(B97,\"0\"),B97),Pricelist!$A$53:$F$60643,5,FALSE),\"\")","v":""},{"$f":"IF(B97<>\"\",VLOOKUP(IF(ISNUMBER(B97),TEXT(B97,\"0\"),B97),Pricelist!$A$3:$F$60643,3,FALSE),\"\")","v":""},"",{"$f":"IF(B97<>\"\",VLOOKUP(IF(ISNUMBER(B97),TEXT(B97,\"0\"),B97),Pricelist!$A$3:$F$60643,4,FALSE),\"\")","v":""},"","",null,null,null,null,"","","",""]
["",null,"",{"$f":"IF(B98<>\"\",VLOOKUP(IF(ISNUMBER(B98),TEXT(B98,\"0\"),B98),Pricelist!$A$53:$F$60643,6,FALSE),\"\")","v":""},{"$f":"IF(B98<>\"\",VLOOKUP(IF(ISNUMBER(B98),TEXT(B98,\"0\"),B98),Pricelist!$A$3:$F$60643,2,FALSE),\"\")","v":""},{"$f":"IF(B98<>\"\",VLOOKUP(IF(ISNUMBER(B98),TEXT(B98,\"0\"),B98),Pricelist!$A$53:$F$60643,5,FALSE),\"\")","v":""},{"$f":"IF(B98<>\"\",VLOOKUP(IF(ISNUMBER(B98),TEXT(B98,\"0\"),B98),Pricelist!$A$3:$F$60643,3,FALSE),\"\")","v":""},"",{"$f":"IF(B98<>\"\",VLOOKUP(IF(ISNUMBER(B98),TEXT(B98,\"0\"),B98),Pricelist!$A$3:$F$60643,4,FALSE),\"\")","v":""},"","",null,null,null,null,"","","",""]
["",null,"",{"$f":"IF(B99<>\"\",VLOOKUP(IF(ISNUMBER(B99),TEXT(B99,\"0\"),B99),Pricelist!$A$53:$F$60643,6,FALSE),\"\")","v":""},{"$f":"IF(B99<>\"\",VLOOKUP(IF(ISNUMBER(B99),TEXT(B99,\"0\"),B99),Pricelist!$A$3:$F$60643,2,FALSE),\"\")","v":""},{"$f":"IF(B99<>\"\",VLOOKUP(IF(ISNUMBER(B99),TEXT(B99,\"0\"),B99),Pricelist!$A$53:$F$60643,5,FALSE),\"\")","v":""},{"$f":"IF(B99<>\"\",VLOOKUP(IF(ISNUMBER(B99),TEXT(B99,\"0\"),B99),Pricelist!$A$3:$F$60643,3,FALSE),\"\")","v":""},"",{"$f":"IF(B99<>\"\",VLOOKUP(IF(ISNUMBER(B99),TEXT(B99,\"0\"),B99),Pricelist!$A$3:$F$60643,4,FALSE),\"\")","v":""},"","",null,null,null,null,"","","",""]
["",null,"",{"$f":"IF(B100<>\"\",VLOOKUP(IF(ISNUMBER(B100),TEXT(B100,\"0\"),B100),Pricelist!$A$53:$F$60643,6,FALSE),\"\")","v":""},{"$f":"IF(B100<>\"\",VLOOKUP(IF(ISNUMBER(B100),TEXT(B100,\"0\"),B100),Pricelist!$A$3:$F$60643,2,FALSE),\"\")","v":""},{"$f":"IF(B100<>\"\",VLOOKUP(IF(ISNUMBER(B100),TEXT(B100,\"0\"),B100),Pricelist!$A$53:$F$60643,5,FALSE),\"\")","v":""},{"$f":"IF(B100<>\"\",VLOOKUP(IF(ISNUMBER(B100),TEXT(B100,\"0\"),B100),Pricelist!$A$3:$F$60643,3,FALSE),\"\")","v":""},"",{"$f":"IF(B100<>\"\",VLOOKUP(IF(ISNUMBER(B100),TEXT(B100,\"0\"),B100),Pricelist!$A$3:$F$60643,4,FALSE),\"\")","v":""},"","",null,null,null,null,"","","",""]
["",null,"",{"$f":"IF(B101<>\"\",VLOOKUP(IF(ISNUMBER(B101),TEXT(B101,\"0\"),B101),Pricelist!$A$53:$F$60643,6,FALSE),\"\")","v":""},{"$f":"IF(B101<>\"\",VLOOKUP(IF(ISNUMBER(B101),TEXT(B101,\"0\"),B101),Pricelist!$A$3:$F$60643,2,FALSE),\"\")","v":""},{"$f":"IF(B101<>\"\",VLOOKUP(IF(ISNUMBER(B101),TEXT(B101,\"0\"),B101),Pricelist!$A$53:$F$60643,5,FALSE),\"\")","v":""},{"$f":"IF(B101<>\"\",VLOOKUP(IF(ISNUMBER(B101),TEXT(B101,\"0\"),B101),Pricelist!$A$3:$F$60643,3,FALSE),\"\")","v":""},"",{"$f":"IF(B101<>\"\",VLOOKUP(IF(ISNUMBER(B101),TEXT(B101,\"0\"),B101),Pricelist!$A$3:$F$60643,4,FALSE),\"\")","v":""},"","",null,null,null,null,"","","",""]
["",null,"",{"$f":"IF(B102<>\"\",VLOOKUP(IF(ISNUMBER(B102),TEXT(B102,\"0\"),B102),Pricelist!$A$53:$F$60643,6,FALSE),\"\")","v":""},{"$f":"IF(B102<>\"\",VLOOKUP(IF(ISNUMBER(B102),TEXT(B102,\"0\"),B102),Pricelist!$A$3:$F$60643,2,FALSE),\"\")","v":""},{"$f":"IF(B102<>\"\",VLOOKUP(IF(ISNUMBER(B102),TEXT(B102,\"0\"),B102),Pricelist!$A$53:$F$60643,5,FALSE),\"\")","v":""},{"$f":"IF(B102<>\"\",VLOOKUP(IF(ISNUMBER(B102),TEXT(B102,\"0\"),B102),Pricelist!$A$3:$F$60643,3,FALSE),\"\")","v":""},"",{"$f":"IF(B102<>\"\",VLOOKUP(IF(ISNUMBER(B102),TEXT(B102,\"0\"),B102),Pricelist!$A$3:$F$60643,4,FALSE),\"\")","v":""},"","",null,null,null,null,"","","",""]
["",null,"",{"$f":"IF(B103<>\"\",VLOOKUP(IF(ISNUMBER(B103),TEXT(B103,\"0\"),B103),Pricelist!$A$53:$F$60643,6,FALSE),\"\")","v":""},{"$f":"IF(B103<>\"\",VLOOKUP(IF(ISNUMBER(B103),TEXT(B103,\"0\"),B103),Pricelist!$A$3:$F$60643,2,FALSE),\"\")","v":""},{"$f":"IF(B103<>\"\",VLOOKUP(IF(ISNUMBER(B103),TEXT(B103,\"0\"),B103),Pricelist!$A$53:$F$60643,5,FALSE),\"\")","v":""},{"$f":"IF(B103<>\"\",VLOOKUP(IF(ISNUMBER(B103),TEXT(B103,\"0\"),B103),Pricelist!$A$3:$F$60643,3,FALSE),\"\")","v":""},"",{"$f":"IF(B103<>\"\",VLOOKUP(IF(ISNUMBER(B103),TEXT(B103,\"0\"),B103),Pricelist!$A$3:$F$60643,4,FALSE),\"\")","v":""},"","",null,null,null,null,"","","",""]
["",null,"",{"$f":"IF(B104<>\"\",VLOOKUP(IF(ISNUMBER(B104),TEXT(B104,\"0\"),B104),Pricelist!$A$53:$F$60643,6,FALSE),\"\")","v":""},{"$f":"IF(B104<>\"\",VLOOKUP(IF(ISNUMBER(B104),TEXT(B104,\"0\"),B104),Pricelist!$A$3:$F$60643,2,FALSE),\"\")","v":""},{"$f":"IF(B104<>\"\",VLOOKUP(IF(ISNUMBER(B104),TEXT(B104,\"0\"),B104),Pricelist!$A$53:$F$60643,5,FALSE),\"\")","v":""},{"$f":"IF(B104<>\"\",VLOOKUP(IF(ISNUMBER(B104),TEXT(B104,\"0\"),B104),Pricelist!$A$3:$F$60643,3,FALSE),\"\")","v":""},"",{"$f":"IF(B104<>\"\",VLOOKUP(IF(ISNUMBER(B104),TEXT(B104,\"0\"),B104),Pricelist!$A$3:$F$60643,4,FALSE),\"\")","v":""},"","",null,null,null,null,"","","",""]
["",null,"",{"$f":"IF(B105<>\"\",VLOOKUP(IF(ISNUMBER(B105),TEXT(B105,\"0\"),B105),Pricelist!$A$53:$F$60643,6,FALSE),\"\")","v":""},{"$f":"IF(B105<>\"\",VLOOKUP(IF(ISNUMBER(B105),TEXT(B105,\"0\"),B105),Pricelist!$A$3:$F$60643,2,FALSE),\"\")","v":""},{"$f":"IF(B105<>\"\",VLOOKUP(IF(ISNUMBER(B105),TEXT(B105,\"0\"),B105),Pricelist!$A$53:$F$60643,5,FALSE),\"\")","v":""},{"$f":"IF(B105<>\"\",VLOOKUP(IF(ISNUMBER(B105),TEXT(B105,\"0\"),B105),Pricelist!$A$3:$F$60643,3,FALSE),\"\")","v":""},"",{"$f":"IF(B105<>\"\",VLOOKUP(IF(ISNUMBER(B105),TEXT(B105,\"0\"),B105),Pricelist!$A$3:$F$60643,4,FALSE),\"\")","v":""},"","",null,null,null,null,"","","",""]
["",null,"",{"$f":"IF(B106<>\"\",VLOOKUP(IF(ISNUMBER(B106),TEXT(B106,\"0\"),B106),Pricelist!$A$53:$F$60643,6,FALSE),\"\")","v":""},{"$f":"IF(B106<>\"\",VLOOKUP(IF(ISNUMBER(B106),TEXT(B106,\"0\"),B106),Pricelist!$A$3:$F$60643,2,FALSE),\"\")","v":""},{"$f":"IF(B106<>\"\",VLOOKUP(IF(ISNUMBER(B106),TEXT(B106,\"0\"),B106),Pricelist!$A$53:$F$60643,5,FALSE),\"\")","v":""},{"$f":"IF(B106<>\"\",VLOOKUP(IF(ISNUMBER(B106),TEXT(B106,\"0\"),B106),Pricelist!$A$3:$F$60643,3,FALSE),\"\")","v":""},"",{"$f":"IF(B106<>\"\",VLOOKUP(IF(ISNUMBER(B106),TEXT(B106,\"0\"),B106),Pricelist!$A$3:$F$60643,4,FALSE),\"\")","v":""},"","",null,null,null,null,"","","",""]
["",null,"",{"$f":"IF(B107<>\"\",VLOOKUP(IF(ISNUMBER(B107),TEXT(B107,\"0\"),B107),Pricelist!$A$53:$F$60643,6,FALSE),\"\")","v":""},{"$f":"IF(B107<>\"\",VLOOKUP(IF(ISNUMBER(B107),TEXT(B107,\"0\"),B107),Pricelist!$A$3:$F$60643,2,FALSE),\"\")","v":""},{"$f":"IF(B107<>\"\",VLOOKUP(IF(ISNUMBER(B107),TEXT(B107,\"0\"),B107),Pricelist!$A$53:$F$60643,5,FALSE),\"\")","v":""},{"$f":"IF(B107<>\"\",VLOOKUP(IF(ISNUMBER(B107),TEXT(B107,\"0\"),B107),Pricelist!$A$3:$F$60643,3,FALSE),\"\")","v":""},"",{"$f":"IF(B107<>\"\",VLOOKUP(IF(ISNUMBER(B107),TEXT(B107,\"0\"),B107),Pricelist!$A$3:$F$60643,4,FALSE),\"\")","v":""},"","",null,null,null,null,"","","",""]
["",null,"",{"$f":"IF(B108<>\"\",VLOOKUP(IF(ISNUMBER(B108),TEXT(B108,\"0\"),B108),Pricelist!$A$53:$F$60643,6,FALSE),\"\")","v":""},{"$f":"IF(B108<>\"\",VLOOKUP(IF(ISNUMBER(B108),TEXT(B108,\"0\"),B108),Pricelist!$A$3:$F$60643,2,FALSE),\"\")","v":""},{"$f":"IF(B108<>\"\",VLOOKUP(IF(ISNUMBER(B108),TEXT(B108,\"0\"),B108),Pricelist!$A$53:$F$60643,5,FALSE),\"\")","v":""},{"$f":"IF(B108<>\"\",VLOOKUP(IF(ISNUMBER(B108),TEXT(B108,\"0\"),B108),Pricelist!$A$3:$F$60643,3,FALSE),\"\")","v":""},"",{"$f":"IF(B108<>\"\",VLOOKUP(IF(ISNUMBER(B108),TEXT(B108,\"0\"),B108),Pricelist!$A$3:$F$60643,4,FALSE),\"\")","v":""},"","",null,null,null,null,"","","",""]
["",null,"",{"$f":"IF(B109<>\"\",VLOOKUP(IF(ISNUMBER(B109),TEXT(B109,\"0\"),B109),Pricelist!$A$53:$F$60643,6,FALSE),\"\")","v":""},{"$f":"IF(B109<>\"\",VLOOKUP(IF(ISNUMBER(B109),TEXT(B109,\"0\"),B109),Pricelist!$A$3:$F$60643,2,FALSE),\"\")","v":""},{"$f":"IF(B109<>\"\",VLOOKUP(IF(ISNUMBER(B109),TEXT(B109,\"0\"),B109),Pricelist!$A$53:$F$60643,5,FALSE),\"\")","v":""},{"$f":"IF(B109<>\"\",VLOOKUP(IF(ISNUMBER(B109),TEXT(B109,\"0\"),B109),Pricelist!$A$3:$F$60643,3,FALSE),\"\")","v":""},"",{"$f":"IF(B109<>\"\",VLOOKUP(IF(ISNUMBER(B109),TEXT(B109,\"0\"),B109),Pricelist!$A$3:$F$60643,4,FALSE),\"\")","v":""},"","",null,null,null,null,"","","",""]
["",null,"",{"$f":"IF(B110<>\"\",VLOOKUP(IF(ISNUMBER(B110),TEXT(B110,\"0\"),B110),Pricelist!$A$53:$F$60643,6,FALSE),\"\")","v":""},{"$f":"IF(B110<>\"\",VLOOKUP(IF(ISNUMBER(B110),TEXT(B110,\"0\"),B110),Pricelist!$A$3:$F$60643,2,FALSE),\"\")","v":""},{"$f":"IF(B110<>\"\",VLOOKUP(IF(ISNUMBER(B110),TEXT(B110,\"0\"),B110),Pricelist!$A$53:$F$60643,5,FALSE),\"\")","v":""},{"$f":"IF(B110<>\"\",VLOOKUP(IF(ISNUMBER(B110),TEXT(B110,\"0\"),B110),Pricelist!$A$3:$F$60643,3,FALSE),\"\")","v":""},"",{"$f":"IF(B110<>\"\",VLOOKUP(IF(ISNUMBER(B110),TEXT(B110,\"0\"),B110),Pricelist!$A$3:$F$60643,4,FALSE),\"\")","v":""},"","",null,null,null,null,"","","",""]
["",null,"",{"$f":"IF(B111<>\"\",VLOOKUP(IF(ISNUMBER(B111),TEXT(B111,\"0\"),B111),Pricelist!$A$53:$F$60643,6,FALSE),\"\")","v":""},{"$f":"IF(B111<>\"\",VLOOKUP(IF(ISNUMBER(B111),TEXT(B111,\"0\"),B111),Pricelist!$A$3:$F$60643,2,FALSE),\"\")","v":""},{"$f":"IF(B111<>\"\",VLOOKUP(IF(ISNUMBER(B111),TEXT(B111,\"0\"),B111),Pricelist!$A$53:$F$60643,5,FALSE),\"\")","v":""},{"$f":"IF(B111<>\"\",VLOOKUP(IF(ISNUMBER(B111),TEXT(B111,\"0\"),B111),Pricelist!$A$3:$F$60643,3,FALSE),\"\")","v":""},"",{"$f":"IF(B111<>\"\",VLOOKUP(IF(ISNUMBER(B111),TEXT(B111,\"0\"),B111),Pricelist!$A$3:$F$60643,4,FALSE),\"\")","v":""},"","",null,null,null,null,"","","",""]
["",null,"",{"$f":"IF(B112<>\"\",VLOOKUP(IF(ISNUMBER(B112),TEXT(B112,\"0\"),B112),Pricelist!$A$53:$F$60643,6,FALSE),\"\")","v":""},{"$f":"IF(B112<>\"\",VLOOKUP(IF(ISNUMBER(B112),TEXT(B112,\"0\"),B112),Pricelist!$A$3:$F$60643,2,FALSE),\"\")","v":""},{"$f":"IF(B112<>\"\",VLOOKUP(IF(ISNUMBER(B112),TEXT(B112,\"0\"),B112),Pricelist!$A$53:$F$60643,5,FALSE),\"\")","v":""},{"$f":"IF(B112<>\"\",VLOOKUP(IF(ISNUMBER(B112),TEXT(B112,\"0\"),B112),Pricelist!$A$3:$F$60643,3,FALSE),\"\")","v":""},"",{"$f":"IF(B112<>\"\",VLOOKUP(IF(ISNUMBER(B112),TEXT(B112,\"0\"),B112),Pricelist!$A$3:$F$60643,4,FALSE),\"\")","v":""},"","",null,null,null,null,"","","",""]
["",null,"",{"$f":"IF(B113<>\"\",VLOOKUP(IF(ISNUMBER(B113),TEXT(B113,\"0\"),B113),Pricelist!$A$53:$F$60643,6,FALSE),\"\")","v":""},{"$f":"IF(B113<>\"\",VLOOKUP(IF(ISNUMBER(B113),TEXT(B113,\"0\"),B113),Pricelist!$A$3:$F$60643,2,FALSE),\"\")","v":""},{"$f":"IF(B113<>\"\",VLOOKUP(IF(ISNUMBER(B113),TEXT(B113,\"0\"),B113),Pricelist!$A$53:$F$60643,5,FALSE),\"\")","v":""},{"$f":"IF(B113<>\"\",VLOOKUP(IF(ISNUMBER(B113),TEXT(B113,\"0\"),B113),Pricelist!$A$3:$F$60643,3,FALSE),\"\")","v":""},"",{"$f":"IF(B113<>\"\",VLOOKUP(IF(ISNUMBER(B113),TEXT(B113,\"0\"),B113),Pricelist!$A$3:$F$60643,4,FALSE),\"\")","v":""},"","",null,null,null,null,"","","",""]
["",null,"",{"$f":"IF(B114<>\"\",VLOOKUP(IF(ISNUMBER(B114),TEXT(B114,\"0\"),B114),Pricelist!$A$53:$F$60643,6,FALSE),\"\")","v":""},{"$f":"IF(B114<>\"\",VLOOKUP(IF(ISNUMBER(B114),TEXT(B114,\"0\"),B114),Pricelist!$A$3:$F$60643,2,FALSE),\"\")","v":""},{"$f":"IF(B114<>\"\",VLOOKUP(IF(ISNUMBER(B114),TEXT(B114,\"0\"),B114),Pricelist!$A$53:$F$60643,5,FALSE),\"\")","v":""},{"$f":"IF(B114<>\"\",VLOOKUP(IF(ISNUMBER(B114),TEXT(B114,\"0\"),B114),Pricelist!$A$3:$F$60643,3,FALSE),\"\")","v":""},"",{"$f":"IF(B114<>\"\",VLOOKUP(IF(ISNUMBER(B114),TEXT(B114,\"0\"),B114),Pricelist!$A$3:$F$60643,4,FALSE),\"\")","v":""},"","",null,null,null,null,"","","",""]
["",null,"",{"$f":"IF(B115<>\"\",VLOOKUP(IF(ISNUMBER(B115),TEXT(B115,\"0\"),B115),Pricelist!$A$53:$F$60643,6,FALSE),\"\")","v":""},{"$f":"IF(B115<>\"\",VLOOKUP(IF(ISNUMBER(B115),TEXT(B115,\"0\"),B115),Pricelist!$A$3:$F$60643,2,FALSE),\"\")","v":""},{"$f":"IF(B115<>\"\",VLOOKUP(IF(ISNUMBER(B115),TEXT(B115,\"0\"),B115),Pricelist!$A$53:$F$60643,5,FALSE),\"\")","v":""},{"$f":"IF(B115<>\"\",VLOOKUP(IF(ISNUMBER(B115),TEXT(B115,\"0\"),B115),Pricelist!$A$3:$F$60643,3,FALSE),\"\")","v":""},"",{"$f":"IF(B115<>\"\",VLOOKUP(IF(ISNUMBER(B115),TEXT(B115,\"0\"),B115),Pricelist!$A$3:$F$60643,4,FALSE),\"\")","v":""},"","",null,null,null,null,"","","",""]
["",null,"",{"$f":"IF(B116<>\"\",VLOOKUP(IF(ISNUMBER(B116),TEXT(B116,\"0\"),B116),Pricelist!$A$53:$F$60643,6,FALSE),\"\")","v":""},{"$f":"IF(B116<>\"\",VLOOKUP(IF(ISNUMBER(B116),TEXT(B116,\"0\"),B116),Pricelist!$A$3:$F$60643,2,FALSE),\"\")","v":""},{"$f":"IF(B116<>\"\",VLOOKUP(IF(ISNUMBER(B116),TEXT(B116,\"0\"),B116),Pricelist!$A$53:$F$60643,5,FALSE),\"\")","v":""},{"$f":"IF(B116<>\"\",VLOOKUP(IF(ISNUMBER(B116),TEXT(B116,\"0\"),B116),Pricelist!$A$3:$F$60643,3,FALSE),\"\")","v":""},"",{"$f":"IF(B116<>\"\",VLOOKUP(IF(ISNUMBER(B116),TEXT(B116,\"0\"),B116),Pricelist!$A$3:$F$60643,4,FALSE),\"\")","v":""},"","",null,null,null,null,"","","",""]
["",null,"",{"$f":"IF(B117<>\"\",VLOOKUP(IF(ISNUMBER(B117),TEXT(B117,\"0\"),B117),Pricelist!$A$53:$F$60643,6,FALSE),\"\")","v":""},{"$f":"IF(B117<>\"\",VLOOKUP(IF(ISNUMBER(B117),TEXT(B117,\"0\"),B117),Pricelist!$A$3:$F$60643,2,FALSE),\"\")","v":""},{"$f":"IF(B117<>\"\",VLOOKUP(IF(ISNUMBER(B117),TEXT(B117,\"0\"),B117),Pricelist!$A$53:$F$60643,5,FALSE),\"\")","v":""},{"$f":"IF(B117<>\"\",VLOOKUP(IF(ISNUMBER(B117),TEXT(B117,\"0\"),B117),Pricelist!$A$3:$F$60643,3,FALSE),\"\")","v":""},"",{"$f":"IF(B117<>\"\",VLOOKUP(IF(ISNUMBER(B117),TEXT(B117,\"0\"),B117),Pricelist!$A$3:$F$60643,4,FALSE),\"\")","v":""},"","",null,null,null,null,"","","",""]
["",null,"",{"$f":"IF(B118<>\"\",VLOOKUP(IF(ISNUMBER(B118),TEXT(B118,\"0\"),B118),Pricelist!$A$53:$F$60643,6,FALSE),\"\")","v":""},{"$f":"IF(B118<>\"\",VLOOKUP(IF(ISNUMBER(B118),TEXT(B118,\"0\"),B118),Pricelist!$A$3:$F$60643,2,FALSE),\"\")","v":""},{"$f":"IF(B118<>\"\",VLOOKUP(IF(ISNUMBER(B118),TEXT(B118,\"0\"),B118),Pricelist!$A$53:$F$60643,5,FALSE),\"\")","v":""},{"$f":"IF(B118<>\"\",VLOOKUP(IF(ISNUMBER(B118),TEXT(B118,\"0\"),B118),Pricelist!$A$3:$F$60643,3,FALSE),\"\")","v":""},"",{"$f":"IF(B118<>\"\",VLOOKUP(IF(ISNUMBER(B118),TEXT(B118,\"0\"),B118),Pricelist!$A$3:$F$60643,4,FALSE),\"\")","v":""},"","",null,null,null,null,"","","",""]
["",null,"",{"$f":"IF(B119<>\"\",VLOOKUP(IF(ISNUMBER(B119),TEXT(B119,\"0\"),B119),Pricelist!$A$53:$F$60643,6,FALSE),\"\")","v":""},{"$f":"IF(B119<>\"\",VLOOKUP(IF(ISNUMBER(B119),TEXT(B119,\"0\"),B119),Pricelist!$A$3:$F$60643,2,FALSE),\"\")","v":""},{"$f":"IF(B119<>\"\",VLOOKUP(IF(ISNUMBER(B119),TEXT(B119,\"0\"),B119),Pricelist!$A$53:$F$60643,5,FALSE),\"\")","v":""},{"$f":"IF(B119<>\"\",VLOOKUP(IF(ISNUMBER(B119),TEXT(B119,\"0\"),B119),Pricelist!$A$3:$F$60643,3,FALSE),\"\")","v":""},"",{"$f":"IF(B119<>\"\",VLOOKUP(IF(ISNUMBER(B119),TEXT(B119,\"0\"),B119),Pricelist!$A$3:$F$60643,4,FALSE),\"\")","v":""},"","",null,null,null,null,"","","",""]
["",null,"",{"$f":"IF(B120<>\"\",VLOOKUP(IF(ISNUMBER(B120),TEXT(B120,\"0\"),B120),Pricelist!$A$53:$F$60643,6,FALSE),\"\")","v":""},{"$f":"IF(B120<>\"\",VLOOKUP(IF(ISNUMBER(B120),TEXT(B120,\"0\"),B120),Pricelist!$A$3:$F$60643,2,FALSE),\"\")","v":""},{"$f":"IF(B120<>\"\",VLOOKUP(IF(ISNUMBER(B120),TEXT(B120,\"0\"),B120),Pricelist!$A$53:$F$60643,5,FALSE),\"\")","v":""},{"$f":"IF(B120<>\"\",VLOOKUP(IF(ISNUMBER(B120),TEXT(B120,\"0\"),B120),Pricelist!$A$3:$F$60643,3,FALSE),\"\")","v":""},"",{"$f":"IF(B120<>\"\",VLOOKUP(IF(ISNUMBER(B120),TEXT(B120,\"0\"),B120),Pricelist!$A$3:$F$60643,4,FALSE),\"\")","v":""},"","",null,null,null,null,"","","",""]
["",null,"",{"$f":"IF(B121<>\"\",VLOOKUP(IF(ISNUMBER(B121),TEXT(B121,\"0\"),B121),Pricelist!$A$53:$F$60643,6,FALSE),\"\")","v":""},{"$f":"IF(B121<>\"\",VLOOKUP(IF(ISNUMBER(B121),TEXT(B121,\"0\"),B121),Pricelist!$A$3:$F$60643,2,FALSE),\"\")","v":""},{"$f":"IF(B121<>\"\",VLOOKUP(IF(ISNUMBER(B121),TEXT(B121,\"0\"),B121),Pricelist!$A$53:$F$60643,5,FALSE),\"\")","v":""},{"$f":"IF(B121<>\"\",VLOOKUP(IF(ISNUMBER(B121),TEXT(B121,\"0\"),B121),Pricelist!$A$3:$F$60643,3,FALSE),\"\")","v":""},"",{"$f":"IF(B121<>\"\",VLOOKUP(IF(ISNUMBER(B121),TEXT(B121,\"0\"),B121),Pricelist!$A$3:$F$60643,4,FALSE),\"\")","v":""},"","",null,null,null,null,"","","",""]
["",null,"",{"$f":"IF(B122<>\"\",VLOOKUP(IF(ISNUMBER(B122),TEXT(B122,\"0\"),B122),Pricelist!$A$53:$F$60643,6,FALSE),\"\")","v":""},{"$f":"IF(B122<>\"\",VLOOKUP(IF(ISNUMBER(B122),TEXT(B122,\"0\"),B122),Pricelist!$A$3:$F$60643,2,FALSE),\"\")","v":""},{"$f":"IF(B122<>\"\",VLOOKUP(IF(ISNUMBER(B122),TEXT(B122,\"0\"),B122),Pricelist!$A$53:$F$60643,5,FALSE),\"\")","v":""},{"$f":"IF(B122<>\"\",VLOOKUP(IF(ISNUMBER(B122),TEXT(B122,\"0\"),B122),Pricelist!$A$3:$F$60643,3,FALSE),\"\")","v":""},"",{"$f":"IF(B122<>\"\",VLOOKUP(IF(ISNUMBER(B122),TEXT(B122,\"0\"),B122),Pricelist!$A$3:$F$60643,4,FALSE),\"\")","v":""},"","",null,null,null,null,"","","",""]
["",null,"",{"$f":"IF(B123<>\"\",VLOOKUP(IF(ISNUMBER(B123),TEXT(B123,\"0\"),B123),Pricelist!$A$53:$F$60643,6,FALSE),\"\")","v":""},{"$f":"IF(B123<>\"\",VLOOKUP(IF(ISNUMBER(B123),TEXT(B123,\"0\"),B123),Pricelist!$A$3:$F$60643,2,FALSE),\"\")","v":""},{"$f":"IF(B123<>\"\",VLOOKUP(IF(ISNUMBER(B123),TEXT(B123,\"0\"),B123),Pricelist!$A$53:$F$60643,5,FALSE),\"\")","v":""},{"$f":"IF(B123<>\"\",VLOOKUP(IF(ISNUMBER(B123),TEXT(B123,\"0\"),B123),Pricelist!$A$3:$F$60643,3,FALSE),\"\")","v":""},"",{"$f":"IF(B123<>\"\",VLOOKUP(IF(ISNUMBER(B123),TEXT(B123,\"0\"),B123),Pricelist!$A$3:$F$60643,4,FALSE),\"\")","v":""},"","",null,null,null,null,"","","",""]
["",null,"",{"$f":"IF(B124<>\"\",VLOOKUP(IF(ISNUMBER(B124),TEXT(B124,\"0\"),B124),Pricelist!$A$53:$F$60643,6,FALSE),\"\")","v":""},{"$f":"IF(B124<>\"\",VLOOKUP(IF(ISNUMBER(B124),TEXT(B124,\"0\"),B124),Pricelist!$A$3:$F$60643,2,FALSE),\"\")","v":""},{"$f":"IF(B124<>\"\",VLOOKUP(IF(ISNUMBER(B124),TEXT(B124,\"0\"),B124),Pricelist!$A$53:$F$60643,5,FALSE),\"\")","v":""},{"$f":"IF(B124<>\"\",VLOOKUP(IF(ISNUMBER(B124),TEXT(B124,\"0\"),B124),Pricelist!$A$3:$F$60643,3,FALSE),\"\")","v":""},"",{"$f":"IF(B124<>\"\",VLOOKUP(IF(ISNUMBER(B124),TEXT(B124,\"0\"),B124),Pricelist!$A$3:$F$60643,4,FALSE),\"\")","v":""},"","",null,null,null,null,"","","",""]
["",null,"",{"$f":"IF(B125<>\"\",VLOOKUP(IF(ISNUMBER(B125),TEXT(B125,\"0\"),B125),Pricelist!$A$53:$F$60643,6,FALSE),\"\")","v":""},{"$f":"IF(B125<>\"\",VLOOKUP(IF(ISNUMBER(B125),TEXT(B125,\"0\"),B125),Pricelist!$A$3:$F$60643,2,FALSE),\"\")","v":""},{"$f":"IF(B125<>\"\",VLOOKUP(IF(ISNUMBER(B125),TEXT(B125,\"0\"),B125),Pricelist!$A$53:$F$60643,5,FALSE),\"\")","v":""},{"$f":"IF(B125<>\"\",VLOOKUP(IF(ISNUMBER(B125),TEXT(B125,\"0\"),B125),Pricelist!$A$3:$F$60643,3,FALSE),\"\")","v":""},"",{"$f":"IF(B125<>\"\",VLOOKUP(IF(ISNUMBER(B125),TEXT(B125,\"0\"),B125),Pricelist!$A$3:$F$60643,4,FALSE),\"\")","v":""},"","",null,null,null,null,"","","",""]
["",null,"",{"$f":"IF(B126<>\"\",VLOOKUP(IF(ISNUMBER(B126),TEXT(B126,\"0\"),B126),Pricelist!$A$53:$F$60643,6,FALSE),\"\")","v":""},{"$f":"IF(B126<>\"\",VLOOKUP(IF(ISNUMBER(B126),TEXT(B126,\"0\"),B126),Pricelist!$A$3:$F$60643,2,FALSE),\"\")","v":""},{"$f":"IF(B126<>\"\",VLOOKUP(IF(ISNUMBER(B126),TEXT(B126,\"0\"),B126),Pricelist!$A$53:$F$60643,5,FALSE),\"\")","v":""},{"$f":"IF(B126<>\"\",VLOOKUP(IF(ISNUMBER(B126),TEXT(B126,\"0\"),B126),Pricelist!$A$3:$F$60643,3,FALSE),\"\")","v":""},"",{"$f":"IF(B126<>\"\",VLOOKUP(IF(ISNUMBER(B126),TEXT(B126,\"0\"),B126),Pricelist!$A$3:$F$60643,4,FALSE),\"\")","v":""},"","",null,null,null,null,"","","",""]
["",null,"",{"$f":"IF(B127<>\"\",VLOOKUP(IF(ISNUMBER(B127),TEXT(B127,\"0\"),B127),Pricelist!$A$53:$F$60643,6,FALSE),\"\")","v":""},{"$f":"IF(B127<>\"\",VLOOKUP(IF(ISNUMBER(B127),TEXT(B127,\"0\"),B127),Pricelist!$A$3:$F$60643,2,FALSE),\"\")","v":""},{"$f":"IF(B127<>\"\",VLOOKUP(IF(ISNUMBER(B127),TEXT(B127,\"0\"),B127),Pricelist!$A$53:$F$60643,5,FALSE),\"\")","v":""},{"$f":"IF(B127<>\"\",VLOOKUP(IF(ISNUMBER(B127),TEXT(B127,\"0\"),B127),Pricelist!$A$3:$F$60643,3,FALSE),\"\")","v":""},"",{"$f":"IF(B127<>\"\",VLOOKUP(IF(ISNUMBER(B127),TEXT(B127,\"0\"),B127),Pricelist!$A$3:$F$60643,4,FALSE),\"\")","v":""},"","",null,null,null,null,"","","",""]
["",null,"",{"$f":"IF(B128<>\"\",VLOOKUP(IF(ISNUMBER(B128),TEXT(B128,\"0\"),B128),Pricelist!$A$53:$F$60643,6,FALSE),\"\")","v":""},{"$f":"IF(B128<>\"\",VLOOKUP(IF(ISNUMBER(B128),TEXT(B128,\"0\"),B128),Pricelist!$A$3:$F$60643,2,FALSE),\"\")","v":""},{"$f":"IF(B128<>\"\",VLOOKUP(IF(ISNUMBER(B128),TEXT(B128,\"0\"),B128),Pricelist!$A$53:$F$60643,5,FALSE),\"\")","v":""},{"$f":"IF(B128<>\"\",VLOOKUP(IF(ISNUMBER(B128),TEXT(B128,\"0\"),B128),Pricelist!$A$3:$F$60643,3,FALSE),\"\")","v":""},"",{"$f":"IF(B128<>\"\",VLOOKUP(IF(ISNUMBER(B128),TEXT(B128,\"0\"),B128),Pricelist!$A$3:$F$60643,4,FALSE),\"\")","v":""},"","",null,null,null,null,"","","",""]
["",null,"",{"$f":"IF(B129<>\"\",VLOOKUP(IF(ISNUMBER(B129),TEXT(B129,\"0\"),B129),Pricelist!$A$53:$F$60643,6,FALSE),\"\")","v":""},{"$f":"IF(B129<>\"\",VLOOKUP(IF(ISNUMBER(B129),TEXT(B129,\"0\"),B129),Pricelist!$A$3:$F$60643,2,FALSE),\"\")","v":""},{"$f":"IF(B129<>\"\",VLOOKUP(IF(ISNUMBER(B129),TEXT(B129,\"0\"),B129),Pricelist!$A$53:$F$60643,5,FALSE),\"\")","v":""},{"$f":"IF(B129<>\"\",VLOOKUP(IF(ISNUMBER(B129),TEXT(B129,\"0\"),B129),Pricelist!$A$3:$F$60643,3,FALSE),\"\")","v":""},"",{"$f":"IF(B129<>\"\",VLOOKUP(IF(ISNUMBER(B129),TEXT(B129,\"0\"),B129),Pricelist!$A$3:$F$60643,4,FALSE),\"\")","v":""},"","",null,null,null,null,"","","",""]
["",null,"",{"$f":"IF(B130<>\"\",VLOOKUP(IF(ISNUMBER(B130),TEXT(B130,\"0\"),B130),Pricelist!$A$53:$F$60643,6,FALSE),\"\")","v":""},{"$f":"IF(B130<>\"\",VLOOKUP(IF(ISNUMBER(B130),TEXT(B130,\"0\"),B130),Pricelist!$A$3:$F$60643,2,FALSE),\"\")","v":""},{"$f":"IF(B130<>\"\",VLOOKUP(IF(ISNUMBER(B130),TEXT(B130,\"0\"),B130),Pricelist!$A$53:$F$60643,5,FALSE),\"\")","v":""},{"$f":"IF(B130<>\"\",VLOOKUP(IF(ISNUMBER(B130),TEXT(B130,\"0\"),B130),Pricelist!$A$3:$F$60643,3,FALSE),\"\")","v":""},"",{"$f":"IF(B130<>\"\",VLOOKUP(IF(ISNUMBER(B130),TEXT(B130,\"0\"),B130),Pricelist!$A$3:$F$60643,4,FALSE),\"\")","v":""},"","",null,null,null,null,"","","",""]
["",null,"",{"$f":"IF(B131<>\"\",VLOOKUP(IF(ISNUMBER(B131),TEXT(B131,\"0\"),B131),Pricelist!$A$53:$F$60643,6,FALSE),\"\")","v":""},{"$f":"IF(B131<>\"\",VLOOKUP(IF(ISNUMBER(B131),TEXT(B131,\"0\"),B131),Pricelist!$A$3:$F$60643,2,FALSE),\"\")","v":""},{"$f":"IF(B131<>\"\",VLOOKUP(IF(ISNUMBER(B131),TEXT(B131,\"0\"),B131),Pricelist!$A$53:$F$60643,5,FALSE),\"\")","v":""},{"$f":"IF(B131<>\"\",VLOOKUP(IF(ISNUMBER(B131),TEXT(B131,\"0\"),B131),Pricelist!$A$3:$F$60643,3,FALSE),\"\")","v":""},"",{"$f":"IF(B131<>\"\",VLOOKUP(IF(ISNUMBER(B131),TEXT(B131,\"0\"),B131),Pricelist!$A$3:$F$60643,4,FALSE),\"\")","v":""},"","",null,null,null,null,"","","",""]
["",null,"",{"$f":"IF(B132<>\"\",VLOOKUP(IF(ISNUMBER(B132),TEXT(B132,\"0\"),B132),Pricelist!$A$53:$F$60643,6,FALSE),\"\")","v":""},{"$f":"IF(B132<>\"\",VLOOKUP(IF(ISNUMBER(B132),TEXT(B132,\"0\"),B132),Pricelist!$A$3:$F$60643,2,FALSE),\"\")","v":""},{"$f":"IF(B132<>\"\",VLOOKUP(IF(ISNUMBER(B132),TEXT(B132,\"0\"),B132),Pricelist!$A$53:$F$60643,5,FALSE),\"\")","v":""},{"$f":"IF(B132<>\"\",VLOOKUP(IF(ISNUMBER(B132),TEXT(B132,\"0\"),B132),Pricelist!$A$3:$F$60643,3,FALSE),\"\")","v":""},"",{"$f":"IF(B132<>\"\",VLOOKUP(IF(ISNUMBER(B132),TEXT(B132,\"0\"),B132),Pricelist!$A$3:$F$60643,4,FALSE),\"\")","v":""},"","",null,null,null,null,"","","",""]
["",null,"",{"$f":"IF(B133<>\"\",VLOOKUP(IF(ISNUMBER(B133),TEXT(B133,\"0\"),B133),Pricelist!$A$53:$F$60643,6,FALSE),\"\")","v":""},{"$f":"IF(B133<>\"\",VLOOKUP(IF(ISNUMBER(B133),TEXT(B133,\"0\"),B133),Pricelist!$A$3:$F$60643,2,FALSE),\"\")","v":""},{"$f":"IF(B133<>\"\",VLOOKUP(IF(ISNUMBER(B133),TEXT(B133,\"0\"),B133),Pricelist!$A$53:$F$60643,5,FALSE),\"\")","v":""},{"$f":"IF(B133<>\"\",VLOOKUP(IF(ISNUMBER(B133),TEXT(B133,\"0\"),B133),Pricelist!$A$3:$F$60643,3,FALSE),\"\")","v":""},"",{"$f":"IF(B133<>\"\",VLOOKUP(IF(ISNUMBER(B133),TEXT(B133,\"0\"),B133),Pricelist!$A$3:$F$60643,4,FALSE),\"\")","v":""},"","",null,null,null,null,"","","",""]
["",null,"",{"$f":"IF(B134<>\"\",VLOOKUP(IF(ISNUMBER(B134),TEXT(B134,\"0\"),B134),Pricelist!$A$53:$F$60643,6,FALSE),\"\")","v":""},{"$f":"IF(B134<>\"\",VLOOKUP(IF(ISNUMBER(B134),TEXT(B134,\"0\"),B134),Pricelist!$A$3:$F$60643,2,FALSE),\"\")","v":""},{"$f":"IF(B134<>\"\",VLOOKUP(IF(ISNUMBER(B134),TEXT(B134,\"0\"),B134),Pricelist!$A$53:$F$60643,5,FALSE),\"\")","v":""},{"$f":"IF(B134<>\"\",VLOOKUP(IF(ISNUMBER(B134),TEXT(B134,\"0\"),B134),Pricelist!$A$3:$F$60643,3,FALSE),\"\")","v":""},"",{"$f":"IF(B134<>\"\",VLOOKUP(IF(ISNUMBER(B134),TEXT(B134,\"0\"),B134),Pricelist!$A$3:$F$60643,4,FALSE),\"\")","v":""},"","",null,null,null,null,"","","",""]
["",null,"",{"$f":"IF(B135<>\"\",VLOOKUP(IF(ISNUMBER(B135),TEXT(B135,\"0\"),B135),Pricelist!$A$53:$F$60643,6,FALSE),\"\")","v":""},{"$f":"IF(B135<>\"\",VLOOKUP(IF(ISNUMBER(B135),TEXT(B135,\"0\"),B135),Pricelist!$A$3:$F$60643,2,FALSE),\"\")","v":""},{"$f":"IF(B135<>\"\",VLOOKUP(IF(ISNUMBER(B135),TEXT(B135,\"0\"),B135),Pricelist!$A$53:$F$60643,5,FALSE),\"\")","v":""},{"$f":"IF(B135<>\"\",VLOOKUP(IF(ISNUMBER(B135),TEXT(B135,\"0\"),B135),Pricelist!$A$3:$F$60643,3,FALSE),\"\")","v":""},"",{"$f":"IF(B135<>\"\",VLOOKUP(IF(ISNUMBER(B135),TEXT(B135,\"0\"),B135),Pricelist!$A$3:$F$60643,4,FALSE),\"\")","v":""},"","",null,null,null,null,"","","",""]
["",null,"",{"$f":"IF(B136<>\"\",VLOOKUP(IF(ISNUMBER(B136),TEXT(B136,\"0\"),B136),Pricelist!$A$53:$F$60643,6,FALSE),\"\")","v":""},{"$f":"IF(B136<>\"\",VLOOKUP(IF(ISNUMBER(B136),TEXT(B136,\"0\"),B136),Pricelist!$A$3:$F$60643,2,FALSE),\"\")","v":""},{"$f":"IF(B136<>\"\",VLOOKUP(IF(ISNUMBER(B136),TEXT(B136,\"0\"),B136),Pricelist!$A$53:$F$60643,5,FALSE),\"\")","v":""},{"$f":"IF(B136<>\"\",VLOOKUP(IF(ISNUMBER(B136),TEXT(B136,\"0\"),B136),Pricelist!$A$3:$F$60643,3,FALSE),\"\")","v":""},"",{"$f":"IF(B136<>\"\",VLOOKUP(IF(ISNUMBER(B136),TEXT(B136,\"0\"),B136),Pricelist!$A$3:$F$60643,4,FALSE),\"\")","v":""},"","",null,null,null,null,"","","",""]
["",null,"",{"$f":"IF(B137<>\"\",VLOOKUP(IF(ISNUMBER(B137),TEXT(B137,\"0\"),B137),Pricelist!$A$53:$F$60643,6,FALSE),\"\")","v":""},{"$f":"IF(B137<>\"\",VLOOKUP(IF(ISNUMBER(B137),TEXT(B137,\"0\"),B137),Pricelist!$A$3:$F$60643,2,FALSE),\"\")","v":""},{"$f":"IF(B137<>\"\",VLOOKUP(IF(ISNUMBER(B137),TEXT(B137,\"0\"),B137),Pricelist!$A$53:$F$60643,5,FALSE),\"\")","v":""},{"$f":"IF(B137<>\"\",VLOOKUP(IF(ISNUMBER(B137),TEXT(B137,\"0\"),B137),Pricelist!$A$3:$F$60643,3,FALSE),\"\")","v":""},"",{"$f":"IF(B137<>\"\",VLOOKUP(IF(ISNUMBER(B137),TEXT(B137,\"0\"),B137),Pricelist!$A$3:$F$60643,4,FALSE),\"\")","v":""},"","",null,null,null,null,"","","",""]
["",null,"",{"$f":"IF(B138<>\"\",VLOOKUP(IF(ISNUMBER(B138),TEXT(B138,\"0\"),B138),Pricelist!$A$53:$F$60643,6,FALSE),\"\")","v":""},{"$f":"IF(B138<>\"\",VLOOKUP(IF(ISNUMBER(B138),TEXT(B138,\"0\"),B138),Pricelist!$A$3:$F$60643,2,FALSE),\"\")","v":""},{"$f":"IF(B138<>\"\",VLOOKUP(IF(ISNUMBER(B138),TEXT(B138,\"0\"),B138),Pricelist!$A$53:$F$60643,5,FALSE),\"\")","v":""},{"$f":"IF(B138<>\"\",VLOOKUP(IF(ISNUMBER(B138),TEXT(B138,\"0\"),B138),Pricelist!$A$3:$F$60643,3,FALSE),\"\")","v":""},"",{"$f":"IF(B138<>\"\",VLOOKUP(IF(ISNUMBER(B138),TEXT(B138,\"0\"),B138),Pricelist!$A$3:$F$60643,4,FALSE),\"\")","v":""},"","",null,null,null,null,"","","",""]
["",null,"",{"$f":"IF(B139<>\"\",VLOOKUP(IF(ISNUMBER(B139),TEXT(B139,\"0\"),B139),Pricelist!$A$53:$F$60643,6,FALSE),\"\")","v":""},{"$f":"IF(B139<>\"\",VLOOKUP(IF(ISNUMBER(B139),TEXT(B139,\"0\"),B139),Pricelist!$A$3:$F$60643,2,FALSE),\"\")","v":""},{"$f":"IF(B139<>\"\",VLOOKUP(IF(ISNUMBER(B139),TEXT(B139,\"0\"),B139),Pricelist!$A$53:$F$60643,5,FALSE),\"\")","v":""},{"$f":"IF(B139<>\"\",VLOOKUP(IF(ISNUMBER(B139),TEXT(B139,\"0\"),B139),Pricelist!$A$3:$F$60643,3,FALSE),\"\")","v":""},"",{"$f":"IF(B139<>\"\",VLOOKUP(IF(ISNUMBER(B139),TEXT(B139,\"0\"),B139),Pricelist!$A$3:$F$60643,4,FALSE),\"\")","v":""},"","",null,null,null,null,"","","",""]
[{"$f":"IF(B140<>\"\",A139+1,\"\")","v":""},null,{"$f":"IF(A140<>\"\",1,\"\")","v":""},{"$f":"IF(B140<>\"\",VLOOKUP(IF(ISNUMBER(B140),TEXT(B140,\"0\"),B140),Pricelist!$A$53:$F$60643,6,FALSE),\"\")","v":""},{"$f":"IF(B140<>\"\",VLOOKUP(IF(ISNUMBER(B140),TEXT(B140,\"0\"),B140),Pricelist!$A$3:$F$60643,2,FALSE),\"\")","v":""},{"$f":"IF(B140<>\"\",VLOOKUP(IF(ISNUMBER(B140),TEXT(B140,\"0\"),B140),Pricelist!$A$53:$F$60643,5,FALSE),\"\")","v":""},{"$f":"IF(B140<>\"\",VLOOKUP(IF(ISNUMBER(B140),TEXT(B140,\"0\"),B140),Pricelist!$A$3:$F$60643,3,FALSE),\"\")","v":""},{"$f":"IF(B140<>\"\",VLOOKUP(IF(ISNUMBER(I140),TEXT(I140,\"0\"),I140),$BD$12:$BE$44,2,FALSE),\"\")","v":""},{"$f":"IF(B140<>\"\",VLOOKUP(IF(ISNUMBER(B140),TEXT(B140,\"0\"),B140),Pricelist!$A$3:$F$60643,4,FALSE),\"\")","v":""},{"$f":"IF(B140<>\"\",G140*(1-H140),\"\")","v":""},{"$f":"IF(B140<>\"\",C140*(1-H140)*G140,\"\")","v":""},null,null,null,null,{"$f":"IF(B140<>\"\",$K$2,\"\")","v":""},"","",{"$f":"IF(R140=\"\",\"\",C140)","v":""}]
["",null,"",{"$f":"IF(B141<>\"\",VLOOKUP(IF(ISNUMBER(B141),TEXT(B141,\"0\"),B141),Pricelist!$A$53:$F$60643,6,FALSE),\"\")","v":""},{"$f":"IF(B141<>\"\",VLOOKUP(IF(ISNUMBER(B141),TEXT(B141,\"0\"),B141),Pricelist!$A$3:$F$60643,2,FALSE),\"\")","v":""},{"$f":"IF(B141<>\"\",VLOOKUP(IF(ISNUMBER(B141),TEXT(B141,\"0\"),B141),Pricelist!$A$53:$F$60643,5,FALSE),\"\")","v":""},{"$f":"IF(B141<>\"\",VLOOKUP(IF(ISNUMBER(B141),TEXT(B141,\"0\"),B141),Pricelist!$A$3:$F$60643,3,FALSE),\"\")","v":""},"",{"$f":"IF(B141<>\"\",VLOOKUP(IF(ISNUMBER(B141),TEXT(B141,\"0\"),B141),Pricelist!$A$3:$F$60643,4,FALSE),\"\")","v":""},"","",null,null,null,null,"","",{"$f":"IF(B141>1,B141,\"\")","v":""},""]
["",null,"",{"$f":"IF(B142<>\"\",VLOOKUP(IF(ISNUMBER(B142),TEXT(B142,\"0\"),B142),Pricelist!$A$53:$F$60643,6,FALSE),\"\")","v":""},{"$f":"IF(B142<>\"\",VLOOKUP(IF(ISNUMBER(B142),TEXT(B142,\"0\"),B142),Pricelist!$A$3:$F$60643,2,FALSE),\"\")","v":""},{"$f":"IF(B142<>\"\",VLOOKUP(IF(ISNUMBER(B142),TEXT(B142,\"0\"),B142),Pricelist!$A$53:$F$60643,5,FALSE),\"\")","v":""},{"$f":"IF(B142<>\"\",VLOOKUP(IF(ISNUMBER(B142),TEXT(B142,\"0\"),B142),Pricelist!$A$3:$F$60643,3,FALSE),\"\")","v":""},"",{"$f":"IF(B142<>\"\",VLOOKUP(IF(ISNUMBER(B142),TEXT(B142,\"0\"),B142),Pricelist!$A$3:$F$60643,4,FALSE),\"\")","v":""},"","",null,null,null,null,"","","",""]
["",null,"",{"$f":"IF(B143<>\"\",VLOOKUP(IF(ISNUMBER(B143),TEXT(B143,\"0\"),B143),Pricelist!$A$53:$F$60643,6,FALSE),\"\")","v":""},{"$f":"IF(B143<>\"\",VLOOKUP(IF(ISNUMBER(B143),TEXT(B143,\"0\"),B143),Pricelist!$A$3:$F$60643,2,FALSE),\"\")","v":""},{"$f":"IF(B143<>\"\",VLOOKUP(IF(ISNUMBER(B143),TEXT(B143,\"0\"),B143),Pricelist!$A$53:$F$60643,5,FALSE),\"\")","v":""},{"$f":"IF(B143<>\"\",VLOOKUP(IF(ISNUMBER(B143),TEXT(B143,\"0\"),B143),Pricelist!$A$3:$F$60643,3,FALSE),\"\")","v":""},"",{"$f":"IF(B143<>\"\",VLOOKUP(IF(ISNUMBER(B143),TEXT(B143,\"0\"),B143),Pricelist!$A$3:$F$60643,4,FALSE),\"\")","v":""},"","",null,null,null,null,"","","",""]
["",null,"",{"$f":"IF(B144<>\"\",VLOOKUP(IF(ISNUMBER(B144),TEXT(B144,\"0\"),B144),Pricelist!$A$53:$F$60643,6,FALSE),\"\")","v":""},{"$f":"IF(B144<>\"\",VLOOKUP(IF(ISNUMBER(B144),TEXT(B144,\"0\"),B144),Pricelist!$A$3:$F$60643,2,FALSE),\"\")","v":""},{"$f":"IF(B144<>\"\",VLOOKUP(IF(ISNUMBER(B144),TEXT(B144,\"0\"),B144),Pricelist!$A$53:$F$60643,5,FALSE),\"\")","v":""},{"$f":"IF(B144<>\"\",VLOOKUP(IF(ISNUMBER(B144),TEXT(B144,\"0\"),B144),Pricelist!$A$3:$F$60643,3,FALSE),\"\")","v":""},"",{"$f":"IF(B144<>\"\",VLOOKUP(IF(ISNUMBER(B144),TEXT(B144,\"0\"),B144),Pricelist!$A$3:$F$60643,4,FALSE),\"\")","v":""},"","",null,null,null,null,"","","",""]
["",null,"",{"$f":"IF(B145<>\"\",VLOOKUP(IF(ISNUMBER(B145),TEXT(B145,\"0\"),B145),Pricelist!$A$53:$F$60643,6,FALSE),\"\")","v":""},{"$f":"IF(B145<>\"\",VLOOKUP(IF(ISNUMBER(B145),TEXT(B145,\"0\"),B145),Pricelist!$A$3:$F$60643,2,FALSE),\"\")","v":""},{"$f":"IF(B145<>\"\",VLOOKUP(IF(ISNUMBER(B145),TEXT(B145,\"0\"),B145),Pricelist!$A$53:$F$60643,5,FALSE),\"\")","v":""},{"$f":"IF(B145<>\"\",VLOOKUP(IF(ISNUMBER(B145),TEXT(B145,\"0\"),B145),Pricelist!$A$3:$F$60643,3,FALSE),\"\")","v":""},"",{"$f":"IF(B145<>\"\",VLOOKUP(IF(ISNUMBER(B145),TEXT(B145,\"0\"),B145),Pricelist!$A$3:$F$60643,4,FALSE),\"\")","v":""},"","",null,null,null,null,"","","",""]
["",null,"",{"$f":"IF(B146<>\"\",VLOOKUP(IF(ISNUMBER(B146),TEXT(B146,\"0\"),B146),Pricelist!$A$53:$F$60643,6,FALSE),\"\")","v":""},{"$f":"IF(B146<>\"\",VLOOKUP(IF(ISNUMBER(B146),TEXT(B146,\"0\"),B146),Pricelist!$A$3:$F$60643,2,FALSE),\"\")","v":""},{"$f":"IF(B146<>\"\",VLOOKUP(IF(ISNUMBER(B146),TEXT(B146,\"0\"),B146),Pricelist!$A$53:$F$60643,5,FALSE),\"\")","v":""},{"$f":"IF(B146<>\"\",VLOOKUP(IF(ISNUMBER(B146),TEXT(B146,\"0\"),B146),Pricelist!$A$3:$F$60643,3,FALSE),\"\")","v":""},"",{"$f":"IF(B146<>\"\",VLOOKUP(IF(ISNUMBER(B146),TEXT(B146,\"0\"),B146),Pricelist!$A$3:$F$60643,4,FALSE),\"\")","v":""},"","",null,null,null,null,"","","",""]
["",null,"",{"$f":"IF(B147<>\"\",VLOOKUP(IF(ISNUMBER(B147),TEXT(B147,\"0\"),B147),Pricelist!$A$53:$F$60643,6,FALSE),\"\")","v":""},{"$f":"IF(B147<>\"\",VLOOKUP(IF(ISNUMBER(B147),TEXT(B147,\"0\"),B147),Pricelist!$A$3:$F$60643,2,FALSE),\"\")","v":""},{"$f":"IF(B147<>\"\",VLOOKUP(IF(ISNUMBER(B147),TEXT(B147,\"0\"),B147),Pricelist!$A$53:$F$60643,5,FALSE),\"\")","v":""},{"$f":"IF(B147<>\"\",VLOOKUP(IF(ISNUMBER(B147),TEXT(B147,\"0\"),B147),Pricelist!$A$3:$F$60643,3,FALSE),\"\")","v":""},"",{"$f":"IF(B147<>\"\",VLOOKUP(IF(ISNUMBER(B147),TEXT(B147,\"0\"),B147),Pricelist!$A$3:$F$60643,4,FALSE),\"\")","v":""},"","",null,null,null,null,"","","",""]
["",null,"",{"$f":"IF(B148<>\"\",VLOOKUP(IF(ISNUMBER(B148),TEXT(B148,\"0\"),B148),Pricelist!$A$53:$F$60643,6,FALSE),\"\")","v":""},{"$f":"IF(B148<>\"\",VLOOKUP(IF(ISNUMBER(B148),TEXT(B148,\"0\"),B148),Pricelist!$A$3:$F$60643,2,FALSE),\"\")","v":""},{"$f":"IF(B148<>\"\",VLOOKUP(IF(ISNUMBER(B148),TEXT(B148,\"0\"),B148),Pricelist!$A$53:$F$60643,5,FALSE),\"\")","v":""},{"$f":"IF(B148<>\"\",VLOOKUP(IF(ISNUMBER(B148),TEXT(B148,\"0\"),B148),Pricelist!$A$3:$F$60643,3,FALSE),\"\")","v":""},"",{"$f":"IF(B148<>\"\",VLOOKUP(IF(ISNUMBER(B148),TEXT(B148,\"0\"),B148),Pricelist!$A$3:$F$60643,4,FALSE),\"\")","v":""},"","",null,null,null,null,"","","",""]
["",null,"",{"$f":"IF(B149<>\"\",VLOOKUP(IF(ISNUMBER(B149),TEXT(B149,\"0\"),B149),Pricelist!$A$53:$F$60643,6,FALSE),\"\")","v":""},{"$f":"IF(B149<>\"\",VLOOKUP(IF(ISNUMBER(B149),TEXT(B149,\"0\"),B149),Pricelist!$A$3:$F$60643,2,FALSE),\"\")","v":""},{"$f":"IF(B149<>\"\",VLOOKUP(IF(ISNUMBER(B149),TEXT(B149,\"0\"),B149),Pricelist!$A$53:$F$60643,5,FALSE),\"\")","v":""},{"$f":"IF(B149<>\"\",VLOOKUP(IF(ISNUMBER(B149),TEXT(B149,\"0\"),B149),Pricelist!$A$3:$F$60643,3,FALSE),\"\")","v":""},"",{"$f":"IF(B149<>\"\",VLOOKUP(IF(ISNUMBER(B149),TEXT(B149,\"0\"),B149),Pricelist!$A$3:$F$60643,4,FALSE),\"\")","v":""},"","",null,null,null,null,"","","",""]
["",null,"",{"$f":"IF(B150<>\"\",VLOOKUP(IF(ISNUMBER(B150),TEXT(B150,\"0\"),B150),Pricelist!$A$53:$F$60643,6,FALSE),\"\")","v":""},{"$f":"IF(B150<>\"\",VLOOKUP(IF(ISNUMBER(B150),TEXT(B150,\"0\"),B150),Pricelist!$A$3:$F$60643,2,FALSE),\"\")","v":""},{"$f":"IF(B150<>\"\",VLOOKUP(IF(ISNUMBER(B150),TEXT(B150,\"0\"),B150),Pricelist!$A$53:$F$60643,5,FALSE),\"\")","v":""},{"$f":"IF(B150<>\"\",VLOOKUP(IF(ISNUMBER(B150),TEXT(B150,\"0\"),B150),Pricelist!$A$3:$F$60643,3,FALSE),\"\")","v":""},"",{"$f":"IF(B150<>\"\",VLOOKUP(IF(ISNUMBER(B150),TEXT(B150,\"0\"),B150),Pricelist!$A$3:$F$60643,4,FALSE),\"\")","v":""},"","",null,null,null,null,"","","",""]
["",null,"",{"$f":"IF(B151<>\"\",VLOOKUP(IF(ISNUMBER(B151),TEXT(B151,\"0\"),B151),Pricelist!$A$53:$F$60643,6,FALSE),\"\")","v":""},{"$f":"IF(B151<>\"\",VLOOKUP(IF(ISNUMBER(B151),TEXT(B151,\"0\"),B151),Pricelist!$A$3:$F$60643,2,FALSE),\"\")","v":""},{"$f":"IF(B151<>\"\",VLOOKUP(IF(ISNUMBER(B151),TEXT(B151,\"0\"),B151),Pricelist!$A$53:$F$60643,5,FALSE),\"\")","v":""},{"$f":"IF(B151<>\"\",VLOOKUP(IF(ISNUMBER(B151),TEXT(B151,\"0\"),B151),Pricelist!$A$3:$F$60643,3,FALSE),\"\")","v":""},"",{"$f":"IF(B151<>\"\",VLOOKUP(IF(ISNUMBER(B151),TEXT(B151,\"0\"),B151),Pricelist!$A$3:$F$60643,4,FALSE),\"\")","v":""},"","",null,null,null,null,"","","",""]
["",null,"",{"$f":"IF(B152<>\"\",VLOOKUP(IF(ISNUMBER(B152),TEXT(B152,\"0\"),B152),Pricelist!$A$53:$F$60643,6,FALSE),\"\")","v":""},{"$f":"IF(B152<>\"\",VLOOKUP(IF(ISNUMBER(B152),TEXT(B152,\"0\"),B152),Pricelist!$A$3:$F$60643,2,FALSE),\"\")","v":""},{"$f":"IF(B152<>\"\",VLOOKUP(IF(ISNUMBER(B152),TEXT(B152,\"0\"),B152),Pricelist!$A$53:$F$60643,5,FALSE),\"\")","v":""},{"$f":"IF(B152<>\"\",VLOOKUP(IF(ISNUMBER(B152),TEXT(B152,\"0\"),B152),Pricelist!$A$3:$F$60643,3,FALSE),\"\")","v":""},"",{"$f":"IF(B152<>\"\",VLOOKUP(IF(ISNUMBER(B152),TEXT(B152,\"0\"),B152),Pricelist!$A$3:$F$60643,4,FALSE),\"\")","v":""},"","",null,null,null,null,"","","",""]
["",null,"",{"$f":"IF(B153<>\"\",VLOOKUP(IF(ISNUMBER(B153),TEXT(B153,\"0\"),B153),Pricelist!$A$53:$F$60643,6,FALSE),\"\")","v":""},{"$f":"IF(B153<>\"\",VLOOKUP(IF(ISNUMBER(B153),TEXT(B153,\"0\"),B153),Pricelist!$A$3:$F$60643,2,FALSE),\"\")","v":""},{"$f":"IF(B153<>\"\",VLOOKUP(IF(ISNUMBER(B153),TEXT(B153,\"0\"),B153),Pricelist!$A$53:$F$60643,5,FALSE),\"\")","v":""},{"$f":"IF(B153<>\"\",VLOOKUP(IF(ISNUMBER(B153),TEXT(B153,\"0\"),B153),Pricelist!$A$3:$F$60643,3,FALSE),\"\")","v":""},"",{"$f":"IF(B153<>\"\",VLOOKUP(IF(ISNUMBER(B153),TEXT(B153,\"0\"),B153),Pricelist!$A$3:$F$60643,4,FALSE),\"\")","v":""},"","",null,null,null,null,"","","",""]
["",null,"",{"$f":"IF(B154<>\"\",VLOOKUP(IF(ISNUMBER(B154),TEXT(B154,\"0\"),B154),Pricelist!$A$53:$F$60643,6,FALSE),\"\")","v":""},{"$f":"IF(B154<>\"\",VLOOKUP(IF(ISNUMBER(B154),TEXT(B154,\"0\"),B154),Pricelist!$A$3:$F$60643,2,FALSE),\"\")","v":""},{"$f":"IF(B154<>\"\",VLOOKUP(IF(ISNUMBER(B154),TEXT(B154,\"0\"),B154),Pricelist!$A$53:$F$60643,5,FALSE),\"\")","v":""},{"$f":"IF(B154<>\"\",VLOOKUP(IF(ISNUMBER(B154),TEXT(B154,\"0\"),B154),Pricelist!$A$3:$F$60643,3,FALSE),\"\")","v":""},"",{"$f":"IF(B154<>\"\",VLOOKUP(IF(ISNUMBER(B154),TEXT(B154,\"0\"),B154),Pricelist!$A$3:$F$60643,4,FALSE),\"\")","v":""},"","",null,null,null,null,"","","",""]
["",null,"",{"$f":"IF(B155<>\"\",VLOOKUP(IF(ISNUMBER(B155),TEXT(B155,\"0\"),B155),Pricelist!$A$53:$F$60643,6,FALSE),\"\")","v":""},{"$f":"IF(B155<>\"\",VLOOKUP(IF(ISNUMBER(B155),TEXT(B155,\"0\"),B155),Pricelist!$A$3:$F$60643,2,FALSE),\"\")","v":""},{"$f":"IF(B155<>\"\",VLOOKUP(IF(ISNUMBER(B155),TEXT(B155,\"0\"),B155),Pricelist!$A$53:$F$60643,5,FALSE),\"\")","v":""},{"$f":"IF(B155<>\"\",VLOOKUP(IF(ISNUMBER(B155),TEXT(B155,\"0\"),B155),Pricelist!$A$3:$F$60643,3,FALSE),\"\")","v":""},"",{"$f":"IF(B155<>\"\",VLOOKUP(IF(ISNUMBER(B155),TEXT(B155,\"0\"),B155),Pricelist!$A$3:$F$60643,4,FALSE),\"\")","v":""},"","",null,null,null,null,"","","",""]
["",null,"",{"$f":"IF(B156<>\"\",VLOOKUP(IF(ISNUMBER(B156),TEXT(B156,\"0\"),B156),Pricelist!$A$53:$F$60643,6,FALSE),\"\")","v":""},{"$f":"IF(B156<>\"\",VLOOKUP(IF(ISNUMBER(B156),TEXT(B156,\"0\"),B156),Pricelist!$A$3:$F$60643,2,FALSE),\"\")","v":""},{"$f":"IF(B156<>\"\",VLOOKUP(IF(ISNUMBER(B156),TEXT(B156,\"0\"),B156),Pricelist!$A$53:$F$60643,5,FALSE),\"\")","v":""},{"$f":"IF(B156<>\"\",VLOOKUP(IF(ISNUMBER(B156),TEXT(B156,\"0\"),B156),Pricelist!$A$3:$F$60643,3,FALSE),\"\")","v":""},"",{"$f":"IF(B156<>\"\",VLOOKUP(IF(ISNUMBER(B156),TEXT(B156,\"0\"),B156),Pricelist!$A$3:$F$60643,4,FALSE),\"\")","v":""},"","",null,null,null,null,"","","",""]
["",null,"",{"$f":"IF(B157<>\"\",VLOOKUP(IF(ISNUMBER(B157),TEXT(B157,\"0\"),B157),Pricelist!$A$53:$F$60643,6,FALSE),\"\")","v":""},{"$f":"IF(B157<>\"\",VLOOKUP(IF(ISNUMBER(B157),TEXT(B157,\"0\"),B157),Pricelist!$A$3:$F$60643,2,FALSE),\"\")","v":""},{"$f":"IF(B157<>\"\",VLOOKUP(IF(ISNUMBER(B157),TEXT(B157,\"0\"),B157),Pricelist!$A$53:$F$60643,5,FALSE),\"\")","v":""},{"$f":"IF(B157<>\"\",VLOOKUP(IF(ISNUMBER(B157),TEXT(B157,\"0\"),B157),Pricelist!$A$3:$F$60643,3,FALSE),\"\")","v":""},"",{"$f":"IF(B157<>\"\",VLOOKUP(IF(ISNUMBER(B157),TEXT(B157,\"0\"),B157),Pricelist!$A$3:$F$60643,4,FALSE),\"\")","v":""},"","",null,null,null,null,"","","",""]
["",null,"",{"$f":"IF(B158<>\"\",VLOOKUP(IF(ISNUMBER(B158),TEXT(B158,\"0\"),B158),Pricelist!$A$53:$F$60643,6,FALSE),\"\")","v":""},{"$f":"IF(B158<>\"\",VLOOKUP(IF(ISNUMBER(B158),TEXT(B158,\"0\"),B158),Pricelist!$A$3:$F$60643,2,FALSE),\"\")","v":""},{"$f":"IF(B158<>\"\",VLOOKUP(IF(ISNUMBER(B158),TEXT(B158,\"0\"),B158),Pricelist!$A$53:$F$60643,5,FALSE),\"\")","v":""},{"$f":"IF(B158<>\"\",VLOOKUP(IF(ISNUMBER(B158),TEXT(B158,\"0\"),B158),Pricelist!$A$3:$F$60643,3,FALSE),\"\")","v":""},"",{"$f":"IF(B158<>\"\",VLOOKUP(IF(ISNUMBER(B158),TEXT(B158,\"0\"),B158),Pricelist!$A$3:$F$60643,4,FALSE),\"\")","v":""},"","",null,null,null,null,"","","",""]
["",null,"",{"$f":"IF(B159<>\"\",VLOOKUP(IF(ISNUMBER(B159),TEXT(B159,\"0\"),B159),Pricelist!$A$53:$F$60643,6,FALSE),\"\")","v":""},{"$f":"IF(B159<>\"\",VLOOKUP(IF(ISNUMBER(B159),TEXT(B159,\"0\"),B159),Pricelist!$A$3:$F$60643,2,FALSE),\"\")","v":""},{"$f":"IF(B159<>\"\",VLOOKUP(IF(ISNUMBER(B159),TEXT(B159,\"0\"),B159),Pricelist!$A$53:$F$60643,5,FALSE),\"\")","v":""},{"$f":"IF(B159<>\"\",VLOOKUP(IF(ISNUMBER(B159),TEXT(B159,\"0\"),B159),Pricelist!$A$3:$F$60643,3,FALSE),\"\")","v":""},"",{"$f":"IF(B159<>\"\",VLOOKUP(IF(ISNUMBER(B159),TEXT(B159,\"0\"),B159),Pricelist!$A$3:$F$60643,4,FALSE),\"\")","v":""},"","",null,null,null,null,"","","",""]
["",null,"",{"$f":"IF(B160<>\"\",VLOOKUP(IF(ISNUMBER(B160),TEXT(B160,\"0\"),B160),Pricelist!$A$53:$F$60643,6,FALSE),\"\")","v":""},{"$f":"IF(B160<>\"\",VLOOKUP(IF(ISNUMBER(B160),TEXT(B160,\"0\"),B160),Pricelist!$A$3:$F$60643,2,FALSE),\"\")","v":""},{"$f":"IF(B160<>\"\",VLOOKUP(IF(ISNUMBER(B160),TEXT(B160,\"0\"),B160),Pricelist!$A$53:$F$60643,5,FALSE),\"\")","v":""},{"$f":"IF(B160<>\"\",VLOOKUP(IF(ISNUMBER(B160),TEXT(B160,\"0\"),B160),Pricelist!$A$3:$F$60643,3,FALSE),\"\")","v":""},"",{"$f":"IF(B160<>\"\",VLOOKUP(IF(ISNUMBER(B160),TEXT(B160,\"0\"),B160),Pricelist!$A$3:$F$60643,4,FALSE),\"\")","v":""},"","",null,null,null,null,"","","",""]
["",null,"",{"$f":"IF(B161<>\"\",VLOOKUP(IF(ISNUMBER(B161),TEXT(B161,\"0\"),B161),Pricelist!$A$53:$F$60643,6,FALSE),\"\")","v":""},{"$f":"IF(B161<>\"\",VLOOKUP(IF(ISNUMBER(B161),TEXT(B161,\"0\"),B161),Pricelist!$A$3:$F$60643,2,FALSE),\"\")","v":""},{"$f":"IF(B161<>\"\",VLOOKUP(IF(ISNUMBER(B161),TEXT(B161,\"0\"),B161),Pricelist!$A$53:$F$60643,5,FALSE),\"\")","v":""},{"$f":"IF(B161<>\"\",VLOOKUP(IF(ISNUMBER(B161),TEXT(B161,\"0\"),B161),Pricelist!$A$3:$F$60643,3,FALSE),\"\")","v":""},"",{"$f":"IF(B161<>\"\",VLOOKUP(IF(ISNUMBER(B161),TEXT(B161,\"0\"),B161),Pricelist!$A$3:$F$60643,4,FALSE),\"\")","v":""},"","",null,null,null,null,"","","",""]
["",null,"",{"$f":"IF(B162<>\"\",VLOOKUP(IF(ISNUMBER(B162),TEXT(B162,\"0\"),B162),Pricelist!$A$53:$F$60643,6,FALSE),\"\")","v":""},{"$f":"IF(B162<>\"\",VLOOKUP(IF(ISNUMBER(B162),TEXT(B162,\"0\"),B162),Pricelist!$A$3:$F$60643,2,FALSE),\"\")","v":""},{"$f":"IF(B162<>\"\",VLOOKUP(IF(ISNUMBER(B162),TEXT(B162,\"0\"),B162),Pricelist!$A$53:$F$60643,5,FALSE),\"\")","v":""},{"$f":"IF(B162<>\"\",VLOOKUP(IF(ISNUMBER(B162),TEXT(B162,\"0\"),B162),Pricelist!$A$3:$F$60643,3,FALSE),\"\")","v":""},"",{"$f":"IF(B162<>\"\",VLOOKUP(IF(ISNUMBER(B162),TEXT(B162,\"0\"),B162),Pricelist!$A$3:$F$60643,4,FALSE),\"\")","v":""},"","",null,null,null,null,"","","",""]
["",null,"",{"$f":"IF(B163<>\"\",VLOOKUP(IF(ISNUMBER(B163),TEXT(B163,\"0\"),B163),Pricelist!$A$53:$F$60643,6,FALSE),\"\")","v":""},{"$f":"IF(B163<>\"\",VLOOKUP(IF(ISNUMBER(B163),TEXT(B163,\"0\"),B163),Pricelist!$A$3:$F$60643,2,FALSE),\"\")","v":""},{"$f":"IF(B163<>\"\",VLOOKUP(IF(ISNUMBER(B163),TEXT(B163,\"0\"),B163),Pricelist!$A$53:$F$60643,5,FALSE),\"\")","v":""},{"$f":"IF(B163<>\"\",VLOOKUP(IF(ISNUMBER(B163),TEXT(B163,\"0\"),B163),Pricelist!$A$3:$F$60643,3,FALSE),\"\")","v":""},"",{"$f":"IF(B163<>\"\",VLOOKUP(IF(ISNUMBER(B163),TEXT(B163,\"0\"),B163),Pricelist!$A$3:$F$60643,4,FALSE),\"\")","v":""},"","",null,null,null,null,"","","",""]
["",null,"",{"$f":"IF(B164<>\"\",VLOOKUP(IF(ISNUMBER(B164),TEXT(B164,\"0\"),B164),Pricelist!$A$53:$F$60643,6,FALSE),\"\")","v":""},{"$f":"IF(B164<>\"\",VLOOKUP(IF(ISNUMBER(B164),TEXT(B164,\"0\"),B164),Pricelist!$A$3:$F$60643,2,FALSE),\"\")","v":""},{"$f":"IF(B164<>\"\",VLOOKUP(IF(ISNUMBER(B164),TEXT(B164,\"0\"),B164),Pricelist!$A$53:$F$60643,5,FALSE),\"\")","v":""},{"$f":"IF(B164<>\"\",VLOOKUP(IF(ISNUMBER(B164),TEXT(B164,\"0\"),B164),Pricelist!$A$3:$F$60643,3,FALSE),\"\")","v":""},"",{"$f":"IF(B164<>\"\",VLOOKUP(IF(ISNUMBER(B164),TEXT(B164,\"0\"),B164),Pricelist!$A$3:$F$60643,4,FALSE),\"\")","v":""},"","",null,null,null,null,"","","",""]
["",null,"",{"$f":"IF(B165<>\"\",VLOOKUP(IF(ISNUMBER(B165),TEXT(B165,\"0\"),B165),Pricelist!$A$53:$F$60643,6,FALSE),\"\")","v":""},{"$f":"IF(B165<>\"\",VLOOKUP(IF(ISNUMBER(B165),TEXT(B165,\"0\"),B165),Pricelist!$A$3:$F$60643,2,FALSE),\"\")","v":""},{"$f":"IF(B165<>\"\",VLOOKUP(IF(ISNUMBER(B165),TEXT(B165,\"0\"),B165),Pricelist!$A$53:$F$60643,5,FALSE),\"\")","v":""},{"$f":"IF(B165<>\"\",VLOOKUP(IF(ISNUMBER(B165),TEXT(B165,\"0\"),B165),Pricelist!$A$3:$F$60643,3,FALSE),\"\")","v":""},"",{"$f":"IF(B165<>\"\",VLOOKUP(IF(ISNUMBER(B165),TEXT(B165,\"0\"),B165),Pricelist!$A$3:$F$60643,4,FALSE),\"\")","v":""},"","",null,null,null,null,"","","",""]
["",null,"",{"$f":"IF(B166<>\"\",VLOOKUP(IF(ISNUMBER(B166),TEXT(B166,\"0\"),B166),Pricelist!$A$53:$F$60643,6,FALSE),\"\")","v":""},{"$f":"IF(B166<>\"\",VLOOKUP(IF(ISNUMBER(B166),TEXT(B166,\"0\"),B166),Pricelist!$A$3:$F$60643,2,FALSE),\"\")","v":""},{"$f":"IF(B166<>\"\",VLOOKUP(IF(ISNUMBER(B166),TEXT(B166,\"0\"),B166),Pricelist!$A$53:$F$60643,5,FALSE),\"\")","v":""},{"$f":"IF(B166<>\"\",VLOOKUP(IF(ISNUMBER(B166),TEXT(B166,\"0\"),B166),Pricelist!$A$3:$F$60643,3,FALSE),\"\")","v":""},"",{"$f":"IF(B166<>\"\",VLOOKUP(IF(ISNUMBER(B166),TEXT(B166,\"0\"),B166),Pricelist!$A$3:$F$60643,4,FALSE),\"\")","v":""},"","",null,null,null,null,"","","",""]
["",null,"",{"$f":"IF(B167<>\"\",VLOOKUP(IF(ISNUMBER(B167),TEXT(B167,\"0\"),B167),Pricelist!$A$53:$F$60643,6,FALSE),\"\")","v":""},{"$f":"IF(B167<>\"\",VLOOKUP(IF(ISNUMBER(B167),TEXT(B167,\"0\"),B167),Pricelist!$A$3:$F$60643,2,FALSE),\"\")","v":""},{"$f":"IF(B167<>\"\",VLOOKUP(IF(ISNUMBER(B167),TEXT(B167,\"0\"),B167),Pricelist!$A$53:$F$60643,5,FALSE),\"\")","v":""},{"$f":"IF(B167<>\"\",VLOOKUP(IF(ISNUMBER(B167),TEXT(B167,\"0\"),B167),Pricelist!$A$3:$F$60643,3,FALSE),\"\")","v":""},"",{"$f":"IF(B167<>\"\",VLOOKUP(IF(ISNUMBER(B167),TEXT(B167,\"0\"),B167),Pricelist!$A$3:$F$60643,4,FALSE),\"\")","v":""},"","",null,null,null,null,"","","",""]
["",null,"",{"$f":"IF(B168<>\"\",VLOOKUP(IF(ISNUMBER(B168),TEXT(B168,\"0\"),B168),Pricelist!$A$53:$F$60643,6,FALSE),\"\")","v":""},{"$f":"IF(B168<>\"\",VLOOKUP(IF(ISNUMBER(B168),TEXT(B168,\"0\"),B168),Pricelist!$A$3:$F$60643,2,FALSE),\"\")","v":""},{"$f":"IF(B168<>\"\",VLOOKUP(IF(ISNUMBER(B168),TEXT(B168,\"0\"),B168),Pricelist!$A$53:$F$60643,5,FALSE),\"\")","v":""},{"$f":"IF(B168<>\"\",VLOOKUP(IF(ISNUMBER(B168),TEXT(B168,\"0\"),B168),Pricelist!$A$3:$F$60643,3,FALSE),\"\")","v":""},"",{"$f":"IF(B168<>\"\",VLOOKUP(IF(ISNUMBER(B168),TEXT(B168,\"0\"),B168),Pricelist!$A$3:$F$60643,4,FALSE),\"\")","v":""},"","",null,null,null,null,"","","",""]
["",null,"",{"$f":"IF(B169<>\"\",VLOOKUP(IF(ISNUMBER(B169),TEXT(B169,\"0\"),B169),Pricelist!$A$53:$F$60643,6,FALSE),\"\")","v":""},{"$f":"IF(B169<>\"\",VLOOKUP(IF(ISNUMBER(B169),TEXT(B169,\"0\"),B169),Pricelist!$A$3:$F$60643,2,FALSE),\"\")","v":""},{"$f":"IF(B169<>\"\",VLOOKUP(IF(ISNUMBER(B169),TEXT(B169,\"0\"),B169),Pricelist!$A$53:$F$60643,5,FALSE),\"\")","v":""},{"$f":"IF(B169<>\"\",VLOOKUP(IF(ISNUMBER(B169),TEXT(B169,\"0\"),B169),Pricelist!$A$3:$F$60643,3,FALSE),\"\")","v":""},"",{"$f":"IF(B169<>\"\",VLOOKUP(IF(ISNUMBER(B169),TEXT(B169,\"0\"),B169),Pricelist!$A$3:$F$60643,4,FALSE),\"\")","v":""},"","",null,null,null,null,"","","",""]
["",null,"",{"$f":"IF(B170<>\"\",VLOOKUP(IF(ISNUMBER(B170),TEXT(B170,\"0\"),B170),Pricelist!$A$53:$F$60643,6,FALSE),\"\")","v":""},{"$f":"IF(B170<>\"\",VLOOKUP(IF(ISNUMBER(B170),TEXT(B170,\"0\"),B170),Pricelist!$A$3:$F$60643,2,FALSE),\"\")","v":""},{"$f":"IF(B170<>\"\",VLOOKUP(IF(ISNUMBER(B170),TEXT(B170,\"0\"),B170),Pricelist!$A$53:$F$60643,5,FALSE),\"\")","v":""},{"$f":"IF(B170<>\"\",VLOOKUP(IF(ISNUMBER(B170),TEXT(B170,\"0\"),B170),Pricelist!$A$3:$F$60643,3,FALSE),\"\")","v":""},"",{"$f":"IF(B170<>\"\",VLOOKUP(IF(ISNUMBER(B170),TEXT(B170,\"0\"),B170),Pricelist!$A$3:$F$60643,4,FALSE),\"\")","v":""},"","",null,null,null,null,"","","",""]
["",null,"",{"$f":"IF(B171<>\"\",VLOOKUP(IF(ISNUMBER(B171),TEXT(B171,\"0\"),B171),Pricelist!$A$53:$F$60643,6,FALSE),\"\")","v":""},{"$f":"IF(B171<>\"\",VLOOKUP(IF(ISNUMBER(B171),TEXT(B171,\"0\"),B171),Pricelist!$A$3:$F$60643,2,FALSE),\"\")","v":""},{"$f":"IF(B171<>\"\",VLOOKUP(IF(ISNUMBER(B171),TEXT(B171,\"0\"),B171),Pricelist!$A$53:$F$60643,5,FALSE),\"\")","v":""},{"$f":"IF(B171<>\"\",VLOOKUP(IF(ISNUMBER(B171),TEXT(B171,\"0\"),B171),Pricelist!$A$3:$F$60643,3,FALSE),\"\")","v":""},"",{"$f":"IF(B171<>\"\",VLOOKUP(IF(ISNUMBER(B171),TEXT(B171,\"0\"),B171),Pricelist!$A$3:$F$60643,4,FALSE),\"\")","v":""},"","",null,null,null,null,"","","",""]
["",null,"",{"$f":"IF(B172<>\"\",VLOOKUP(IF(ISNUMBER(B172),TEXT(B172,\"0\"),B172),Pricelist!$A$53:$F$60643,6,FALSE),\"\")","v":""},{"$f":"IF(B172<>\"\",VLOOKUP(IF(ISNUMBER(B172),TEXT(B172,\"0\"),B172),Pricelist!$A$3:$F$60643,2,FALSE),\"\")","v":""},{"$f":"IF(B172<>\"\",VLOOKUP(IF(ISNUMBER(B172),TEXT(B172,\"0\"),B172),Pricelist!$A$53:$F$60643,5,FALSE),\"\")","v":""},{"$f":"IF(B172<>\"\",VLOOKUP(IF(ISNUMBER(B172),TEXT(B172,\"0\"),B172),Pricelist!$A$3:$F$60643,3,FALSE),\"\")","v":""},"",{"$f":"IF(B172<>\"\",VLOOKUP(IF(ISNUMBER(B172),TEXT(B172,\"0\"),B172),Pricelist!$A$3:$F$60643,4,FALSE),\"\")","v":""},"","",null,null,null,null,"","","",""]
["",null,"",{"$f":"IF(B173<>\"\",VLOOKUP(IF(ISNUMBER(B173),TEXT(B173,\"0\"),B173),Pricelist!$A$53:$F$60643,6,FALSE),\"\")","v":""},{"$f":"IF(B173<>\"\",VLOOKUP(IF(ISNUMBER(B173),TEXT(B173,\"0\"),B173),Pricelist!$A$3:$F$60643,2,FALSE),\"\")","v":""},{"$f":"IF(B173<>\"\",VLOOKUP(IF(ISNUMBER(B173),TEXT(B173,\"0\"),B173),Pricelist!$A$53:$F$60643,5,FALSE),\"\")","v":""},{"$f":"IF(B173<>\"\",VLOOKUP(IF(ISNUMBER(B173),TEXT(B173,\"0\"),B173),Pricelist!$A$3:$F$60643,3,FALSE),\"\")","v":""},"",{"$f":"IF(B173<>\"\",VLOOKUP(IF(ISNUMBER(B173),TEXT(B173,\"0\"),B173),Pricelist!$A$3:$F$60643,4,FALSE),\"\")","v":""},"","",null,null,null,null,"","","",""]
["",null,"",{"$f":"IF(B174<>\"\",VLOOKUP(IF(ISNUMBER(B174),TEXT(B174,\"0\"),B174),Pricelist!$A$53:$F$60643,6,FALSE),\"\")","v":""},{"$f":"IF(B174<>\"\",VLOOKUP(IF(ISNUMBER(B174),TEXT(B174,\"0\"),B174),Pricelist!$A$3:$F$60643,2,FALSE),\"\")","v":""},{"$f":"IF(B174<>\"\",VLOOKUP(IF(ISNUMBER(B174),TEXT(B174,\"0\"),B174),Pricelist!$A$53:$F$60643,5,FALSE),\"\")","v":""},{"$f":"IF(B174<>\"\",VLOOKUP(IF(ISNUMBER(B174),TEXT(B174,\"0\"),B174),Pricelist!$A$3:$F$60643,3,FALSE),\"\")","v":""},"",{"$f":"IF(B174<>\"\",VLOOKUP(IF(ISNUMBER(B174),TEXT(B174,\"0\"),B174),Pricelist!$A$3:$F$60643,4,FALSE),\"\")","v":""},"","",null,null,null,null,"","","",""]
["",null,"",{"$f":"IF(B175<>\"\",VLOOKUP(IF(ISNUMBER(B175),TEXT(B175,\"0\"),B175),Pricelist!$A$53:$F$60643,6,FALSE),\"\")","v":""},{"$f":"IF(B175<>\"\",VLOOKUP(IF(ISNUMBER(B175),TEXT(B175,\"0\"),B175),Pricelist!$A$3:$F$60643,2,FALSE),\"\")","v":""},{"$f":"IF(B175<>\"\",VLOOKUP(IF(ISNUMBER(B175),TEXT(B175,\"0\"),B175),Pricelist!$A$53:$F$60643,5,FALSE),\"\")","v":""},{"$f":"IF(B175<>\"\",VLOOKUP(IF(ISNUMBER(B175),TEXT(B175,\"0\"),B175),Pricelist!$A$3:$F$60643,3,FALSE),\"\")","v":""},"",{"$f":"IF(B175<>\"\",VLOOKUP(IF(ISNUMBER(B175),TEXT(B175,\"0\"),B175),Pricelist!$A$3:$F$60643,4,FALSE),\"\")","v":""},"","",null,null,null,null,"","","",""]
["",null,"",{"$f":"IF(B176<>\"\",VLOOKUP(IF(ISNUMBER(B176),TEXT(B176,\"0\"),B176),Pricelist!$A$53:$F$60643,6,FALSE),\"\")","v":""},{"$f":"IF(B176<>\"\",VLOOKUP(IF(ISNUMBER(B176),TEXT(B176,\"0\"),B176),Pricelist!$A$3:$F$60643,2,FALSE),\"\")","v":""},{"$f":"IF(B176<>\"\",VLOOKUP(IF(ISNUMBER(B176),TEXT(B176,\"0\"),B176),Pricelist!$A$53:$F$60643,5,FALSE),\"\")","v":""},{"$f":"IF(B176<>\"\",VLOOKUP(IF(ISNUMBER(B176),TEXT(B176,\"0\"),B176),Pricelist!$A$3:$F$60643,3,FALSE),\"\")","v":""},"",{"$f":"IF(B176<>\"\",VLOOKUP(IF(ISNUMBER(B176),TEXT(B176,\"0\"),B176),Pricelist!$A$3:$F$60643,4,FALSE),\"\")","v":""},"","",null,null,null,null,"","","",""]
["",null,"",{"$f":"IF(B177<>\"\",VLOOKUP(IF(ISNUMBER(B177),TEXT(B177,\"0\"),B177),Pricelist!$A$53:$F$60643,6,FALSE),\"\")","v":""},{"$f":"IF(B177<>\"\",VLOOKUP(IF(ISNUMBER(B177),TEXT(B177,\"0\"),B177),Pricelist!$A$3:$F$60643,2,FALSE),\"\")","v":""},{"$f":"IF(B177<>\"\",VLOOKUP(IF(ISNUMBER(B177),TEXT(B177,\"0\"),B177),Pricelist!$A$53:$F$60643,5,FALSE),\"\")","v":""},{"$f":"IF(B177<>\"\",VLOOKUP(IF(ISNUMBER(B177),TEXT(B177,\"0\"),B177),Pricelist!$A$3:$F$60643,3,FALSE),\"\")","v":""},"",{"$f":"IF(B177<>\"\",VLOOKUP(IF(ISNUMBER(B177),TEXT(B177,\"0\"),B177),Pricelist!$A$3:$F$60643,4,FALSE),\"\")","v":""},"","",null,null,null,null,"","","",""]
["",null,"",{"$f":"IF(B178<>\"\",VLOOKUP(IF(ISNUMBER(B178),TEXT(B178,\"0\"),B178),Pricelist!$A$53:$F$60643,6,FALSE),\"\")","v":""},{"$f":"IF(B178<>\"\",VLOOKUP(IF(ISNUMBER(B178),TEXT(B178,\"0\"),B178),Pricelist!$A$3:$F$60643,2,FALSE),\"\")","v":""},{"$f":"IF(B178<>\"\",VLOOKUP(IF(ISNUMBER(B178),TEXT(B178,\"0\"),B178),Pricelist!$A$53:$F$60643,5,FALSE),\"\")","v":""},{"$f":"IF(B178<>\"\",VLOOKUP(IF(ISNUMBER(B178),TEXT(B178,\"0\"),B178),Pricelist!$A$3:$F$60643,3,FALSE),\"\")","v":""},"",{"$f":"IF(B178<>\"\",VLOOKUP(IF(ISNUMBER(B178),TEXT(B178,\"0\"),B178),Pricelist!$A$3:$F$60643,4,FALSE),\"\")","v":""},"","",null,null,null,null,"","","",""]
["",null,"",{"$f":"IF(B179<>\"\",VLOOKUP(IF(ISNUMBER(B179),TEXT(B179,\"0\"),B179),Pricelist!$A$53:$F$60643,6,FALSE),\"\")","v":""},{"$f":"IF(B179<>\"\",VLOOKUP(IF(ISNUMBER(B179),TEXT(B179,\"0\"),B179),Pricelist!$A$3:$F$60643,2,FALSE),\"\")","v":""},{"$f":"IF(B179<>\"\",VLOOKUP(IF(ISNUMBER(B179),TEXT(B179,\"0\"),B179),Pricelist!$A$53:$F$60643,5,FALSE),\"\")","v":""},{"$f":"IF(B179<>\"\",VLOOKUP(IF(ISNUMBER(B179),TEXT(B179,\"0\"),B179),Pricelist!$A$3:$F$60643,3,FALSE),\"\")","v":""},"",{"$f":"IF(B179<>\"\",VLOOKUP(IF(ISNUMBER(B179),TEXT(B179,\"0\"),B179),Pricelist!$A$3:$F$60643,4,FALSE),\"\")","v":""},"","",null,null,null,null,"","","",""]
["",null,"",{"$f":"IF(B180<>\"\",VLOOKUP(IF(ISNUMBER(B180),TEXT(B180,\"0\"),B180),Pricelist!$A$53:$F$60643,6,FALSE),\"\")","v":""},{"$f":"IF(B180<>\"\",VLOOKUP(IF(ISNUMBER(B180),TEXT(B180,\"0\"),B180),Pricelist!$A$3:$F$60643,2,FALSE),\"\")","v":""},{"$f":"IF(B180<>\"\",VLOOKUP(IF(ISNUMBER(B180),TEXT(B180,\"0\"),B180),Pricelist!$A$53:$F$60643,5,FALSE),\"\")","v":""},{"$f":"IF(B180<>\"\",VLOOKUP(IF(ISNUMBER(B180),TEXT(B180,\"0\"),B180),Pricelist!$A$3:$F$60643,3,FALSE),\"\")","v":""},"",{"$f":"IF(B180<>\"\",VLOOKUP(IF(ISNUMBER(B180),TEXT(B180,\"0\"),B180),Pricelist!$A$3:$F$60643,4,FALSE),\"\")","v":""},"","",null,null,null,null,"","","",""]
["",null,"",{"$f":"IF(B181<>\"\",VLOOKUP(IF(ISNUMBER(B181),TEXT(B181,\"0\"),B181),Pricelist!$A$53:$F$60643,6,FALSE),\"\")","v":""},{"$f":"IF(B181<>\"\",VLOOKUP(IF(ISNUMBER(B181),TEXT(B181,\"0\"),B181),Pricelist!$A$3:$F$60643,2,FALSE),\"\")","v":""},{"$f":"IF(B181<>\"\",VLOOKUP(IF(ISNUMBER(B181),TEXT(B181,\"0\"),B181),Pricelist!$A$53:$F$60643,5,FALSE),\"\")","v":""},{"$f":"IF(B181<>\"\",VLOOKUP(IF(ISNUMBER(B181),TEXT(B181,\"0\"),B181),Pricelist!$A$3:$F$60643,3,FALSE),\"\")","v":""},"",{"$f":"IF(B181<>\"\",VLOOKUP(IF(ISNUMBER(B181),TEXT(B181,\"0\"),B181),Pricelist!$A$3:$F$60643,4,FALSE),\"\")","v":""},"","",null,null,null,null,"","","",""]
["",null,"",{"$f":"IF(B182<>\"\",VLOOKUP(IF(ISNUMBER(B182),TEXT(B182,\"0\"),B182),Pricelist!$A$53:$F$60643,6,FALSE),\"\")","v":""},{"$f":"IF(B182<>\"\",VLOOKUP(IF(ISNUMBER(B182),TEXT(B182,\"0\"),B182),Pricelist!$A$3:$F$60643,2,FALSE),\"\")","v":""},{"$f":"IF(B182<>\"\",VLOOKUP(IF(ISNUMBER(B182),TEXT(B182,\"0\"),B182),Pricelist!$A$53:$F$60643,5,FALSE),\"\")","v":""},{"$f":"IF(B182<>\"\",VLOOKUP(IF(ISNUMBER(B182),TEXT(B182,\"0\"),B182),Pricelist!$A$3:$F$60643,3,FALSE),\"\")","v":""},"",{"$f":"IF(B182<>\"\",VLOOKUP(IF(ISNUMBER(B182),TEXT(B182,\"0\"),B182),Pricelist!$A$3:$F$60643,4,FALSE),\"\")","v":""},"","",null,null,null,null,"","","",""]
["",null,"",{"$f":"IF(B183<>\"\",VLOOKUP(IF(ISNUMBER(B183),TEXT(B183,\"0\"),B183),Pricelist!$A$53:$F$60643,6,FALSE),\"\")","v":""},{"$f":"IF(B183<>\"\",VLOOKUP(IF(ISNUMBER(B183),TEXT(B183,\"0\"),B183),Pricelist!$A$3:$F$60643,2,FALSE),\"\")","v":""},{"$f":"IF(B183<>\"\",VLOOKUP(IF(ISNUMBER(B183),TEXT(B183,\"0\"),B183),Pricelist!$A$53:$F$60643,5,FALSE),\"\")","v":""},{"$f":"IF(B183<>\"\",VLOOKUP(IF(ISNUMBER(B183),TEXT(B183,\"0\"),B183),Pricelist!$A$3:$F$60643,3,FALSE),\"\")","v":""},"",{"$f":"IF(B183<>\"\",VLOOKUP(IF(ISNUMBER(B183),TEXT(B183,\"0\"),B183),Pricelist!$A$3:$F$60643,4,FALSE),\"\")","v":""},"","",null,null,null,null,"","","",""]
["",null,"",{"$f":"IF(B184<>\"\",VLOOKUP(IF(ISNUMBER(B184),TEXT(B184,\"0\"),B184),Pricelist!$A$53:$F$60643,6,FALSE),\"\")","v":""},{"$f":"IF(B184<>\"\",VLOOKUP(IF(ISNUMBER(B184),TEXT(B184,\"0\"),B184),Pricelist!$A$3:$F$60643,2,FALSE),\"\")","v":""},{"$f":"IF(B184<>\"\",VLOOKUP(IF(ISNUMBER(B184),TEXT(B184,\"0\"),B184),Pricelist!$A$53:$F$60643,5,FALSE),\"\")","v":""},{"$f":"IF(B184<>\"\",VLOOKUP(IF(ISNUMBER(B184),TEXT(B184,\"0\"),B184),Pricelist!$A$3:$F$60643,3,FALSE),\"\")","v":""},"",{"$f":"IF(B184<>\"\",VLOOKUP(IF(ISNUMBER(B184),TEXT(B184,\"0\"),B184),Pricelist!$A$3:$F$60643,4,FALSE),\"\")","v":""},"","",null,null,null,null,"","","",""]
["",null,"",{"$f":"IF(B185<>\"\",VLOOKUP(IF(ISNUMBER(B185),TEXT(B185,\"0\"),B185),Pricelist!$A$53:$F$60643,6,FALSE),\"\")","v":""},{"$f":"IF(B185<>\"\",VLOOKUP(IF(ISNUMBER(B185),TEXT(B185,\"0\"),B185),Pricelist!$A$3:$F$60643,2,FALSE),\"\")","v":""},{"$f":"IF(B185<>\"\",VLOOKUP(IF(ISNUMBER(B185),TEXT(B185,\"0\"),B185),Pricelist!$A$53:$F$60643,5,FALSE),\"\")","v":""},{"$f":"IF(B185<>\"\",VLOOKUP(IF(ISNUMBER(B185),TEXT(B185,\"0\"),B185),Pricelist!$A$3:$F$60643,3,FALSE),\"\")","v":""},"",{"$f":"IF(B185<>\"\",VLOOKUP(IF(ISNUMBER(B185),TEXT(B185,\"0\"),B185),Pricelist!$A$3:$F$60643,4,FALSE),\"\")","v":""},"","",null,null,null,null,"","","",""]
["",null,"",{"$f":"IF(B186<>\"\",VLOOKUP(IF(ISNUMBER(B186),TEXT(B186,\"0\"),B186),Pricelist!$A$53:$F$60643,6,FALSE),\"\")","v":""},{"$f":"IF(B186<>\"\",VLOOKUP(IF(ISNUMBER(B186),TEXT(B186,\"0\"),B186),Pricelist!$A$3:$F$60643,2,FALSE),\"\")","v":""},{"$f":"IF(B186<>\"\",VLOOKUP(IF(ISNUMBER(B186),TEXT(B186,\"0\"),B186),Pricelist!$A$53:$F$60643,5,FALSE),\"\")","v":""},{"$f":"IF(B186<>\"\",VLOOKUP(IF(ISNUMBER(B186),TEXT(B186,\"0\"),B186),Pricelist!$A$3:$F$60643,3,FALSE),\"\")","v":""},"",{"$f":"IF(B186<>\"\",VLOOKUP(IF(ISNUMBER(B186),TEXT(B186,\"0\"),B186),Pricelist!$A$3:$F$60643,4,FALSE),\"\")","v":""},"","",null,null,null,null,"","","",""]
["",null,"",{"$f":"IF(B187<>\"\",VLOOKUP(IF(ISNUMBER(B187),TEXT(B187,\"0\"),B187),Pricelist!$A$53:$F$60643,6,FALSE),\"\")","v":""},{"$f":"IF(B187<>\"\",VLOOKUP(IF(ISNUMBER(B187),TEXT(B187,\"0\"),B187),Pricelist!$A$3:$F$60643,2,FALSE),\"\")","v":""},{"$f":"IF(B187<>\"\",VLOOKUP(IF(ISNUMBER(B187),TEXT(B187,\"0\"),B187),Pricelist!$A$53:$F$60643,5,FALSE),\"\")","v":""},{"$f":"IF(B187<>\"\",VLOOKUP(IF(ISNUMBER(B187),TEXT(B187,\"0\"),B187),Pricelist!$A$3:$F$60643,3,FALSE),\"\")","v":""},"",{"$f":"IF(B187<>\"\",VLOOKUP(IF(ISNUMBER(B187),TEXT(B187,\"0\"),B187),Pricelist!$A$3:$F$60643,4,FALSE),\"\")","v":""},"","",null,null,null,null,"","","",""]
["",null,"",{"$f":"IF(B188<>\"\",VLOOKUP(IF(ISNUMBER(B188),TEXT(B188,\"0\"),B188),Pricelist!$A$53:$F$60643,6,FALSE),\"\")","v":""},{"$f":"IF(B188<>\"\",VLOOKUP(IF(ISNUMBER(B188),TEXT(B188,\"0\"),B188),Pricelist!$A$3:$F$60643,2,FALSE),\"\")","v":""},{"$f":"IF(B188<>\"\",VLOOKUP(IF(ISNUMBER(B188),TEXT(B188,\"0\"),B188),Pricelist!$A$53:$F$60643,5,FALSE),\"\")","v":""},{"$f":"IF(B188<>\"\",VLOOKUP(IF(ISNUMBER(B188),TEXT(B188,\"0\"),B188),Pricelist!$A$3:$F$60643,3,FALSE),\"\")","v":""},"",{"$f":"IF(B188<>\"\",VLOOKUP(IF(ISNUMBER(B188),TEXT(B188,\"0\"),B188),Pricelist!$A$3:$F$60643,4,FALSE),\"\")","v":""},"","",null,null,null,null,"","","",""]
["",null,"",{"$f":"IF(B189<>\"\",VLOOKUP(IF(ISNUMBER(B189),TEXT(B189,\"0\"),B189),Pricelist!$A$53:$F$60643,6,FALSE),\"\")","v":""},{"$f":"IF(B189<>\"\",VLOOKUP(IF(ISNUMBER(B189),TEXT(B189,\"0\"),B189),Pricelist!$A$3:$F$60643,2,FALSE),\"\")","v":""},{"$f":"IF(B189<>\"\",VLOOKUP(IF(ISNUMBER(B189),TEXT(B189,\"0\"),B189),Pricelist!$A$53:$F$60643,5,FALSE),\"\")","v":""},{"$f":"IF(B189<>\"\",VLOOKUP(IF(ISNUMBER(B189),TEXT(B189,\"0\"),B189),Pricelist!$A$3:$F$60643,3,FALSE),\"\")","v":""},"",{"$f":"IF(B189<>\"\",VLOOKUP(IF(ISNUMBER(B189),TEXT(B189,\"0\"),B189),Pricelist!$A$3:$F$60643,4,FALSE),\"\")","v":""},"","",null,null,null,null,"","","",""]
["",null,"",{"$f":"IF(B190<>\"\",VLOOKUP(IF(ISNUMBER(B190),TEXT(B190,\"0\"),B190),Pricelist!$A$53:$F$60643,6,FALSE),\"\")","v":""},{"$f":"IF(B190<>\"\",VLOOKUP(IF(ISNUMBER(B190),TEXT(B190,\"0\"),B190),Pricelist!$A$3:$F$60643,2,FALSE),\"\")","v":""},{"$f":"IF(B190<>\"\",VLOOKUP(IF(ISNUMBER(B190),TEXT(B190,\"0\"),B190),Pricelist!$A$53:$F$60643,5,FALSE),\"\")","v":""},{"$f":"IF(B190<>\"\",VLOOKUP(IF(ISNUMBER(B190),TEXT(B190,\"0\"),B190),Pricelist!$A$3:$F$60643,3,FALSE),\"\")","v":""},"",{"$f":"IF(B190<>\"\",VLOOKUP(IF(ISNUMBER(B190),TEXT(B190,\"0\"),B190),Pricelist!$A$3:$F$60643,4,FALSE),\"\")","v":""},"","",null,null,null,null,"","","",""]
["",null,"",{"$f":"IF(B191<>\"\",VLOOKUP(IF(ISNUMBER(B191),TEXT(B191,\"0\"),B191),Pricelist!$A$53:$F$60643,6,FALSE),\"\")","v":""},{"$f":"IF(B191<>\"\",VLOOKUP(IF(ISNUMBER(B191),TEXT(B191,\"0\"),B191),Pricelist!$A$3:$F$60643,2,FALSE),\"\")","v":""},{"$f":"IF(B191<>\"\",VLOOKUP(IF(ISNUMBER(B191),TEXT(B191,\"0\"),B191),Pricelist!$A$53:$F$60643,5,FALSE),\"\")","v":""},{"$f":"IF(B191<>\"\",VLOOKUP(IF(ISNUMBER(B191),TEXT(B191,\"0\"),B191),Pricelist!$A$3:$F$60643,3,FALSE),\"\")","v":""},"",{"$f":"IF(B191<>\"\",VLOOKUP(IF(ISNUMBER(B191),TEXT(B191,\"0\"),B191),Pricelist!$A$3:$F$60643,4,FALSE),\"\")","v":""},"","",null,null,null,null,"","","",""]
["",null,"",{"$f":"IF(B192<>\"\",VLOOKUP(IF(ISNUMBER(B192),TEXT(B192,\"0\"),B192),Pricelist!$A$53:$F$60643,6,FALSE),\"\")","v":""},{"$f":"IF(B192<>\"\",VLOOKUP(IF(ISNUMBER(B192),TEXT(B192,\"0\"),B192),Pricelist!$A$3:$F$60643,2,FALSE),\"\")","v":""},{"$f":"IF(B192<>\"\",VLOOKUP(IF(ISNUMBER(B192),TEXT(B192,\"0\"),B192),Pricelist!$A$53:$F$60643,5,FALSE),\"\")","v":""},{"$f":"IF(B192<>\"\",VLOOKUP(IF(ISNUMBER(B192),TEXT(B192,\"0\"),B192),Pricelist!$A$3:$F$60643,3,FALSE),\"\")","v":""},"",{"$f":"IF(B192<>\"\",VLOOKUP(IF(ISNUMBER(B192),TEXT(B192,\"0\"),B192),Pricelist!$A$3:$F$60643,4,FALSE),\"\")","v":""},"","",null,null,null,null,"","","",""]
["",null,"",{"$f":"IF(B193<>\"\",VLOOKUP(IF(ISNUMBER(B193),TEXT(B193,\"0\"),B193),Pricelist!$A$53:$F$60643,6,FALSE),\"\")","v":""},{"$f":"IF(B193<>\"\",VLOOKUP(IF(ISNUMBER(B193),TEXT(B193,\"0\"),B193),Pricelist!$A$3:$F$60643,2,FALSE),\"\")","v":""},{"$f":"IF(B193<>\"\",VLOOKUP(IF(ISNUMBER(B193),TEXT(B193,\"0\"),B193),Pricelist!$A$53:$F$60643,5,FALSE),\"\")","v":""},{"$f":"IF(B193<>\"\",VLOOKUP(IF(ISNUMBER(B193),TEXT(B193,\"0\"),B193),Pricelist!$A$3:$F$60643,3,FALSE),\"\")","v":""},"",{"$f":"IF(B193<>\"\",VLOOKUP(IF(ISNUMBER(B193),TEXT(B193,\"0\"),B193),Pricelist!$A$3:$F$60643,4,FALSE),\"\")","v":""},"","",null,null,null,null,"","","",""]
["",null,"",{"$f":"IF(B194<>\"\",VLOOKUP(IF(ISNUMBER(B194),TEXT(B194,\"0\"),B194),Pricelist!$A$53:$F$60643,6,FALSE),\"\")","v":""},{"$f":"IF(B194<>\"\",VLOOKUP(IF(ISNUMBER(B194),TEXT(B194,\"0\"),B194),Pricelist!$A$3:$F$60643,2,FALSE),\"\")","v":""},{"$f":"IF(B194<>\"\",VLOOKUP(IF(ISNUMBER(B194),TEXT(B194,\"0\"),B194),Pricelist!$A$53:$F$60643,5,FALSE),\"\")","v":""},{"$f":"IF(B194<>\"\",VLOOKUP(IF(ISNUMBER(B194),TEXT(B194,\"0\"),B194),Pricelist!$A$3:$F$60643,3,FALSE),\"\")","v":""},"",{"$f":"IF(B194<>\"\",VLOOKUP(IF(ISNUMBER(B194),TEXT(B194,\"0\"),B194),Pricelist!$A$3:$F$60643,4,FALSE),\"\")","v":""},"","",null,null,null,null,"","","",""]
["",null,"",{"$f":"IF(B195<>\"\",VLOOKUP(IF(ISNUMBER(B195),TEXT(B195,\"0\"),B195),Pricelist!$A$53:$F$60643,6,FALSE),\"\")","v":""},{"$f":"IF(B195<>\"\",VLOOKUP(IF(ISNUMBER(B195),TEXT(B195,\"0\"),B195),Pricelist!$A$3:$F$60643,2,FALSE),\"\")","v":""},{"$f":"IF(B195<>\"\",VLOOKUP(IF(ISNUMBER(B195),TEXT(B195,\"0\"),B195),Pricelist!$A$53:$F$60643,5,FALSE),\"\")","v":""},{"$f":"IF(B195<>\"\",VLOOKUP(IF(ISNUMBER(B195),TEXT(B195,\"0\"),B195),Pricelist!$A$3:$F$60643,3,FALSE),\"\")","v":""},"",{"$f":"IF(B195<>\"\",VLOOKUP(IF(ISNUMBER(B195),TEXT(B195,\"0\"),B195),Pricelist!$A$3:$F$60643,4,FALSE),\"\")","v":""},"","",null,null,null,null,"","","",""]
["",null,"",{"$f":"IF(B196<>\"\",VLOOKUP(IF(ISNUMBER(B196),TEXT(B196,\"0\"),B196),Pricelist!$A$53:$F$60643,6,FALSE),\"\")","v":""},{"$f":"IF(B196<>\"\",VLOOKUP(IF(ISNUMBER(B196),TEXT(B196,\"0\"),B196),Pricelist!$A$3:$F$60643,2,FALSE),\"\")","v":""},{"$f":"IF(B196<>\"\",VLOOKUP(IF(ISNUMBER(B196),TEXT(B196,\"0\"),B196),Pricelist!$A$53:$F$60643,5,FALSE),\"\")","v":""},{"$f":"IF(B196<>\"\",VLOOKUP(IF(ISNUMBER(B196),TEXT(B196,\"0\"),B196),Pricelist!$A$3:$F$60643,3,FALSE),\"\")","v":""},"",{"$f":"IF(B196<>\"\",VLOOKUP(IF(ISNUMBER(B196),TEXT(B196,\"0\"),B196),Pricelist!$A$3:$F$60643,4,FALSE),\"\")","v":""},"","",null,null,null,null,"","","",""]
["",null,"",{"$f":"IF(B197<>\"\",VLOOKUP(IF(ISNUMBER(B197),TEXT(B197,\"0\"),B197),Pricelist!$A$53:$F$60643,6,FALSE),\"\")","v":""},{"$f":"IF(B197<>\"\",VLOOKUP(IF(ISNUMBER(B197),TEXT(B197,\"0\"),B197),Pricelist!$A$3:$F$60643,2,FALSE),\"\")","v":""},{"$f":"IF(B197<>\"\",VLOOKUP(IF(ISNUMBER(B197),TEXT(B197,\"0\"),B197),Pricelist!$A$53:$F$60643,5,FALSE),\"\")","v":""},{"$f":"IF(B197<>\"\",VLOOKUP(IF(ISNUMBER(B197),TEXT(B197,\"0\"),B197),Pricelist!$A$3:$F$60643,3,FALSE),\"\")","v":""},"",{"$f":"IF(B197<>\"\",VLOOKUP(IF(ISNUMBER(B197),TEXT(B197,\"0\"),B197),Pricelist!$A$3:$F$60643,4,FALSE),\"\")","v":""},"","",null,null,null,null,"","","",""]
["",null,"",{"$f":"IF(B198<>\"\",VLOOKUP(IF(ISNUMBER(B198),TEXT(B198,\"0\"),B198),Pricelist!$A$53:$F$60643,6,FALSE),\"\")","v":""},{"$f":"IF(B198<>\"\",VLOOKUP(IF(ISNUMBER(B198),TEXT(B198,\"0\"),B198),Pricelist!$A$3:$F$60643,2,FALSE),\"\")","v":""},{"$f":"IF(B198<>\"\",VLOOKUP(IF(ISNUMBER(B198),TEXT(B198,\"0\"),B198),Pricelist!$A$53:$F$60643,5,FALSE),\"\")","v":""},{"$f":"IF(B198<>\"\",VLOOKUP(IF(ISNUMBER(B198),TEXT(B198,\"0\"),B198),Pricelist!$A$3:$F$60643,3,FALSE),\"\")","v":""},"",{"$f":"IF(B198<>\"\",VLOOKUP(IF(ISNUMBER(B198),TEXT(B198,\"0\"),B198),Pricelist!$A$3:$F$60643,4,FALSE),\"\")","v":""},"","",null,null,null,null,"","","",""]
["",null,"",{"$f":"IF(B199<>\"\",VLOOKUP(IF(ISNUMBER(B199),TEXT(B199,\"0\"),B199),Pricelist!$A$53:$F$60643,6,FALSE),\"\")","v":""},{"$f":"IF(B199<>\"\",VLOOKUP(IF(ISNUMBER(B199),TEXT(B199,\"0\"),B199),Pricelist!$A$3:$F$60643,2,FALSE),\"\")","v":""},{"$f":"IF(B199<>\"\",VLOOKUP(IF(ISNUMBER(B199),TEXT(B199,\"0\"),B199),Pricelist!$A$53:$F$60643,5,FALSE),\"\")","v":""},{"$f":"IF(B199<>\"\",VLOOKUP(IF(ISNUMBER(B199),TEXT(B199,\"0\"),B199),Pricelist!$A$3:$F$60643,3,FALSE),\"\")","v":""},"",{"$f":"IF(B199<>\"\",VLOOKUP(IF(ISNUMBER(B199),TEXT(B199,\"0\"),B199),Pricelist!$A$3:$F$60643,4,FALSE),\"\")","v":""},"","",null,null,null,null,"","","",""]
["",null,"",{"$f":"IF(B200<>\"\",VLOOKUP(IF(ISNUMBER(B200),TEXT(B200,\"0\"),B200),Pricelist!$A$53:$F$60643,6,FALSE),\"\")","v":""},{"$f":"IF(B200<>\"\",VLOOKUP(IF(ISNUMBER(B200),TEXT(B200,\"0\"),B200),Pricelist!$A$3:$F$60643,2,FALSE),\"\")","v":""},{"$f":"IF(B200<>\"\",VLOOKUP(IF(ISNUMBER(B200),TEXT(B200,\"0\"),B200),Pricelist!$A$53:$F$60643,5,FALSE),\"\")","v":""},{"$f":"IF(B200<>\"\",VLOOKUP(IF(ISNUMBER(B200),TEXT(B200,\"0\"),B200),Pricelist!$A$3:$F$60643,3,FALSE),\"\")","v":""},"",{"$f":"IF(B200<>\"\",VLOOKUP(IF(ISNUMBER(B200),TEXT(B200,\"0\"),B200),Pricelist!$A$3:$F$60643,4,FALSE),\"\")","v":""},"","",null,null,null,null,"","","",""]
["",null,"",{"$f":"IF(B201<>\"\",VLOOKUP(IF(ISNUMBER(B201),TEXT(B201,\"0\"),B201),Pricelist!$A$53:$F$60643,6,FALSE),\"\")","v":""},{"$f":"IF(B201<>\"\",VLOOKUP(IF(ISNUMBER(B201),TEXT(B201,\"0\"),B201),Pricelist!$A$3:$F$60643,2,FALSE),\"\")","v":""},{"$f":"IF(B201<>\"\",VLOOKUP(IF(ISNUMBER(B201),TEXT(B201,\"0\"),B201),Pricelist!$A$53:$F$60643,5,FALSE),\"\")","v":""},{"$f":"IF(B201<>\"\",VLOOKUP(IF(ISNUMBER(B201),TEXT(B201,\"0\"),B201),Pricelist!$A$3:$F$60643,3,FALSE),\"\")","v":""},"",{"$f":"IF(B201<>\"\",VLOOKUP(IF(ISNUMBER(B201),TEXT(B201,\"0\"),B201),Pricelist!$A$3:$F$60643,4,FALSE),\"\")","v":""},"","",null,null,null,null,"","","",""]
["",null,"",{"$f":"IF(B202<>\"\",VLOOKUP(IF(ISNUMBER(B202),TEXT(B202,\"0\"),B202),Pricelist!$A$53:$F$60643,6,FALSE),\"\")","v":""},{"$f":"IF(B202<>\"\",VLOOKUP(IF(ISNUMBER(B202),TEXT(B202,\"0\"),B202),Pricelist!$A$3:$F$60643,2,FALSE),\"\")","v":""},{"$f":"IF(B202<>\"\",VLOOKUP(IF(ISNUMBER(B202),TEXT(B202,\"0\"),B202),Pricelist!$A$53:$F$60643,5,FALSE),\"\")","v":""},{"$f":"IF(B202<>\"\",VLOOKUP(IF(ISNUMBER(B202),TEXT(B202,\"0\"),B202),Pricelist!$A$3:$F$60643,3,FALSE),\"\")","v":""},"",{"$f":"IF(B202<>\"\",VLOOKUP(IF(ISNUMBER(B202),TEXT(B202,\"0\"),B202),Pricelist!$A$3:$F$60643,4,FALSE),\"\")","v":""},"","",null,null,null,null,"","","",""]
["",null,"",{"$f":"IF(B203<>\"\",VLOOKUP(IF(ISNUMBER(B203),TEXT(B203,\"0\"),B203),Pricelist!$A$53:$F$60643,6,FALSE),\"\")","v":""},{"$f":"IF(B203<>\"\",VLOOKUP(IF(ISNUMBER(B203),TEXT(B203,\"0\"),B203),Pricelist!$A$3:$F$60643,2,FALSE),\"\")","v":""},{"$f":"IF(B203<>\"\",VLOOKUP(IF(ISNUMBER(B203),TEXT(B203,\"0\"),B203),Pricelist!$A$53:$F$60643,5,FALSE),\"\")","v":""},{"$f":"IF(B203<>\"\",VLOOKUP(IF(ISNUMBER(B203),TEXT(B203,\"0\"),B203),Pricelist!$A$3:$F$60643,3,FALSE),\"\")","v":""},"",{"$f":"IF(B203<>\"\",VLOOKUP(IF(ISNUMBER(B203),TEXT(B203,\"0\"),B203),Pricelist!$A$3:$F$60643,4,FALSE),\"\")","v":""},"","",null,null,null,null,"","","",""]
[{"$f":"IF(B204<>\"\",A203+1,\"\")","v":""},null,{"$f":"IF(A204<>\"\",1,\"\")","v":""},{"$f":"IF(B204<>\"\",VLOOKUP(IF(ISNUMBER(B204),TEXT(B204,\"0\"),B204),Pricelist!$A$53:$F$60643,6,FALSE),\"\")","v":""},{"$f":"IF(B204<>\"\",VLOOKUP(IF(ISNUMBER(B204),TEXT(B204,\"0\"),B204),Pricelist!$A$3:$F$60643,2,FALSE),\"\")","v":""},{"$f":"IF(B204<>\"\",VLOOKUP(IF(ISNUMBER(B204),TEXT(B204,\"0\"),B204),Pricelist!$A$53:$F$60643,5,FALSE),\"\")","v":""},{"$f":"IF(B204<>\"\",VLOOKUP(IF(ISNUMBER(B204),TEXT(B204,\"0\"),B204),Pricelist!$A$3:$F$60643,3,FALSE),\"\")","v":""},{"$f":"IF(B204<>\"\",VLOOKUP(IF(ISNUMBER(I204),TEXT(I204,\"0\"),I204),$BD$12:$BE$44,2,FALSE),\"\")","v":""},{"$f":"IF(B204<>\"\",VLOOKUP(IF(ISNUMBER(B204),TEXT(B204,\"0\"),B204),Pricelist!$A$3:$F$60643,4,FALSE),\"\")","v":""},{"$f":"IF(B204<>\"\",G204*(1-H204),\"\")","v":""},{"$f":"IF(B204<>\"\",C204*(1-H204)*G204,\"\")","v":""},null,null,null,null,{"$f":"IF(B204<>\"\",$K$2,\"\")","v":""},"","",{"$f":"IF(R204=\"\",\"\",C204)","v":""}]
["",null,"",{"$f":"IF(B205<>\"\",VLOOKUP(IF(ISNUMBER(B205),TEXT(B205,\"0\"),B205),Pricelist!$A$53:$F$60643,6,FALSE),\"\")","v":""},{"$f":"IF(B205<>\"\",VLOOKUP(IF(ISNUMBER(B205),TEXT(B205,\"0\"),B205),Pricelist!$A$3:$F$60643,2,FALSE),\"\")","v":""},{"$f":"IF(B205<>\"\",VLOOKUP(IF(ISNUMBER(B205),TEXT(B205,\"0\"),B205),Pricelist!$A$53:$F$60643,5,FALSE),\"\")","v":""},{"$f":"IF(B205<>\"\",VLOOKUP(IF(ISNUMBER(B205),TEXT(B205,\"0\"),B205),Pricelist!$A$3:$F$60643,3,FALSE),\"\")","v":""},"",{"$f":"IF(B205<>\"\",VLOOKUP(IF(ISNUMBER(B205),TEXT(B205,\"0\"),B205),Pricelist!$A$3:$F$60643,4,FALSE),\"\")","v":""},"","",null,null,null,null,"","",{"$f":"IF(B205>1,B205,\"\")","v":""},""]
["",null,"",{"$f":"IF(B206<>\"\",VLOOKUP(IF(ISNUMBER(B206),TEXT(B206,\"0\"),B206),Pricelist!$A$53:$F$60643,6,FALSE),\"\")","v":""},{"$f":"IF(B206<>\"\",VLOOKUP(IF(ISNUMBER(B206),TEXT(B206,\"0\"),B206),Pricelist!$A$3:$F$60643,2,FALSE),\"\")","v":""},{"$f":"IF(B206<>\"\",VLOOKUP(IF(ISNUMBER(B206),TEXT(B206,\"0\"),B206),Pricelist!$A$53:$F$60643,5,FALSE),\"\")","v":""},{"$f":"IF(B206<>\"\",VLOOKUP(IF(ISNUMBER(B206),TEXT(B206,\"0\"),B206),Pricelist!$A$3:$F$60643,3,FALSE),\"\")","v":""},"",{"$f":"IF(B206<>\"\",VLOOKUP(IF(ISNUMBER(B206),TEXT(B206,\"0\"),B206),Pricelist!$A$3:$F$60643,4,FALSE),\"\")","v":""},"","",null,null,null,null,"","","",""]
["",null,"",{"$f":"IF(B207<>\"\",VLOOKUP(IF(ISNUMBER(B207),TEXT(B207,\"0\"),B207),Pricelist!$A$53:$F$60643,6,FALSE),\"\")","v":""},{"$f":"IF(B207<>\"\",VLOOKUP(IF(ISNUMBER(B207),TEXT(B207,\"0\"),B207),Pricelist!$A$3:$F$60643,2,FALSE),\"\")","v":""},{"$f":"IF(B207<>\"\",VLOOKUP(IF(ISNUMBER(B207),TEXT(B207,\"0\"),B207),Pricelist!$A$53:$F$60643,5,FALSE),\"\")","v":""},{"$f":"IF(B207<>\"\",VLOOKUP(IF(ISNUMBER(B207),TEXT(B207,\"0\"),B207),Pricelist!$A$3:$F$60643,3,FALSE),\"\")","v":""},"",{"$f":"IF(B207<>\"\",VLOOKUP(IF(ISNUMBER(B207),TEXT(B207,\"0\"),B207),Pricelist!$A$3:$F$60643,4,FALSE),\"\")","v":""},"","",null,null,null,null,"","","",""]
["",null,"",{"$f":"IF(B208<>\"\",VLOOKUP(IF(ISNUMBER(B208),TEXT(B208,\"0\"),B208),Pricelist!$A$53:$F$60643,6,FALSE),\"\")","v":""},{"$f":"IF(B208<>\"\",VLOOKUP(IF(ISNUMBER(B208),TEXT(B208,\"0\"),B208),Pricelist!$A$3:$F$60643,2,FALSE),\"\")","v":""},{"$f":"IF(B208<>\"\",VLOOKUP(IF(ISNUMBER(B208),TEXT(B208,\"0\"),B208),Pricelist!$A$53:$F$60643,5,FALSE),\"\")","v":""},{"$f":"IF(B208<>\"\",VLOOKUP(IF(ISNUMBER(B208),TEXT(B208,\"0\"),B208),Pricelist!$A$3:$F$60643,3,FALSE),\"\")","v":""},"",{"$f":"IF(B208<>\"\",VLOOKUP(IF(ISNUMBER(B208),TEXT(B208,\"0\"),B208),Pricelist!$A$3:$F$60643,4,FALSE),\"\")","v":""},"","",null,null,null,null,"","","",""]
["",null,"",{"$f":"IF(B209<>\"\",VLOOKUP(IF(ISNUMBER(B209),TEXT(B209,\"0\"),B209),Pricelist!$A$53:$F$60643,6,FALSE),\"\")","v":""},{"$f":"IF(B209<>\"\",VLOOKUP(IF(ISNUMBER(B209),TEXT(B209,\"0\"),B209),Pricelist!$A$3:$F$60643,2,FALSE),\"\")","v":""},{"$f":"IF(B209<>\"\",VLOOKUP(IF(ISNUMBER(B209),TEXT(B209,\"0\"),B209),Pricelist!$A$53:$F$60643,5,FALSE),\"\")","v":""},{"$f":"IF(B209<>\"\",VLOOKUP(IF(ISNUMBER(B209),TEXT(B209,\"0\"),B209),Pricelist!$A$3:$F$60643,3,FALSE),\"\")","v":""},"",{"$f":"IF(B209<>\"\",VLOOKUP(IF(ISNUMBER(B209),TEXT(B209,\"0\"),B209),Pricelist!$A$3:$F$60643,4,FALSE),\"\")","v":""},"","",null,null,null,null,"","","",""]
["",null,"",{"$f":"IF(B210<>\"\",VLOOKUP(IF(ISNUMBER(B210),TEXT(B210,\"0\"),B210),Pricelist!$A$53:$F$60643,6,FALSE),\"\")","v":""},{"$f":"IF(B210<>\"\",VLOOKUP(IF(ISNUMBER(B210),TEXT(B210,\"0\"),B210),Pricelist!$A$3:$F$60643,2,FALSE),\"\")","v":""},{"$f":"IF(B210<>\"\",VLOOKUP(IF(ISNUMBER(B210),TEXT(B210,\"0\"),B210),Pricelist!$A$53:$F$60643,5,FALSE),\"\")","v":""},{"$f":"IF(B210<>\"\",VLOOKUP(IF(ISNUMBER(B210),TEXT(B210,\"0\"),B210),Pricelist!$A$3:$F$60643,3,FALSE),\"\")","v":""},"",{"$f":"IF(B210<>\"\",VLOOKUP(IF(ISNUMBER(B210),TEXT(B210,\"0\"),B210),Pricelist!$A$3:$F$60643,4,FALSE),\"\")","v":""},"","",null,null,null,null,"","","",""]
["",null,"",{"$f":"IF(B211<>\"\",VLOOKUP(IF(ISNUMBER(B211),TEXT(B211,\"0\"),B211),Pricelist!$A$53:$F$60643,6,FALSE),\"\")","v":""},{"$f":"IF(B211<>\"\",VLOOKUP(IF(ISNUMBER(B211),TEXT(B211,\"0\"),B211),Pricelist!$A$3:$F$60643,2,FALSE),\"\")","v":""},{"$f":"IF(B211<>\"\",VLOOKUP(IF(ISNUMBER(B211),TEXT(B211,\"0\"),B211),Pricelist!$A$53:$F$60643,5,FALSE),\"\")","v":""},{"$f":"IF(B211<>\"\",VLOOKUP(IF(ISNUMBER(B211),TEXT(B211,\"0\"),B211),Pricelist!$A$3:$F$60643,3,FALSE),\"\")","v":""},"",{"$f":"IF(B211<>\"\",VLOOKUP(IF(ISNUMBER(B211),TEXT(B211,\"0\"),B211),Pricelist!$A$3:$F$60643,4,FALSE),\"\")","v":""},"","",null,null,null,null,"","","",""]
["",null,"",{"$f":"IF(B212<>\"\",VLOOKUP(IF(ISNUMBER(B212),TEXT(B212,\"0\"),B212),Pricelist!$A$53:$F$60643,6,FALSE),\"\")","v":""},{"$f":"IF(B212<>\"\",VLOOKUP(IF(ISNUMBER(B212),TEXT(B212,\"0\"),B212),Pricelist!$A$3:$F$60643,2,FALSE),\"\")","v":""},{"$f":"IF(B212<>\"\",VLOOKUP(IF(ISNUMBER(B212),TEXT(B212,\"0\"),B212),Pricelist!$A$53:$F$60643,5,FALSE),\"\")","v":""},{"$f":"IF(B212<>\"\",VLOOKUP(IF(ISNUMBER(B212),TEXT(B212,\"0\"),B212),Pricelist!$A$3:$F$60643,3,FALSE),\"\")","v":""},"",{"$f":"IF(B212<>\"\",VLOOKUP(IF(ISNUMBER(B212),TEXT(B212,\"0\"),B212),Pricelist!$A$3:$F$60643,4,FALSE),\"\")","v":""},"","",null,null,null,null,"","","",""]
["",null,"",{"$f":"IF(B213<>\"\",VLOOKUP(IF(ISNUMBER(B213),TEXT(B213,\"0\"),B213),Pricelist!$A$53:$F$60643,6,FALSE),\"\")","v":""},{"$f":"IF(B213<>\"\",VLOOKUP(IF(ISNUMBER(B213),TEXT(B213,\"0\"),B213),Pricelist!$A$3:$F$60643,2,FALSE),\"\")","v":""},{"$f":"IF(B213<>\"\",VLOOKUP(IF(ISNUMBER(B213),TEXT(B213,\"0\"),B213),Pricelist!$A$53:$F$60643,5,FALSE),\"\")","v":""},{"$f":"IF(B213<>\"\",VLOOKUP(IF(ISNUMBER(B213),TEXT(B213,\"0\"),B213),Pricelist!$A$3:$F$60643,3,FALSE),\"\")","v":""},"",{"$f":"IF(B213<>\"\",VLOOKUP(IF(ISNUMBER(B213),TEXT(B213,\"0\"),B213),Pricelist!$A$3:$F$60643,4,FALSE),\"\")","v":""},"","",null,null,null,null,"","","",""]
["",null,"",{"$f":"IF(B214<>\"\",VLOOKUP(IF(ISNUMBER(B214),TEXT(B214,\"0\"),B214),Pricelist!$A$53:$F$60643,6,FALSE),\"\")","v":""},{"$f":"IF(B214<>\"\",VLOOKUP(IF(ISNUMBER(B214),TEXT(B214,\"0\"),B214),Pricelist!$A$3:$F$60643,2,FALSE),\"\")","v":""},{"$f":"IF(B214<>\"\",VLOOKUP(IF(ISNUMBER(B214),TEXT(B214,\"0\"),B214),Pricelist!$A$53:$F$60643,5,FALSE),\"\")","v":""},{"$f":"IF(B214<>\"\",VLOOKUP(IF(ISNUMBER(B214),TEXT(B214,\"0\"),B214),Pricelist!$A$3:$F$60643,3,FALSE),\"\")","v":""},"",{"$f":"IF(B214<>\"\",VLOOKUP(IF(ISNUMBER(B214),TEXT(B214,\"0\"),B214),Pricelist!$A$3:$F$60643,4,FALSE),\"\")","v":""},"","",null,null,null,null,"","","",""]
["",null,"",{"$f":"IF(B215<>\"\",VLOOKUP(IF(ISNUMBER(B215),TEXT(B215,\"0\"),B215),Pricelist!$A$53:$F$60643,6,FALSE),\"\")","v":""},{"$f":"IF(B215<>\"\",VLOOKUP(IF(ISNUMBER(B215),TEXT(B215,\"0\"),B215),Pricelist!$A$3:$F$60643,2,FALSE),\"\")","v":""},{"$f":"IF(B215<>\"\",VLOOKUP(IF(ISNUMBER(B215),TEXT(B215,\"0\"),B215),Pricelist!$A$53:$F$60643,5,FALSE),\"\")","v":""},{"$f":"IF(B215<>\"\",VLOOKUP(IF(ISNUMBER(B215),TEXT(B215,\"0\"),B215),Pricelist!$A$3:$F$60643,3,FALSE),\"\")","v":""},"",{"$f":"IF(B215<>\"\",VLOOKUP(IF(ISNUMBER(B215),TEXT(B215,\"0\"),B215),Pricelist!$A$3:$F$60643,4,FALSE),\"\")","v":""},"","",null,null,null,null,"","","",""]
["",null,"",{"$f":"IF(B216<>\"\",VLOOKUP(IF(ISNUMBER(B216),TEXT(B216,\"0\"),B216),Pricelist!$A$53:$F$60643,6,FALSE),\"\")","v":""},{"$f":"IF(B216<>\"\",VLOOKUP(IF(ISNUMBER(B216),TEXT(B216,\"0\"),B216),Pricelist!$A$3:$F$60643,2,FALSE),\"\")","v":""},{"$f":"IF(B216<>\"\",VLOOKUP(IF(ISNUMBER(B216),TEXT(B216,\"0\"),B216),Pricelist!$A$53:$F$60643,5,FALSE),\"\")","v":""},{"$f":"IF(B216<>\"\",VLOOKUP(IF(ISNUMBER(B216),TEXT(B216,\"0\"),B216),Pricelist!$A$3:$F$60643,3,FALSE),\"\")","v":""},"",{"$f":"IF(B216<>\"\",VLOOKUP(IF(ISNUMBER(B216),TEXT(B216,\"0\"),B216),Pricelist!$A$3:$F$60643,4,FALSE),\"\")","v":""},"","",null,null,null,null,"","","",""]
["",null,"",{"$f":"IF(B217<>\"\",VLOOKUP(IF(ISNUMBER(B217),TEXT(B217,\"0\"),B217),Pricelist!$A$53:$F$60643,6,FALSE),\"\")","v":""},{"$f":"IF(B217<>\"\",VLOOKUP(IF(ISNUMBER(B217),TEXT(B217,\"0\"),B217),Pricelist!$A$3:$F$60643,2,FALSE),\"\")","v":""},{"$f":"IF(B217<>\"\",VLOOKUP(IF(ISNUMBER(B217),TEXT(B217,\"0\"),B217),Pricelist!$A$53:$F$60643,5,FALSE),\"\")","v":""},{"$f":"IF(B217<>\"\",VLOOKUP(IF(ISNUMBER(B217),TEXT(B217,\"0\"),B217),Pricelist!$A$3:$F$60643,3,FALSE),\"\")","v":""},"",{"$f":"IF(B217<>\"\",VLOOKUP(IF(ISNUMBER(B217),TEXT(B217,\"0\"),B217),Pricelist!$A$3:$F$60643,4,FALSE),\"\")","v":""},"","",null,null,null,null,"","","",""]
["",null,"",{"$f":"IF(B218<>\"\",VLOOKUP(IF(ISNUMBER(B218),TEXT(B218,\"0\"),B218),Pricelist!$A$53:$F$60643,6,FALSE),\"\")","v":""},{"$f":"IF(B218<>\"\",VLOOKUP(IF(ISNUMBER(B218),TEXT(B218,\"0\"),B218),Pricelist!$A$3:$F$60643,2,FALSE),\"\")","v":""},{"$f":"IF(B218<>\"\",VLOOKUP(IF(ISNUMBER(B218),TEXT(B218,\"0\"),B218),Pricelist!$A$53:$F$60643,5,FALSE),\"\")","v":""},{"$f":"IF(B218<>\"\",VLOOKUP(IF(ISNUMBER(B218),TEXT(B218,\"0\"),B218),Pricelist!$A$3:$F$60643,3,FALSE),\"\")","v":""},"",{"$f":"IF(B218<>\"\",VLOOKUP(IF(ISNUMBER(B218),TEXT(B218,\"0\"),B218),Pricelist!$A$3:$F$60643,4,FALSE),\"\")","v":""},"","",null,null,null,null,"","","",""]
["",null,"",{"$f":"IF(B219<>\"\",VLOOKUP(IF(ISNUMBER(B219),TEXT(B219,\"0\"),B219),Pricelist!$A$53:$F$60643,6,FALSE),\"\")","v":""},{"$f":"IF(B219<>\"\",VLOOKUP(IF(ISNUMBER(B219),TEXT(B219,\"0\"),B219),Pricelist!$A$3:$F$60643,2,FALSE),\"\")","v":""},{"$f":"IF(B219<>\"\",VLOOKUP(IF(ISNUMBER(B219),TEXT(B219,\"0\"),B219),Pricelist!$A$53:$F$60643,5,FALSE),\"\")","v":""},{"$f":"IF(B219<>\"\",VLOOKUP(IF(ISNUMBER(B219),TEXT(B219,\"0\"),B219),Pricelist!$A$3:$F$60643,3,FALSE),\"\")","v":""},"",{"$f":"IF(B219<>\"\",VLOOKUP(IF(ISNUMBER(B219),TEXT(B219,\"0\"),B219),Pricelist!$A$3:$F$60643,4,FALSE),\"\")","v":""},"","",null,null,null,null,"","","",""]
["",null,"",{"$f":"IF(B220<>\"\",VLOOKUP(IF(ISNUMBER(B220),TEXT(B220,\"0\"),B220),Pricelist!$A$53:$F$60643,6,FALSE),\"\")","v":""},{"$f":"IF(B220<>\"\",VLOOKUP(IF(ISNUMBER(B220),TEXT(B220,\"0\"),B220),Pricelist!$A$3:$F$60643,2,FALSE),\"\")","v":""},{"$f":"IF(B220<>\"\",VLOOKUP(IF(ISNUMBER(B220),TEXT(B220,\"0\"),B220),Pricelist!$A$53:$F$60643,5,FALSE),\"\")","v":""},{"$f":"IF(B220<>\"\",VLOOKUP(IF(ISNUMBER(B220),TEXT(B220,\"0\"),B220),Pricelist!$A$3:$F$60643,3,FALSE),\"\")","v":""},"",{"$f":"IF(B220<>\"\",VLOOKUP(IF(ISNUMBER(B220),TEXT(B220,\"0\"),B220),Pricelist!$A$3:$F$60643,4,FALSE),\"\")","v":""},"","",null,null,null,null,"","","",""]
["",null,"",{"$f":"IF(B221<>\"\",VLOOKUP(IF(ISNUMBER(B221),TEXT(B221,\"0\"),B221),Pricelist!$A$53:$F$60643,6,FALSE),\"\")","v":""},{"$f":"IF(B221<>\"\",VLOOKUP(IF(ISNUMBER(B221),TEXT(B221,\"0\"),B221),Pricelist!$A$3:$F$60643,2,FALSE),\"\")","v":""},{"$f":"IF(B221<>\"\",VLOOKUP(IF(ISNUMBER(B221),TEXT(B221,\"0\"),B221),Pricelist!$A$53:$F$60643,5,FALSE),\"\")","v":""},{"$f":"IF(B221<>\"\",VLOOKUP(IF(ISNUMBER(B221),TEXT(B221,\"0\"),B221),Pricelist!$A$3:$F$60643,3,FALSE),\"\")","v":""},"",{"$f":"IF(B221<>\"\",VLOOKUP(IF(ISNUMBER(B221),TEXT(B221,\"0\"),B221),Pricelist!$A$3:$F$60643,4,FALSE),\"\")","v":""},"","",null,null,null,null,"","","",""]
["",null,"",{"$f":"IF(B222<>\"\",VLOOKUP(IF(ISNUMBER(B222),TEXT(B222,\"0\"),B222),Pricelist!$A$53:$F$60643,6,FALSE),\"\")","v":""},{"$f":"IF(B222<>\"\",VLOOKUP(IF(ISNUMBER(B222),TEXT(B222,\"0\"),B222),Pricelist!$A$3:$F$60643,2,FALSE),\"\")","v":""},{"$f":"IF(B222<>\"\",VLOOKUP(IF(ISNUMBER(B222),TEXT(B222,\"0\"),B222),Pricelist!$A$53:$F$60643,5,FALSE),\"\")","v":""},{"$f":"IF(B222<>\"\",VLOOKUP(IF(ISNUMBER(B222),TEXT(B222,\"0\"),B222),Pricelist!$A$3:$F$60643,3,FALSE),\"\")","v":""},"",{"$f":"IF(B222<>\"\",VLOOKUP(IF(ISNUMBER(B222),TEXT(B222,\"0\"),B222),Pricelist!$A$3:$F$60643,4,FALSE),\"\")","v":""},"","",null,null,null,null,"","","",""]
["",null,"",{"$f":"IF(B223<>\"\",VLOOKUP(IF(ISNUMBER(B223),TEXT(B223,\"0\"),B223),Pricelist!$A$53:$F$60643,6,FALSE),\"\")","v":""},{"$f":"IF(B223<>\"\",VLOOKUP(IF(ISNUMBER(B223),TEXT(B223,\"0\"),B223),Pricelist!$A$3:$F$60643,2,FALSE),\"\")","v":""},{"$f":"IF(B223<>\"\",VLOOKUP(IF(ISNUMBER(B223),TEXT(B223,\"0\"),B223),Pricelist!$A$53:$F$60643,5,FALSE),\"\")","v":""},{"$f":"IF(B223<>\"\",VLOOKUP(IF(ISNUMBER(B223),TEXT(B223,\"0\"),B223),Pricelist!$A$3:$F$60643,3,FALSE),\"\")","v":""},"",{"$f":"IF(B223<>\"\",VLOOKUP(IF(ISNUMBER(B223),TEXT(B223,\"0\"),B223),Pricelist!$A$3:$F$60643,4,FALSE),\"\")","v":""},"","",null,null,null,null,"","","",""]
["",null,"",{"$f":"IF(B224<>\"\",VLOOKUP(IF(ISNUMBER(B224),TEXT(B224,\"0\"),B224),Pricelist!$A$53:$F$60643,6,FALSE),\"\")","v":""},{"$f":"IF(B224<>\"\",VLOOKUP(IF(ISNUMBER(B224),TEXT(B224,\"0\"),B224),Pricelist!$A$3:$F$60643,2,FALSE),\"\")","v":""},{"$f":"IF(B224<>\"\",VLOOKUP(IF(ISNUMBER(B224),TEXT(B224,\"0\"),B224),Pricelist!$A$53:$F$60643,5,FALSE),\"\")","v":""},{"$f":"IF(B224<>\"\",VLOOKUP(IF(ISNUMBER(B224),TEXT(B224,\"0\"),B224),Pricelist!$A$3:$F$60643,3,FALSE),\"\")","v":""},"",{"$f":"IF(B224<>\"\",VLOOKUP(IF(ISNUMBER(B224),TEXT(B224,\"0\"),B224),Pricelist!$A$3:$F$60643,4,FALSE),\"\")","v":""},"","",null,null,null,null,"","","",""]
["",null,"",{"$f":"IF(B225<>\"\",VLOOKUP(IF(ISNUMBER(B225),TEXT(B225,\"0\"),B225),Pricelist!$A$53:$F$60643,6,FALSE),\"\")","v":""},{"$f":"IF(B225<>\"\",VLOOKUP(IF(ISNUMBER(B225),TEXT(B225,\"0\"),B225),Pricelist!$A$3:$F$60643,2,FALSE),\"\")","v":""},{"$f":"IF(B225<>\"\",VLOOKUP(IF(ISNUMBER(B225),TEXT(B225,\"0\"),B225),Pricelist!$A$53:$F$60643,5,FALSE),\"\")","v":""},{"$f":"IF(B225<>\"\",VLOOKUP(IF(ISNUMBER(B225),TEXT(B225,\"0\"),B225),Pricelist!$A$3:$F$60643,3,FALSE),\"\")","v":""},"",{"$f":"IF(B225<>\"\",VLOOKUP(IF(ISNUMBER(B225),TEXT(B225,\"0\"),B225),Pricelist!$A$3:$F$60643,4,FALSE),\"\")","v":""},"","",null,null,null,null,"","","",""]
["",null,"",{"$f":"IF(B226<>\"\",VLOOKUP(IF(ISNUMBER(B226),TEXT(B226,\"0\"),B226),Pricelist!$A$53:$F$60643,6,FALSE),\"\")","v":""},{"$f":"IF(B226<>\"\",VLOOKUP(IF(ISNUMBER(B226),TEXT(B226,\"0\"),B226),Pricelist!$A$3:$F$60643,2,FALSE),\"\")","v":""},{"$f":"IF(B226<>\"\",VLOOKUP(IF(ISNUMBER(B226),TEXT(B226,\"0\"),B226),Pricelist!$A$53:$F$60643,5,FALSE),\"\")","v":""},{"$f":"IF(B226<>\"\",VLOOKUP(IF(ISNUMBER(B226),TEXT(B226,\"0\"),B226),Pricelist!$A$3:$F$60643,3,FALSE),\"\")","v":""},"",{"$f":"IF(B226<>\"\",VLOOKUP(IF(ISNUMBER(B226),TEXT(B226,\"0\"),B226),Pricelist!$A$3:$F$60643,4,FALSE),\"\")","v":""},"","",null,null,null,null,"","","",""]
["",null,"",{"$f":"IF(B227<>\"\",VLOOKUP(IF(ISNUMBER(B227),TEXT(B227,\"0\"),B227),Pricelist!$A$53:$F$60643,6,FALSE),\"\")","v":""},{"$f":"IF(B227<>\"\",VLOOKUP(IF(ISNUMBER(B227),TEXT(B227,\"0\"),B227),Pricelist!$A$3:$F$60643,2,FALSE),\"\")","v":""},{"$f":"IF(B227<>\"\",VLOOKUP(IF(ISNUMBER(B227),TEXT(B227,\"0\"),B227),Pricelist!$A$53:$F$60643,5,FALSE),\"\")","v":""},{"$f":"IF(B227<>\"\",VLOOKUP(IF(ISNUMBER(B227),TEXT(B227,\"0\"),B227),Pricelist!$A$3:$F$60643,3,FALSE),\"\")","v":""},"",{"$f":"IF(B227<>\"\",VLOOKUP(IF(ISNUMBER(B227),TEXT(B227,\"0\"),B227),Pricelist!$A$3:$F$60643,4,FALSE),\"\")","v":""},"","",null,null,null,null,"","","",""]
["",null,"",{"$f":"IF(B228<>\"\",VLOOKUP(IF(ISNUMBER(B228),TEXT(B228,\"0\"),B228),Pricelist!$A$53:$F$60643,6,FALSE),\"\")","v":""},{"$f":"IF(B228<>\"\",VLOOKUP(IF(ISNUMBER(B228),TEXT(B228,\"0\"),B228),Pricelist!$A$3:$F$60643,2,FALSE),\"\")","v":""},{"$f":"IF(B228<>\"\",VLOOKUP(IF(ISNUMBER(B228),TEXT(B228,\"0\"),B228),Pricelist!$A$53:$F$60643,5,FALSE),\"\")","v":""},{"$f":"IF(B228<>\"\",VLOOKUP(IF(ISNUMBER(B228),TEXT(B228,\"0\"),B228),Pricelist!$A$3:$F$60643,3,FALSE),\"\")","v":""},"",{"$f":"IF(B228<>\"\",VLOOKUP(IF(ISNUMBER(B228),TEXT(B228,\"0\"),B228),Pricelist!$A$3:$F$60643,4,FALSE),\"\")","v":""},"","",null,null,null,null,"","","",""]
["",null,"",{"$f":"IF(B229<>\"\",VLOOKUP(IF(ISNUMBER(B229),TEXT(B229,\"0\"),B229),Pricelist!$A$53:$F$60643,6,FALSE),\"\")","v":""},{"$f":"IF(B229<>\"\",VLOOKUP(IF(ISNUMBER(B229),TEXT(B229,\"0\"),B229),Pricelist!$A$3:$F$60643,2,FALSE),\"\")","v":""},{"$f":"IF(B229<>\"\",VLOOKUP(IF(ISNUMBER(B229),TEXT(B229,\"0\"),B229),Pricelist!$A$53:$F$60643,5,FALSE),\"\")","v":""},{"$f":"IF(B229<>\"\",VLOOKUP(IF(ISNUMBER(B229),TEXT(B229,\"0\"),B229),Pricelist!$A$3:$F$60643,3,FALSE),\"\")","v":""},"",{"$f":"IF(B229<>\"\",VLOOKUP(IF(ISNUMBER(B229),TEXT(B229,\"0\"),B229),Pricelist!$A$3:$F$60643,4,FALSE),\"\")","v":""},"","",null,null,null,null,"","","",""]
["",null,"",{"$f":"IF(B230<>\"\",VLOOKUP(IF(ISNUMBER(B230),TEXT(B230,\"0\"),B230),Pricelist!$A$53:$F$60643,6,FALSE),\"\")","v":""},{"$f":"IF(B230<>\"\",VLOOKUP(IF(ISNUMBER(B230),TEXT(B230,\"0\"),B230),Pricelist!$A$3:$F$60643,2,FALSE),\"\")","v":""},{"$f":"IF(B230<>\"\",VLOOKUP(IF(ISNUMBER(B230),TEXT(B230,\"0\"),B230),Pricelist!$A$53:$F$60643,5,FALSE),\"\")","v":""},{"$f":"IF(B230<>\"\",VLOOKUP(IF(ISNUMBER(B230),TEXT(B230,\"0\"),B230),Pricelist!$A$3:$F$60643,3,FALSE),\"\")","v":""},"",{"$f":"IF(B230<>\"\",VLOOKUP(IF(ISNUMBER(B230),TEXT(B230,\"0\"),B230),Pricelist!$A$3:$F$60643,4,FALSE),\"\")","v":""},"","",null,null,null,null,"","","",""]
["",null,"",{"$f":"IF(B231<>\"\",VLOOKUP(IF(ISNUMBER(B231),TEXT(B231,\"0\"),B231),Pricelist!$A$53:$F$60643,6,FALSE),\"\")","v":""},{"$f":"IF(B231<>\"\",VLOOKUP(IF(ISNUMBER(B231),TEXT(B231,\"0\"),B231),Pricelist!$A$3:$F$60643,2,FALSE),\"\")","v":""},{"$f":"IF(B231<>\"\",VLOOKUP(IF(ISNUMBER(B231),TEXT(B231,\"0\"),B231),Pricelist!$A$53:$F$60643,5,FALSE),\"\")","v":""},{"$f":"IF(B231<>\"\",VLOOKUP(IF(ISNUMBER(B231),TEXT(B231,\"0\"),B231),Pricelist!$A$3:$F$60643,3,FALSE),\"\")","v":""},"",{"$f":"IF(B231<>\"\",VLOOKUP(IF(ISNUMBER(B231),TEXT(B231,\"0\"),B231),Pricelist!$A$3:$F$60643,4,FALSE),\"\")","v":""},"","",null,null,null,null,"","","",""]
["",null,"",{"$f":"IF(B232<>\"\",VLOOKUP(IF(ISNUMBER(B232),TEXT(B232,\"0\"),B232),Pricelist!$A$53:$F$60643,6,FALSE),\"\")","v":""},{"$f":"IF(B232<>\"\",VLOOKUP(IF(ISNUMBER(B232),TEXT(B232,\"0\"),B232),Pricelist!$A$3:$F$60643,2,FALSE),\"\")","v":""},{"$f":"IF(B232<>\"\",VLOOKUP(IF(ISNUMBER(B232),TEXT(B232,\"0\"),B232),Pricelist!$A$53:$F$60643,5,FALSE),\"\")","v":""},{"$f":"IF(B232<>\"\",VLOOKUP(IF(ISNUMBER(B232),TEXT(B232,\"0\"),B232),Pricelist!$A$3:$F$60643,3,FALSE),\"\")","v":""},"",{"$f":"IF(B232<>\"\",VLOOKUP(IF(ISNUMBER(B232),TEXT(B232,\"0\"),B232),Pricelist!$A$3:$F$60643,4,FALSE),\"\")","v":""},"","",null,null,null,null,"","","",""]
["",null,"",{"$f":"IF(B233<>\"\",VLOOKUP(IF(ISNUMBER(B233),TEXT(B233,\"0\"),B233),Pricelist!$A$53:$F$60643,6,FALSE),\"\")","v":""},{"$f":"IF(B233<>\"\",VLOOKUP(IF(ISNUMBER(B233),TEXT(B233,\"0\"),B233),Pricelist!$A$3:$F$60643,2,FALSE),\"\")","v":""},{"$f":"IF(B233<>\"\",VLOOKUP(IF(ISNUMBER(B233),TEXT(B233,\"0\"),B233),Pricelist!$A$53:$F$60643,5,FALSE),\"\")","v":""},{"$f":"IF(B233<>\"\",VLOOKUP(IF(ISNUMBER(B233),TEXT(B233,\"0\"),B233),Pricelist!$A$3:$F$60643,3,FALSE),\"\")","v":""},"",{"$f":"IF(B233<>\"\",VLOOKUP(IF(ISNUMBER(B233),TEXT(B233,\"0\"),B233),Pricelist!$A$3:$F$60643,4,FALSE),\"\")","v":""},"","",null,null,null,null,"","","",""]
["",null,"",{"$f":"IF(B234<>\"\",VLOOKUP(IF(ISNUMBER(B234),TEXT(B234,\"0\"),B234),Pricelist!$A$53:$F$60643,6,FALSE),\"\")","v":""},{"$f":"IF(B234<>\"\",VLOOKUP(IF(ISNUMBER(B234),TEXT(B234,\"0\"),B234),Pricelist!$A$3:$F$60643,2,FALSE),\"\")","v":""},{"$f":"IF(B234<>\"\",VLOOKUP(IF(ISNUMBER(B234),TEXT(B234,\"0\"),B234),Pricelist!$A$53:$F$60643,5,FALSE),\"\")","v":""},{"$f":"IF(B234<>\"\",VLOOKUP(IF(ISNUMBER(B234),TEXT(B234,\"0\"),B234),Pricelist!$A$3:$F$60643,3,FALSE),\"\")","v":""},"",{"$f":"IF(B234<>\"\",VLOOKUP(IF(ISNUMBER(B234),TEXT(B234,\"0\"),B234),Pricelist!$A$3:$F$60643,4,FALSE),\"\")","v":""},"","",null,null,null,null,"","","",""]
["",null,"",{"$f":"IF(B235<>\"\",VLOOKUP(IF(ISNUMBER(B235),TEXT(B235,\"0\"),B235),Pricelist!$A$53:$F$60643,6,FALSE),\"\")","v":""},{"$f":"IF(B235<>\"\",VLOOKUP(IF(ISNUMBER(B235),TEXT(B235,\"0\"),B235),Pricelist!$A$3:$F$60643,2,FALSE),\"\")","v":""},{"$f":"IF(B235<>\"\",VLOOKUP(IF(ISNUMBER(B235),TEXT(B235,\"0\"),B235),Pricelist!$A$53:$F$60643,5,FALSE),\"\")","v":""},{"$f":"IF(B235<>\"\",VLOOKUP(IF(ISNUMBER(B235),TEXT(B235,\"0\"),B235),Pricelist!$A$3:$F$60643,3,FALSE),\"\")","v":""},"",{"$f":"IF(B235<>\"\",VLOOKUP(IF(ISNUMBER(B235),TEXT(B235,\"0\"),B235),Pricelist!$A$3:$F$60643,4,FALSE),\"\")","v":""},"","",null,null,null,null,"","","",""]
["",null,"",{"$f":"IF(B236<>\"\",VLOOKUP(IF(ISNUMBER(B236),TEXT(B236,\"0\"),B236),Pricelist!$A$53:$F$60643,6,FALSE),\"\")","v":""},{"$f":"IF(B236<>\"\",VLOOKUP(IF(ISNUMBER(B236),TEXT(B236,\"0\"),B236),Pricelist!$A$3:$F$60643,2,FALSE),\"\")","v":""},{"$f":"IF(B236<>\"\",VLOOKUP(IF(ISNUMBER(B236),TEXT(B236,\"0\"),B236),Pricelist!$A$53:$F$60643,5,FALSE),\"\")","v":""},{"$f":"IF(B236<>\"\",VLOOKUP(IF(ISNUMBER(B236),TEXT(B236,\"0\"),B236),Pricelist!$A$3:$F$60643,3,FALSE),\"\")","v":""},"",{"$f":"IF(B236<>\"\",VLOOKUP(IF(ISNUMBER(B236),TEXT(B236,\"0\"),B236),Pricelist!$A$3:$F$60643,4,FALSE),\"\")","v":""},"","",null,null,null,null,"","","",""]
["",null,"",{"$f":"IF(B237<>\"\",VLOOKUP(IF(ISNUMBER(B237),TEXT(B237,\"0\"),B237),Pricelist!$A$53:$F$60643,6,FALSE),\"\")","v":""},{"$f":"IF(B237<>\"\",VLOOKUP(IF(ISNUMBER(B237),TEXT(B237,\"0\"),B237),Pricelist!$A$3:$F$60643,2,FALSE),\"\")","v":""},{"$f":"IF(B237<>\"\",VLOOKUP(IF(ISNUMBER(B237),TEXT(B237,\"0\"),B237),Pricelist!$A$53:$F$60643,5,FALSE),\"\")","v":""},{"$f":"IF(B237<>\"\",VLOOKUP(IF(ISNUMBER(B237),TEXT(B237,\"0\"),B237),Pricelist!$A$3:$F$60643,3,FALSE),\"\")","v":""},"",{"$f":"IF(B237<>\"\",VLOOKUP(IF(ISNUMBER(B237),TEXT(B237,\"0\"),B237),Pricelist!$A$3:$F$60643,4,FALSE),\"\")","v":""},"","",null,null,null,null,"","","",""]
["",null,"",{"$f":"IF(B238<>\"\",VLOOKUP(IF(ISNUMBER(B238),TEXT(B238,\"0\"),B238),Pricelist!$A$53:$F$60643,6,FALSE),\"\")","v":""},{"$f":"IF(B238<>\"\",VLOOKUP(IF(ISNUMBER(B238),TEXT(B238,\"0\"),B238),Pricelist!$A$3:$F$60643,2,FALSE),\"\")","v":""},{"$f":"IF(B238<>\"\",VLOOKUP(IF(ISNUMBER(B238),TEXT(B238,\"0\"),B238),Pricelist!$A$53:$F$60643,5,FALSE),\"\")","v":""},{"$f":"IF(B238<>\"\",VLOOKUP(IF(ISNUMBER(B238),TEXT(B238,\"0\"),B238),Pricelist!$A$3:$F$60643,3,FALSE),\"\")","v":""},"",{"$f":"IF(B238<>\"\",VLOOKUP(IF(ISNUMBER(B238),TEXT(B238,\"0\"),B238),Pricelist!$A$3:$F$60643,4,FALSE),\"\")","v":""},"","",null,null,null,null,"","","",""]
["",null,"",{"$f":"IF(B239<>\"\",VLOOKUP(IF(ISNUMBER(B239),TEXT(B239,\"0\"),B239),Pricelist!$A$53:$F$60643,6,FALSE),\"\")","v":""},{"$f":"IF(B239<>\"\",VLOOKUP(IF(ISNUMBER(B239),TEXT(B239,\"0\"),B239),Pricelist!$A$3:$F$60643,2,FALSE),\"\")","v":""},{"$f":"IF(B239<>\"\",VLOOKUP(IF(ISNUMBER(B239),TEXT(B239,\"0\"),B239),Pricelist!$A$53:$F$60643,5,FALSE),\"\")","v":""},{"$f":"IF(B239<>\"\",VLOOKUP(IF(ISNUMBER(B239),TEXT(B239,\"0\"),B239),Pricelist!$A$3:$F$60643,3,FALSE),\"\")","v":""},"",{"$f":"IF(B239<>\"\",VLOOKUP(IF(ISNUMBER(B239),TEXT(B239,\"0\"),B239),Pricelist!$A$3:$F$60643,4,FALSE),\"\")","v":""},"","",null,null,null,null,"","","",""]
["",null,"",{"$f":"IF(B240<>\"\",VLOOKUP(IF(ISNUMBER(B240),TEXT(B240,\"0\"),B240),Pricelist!$A$53:$F$60643,6,FALSE),\"\")","v":""},{"$f":"IF(B240<>\"\",VLOOKUP(IF(ISNUMBER(B240),TEXT(B240,\"0\"),B240),Pricelist!$A$3:$F$60643,2,FALSE),\"\")","v":""},{"$f":"IF(B240<>\"\",VLOOKUP(IF(ISNUMBER(B240),TEXT(B240,\"0\"),B240),Pricelist!$A$53:$F$60643,5,FALSE),\"\")","v":""},{"$f":"IF(B240<>\"\",VLOOKUP(IF(ISNUMBER(B240),TEXT(B240,\"0\"),B240),Pricelist!$A$3:$F$60643,3,FALSE),\"\")","v":""},"",{"$f":"IF(B240<>\"\",VLOOKUP(IF(ISNUMBER(B240),TEXT(B240,\"0\"),B240),Pricelist!$A$3:$F$60643,4,FALSE),\"\")","v":""},"","",null,null,null,null,"","","",""]
["",null,"",{"$f":"IF(B241<>\"\",VLOOKUP(IF(ISNUMBER(B241),TEXT(B241,\"0\"),B241),Pricelist!$A$53:$F$60643,6,FALSE),\"\")","v":""},{"$f":"IF(B241<>\"\",VLOOKUP(IF(ISNUMBER(B241),TEXT(B241,\"0\"),B241),Pricelist!$A$3:$F$60643,2,FALSE),\"\")","v":""},{"$f":"IF(B241<>\"\",VLOOKUP(IF(ISNUMBER(B241),TEXT(B241,\"0\"),B241),Pricelist!$A$53:$F$60643,5,FALSE),\"\")","v":""},{"$f":"IF(B241<>\"\",VLOOKUP(IF(ISNUMBER(B241),TEXT(B241,\"0\"),B241),Pricelist!$A$3:$F$60643,3,FALSE),\"\")","v":""},"",{"$f":"IF(B241<>\"\",VLOOKUP(IF(ISNUMBER(B241),TEXT(B241,\"0\"),B241),Pricelist!$A$3:$F$60643,4,FALSE),\"\")","v":""},"","",null,null,null,null,"","","",""]
["",null,"",{"$f":"IF(B242<>\"\",VLOOKUP(IF(ISNUMBER(B242),TEXT(B242,\"0\"),B242),Pricelist!$A$53:$F$60643,6,FALSE),\"\")","v":""},{"$f":"IF(B242<>\"\",VLOOKUP(IF(ISNUMBER(B242),TEXT(B242,\"0\"),B242),Pricelist!$A$3:$F$60643,2,FALSE),\"\")","v":""},{"$f":"IF(B242<>\"\",VLOOKUP(IF(ISNUMBER(B242),TEXT(B242,\"0\"),B242),Pricelist!$A$53:$F$60643,5,FALSE),\"\")","v":""},{"$f":"IF(B242<>\"\",VLOOKUP(IF(ISNUMBER(B242),TEXT(B242,\"0\"),B242),Pricelist!$A$3:$F$60643,3,FALSE),\"\")","v":""},"",{"$f":"IF(B242<>\"\",VLOOKUP(IF(ISNUMBER(B242),TEXT(B242,\"0\"),B242),Pricelist!$A$3:$F$60643,4,FALSE),\"\")","v":""},"","",null,null,null,null,"","","",""]
["",null,"",{"$f":"IF(B243<>\"\",VLOOKUP(IF(ISNUMBER(B243),TEXT(B243,\"0\"),B243),Pricelist!$A$53:$F$60643,6,FALSE),\"\")","v":""},{"$f":"IF(B243<>\"\",VLOOKUP(IF(ISNUMBER(B243),TEXT(B243,\"0\"),B243),Pricelist!$A$3:$F$60643,2,FALSE),\"\")","v":""},{"$f":"IF(B243<>\"\",VLOOKUP(IF(ISNUMBER(B243),TEXT(B243,\"0\"),B243),Pricelist!$A$53:$F$60643,5,FALSE),\"\")","v":""},{"$f":"IF(B243<>\"\",VLOOKUP(IF(ISNUMBER(B243),TEXT(B243,\"0\"),B243),Pricelist!$A$3:$F$60643,3,FALSE),\"\")","v":""},"",{"$f":"IF(B243<>\"\",VLOOKUP(IF(ISNUMBER(B243),TEXT(B243,\"0\"),B243),Pricelist!$A$3:$F$60643,4,FALSE),\"\")","v":""},"","",null,null,null,null,"","","",""]
["",null,"",{"$f":"IF(B244<>\"\",VLOOKUP(IF(ISNUMBER(B244),TEXT(B244,\"0\"),B244),Pricelist!$A$53:$F$60643,6,FALSE),\"\")","v":""},{"$f":"IF(B244<>\"\",VLOOKUP(IF(ISNUMBER(B244),TEXT(B244,\"0\"),B244),Pricelist!$A$3:$F$60643,2,FALSE),\"\")","v":""},{"$f":"IF(B244<>\"\",VLOOKUP(IF(ISNUMBER(B244),TEXT(B244,\"0\"),B244),Pricelist!$A$53:$F$60643,5,FALSE),\"\")","v":""},{"$f":"IF(B244<>\"\",VLOOKUP(IF(ISNUMBER(B244),TEXT(B244,\"0\"),B244),Pricelist!$A$3:$F$60643,3,FALSE),\"\")","v":""},"",{"$f":"IF(B244<>\"\",VLOOKUP(IF(ISNUMBER(B244),TEXT(B244,\"0\"),B244),Pricelist!$A$3:$F$60643,4,FALSE),\"\")","v":""},"","",null,null,null,null,"","","",""]
["",null,"",{"$f":"IF(B245<>\"\",VLOOKUP(IF(ISNUMBER(B245),TEXT(B245,\"0\"),B245),Pricelist!$A$53:$F$60643,6,FALSE),\"\")","v":""},{"$f":"IF(B245<>\"\",VLOOKUP(IF(ISNUMBER(B245),TEXT(B245,\"0\"),B245),Pricelist!$A$3:$F$60643,2,FALSE),\"\")","v":""},{"$f":"IF(B245<>\"\",VLOOKUP(IF(ISNUMBER(B245),TEXT(B245,\"0\"),B245),Pricelist!$A$53:$F$60643,5,FALSE),\"\")","v":""},{"$f":"IF(B245<>\"\",VLOOKUP(IF(ISNUMBER(B245),TEXT(B245,\"0\"),B245),Pricelist!$A$3:$F$60643,3,FALSE),\"\")","v":""},"",{"$f":"IF(B245<>\"\",VLOOKUP(IF(ISNUMBER(B245),TEXT(B245,\"0\"),B245),Pricelist!$A$3:$F$60643,4,FALSE),\"\")","v":""},"","",null,null,null,null,"","","",""]
["",null,"",{"$f":"IF(B246<>\"\",VLOOKUP(IF(ISNUMBER(B246),TEXT(B246,\"0\"),B246),Pricelist!$A$53:$F$60643,6,FALSE),\"\")","v":""},{"$f":"IF(B246<>\"\",VLOOKUP(IF(ISNUMBER(B246),TEXT(B246,\"0\"),B246),Pricelist!$A$3:$F$60643,2,FALSE),\"\")","v":""},{"$f":"IF(B246<>\"\",VLOOKUP(IF(ISNUMBER(B246),TEXT(B246,\"0\"),B246),Pricelist!$A$53:$F$60643,5,FALSE),\"\")","v":""},{"$f":"IF(B246<>\"\",VLOOKUP(IF(ISNUMBER(B246),TEXT(B246,\"0\"),B246),Pricelist!$A$3:$F$60643,3,FALSE),\"\")","v":""},"",{"$f":"IF(B246<>\"\",VLOOKUP(IF(ISNUMBER(B246),TEXT(B246,\"0\"),B246),Pricelist!$A$3:$F$60643,4,FALSE),\"\")","v":""},"","",null,null,null,null,"","","",""]
["",null,"",{"$f":"IF(B247<>\"\",VLOOKUP(IF(ISNUMBER(B247),TEXT(B247,\"0\"),B247),Pricelist!$A$53:$F$60643,6,FALSE),\"\")","v":""},{"$f":"IF(B247<>\"\",VLOOKUP(IF(ISNUMBER(B247),TEXT(B247,\"0\"),B247),Pricelist!$A$3:$F$60643,2,FALSE),\"\")","v":""},{"$f":"IF(B247<>\"\",VLOOKUP(IF(ISNUMBER(B247),TEXT(B247,\"0\"),B247),Pricelist!$A$53:$F$60643,5,FALSE),\"\")","v":""},{"$f":"IF(B247<>\"\",VLOOKUP(IF(ISNUMBER(B247),TEXT(B247,\"0\"),B247),Pricelist!$A$3:$F$60643,3,FALSE),\"\")","v":""},"",{"$f":"IF(B247<>\"\",VLOOKUP(IF(ISNUMBER(B247),TEXT(B247,\"0\"),B247),Pricelist!$A$3:$F$60643,4,FALSE),\"\")","v":""},"","",null,null,null,null,"","","",""]
["",null,"",{"$f":"IF(B248<>\"\",VLOOKUP(IF(ISNUMBER(B248),TEXT(B248,\"0\"),B248),Pricelist!$A$53:$F$60643,6,FALSE),\"\")","v":""},{"$f":"IF(B248<>\"\",VLOOKUP(IF(ISNUMBER(B248),TEXT(B248,\"0\"),B248),Pricelist!$A$3:$F$60643,2,FALSE),\"\")","v":""},{"$f":"IF(B248<>\"\",VLOOKUP(IF(ISNUMBER(B248),TEXT(B248,\"0\"),B248),Pricelist!$A$53:$F$60643,5,FALSE),\"\")","v":""},{"$f":"IF(B248<>\"\",VLOOKUP(IF(ISNUMBER(B248),TEXT(B248,\"0\"),B248),Pricelist!$A$3:$F$60643,3,FALSE),\"\")","v":""},"",{"$f":"IF(B248<>\"\",VLOOKUP(IF(ISNUMBER(B248),TEXT(B248,\"0\"),B248),Pricelist!$A$3:$F$60643,4,FALSE),\"\")","v":""},"","",null,null,null,null,"","","",""]
["",null,"",{"$f":"IF(B249<>\"\",VLOOKUP(IF(ISNUMBER(B249),TEXT(B249,\"0\"),B249),Pricelist!$A$53:$F$60643,6,FALSE),\"\")","v":""},{"$f":"IF(B249<>\"\",VLOOKUP(IF(ISNUMBER(B249),TEXT(B249,\"0\"),B249),Pricelist!$A$3:$F$60643,2,FALSE),\"\")","v":""},{"$f":"IF(B249<>\"\",VLOOKUP(IF(ISNUMBER(B249),TEXT(B249,\"0\"),B249),Pricelist!$A$53:$F$60643,5,FALSE),\"\")","v":""},{"$f":"IF(B249<>\"\",VLOOKUP(IF(ISNUMBER(B249),TEXT(B249,\"0\"),B249),Pricelist!$A$3:$F$60643,3,FALSE),\"\")","v":""},"",{"$f":"IF(B249<>\"\",VLOOKUP(IF(ISNUMBER(B249),TEXT(B249,\"0\"),B249),Pricelist!$A$3:$F$60643,4,FALSE),\"\")","v":""},"","",null,null,null,null,"","","",""]
["",null,"",{"$f":"IF(B250<>\"\",VLOOKUP(IF(ISNUMBER(B250),TEXT(B250,\"0\"),B250),Pricelist!$A$53:$F$60643,6,FALSE),\"\")","v":""},{"$f":"IF(B250<>\"\",VLOOKUP(IF(ISNUMBER(B250),TEXT(B250,\"0\"),B250),Pricelist!$A$3:$F$60643,2,FALSE),\"\")","v":""},{"$f":"IF(B250<>\"\",VLOOKUP(IF(ISNUMBER(B250),TEXT(B250,\"0\"),B250),Pricelist!$A$53:$F$60643,5,FALSE),\"\")","v":""},{"$f":"IF(B250<>\"\",VLOOKUP(IF(ISNUMBER(B250),TEXT(B250,\"0\"),B250),Pricelist!$A$3:$F$60643,3,FALSE),\"\")","v":""},"",{"$f":"IF(B250<>\"\",VLOOKUP(IF(ISNUMBER(B250),TEXT(B250,\"0\"),B250),Pricelist!$A$3:$F$60643,4,FALSE),\"\")","v":""},"","",null,null,null,null,"","","",""]
["",null,"",{"$f":"IF(B251<>\"\",VLOOKUP(IF(ISNUMBER(B251),TEXT(B251,\"0\"),B251),Pricelist!$A$53:$F$60643,6,FALSE),\"\")","v":""},{"$f":"IF(B251<>\"\",VLOOKUP(IF(ISNUMBER(B251),TEXT(B251,\"0\"),B251),Pricelist!$A$3:$F$60643,2,FALSE),\"\")","v":""},{"$f":"IF(B251<>\"\",VLOOKUP(IF(ISNUMBER(B251),TEXT(B251,\"0\"),B251),Pricelist!$A$53:$F$60643,5,FALSE),\"\")","v":""},{"$f":"IF(B251<>\"\",VLOOKUP(IF(ISNUMBER(B251),TEXT(B251,\"0\"),B251),Pricelist!$A$3:$F$60643,3,FALSE),\"\")","v":""},"",{"$f":"IF(B251<>\"\",VLOOKUP(IF(ISNUMBER(B251),TEXT(B251,\"0\"),B251),Pricelist!$A$3:$F$60643,4,FALSE),\"\")","v":""},"","",null,null,null,null,"","","",""]
["",null,"",{"$f":"IF(B252<>\"\",VLOOKUP(IF(ISNUMBER(B252),TEXT(B252,\"0\"),B252),Pricelist!$A$53:$F$60643,6,FALSE),\"\")","v":""},{"$f":"IF(B252<>\"\",VLOOKUP(IF(ISNUMBER(B252),TEXT(B252,\"0\"),B252),Pricelist!$A$3:$F$60643,2,FALSE),\"\")","v":""},{"$f":"IF(B252<>\"\",VLOOKUP(IF(ISNUMBER(B252),TEXT(B252,\"0\"),B252),Pricelist!$A$53:$F$60643,5,FALSE),\"\")","v":""},{"$f":"IF(B252<>\"\",VLOOKUP(IF(ISNUMBER(B252),TEXT(B252,\"0\"),B252),Pricelist!$A$3:$F$60643,3,FALSE),\"\")","v":""},"",{"$f":"IF(B252<>\"\",VLOOKUP(IF(ISNUMBER(B252),TEXT(B252,\"0\"),B252),Pricelist!$A$3:$F$60643,4,FALSE),\"\")","v":""},"","",null,null,null,null,"","","",""]
["",null,"",{"$f":"IF(B253<>\"\",VLOOKUP(IF(ISNUMBER(B253),TEXT(B253,\"0\"),B253),Pricelist!$A$53:$F$60643,6,FALSE),\"\")","v":""},{"$f":"IF(B253<>\"\",VLOOKUP(IF(ISNUMBER(B253),TEXT(B253,\"0\"),B253),Pricelist!$A$3:$F$60643,2,FALSE),\"\")","v":""},{"$f":"IF(B253<>\"\",VLOOKUP(IF(ISNUMBER(B253),TEXT(B253,\"0\"),B253),Pricelist!$A$53:$F$60643,5,FALSE),\"\")","v":""},{"$f":"IF(B253<>\"\",VLOOKUP(IF(ISNUMBER(B253),TEXT(B253,\"0\"),B253),Pricelist!$A$3:$F$60643,3,FALSE),\"\")","v":""},"",{"$f":"IF(B253<>\"\",VLOOKUP(IF(ISNUMBER(B253),TEXT(B253,\"0\"),B253),Pricelist!$A$3:$F$60643,4,FALSE),\"\")","v":""},"","",null,null,null,null,"","","",""]
["",null,"",{"$f":"IF(B254<>\"\",VLOOKUP(IF(ISNUMBER(B254),TEXT(B254,\"0\"),B254),Pricelist!$A$53:$F$60643,6,FALSE),\"\")","v":""},{"$f":"IF(B254<>\"\",VLOOKUP(IF(ISNUMBER(B254),TEXT(B254,\"0\"),B254),Pricelist!$A$3:$F$60643,2,FALSE),\"\")","v":""},{"$f":"IF(B254<>\"\",VLOOKUP(IF(ISNUMBER(B254),TEXT(B254,\"0\"),B254),Pricelist!$A$53:$F$60643,5,FALSE),\"\")","v":""},{"$f":"IF(B254<>\"\",VLOOKUP(IF(ISNUMBER(B254),TEXT(B254,\"0\"),B254),Pricelist!$A$3:$F$60643,3,FALSE),\"\")","v":""},"",{"$f":"IF(B254<>\"\",VLOOKUP(IF(ISNUMBER(B254),TEXT(B254,\"0\"),B254),Pricelist!$A$3:$F$60643,4,FALSE),\"\")","v":""},"","",null,null,null,null,"","","",""]
["",null,"",{"$f":"IF(B255<>\"\",VLOOKUP(IF(ISNUMBER(B255),TEXT(B255,\"0\"),B255),Pricelist!$A$53:$F$60643,6,FALSE),\"\")","v":""},{"$f":"IF(B255<>\"\",VLOOKUP(IF(ISNUMBER(B255),TEXT(B255,\"0\"),B255),Pricelist!$A$3:$F$60643,2,FALSE),\"\")","v":""},{"$f":"IF(B255<>\"\",VLOOKUP(IF(ISNUMBER(B255),TEXT(B255,\"0\"),B255),Pricelist!$A$53:$F$60643,5,FALSE),\"\")","v":""},{"$f":"IF(B255<>\"\",VLOOKUP(IF(ISNUMBER(B255),TEXT(B255,\"0\"),B255),Pricelist!$A$3:$F$60643,3,FALSE),\"\")","v":""},"",{"$f":"IF(B255<>\"\",VLOOKUP(IF(ISNUMBER(B255),TEXT(B255,\"0\"),B255),Pricelist!$A$3:$F$60643,4,FALSE),\"\")","v":""},"","",null,null,null,null,"","","",""]
["",null,"",{"$f":"IF(B256<>\"\",VLOOKUP(IF(ISNUMBER(B256),TEXT(B256,\"0\"),B256),Pricelist!$A$53:$F$60643,6,FALSE),\"\")","v":""},{"$f":"IF(B256<>\"\",VLOOKUP(IF(ISNUMBER(B256),TEXT(B256,\"0\"),B256),Pricelist!$A$3:$F$60643,2,FALSE),\"\")","v":""},{"$f":"IF(B256<>\"\",VLOOKUP(IF(ISNUMBER(B256),TEXT(B256,\"0\"),B256),Pricelist!$A$53:$F$60643,5,FALSE),\"\")","v":""},{"$f":"IF(B256<>\"\",VLOOKUP(IF(ISNUMBER(B256),TEXT(B256,\"0\"),B256),Pricelist!$A$3:$F$60643,3,FALSE),\"\")","v":""},"",{"$f":"IF(B256<>\"\",VLOOKUP(IF(ISNUMBER(B256),TEXT(B256,\"0\"),B256),Pricelist!$A$3:$F$60643,4,FALSE),\"\")","v":""},"","",null,null,null,null,"","","",""]
["",null,"",{"$f":"IF(B257<>\"\",VLOOKUP(IF(ISNUMBER(B257),TEXT(B257,\"0\"),B257),Pricelist!$A$53:$F$60643,6,FALSE),\"\")","v":""},{"$f":"IF(B257<>\"\",VLOOKUP(IF(ISNUMBER(B257),TEXT(B257,\"0\"),B257),Pricelist!$A$3:$F$60643,2,FALSE),\"\")","v":""},{"$f":"IF(B257<>\"\",VLOOKUP(IF(ISNUMBER(B257),TEXT(B257,\"0\"),B257),Pricelist!$A$53:$F$60643,5,FALSE),\"\")","v":""},{"$f":"IF(B257<>\"\",VLOOKUP(IF(ISNUMBER(B257),TEXT(B257,\"0\"),B257),Pricelist!$A$3:$F$60643,3,FALSE),\"\")","v":""},"",{"$f":"IF(B257<>\"\",VLOOKUP(IF(ISNUMBER(B257),TEXT(B257,\"0\"),B257),Pricelist!$A$3:$F$60643,4,FALSE),\"\")","v":""},"","",null,null,null,null,"","","",""]
["",null,"",{"$f":"IF(B258<>\"\",VLOOKUP(IF(ISNUMBER(B258),TEXT(B258,\"0\"),B258),Pricelist!$A$53:$F$60643,6,FALSE),\"\")","v":""},{"$f":"IF(B258<>\"\",VLOOKUP(IF(ISNUMBER(B258),TEXT(B258,\"0\"),B258),Pricelist!$A$3:$F$60643,2,FALSE),\"\")","v":""},{"$f":"IF(B258<>\"\",VLOOKUP(IF(ISNUMBER(B258),TEXT(B258,\"0\"),B258),Pricelist!$A$53:$F$60643,5,FALSE),\"\")","v":""},{"$f":"IF(B258<>\"\",VLOOKUP(IF(ISNUMBER(B258),TEXT(B258,\"0\"),B258),Pricelist!$A$3:$F$60643,3,FALSE),\"\")","v":""},"",{"$f":"IF(B258<>\"\",VLOOKUP(IF(ISNUMBER(B258),TEXT(B258,\"0\"),B258),Pricelist!$A$3:$F$60643,4,FALSE),\"\")","v":""},"","",null,null,null,null,"","","",""]
["",null,"",{"$f":"IF(B259<>\"\",VLOOKUP(IF(ISNUMBER(B259),TEXT(B259,\"0\"),B259),Pricelist!$A$53:$F$60643,6,FALSE),\"\")","v":""},{"$f":"IF(B259<>\"\",VLOOKUP(IF(ISNUMBER(B259),TEXT(B259,\"0\"),B259),Pricelist!$A$3:$F$60643,2,FALSE),\"\")","v":""},{"$f":"IF(B259<>\"\",VLOOKUP(IF(ISNUMBER(B259),TEXT(B259,\"0\"),B259),Pricelist!$A$53:$F$60643,5,FALSE),\"\")","v":""},{"$f":"IF(B259<>\"\",VLOOKUP(IF(ISNUMBER(B259),TEXT(B259,\"0\"),B259),Pricelist!$A$3:$F$60643,3,FALSE),\"\")","v":""},"",{"$f":"IF(B259<>\"\",VLOOKUP(IF(ISNUMBER(B259),TEXT(B259,\"0\"),B259),Pricelist!$A$3:$F$60643,4,FALSE),\"\")","v":""},"","",null,null,null,null,"","","",""]
["",null,"",{"$f":"IF(B260<>\"\",VLOOKUP(IF(ISNUMBER(B260),TEXT(B260,\"0\"),B260),Pricelist!$A$53:$F$60643,6,FALSE),\"\")","v":""},{"$f":"IF(B260<>\"\",VLOOKUP(IF(ISNUMBER(B260),TEXT(B260,\"0\"),B260),Pricelist!$A$3:$F$60643,2,FALSE),\"\")","v":""},{"$f":"IF(B260<>\"\",VLOOKUP(IF(ISNUMBER(B260),TEXT(B260,\"0\"),B260),Pricelist!$A$53:$F$60643,5,FALSE),\"\")","v":""},{"$f":"IF(B260<>\"\",VLOOKUP(IF(ISNUMBER(B260),TEXT(B260,\"0\"),B260),Pricelist!$A$3:$F$60643,3,FALSE),\"\")","v":""},"",{"$f":"IF(B260<>\"\",VLOOKUP(IF(ISNUMBER(B260),TEXT(B260,\"0\"),B260),Pricelist!$A$3:$F$60643,4,FALSE),\"\")","v":""},"","",null,null,null,null,"","","",""]
["",null,"",{"$f":"IF(B261<>\"\",VLOOKUP(IF(ISNUMBER(B261),TEXT(B261,\"0\"),B261),Pricelist!$A$53:$F$60643,6,FALSE),\"\")","v":""},{"$f":"IF(B261<>\"\",VLOOKUP(IF(ISNUMBER(B261),TEXT(B261,\"0\"),B261),Pricelist!$A$3:$F$60643,2,FALSE),\"\")","v":""},{"$f":"IF(B261<>\"\",VLOOKUP(IF(ISNUMBER(B261),TEXT(B261,\"0\"),B261),Pricelist!$A$53:$F$60643,5,FALSE),\"\")","v":""},{"$f":"IF(B261<>\"\",VLOOKUP(IF(ISNUMBER(B261),TEXT(B261,\"0\"),B261),Pricelist!$A$3:$F$60643,3,FALSE),\"\")","v":""},"",{"$f":"IF(B261<>\"\",VLOOKUP(IF(ISNUMBER(B261),TEXT(B261,\"0\"),B261),Pricelist!$A$3:$F$60643,4,FALSE),\"\")","v":""},"","",null,null,null,null,"","","",""]
["",null,"",{"$f":"IF(B262<>\"\",VLOOKUP(IF(ISNUMBER(B262),TEXT(B262,\"0\"),B262),Pricelist!$A$53:$F$60643,6,FALSE),\"\")","v":""},{"$f":"IF(B262<>\"\",VLOOKUP(IF(ISNUMBER(B262),TEXT(B262,\"0\"),B262),Pricelist!$A$3:$F$60643,2,FALSE),\"\")","v":""},{"$f":"IF(B262<>\"\",VLOOKUP(IF(ISNUMBER(B262),TEXT(B262,\"0\"),B262),Pricelist!$A$53:$F$60643,5,FALSE),\"\")","v":""},{"$f":"IF(B262<>\"\",VLOOKUP(IF(ISNUMBER(B262),TEXT(B262,\"0\"),B262),Pricelist!$A$3:$F$60643,3,FALSE),\"\")","v":""},"",{"$f":"IF(B262<>\"\",VLOOKUP(IF(ISNUMBER(B262),TEXT(B262,\"0\"),B262),Pricelist!$A$3:$F$60643,4,FALSE),\"\")","v":""},"","",null,null,null,null,"","","",""]
["",null,"",{"$f":"IF(B263<>\"\",VLOOKUP(IF(ISNUMBER(B263),TEXT(B263,\"0\"),B263),Pricelist!$A$53:$F$60643,6,FALSE),\"\")","v":""},{"$f":"IF(B263<>\"\",VLOOKUP(IF(ISNUMBER(B263),TEXT(B263,\"0\"),B263),Pricelist!$A$3:$F$60643,2,FALSE),\"\")","v":""},{"$f":"IF(B263<>\"\",VLOOKUP(IF(ISNUMBER(B263),TEXT(B263,\"0\"),B263),Pricelist!$A$53:$F$60643,5,FALSE),\"\")","v":""},{"$f":"IF(B263<>\"\",VLOOKUP(IF(ISNUMBER(B263),TEXT(B263,\"0\"),B263),Pricelist!$A$3:$F$60643,3,FALSE),\"\")","v":""},"",{"$f":"IF(B263<>\"\",VLOOKUP(IF(ISNUMBER(B263),TEXT(B263,\"0\"),B263),Pricelist!$A$3:$F$60643,4,FALSE),\"\")","v":""},"","",null,null,null,null,"","","",""]
["",null,"",{"$f":"IF(B264<>\"\",VLOOKUP(IF(ISNUMBER(B264),TEXT(B264,\"0\"),B264),Pricelist!$A$53:$F$60643,6,FALSE),\"\")","v":""},{"$f":"IF(B264<>\"\",VLOOKUP(IF(ISNUMBER(B264),TEXT(B264,\"0\"),B264),Pricelist!$A$3:$F$60643,2,FALSE),\"\")","v":""},{"$f":"IF(B264<>\"\",VLOOKUP(IF(ISNUMBER(B264),TEXT(B264,\"0\"),B264),Pricelist!$A$53:$F$60643,5,FALSE),\"\")","v":""},{"$f":"IF(B264<>\"\",VLOOKUP(IF(ISNUMBER(B264),TEXT(B264,\"0\"),B264),Pricelist!$A$3:$F$60643,3,FALSE),\"\")","v":""},"",{"$f":"IF(B264<>\"\",VLOOKUP(IF(ISNUMBER(B264),TEXT(B264,\"0\"),B264),Pricelist!$A$3:$F$60643,4,FALSE),\"\")","v":""},"","",null,null,null,null,"","","",""]
["",null,"",{"$f":"IF(B265<>\"\",VLOOKUP(IF(ISNUMBER(B265),TEXT(B265,\"0\"),B265),Pricelist!$A$53:$F$60643,6,FALSE),\"\")","v":""},{"$f":"IF(B265<>\"\",VLOOKUP(IF(ISNUMBER(B265),TEXT(B265,\"0\"),B265),Pricelist!$A$3:$F$60643,2,FALSE),\"\")","v":""},{"$f":"IF(B265<>\"\",VLOOKUP(IF(ISNUMBER(B265),TEXT(B265,\"0\"),B265),Pricelist!$A$53:$F$60643,5,FALSE),\"\")","v":""},{"$f":"IF(B265<>\"\",VLOOKUP(IF(ISNUMBER(B265),TEXT(B265,\"0\"),B265),Pricelist!$A$3:$F$60643,3,FALSE),\"\")","v":""},"",{"$f":"IF(B265<>\"\",VLOOKUP(IF(ISNUMBER(B265),TEXT(B265,\"0\"),B265),Pricelist!$A$3:$F$60643,4,FALSE),\"\")","v":""},"","",null,null,null,null,"","","",""]
["",null,"",{"$f":"IF(B266<>\"\",VLOOKUP(IF(ISNUMBER(B266),TEXT(B266,\"0\"),B266),Pricelist!$A$53:$F$60643,6,FALSE),\"\")","v":""},{"$f":"IF(B266<>\"\",VLOOKUP(IF(ISNUMBER(B266),TEXT(B266,\"0\"),B266),Pricelist!$A$3:$F$60643,2,FALSE),\"\")","v":""},{"$f":"IF(B266<>\"\",VLOOKUP(IF(ISNUMBER(B266),TEXT(B266,\"0\"),B266),Pricelist!$A$53:$F$60643,5,FALSE),\"\")","v":""},{"$f":"IF(B266<>\"\",VLOOKUP(IF(ISNUMBER(B266),TEXT(B266,\"0\"),B266),Pricelist!$A$3:$F$60643,3,FALSE),\"\")","v":""},"",{"$f":"IF(B266<>\"\",VLOOKUP(IF(ISNUMBER(B266),TEXT(B266,\"0\"),B266),Pricelist!$A$3:$F$60643,4,FALSE),\"\")","v":""},"","",null,null,null,null,"","","",""]
["",null,"",{"$f":"IF(B267<>\"\",VLOOKUP(IF(ISNUMBER(B267),TEXT(B267,\"0\"),B267),Pricelist!$A$53:$F$60643,6,FALSE),\"\")","v":""},{"$f":"IF(B267<>\"\",VLOOKUP(IF(ISNUMBER(B267),TEXT(B267,\"0\"),B267),Pricelist!$A$3:$F$60643,2,FALSE),\"\")","v":""},{"$f":"IF(B267<>\"\",VLOOKUP(IF(ISNUMBER(B267),TEXT(B267,\"0\"),B267),Pricelist!$A$53:$F$60643,5,FALSE),\"\")","v":""},{"$f":"IF(B267<>\"\",VLOOKUP(IF(ISNUMBER(B267),TEXT(B267,\"0\"),B267),Pricelist!$A$3:$F$60643,3,FALSE),\"\")","v":""},"",{"$f":"IF(B267<>\"\",VLOOKUP(IF(ISNUMBER(B267),TEXT(B267,\"0\"),B267),Pricelist!$A$3:$F$60643,4,FALSE),\"\")","v":""},"","",null,null,null,null,"","","",""]
[{"$f":"IF(B268<>\"\",A267+1,\"\")","v":""},null,{"$f":"IF(A268<>\"\",1,\"\")","v":""},{"$f":"IF(B268<>\"\",VLOOKUP(IF(ISNUMBER(B268),TEXT(B268,\"0\"),B268),Pricelist!$A$53:$F$60643,6,FALSE),\"\")","v":""},{"$f":"IF(B268<>\"\",VLOOKUP(IF(ISNUMBER(B268),TEXT(B268,\"0\"),B268),Pricelist!$A$3:$F$60643,2,FALSE),\"\")","v":""},{"$f":"IF(B268<>\"\",VLOOKUP(IF(ISNUMBER(B268),TEXT(B268,\"0\"),B268),Pricelist!$A$53:$F$60643,5,FALSE),\"\")","v":""},{"$f":"IF(B268<>\"\",VLOOKUP(IF(ISNUMBER(B268),TEXT(B268,\"0\"),B268),Pricelist!$A$3:$F$60643,3,FALSE),\"\")","v":""},{"$f":"IF(B268<>\"\",VLOOKUP(IF(ISNUMBER(I268),TEXT(I268,\"0\"),I268),$BD$12:$BE$44,2,FALSE),\"\")","v":""},{"$f":"IF(B268<>\"\",VLOOKUP(IF(ISNUMBER(B268),TEXT(B268,\"0\"),B268),Pricelist!$A$3:$F$60643,4,FALSE),\"\")","v":""},{"$f":"IF(B268<>\"\",G268*(1-H268),\"\")","v":""},{"$f":"IF(B268<>\"\",C268*(1-H268)*G268,\"\")","v":""},null,null,null,null,{"$f":"IF(B268<>\"\",$K$2,\"\")","v":""},"","",{"$f":"IF(R268=\"\",\"\",C268)","v":""}]
["",null,"",{"$f":"IF(B269<>\"\",VLOOKUP(IF(ISNUMBER(B269),TEXT(B269,\"0\"),B269),Pricelist!$A$53:$F$60643,6,FALSE),\"\")","v":""},{"$f":"IF(B269<>\"\",VLOOKUP(IF(ISNUMBER(B269),TEXT(B269,\"0\"),B269),Pricelist!$A$3:$F$60643,2,FALSE),\"\")","v":""},{"$f":"IF(B269<>\"\",VLOOKUP(IF(ISNUMBER(B269),TEXT(B269,\"0\"),B269),Pricelist!$A$53:$F$60643,5,FALSE),\"\")","v":""},{"$f":"IF(B269<>\"\",VLOOKUP(IF(ISNUMBER(B269),TEXT(B269,\"0\"),B269),Pricelist!$A$3:$F$60643,3,FALSE),\"\")","v":""},"",{"$f":"IF(B269<>\"\",VLOOKUP(IF(ISNUMBER(B269),TEXT(B269,\"0\"),B269),Pricelist!$A$3:$F$60643,4,FALSE),\"\")","v":""},"","",null,null,null,null,"","",{"$f":"IF(B269>1,B269,\"\")","v":""},""]
["",null,"",{"$f":"IF(B270<>\"\",VLOOKUP(IF(ISNUMBER(B270),TEXT(B270,\"0\"),B270),Pricelist!$A$53:$F$60643,6,FALSE),\"\")","v":""},{"$f":"IF(B270<>\"\",VLOOKUP(IF(ISNUMBER(B270),TEXT(B270,\"0\"),B270),Pricelist!$A$3:$F$60643,2,FALSE),\"\")","v":""},{"$f":"IF(B270<>\"\",VLOOKUP(IF(ISNUMBER(B270),TEXT(B270,\"0\"),B270),Pricelist!$A$53:$F$60643,5,FALSE),\"\")","v":""},{"$f":"IF(B270<>\"\",VLOOKUP(IF(ISNUMBER(B270),TEXT(B270,\"0\"),B270),Pricelist!$A$3:$F$60643,3,FALSE),\"\")","v":""},"",{"$f":"IF(B270<>\"\",VLOOKUP(IF(ISNUMBER(B270),TEXT(B270,\"0\"),B270),Pricelist!$A$3:$F$60643,4,FALSE),\"\")","v":""},"","",null,null,null,null,"","","",""]
["",null,"",{"$f":"IF(B271<>\"\",VLOOKUP(IF(ISNUMBER(B271),TEXT(B271,\"0\"),B271),Pricelist!$A$53:$F$60643,6,FALSE),\"\")","v":""},{"$f":"IF(B271<>\"\",VLOOKUP(IF(ISNUMBER(B271),TEXT(B271,\"0\"),B271),Pricelist!$A$3:$F$60643,2,FALSE),\"\")","v":""},{"$f":"IF(B271<>\"\",VLOOKUP(IF(ISNUMBER(B271),TEXT(B271,\"0\"),B271),Pricelist!$A$53:$F$60643,5,FALSE),\"\")","v":""},{"$f":"IF(B271<>\"\",VLOOKUP(IF(ISNUMBER(B271),TEXT(B271,\"0\"),B271),Pricelist!$A$3:$F$60643,3,FALSE),\"\")","v":""},"",{"$f":"IF(B271<>\"\",VLOOKUP(IF(ISNUMBER(B271),TEXT(B271,\"0\"),B271),Pricelist!$A$3:$F$60643,4,FALSE),\"\")","v":""},"","",null,null,null,null,"","","",""]
["",null,"",{"$f":"IF(B272<>\"\",VLOOKUP(IF(ISNUMBER(B272),TEXT(B272,\"0\"),B272),Pricelist!$A$53:$F$60643,6,FALSE),\"\")","v":""},{"$f":"IF(B272<>\"\",VLOOKUP(IF(ISNUMBER(B272),TEXT(B272,\"0\"),B272),Pricelist!$A$3:$F$60643,2,FALSE),\"\")","v":""},{"$f":"IF(B272<>\"\",VLOOKUP(IF(ISNUMBER(B272),TEXT(B272,\"0\"),B272),Pricelist!$A$53:$F$60643,5,FALSE),\"\")","v":""},{"$f":"IF(B272<>\"\",VLOOKUP(IF(ISNUMBER(B272),TEXT(B272,\"0\"),B272),Pricelist!$A$3:$F$60643,3,FALSE),\"\")","v":""},"",{"$f":"IF(B272<>\"\",VLOOKUP(IF(ISNUMBER(B272),TEXT(B272,\"0\"),B272),Pricelist!$A$3:$F$60643,4,FALSE),\"\")","v":""},"","",null,null,null,null,"","","",""]
["",null,"",{"$f":"IF(B273<>\"\",VLOOKUP(IF(ISNUMBER(B273),TEXT(B273,\"0\"),B273),Pricelist!$A$53:$F$60643,6,FALSE),\"\")","v":""},{"$f":"IF(B273<>\"\",VLOOKUP(IF(ISNUMBER(B273),TEXT(B273,\"0\"),B273),Pricelist!$A$3:$F$60643,2,FALSE),\"\")","v":""},{"$f":"IF(B273<>\"\",VLOOKUP(IF(ISNUMBER(B273),TEXT(B273,\"0\"),B273),Pricelist!$A$53:$F$60643,5,FALSE),\"\")","v":""},{"$f":"IF(B273<>\"\",VLOOKUP(IF(ISNUMBER(B273),TEXT(B273,\"0\"),B273),Pricelist!$A$3:$F$60643,3,FALSE),\"\")","v":""},"",{"$f":"IF(B273<>\"\",VLOOKUP(IF(ISNUMBER(B273),TEXT(B273,\"0\"),B273),Pricelist!$A$3:$F$60643,4,FALSE),\"\")","v":""},"","",null,null,null,null,"","","",""]
["",null,"",{"$f":"IF(B274<>\"\",VLOOKUP(IF(ISNUMBER(B274),TEXT(B274,\"0\"),B274),Pricelist!$A$53:$F$60643,6,FALSE),\"\")","v":""},{"$f":"IF(B274<>\"\",VLOOKUP(IF(ISNUMBER(B274),TEXT(B274,\"0\"),B274),Pricelist!$A$3:$F$60643,2,FALSE),\"\")","v":""},{"$f":"IF(B274<>\"\",VLOOKUP(IF(ISNUMBER(B274),TEXT(B274,\"0\"),B274),Pricelist!$A$53:$F$60643,5,FALSE),\"\")","v":""},{"$f":"IF(B274<>\"\",VLOOKUP(IF(ISNUMBER(B274),TEXT(B274,\"0\"),B274),Pricelist!$A$3:$F$60643,3,FALSE),\"\")","v":""},"",{"$f":"IF(B274<>\"\",VLOOKUP(IF(ISNUMBER(B274),TEXT(B274,\"0\"),B274),Pricelist!$A$3:$F$60643,4,FALSE),\"\")","v":""},"","",null,null,null,null,"","","",""]
["",null,"",{"$f":"IF(B275<>\"\",VLOOKUP(IF(ISNUMBER(B275),TEXT(B275,\"0\"),B275),Pricelist!$A$53:$F$60643,6,FALSE),\"\")","v":""},{"$f":"IF(B275<>\"\",VLOOKUP(IF(ISNUMBER(B275),TEXT(B275,\"0\"),B275),Pricelist!$A$3:$F$60643,2,FALSE),\"\")","v":""},{"$f":"IF(B275<>\"\",VLOOKUP(IF(ISNUMBER(B275),TEXT(B275,\"0\"),B275),Pricelist!$A$53:$F$60643,5,FALSE),\"\")","v":""},{"$f":"IF(B275<>\"\",VLOOKUP(IF(ISNUMBER(B275),TEXT(B275,\"0\"),B275),Pricelist!$A$3:$F$60643,3,FALSE),\"\")","v":""},"",{"$f":"IF(B275<>\"\",VLOOKUP(IF(ISNUMBER(B275),TEXT(B275,\"0\"),B275),Pricelist!$A$3:$F$60643,4,FALSE),\"\")","v":""},"","",null,null,null,null,"","","",""]
["",null,"",{"$f":"IF(B276<>\"\",VLOOKUP(IF(ISNUMBER(B276),TEXT(B276,\"0\"),B276),Pricelist!$A$53:$F$60643,6,FALSE),\"\")","v":""},{"$f":"IF(B276<>\"\",VLOOKUP(IF(ISNUMBER(B276),TEXT(B276,\"0\"),B276),Pricelist!$A$3:$F$60643,2,FALSE),\"\")","v":""},{"$f":"IF(B276<>\"\",VLOOKUP(IF(ISNUMBER(B276),TEXT(B276,\"0\"),B276),Pricelist!$A$53:$F$60643,5,FALSE),\"\")","v":""},{"$f":"IF(B276<>\"\",VLOOKUP(IF(ISNUMBER(B276),TEXT(B276,\"0\"),B276),Pricelist!$A$3:$F$60643,3,FALSE),\"\")","v":""},"",{"$f":"IF(B276<>\"\",VLOOKUP(IF(ISNUMBER(B276),TEXT(B276,\"0\"),B276),Pricelist!$A$3:$F$60643,4,FALSE),\"\")","v":""},"","",null,null,null,null,"","","",""]
["",null,"",{"$f":"IF(B277<>\"\",VLOOKUP(IF(ISNUMBER(B277),TEXT(B277,\"0\"),B277),Pricelist!$A$53:$F$60643,6,FALSE),\"\")","v":""},{"$f":"IF(B277<>\"\",VLOOKUP(IF(ISNUMBER(B277),TEXT(B277,\"0\"),B277),Pricelist!$A$3:$F$60643,2,FALSE),\"\")","v":""},{"$f":"IF(B277<>\"\",VLOOKUP(IF(ISNUMBER(B277),TEXT(B277,\"0\"),B277),Pricelist!$A$53:$F$60643,5,FALSE),\"\")","v":""},{"$f":"IF(B277<>\"\",VLOOKUP(IF(ISNUMBER(B277),TEXT(B277,\"0\"),B277),Pricelist!$A$3:$F$60643,3,FALSE),\"\")","v":""},"",{"$f":"IF(B277<>\"\",VLOOKUP(IF(ISNUMBER(B277),TEXT(B277,\"0\"),B277),Pricelist!$A$3:$F$60643,4,FALSE),\"\")","v":""},"","",null,null,null,null,"","","",""]
["",null,"",{"$f":"IF(B278<>\"\",VLOOKUP(IF(ISNUMBER(B278),TEXT(B278,\"0\"),B278),Pricelist!$A$53:$F$60643,6,FALSE),\"\")","v":""},{"$f":"IF(B278<>\"\",VLOOKUP(IF(ISNUMBER(B278),TEXT(B278,\"0\"),B278),Pricelist!$A$3:$F$60643,2,FALSE),\"\")","v":""},{"$f":"IF(B278<>\"\",VLOOKUP(IF(ISNUMBER(B278),TEXT(B278,\"0\"),B278),Pricelist!$A$53:$F$60643,5,FALSE),\"\")","v":""},{"$f":"IF(B278<>\"\",VLOOKUP(IF(ISNUMBER(B278),TEXT(B278,\"0\"),B278),Pricelist!$A$3:$F$60643,3,FALSE),\"\")","v":""},"",{"$f":"IF(B278<>\"\",VLOOKUP(IF(ISNUMBER(B278),TEXT(B278,\"0\"),B278),Pricelist!$A$3:$F$60643,4,FALSE),\"\")","v":""},"","",null,null,null,null,"","","",""]
["",null,"",{"$f":"IF(B279<>\"\",VLOOKUP(IF(ISNUMBER(B279),TEXT(B279,\"0\"),B279),Pricelist!$A$53:$F$60643,6,FALSE),\"\")","v":""},{"$f":"IF(B279<>\"\",VLOOKUP(IF(ISNUMBER(B279),TEXT(B279,\"0\"),B279),Pricelist!$A$3:$F$60643,2,FALSE),\"\")","v":""},{"$f":"IF(B279<>\"\",VLOOKUP(IF(ISNUMBER(B279),TEXT(B279,\"0\"),B279),Pricelist!$A$53:$F$60643,5,FALSE),\"\")","v":""},{"$f":"IF(B279<>\"\",VLOOKUP(IF(ISNUMBER(B279),TEXT(B279,\"0\"),B279),Pricelist!$A$3:$F$60643,3,FALSE),\"\")","v":""},"",{"$f":"IF(B279<>\"\",VLOOKUP(IF(ISNUMBER(B279),TEXT(B279,\"0\"),B279),Pricelist!$A$3:$F$60643,4,FALSE),\"\")","v":""},"","",null,null,null,null,"","","",""]
["",null,"",{"$f":"IF(B280<>\"\",VLOOKUP(IF(ISNUMBER(B280),TEXT(B280,\"0\"),B280),Pricelist!$A$53:$F$60643,6,FALSE),\"\")","v":""},{"$f":"IF(B280<>\"\",VLOOKUP(IF(ISNUMBER(B280),TEXT(B280,\"0\"),B280),Pricelist!$A$3:$F$60643,2,FALSE),\"\")","v":""},{"$f":"IF(B280<>\"\",VLOOKUP(IF(ISNUMBER(B280),TEXT(B280,\"0\"),B280),Pricelist!$A$53:$F$60643,5,FALSE),\"\")","v":""},{"$f":"IF(B280<>\"\",VLOOKUP(IF(ISNUMBER(B280),TEXT(B280,\"0\"),B280),Pricelist!$A$3:$F$60643,3,FALSE),\"\")","v":""},"",{"$f":"IF(B280<>\"\",VLOOKUP(IF(ISNUMBER(B280),TEXT(B280,\"0\"),B280),Pricelist!$A$3:$F$60643,4,FALSE),\"\")","v":""},"","",null,null,null,null,"","","",""]
["",null,"",{"$f":"IF(B281<>\"\",VLOOKUP(IF(ISNUMBER(B281),TEXT(B281,\"0\"),B281),Pricelist!$A$53:$F$60643,6,FALSE),\"\")","v":""},{"$f":"IF(B281<>\"\",VLOOKUP(IF(ISNUMBER(B281),TEXT(B281,\"0\"),B281),Pricelist!$A$3:$F$60643,2,FALSE),\"\")","v":""},{"$f":"IF(B281<>\"\",VLOOKUP(IF(ISNUMBER(B281),TEXT(B281,\"0\"),B281),Pricelist!$A$53:$F$60643,5,FALSE),\"\")","v":""},{"$f":"IF(B281<>\"\",VLOOKUP(IF(ISNUMBER(B281),TEXT(B281,\"0\"),B281),Pricelist!$A$3:$F$60643,3,FALSE),\"\")","v":""},"",{"$f":"IF(B281<>\"\",VLOOKUP(IF(ISNUMBER(B281),TEXT(B281,\"0\"),B281),Pricelist!$A$3:$F$60643,4,FALSE),\"\")","v":""},"","",null,null,null,null,"","","",""]
["",null,"",{"$f":"IF(B282<>\"\",VLOOKUP(IF(ISNUMBER(B282),TEXT(B282,\"0\"),B282),Pricelist!$A$53:$F$60643,6,FALSE),\"\")","v":""},{"$f":"IF(B282<>\"\",VLOOKUP(IF(ISNUMBER(B282),TEXT(B282,\"0\"),B282),Pricelist!$A$3:$F$60643,2,FALSE),\"\")","v":""},{"$f":"IF(B282<>\"\",VLOOKUP(IF(ISNUMBER(B282),TEXT(B282,\"0\"),B282),Pricelist!$A$53:$F$60643,5,FALSE),\"\")","v":""},{"$f":"IF(B282<>\"\",VLOOKUP(IF(ISNUMBER(B282),TEXT(B282,\"0\"),B282),Pricelist!$A$3:$F$60643,3,FALSE),\"\")","v":""},"",{"$f":"IF(B282<>\"\",VLOOKUP(IF(ISNUMBER(B282),TEXT(B282,\"0\"),B282),Pricelist!$A$3:$F$60643,4,FALSE),\"\")","v":""},"","",null,null,null,null,"","","",""]
["",null,"",{"$f":"IF(B283<>\"\",VLOOKUP(IF(ISNUMBER(B283),TEXT(B283,\"0\"),B283),Pricelist!$A$53:$F$60643,6,FALSE),\"\")","v":""},{"$f":"IF(B283<>\"\",VLOOKUP(IF(ISNUMBER(B283),TEXT(B283,\"0\"),B283),Pricelist!$A$3:$F$60643,2,FALSE),\"\")","v":""},{"$f":"IF(B283<>\"\",VLOOKUP(IF(ISNUMBER(B283),TEXT(B283,\"0\"),B283),Pricelist!$A$53:$F$60643,5,FALSE),\"\")","v":""},{"$f":"IF(B283<>\"\",VLOOKUP(IF(ISNUMBER(B283),TEXT(B283,\"0\"),B283),Pricelist!$A$3:$F$60643,3,FALSE),\"\")","v":""},"",{"$f":"IF(B283<>\"\",VLOOKUP(IF(ISNUMBER(B283),TEXT(B283,\"0\"),B283),Pricelist!$A$3:$F$60643,4,FALSE),\"\")","v":""},"","",null,null,null,null,"","","",""]
["",null,"",{"$f":"IF(B284<>\"\",VLOOKUP(IF(ISNUMBER(B284),TEXT(B284,\"0\"),B284),Pricelist!$A$53:$F$60643,6,FALSE),\"\")","v":""},{"$f":"IF(B284<>\"\",VLOOKUP(IF(ISNUMBER(B284),TEXT(B284,\"0\"),B284),Pricelist!$A$3:$F$60643,2,FALSE),\"\")","v":""},{"$f":"IF(B284<>\"\",VLOOKUP(IF(ISNUMBER(B284),TEXT(B284,\"0\"),B284),Pricelist!$A$53:$F$60643,5,FALSE),\"\")","v":""},{"$f":"IF(B284<>\"\",VLOOKUP(IF(ISNUMBER(B284),TEXT(B284,\"0\"),B284),Pricelist!$A$3:$F$60643,3,FALSE),\"\")","v":""},"",{"$f":"IF(B284<>\"\",VLOOKUP(IF(ISNUMBER(B284),TEXT(B284,\"0\"),B284),Pricelist!$A$3:$F$60643,4,FALSE),\"\")","v":""},"","",null,null,null,null,"","","",""]
["",null,"",{"$f":"IF(B285<>\"\",VLOOKUP(IF(ISNUMBER(B285),TEXT(B285,\"0\"),B285),Pricelist!$A$53:$F$60643,6,FALSE),\"\")","v":""},{"$f":"IF(B285<>\"\",VLOOKUP(IF(ISNUMBER(B285),TEXT(B285,\"0\"),B285),Pricelist!$A$3:$F$60643,2,FALSE),\"\")","v":""},{"$f":"IF(B285<>\"\",VLOOKUP(IF(ISNUMBER(B285),TEXT(B285,\"0\"),B285),Pricelist!$A$53:$F$60643,5,FALSE),\"\")","v":""},{"$f":"IF(B285<>\"\",VLOOKUP(IF(ISNUMBER(B285),TEXT(B285,\"0\"),B285),Pricelist!$A$3:$F$60643,3,FALSE),\"\")","v":""},"",{"$f":"IF(B285<>\"\",VLOOKUP(IF(ISNUMBER(B285),TEXT(B285,\"0\"),B285),Pricelist!$A$3:$F$60643,4,FALSE),\"\")","v":""},"","",null,null,null,null,"","","",""]
["",null,"",{"$f":"IF(B286<>\"\",VLOOKUP(IF(ISNUMBER(B286),TEXT(B286,\"0\"),B286),Pricelist!$A$53:$F$60643,6,FALSE),\"\")","v":""},{"$f":"IF(B286<>\"\",VLOOKUP(IF(ISNUMBER(B286),TEXT(B286,\"0\"),B286),Pricelist!$A$3:$F$60643,2,FALSE),\"\")","v":""},{"$f":"IF(B286<>\"\",VLOOKUP(IF(ISNUMBER(B286),TEXT(B286,\"0\"),B286),Pricelist!$A$53:$F$60643,5,FALSE),\"\")","v":""},{"$f":"IF(B286<>\"\",VLOOKUP(IF(ISNUMBER(B286),TEXT(B286,\"0\"),B286),Pricelist!$A$3:$F$60643,3,FALSE),\"\")","v":""},"",{"$f":"IF(B286<>\"\",VLOOKUP(IF(ISNUMBER(B286),TEXT(B286,\"0\"),B286),Pricelist!$A$3:$F$60643,4,FALSE),\"\")","v":""},"","",null,null,null,null,"","","",""]
["",null,"",{"$f":"IF(B287<>\"\",VLOOKUP(IF(ISNUMBER(B287),TEXT(B287,\"0\"),B287),Pricelist!$A$53:$F$60643,6,FALSE),\"\")","v":""},{"$f":"IF(B287<>\"\",VLOOKUP(IF(ISNUMBER(B287),TEXT(B287,\"0\"),B287),Pricelist!$A$3:$F$60643,2,FALSE),\"\")","v":""},{"$f":"IF(B287<>\"\",VLOOKUP(IF(ISNUMBER(B287),TEXT(B287,\"0\"),B287),Pricelist!$A$53:$F$60643,5,FALSE),\"\")","v":""},{"$f":"IF(B287<>\"\",VLOOKUP(IF(ISNUMBER(B287),TEXT(B287,\"0\"),B287),Pricelist!$A$3:$F$60643,3,FALSE),\"\")","v":""},"",{"$f":"IF(B287<>\"\",VLOOKUP(IF(ISNUMBER(B287),TEXT(B287,\"0\"),B287),Pricelist!$A$3:$F$60643,4,FALSE),\"\")","v":""},"","",null,null,null,null,"","","",""]
["",null,"",{"$f":"IF(B288<>\"\",VLOOKUP(IF(ISNUMBER(B288),TEXT(B288,\"0\"),B288),Pricelist!$A$53:$F$60643,6,FALSE),\"\")","v":""},{"$f":"IF(B288<>\"\",VLOOKUP(IF(ISNUMBER(B288),TEXT(B288,\"0\"),B288),Pricelist!$A$3:$F$60643,2,FALSE),\"\")","v":""},{"$f":"IF(B288<>\"\",VLOOKUP(IF(ISNUMBER(B288),TEXT(B288,\"0\"),B288),Pricelist!$A$53:$F$60643,5,FALSE),\"\")","v":""},{"$f":"IF(B288<>\"\",VLOOKUP(IF(ISNUMBER(B288),TEXT(B288,\"0\"),B288),Pricelist!$A$3:$F$60643,3,FALSE),\"\")","v":""},"",{"$f":"IF(B288<>\"\",VLOOKUP(IF(ISNUMBER(B288),TEXT(B288,\"0\"),B288),Pricelist!$A$3:$F$60643,4,FALSE),\"\")","v":""},"","",null,null,null,null,"","","",""]
["",null,"",{"$f":"IF(B289<>\"\",VLOOKUP(IF(ISNUMBER(B289),TEXT(B289,\"0\"),B289),Pricelist!$A$53:$F$60643,6,FALSE),\"\")","v":""},{"$f":"IF(B289<>\"\",VLOOKUP(IF(ISNUMBER(B289),TEXT(B289,\"0\"),B289),Pricelist!$A$3:$F$60643,2,FALSE),\"\")","v":""},{"$f":"IF(B289<>\"\",VLOOKUP(IF(ISNUMBER(B289),TEXT(B289,\"0\"),B289),Pricelist!$A$53:$F$60643,5,FALSE),\"\")","v":""},{"$f":"IF(B289<>\"\",VLOOKUP(IF(ISNUMBER(B289),TEXT(B289,\"0\"),B289),Pricelist!$A$3:$F$60643,3,FALSE),\"\")","v":""},"",{"$f":"IF(B289<>\"\",VLOOKUP(IF(ISNUMBER(B289),TEXT(B289,\"0\"),B289),Pricelist!$A$3:$F$60643,4,FALSE),\"\")","v":""},"","",null,null,null,null,"","","",""]
["",null,"",{"$f":"IF(B290<>\"\",VLOOKUP(IF(ISNUMBER(B290),TEXT(B290,\"0\"),B290),Pricelist!$A$53:$F$60643,6,FALSE),\"\")","v":""},{"$f":"IF(B290<>\"\",VLOOKUP(IF(ISNUMBER(B290),TEXT(B290,\"0\"),B290),Pricelist!$A$3:$F$60643,2,FALSE),\"\")","v":""},{"$f":"IF(B290<>\"\",VLOOKUP(IF(ISNUMBER(B290),TEXT(B290,\"0\"),B290),Pricelist!$A$53:$F$60643,5,FALSE),\"\")","v":""},{"$f":"IF(B290<>\"\",VLOOKUP(IF(ISNUMBER(B290),TEXT(B290,\"0\"),B290),Pricelist!$A$3:$F$60643,3,FALSE),\"\")","v":""},"",{"$f":"IF(B290<>\"\",VLOOKUP(IF(ISNUMBER(B290),TEXT(B290,\"0\"),B290),Pricelist!$A$3:$F$60643,4,FALSE),\"\")","v":""},"","",null,null,null,null,"","","",""]
["",null,"",{"$f":"IF(B291<>\"\",VLOOKUP(IF(ISNUMBER(B291),TEXT(B291,\"0\"),B291),Pricelist!$A$53:$F$60643,6,FALSE),\"\")","v":""},{"$f":"IF(B291<>\"\",VLOOKUP(IF(ISNUMBER(B291),TEXT(B291,\"0\"),B291),Pricelist!$A$3:$F$60643,2,FALSE),\"\")","v":""},{"$f":"IF(B291<>\"\",VLOOKUP(IF(ISNUMBER(B291),TEXT(B291,\"0\"),B291),Pricelist!$A$53:$F$60643,5,FALSE),\"\")","v":""},{"$f":"IF(B291<>\"\",VLOOKUP(IF(ISNUMBER(B291),TEXT(B291,\"0\"),B291),Pricelist!$A$3:$F$60643,3,FALSE),\"\")","v":""},"",{"$f":"IF(B291<>\"\",VLOOKUP(IF(ISNUMBER(B291),TEXT(B291,\"0\"),B291),Pricelist!$A$3:$F$60643,4,FALSE),\"\")","v":""},"","",null,null,null,null,"","","",""]
["",null,"",{"$f":"IF(B292<>\"\",VLOOKUP(IF(ISNUMBER(B292),TEXT(B292,\"0\"),B292),Pricelist!$A$53:$F$60643,6,FALSE),\"\")","v":""},{"$f":"IF(B292<>\"\",VLOOKUP(IF(ISNUMBER(B292),TEXT(B292,\"0\"),B292),Pricelist!$A$3:$F$60643,2,FALSE),\"\")","v":""},{"$f":"IF(B292<>\"\",VLOOKUP(IF(ISNUMBER(B292),TEXT(B292,\"0\"),B292),Pricelist!$A$53:$F$60643,5,FALSE),\"\")","v":""},{"$f":"IF(B292<>\"\",VLOOKUP(IF(ISNUMBER(B292),TEXT(B292,\"0\"),B292),Pricelist!$A$3:$F$60643,3,FALSE),\"\")","v":""},"",{"$f":"IF(B292<>\"\",VLOOKUP(IF(ISNUMBER(B292),TEXT(B292,\"0\"),B292),Pricelist!$A$3:$F$60643,4,FALSE),\"\")","v":""},"","",null,null,null,null,"","","",""]
["",null,"",{"$f":"IF(B293<>\"\",VLOOKUP(IF(ISNUMBER(B293),TEXT(B293,\"0\"),B293),Pricelist!$A$53:$F$60643,6,FALSE),\"\")","v":""},{"$f":"IF(B293<>\"\",VLOOKUP(IF(ISNUMBER(B293),TEXT(B293,\"0\"),B293),Pricelist!$A$3:$F$60643,2,FALSE),\"\")","v":""},{"$f":"IF(B293<>\"\",VLOOKUP(IF(ISNUMBER(B293),TEXT(B293,\"0\"),B293),Pricelist!$A$53:$F$60643,5,FALSE),\"\")","v":""},{"$f":"IF(B293<>\"\",VLOOKUP(IF(ISNUMBER(B293),TEXT(B293,\"0\"),B293),Pricelist!$A$3:$F$60643,3,FALSE),\"\")","v":""},"",{"$f":"IF(B293<>\"\",VLOOKUP(IF(ISNUMBER(B293),TEXT(B293,\"0\"),B293),Pricelist!$A$3:$F$60643,4,FALSE),\"\")","v":""},"","",null,null,null,null,"","","",""]
["",null,"",{"$f":"IF(B294<>\"\",VLOOKUP(IF(ISNUMBER(B294),TEXT(B294,\"0\"),B294),Pricelist!$A$53:$F$60643,6,FALSE),\"\")","v":""},{"$f":"IF(B294<>\"\",VLOOKUP(IF(ISNUMBER(B294),TEXT(B294,\"0\"),B294),Pricelist!$A$3:$F$60643,2,FALSE),\"\")","v":""},{"$f":"IF(B294<>\"\",VLOOKUP(IF(ISNUMBER(B294),TEXT(B294,\"0\"),B294),Pricelist!$A$53:$F$60643,5,FALSE),\"\")","v":""},{"$f":"IF(B294<>\"\",VLOOKUP(IF(ISNUMBER(B294),TEXT(B294,\"0\"),B294),Pricelist!$A$3:$F$60643,3,FALSE),\"\")","v":""},"",{"$f":"IF(B294<>\"\",VLOOKUP(IF(ISNUMBER(B294),TEXT(B294,\"0\"),B294),Pricelist!$A$3:$F$60643,4,FALSE),\"\")","v":""},"","",null,null,null,null,"","","",""]
["",null,"",{"$f":"IF(B295<>\"\",VLOOKUP(IF(ISNUMBER(B295),TEXT(B295,\"0\"),B295),Pricelist!$A$53:$F$60643,6,FALSE),\"\")","v":""},{"$f":"IF(B295<>\"\",VLOOKUP(IF(ISNUMBER(B295),TEXT(B295,\"0\"),B295),Pricelist!$A$3:$F$60643,2,FALSE),\"\")","v":""},{"$f":"IF(B295<>\"\",VLOOKUP(IF(ISNUMBER(B295),TEXT(B295,\"0\"),B295),Pricelist!$A$53:$F$60643,5,FALSE),\"\")","v":""},{"$f":"IF(B295<>\"\",VLOOKUP(IF(ISNUMBER(B295),TEXT(B295,\"0\"),B295),Pricelist!$A$3:$F$60643,3,FALSE),\"\")","v":""},"",{"$f":"IF(B295<>\"\",VLOOKUP(IF(ISNUMBER(B295),TEXT(B295,\"0\"),B295),Pricelist!$A$3:$F$60643,4,FALSE),\"\")","v":""},"","",null,null,null,null,"","","",""]
["",null,"",{"$f":"IF(B296<>\"\",VLOOKUP(IF(ISNUMBER(B296),TEXT(B296,\"0\"),B296),Pricelist!$A$53:$F$60643,6,FALSE),\"\")","v":""},{"$f":"IF(B296<>\"\",VLOOKUP(IF(ISNUMBER(B296),TEXT(B296,\"0\"),B296),Pricelist!$A$3:$F$60643,2,FALSE),\"\")","v":""},{"$f":"IF(B296<>\"\",VLOOKUP(IF(ISNUMBER(B296),TEXT(B296,\"0\"),B296),Pricelist!$A$53:$F$60643,5,FALSE),\"\")","v":""},{"$f":"IF(B296<>\"\",VLOOKUP(IF(ISNUMBER(B296),TEXT(B296,\"0\"),B296),Pricelist!$A$3:$F$60643,3,FALSE),\"\")","v":""},"",{"$f":"IF(B296<>\"\",VLOOKUP(IF(ISNUMBER(B296),TEXT(B296,\"0\"),B296),Pricelist!$A$3:$F$60643,4,FALSE),\"\")","v":""},"","",null,null,null,null,"","","",""]
["",null,"",{"$f":"IF(B297<>\"\",VLOOKUP(IF(ISNUMBER(B297),TEXT(B297,\"0\"),B297),Pricelist!$A$53:$F$60643,6,FALSE),\"\")","v":""},{"$f":"IF(B297<>\"\",VLOOKUP(IF(ISNUMBER(B297),TEXT(B297,\"0\"),B297),Pricelist!$A$3:$F$60643,2,FALSE),\"\")","v":""},{"$f":"IF(B297<>\"\",VLOOKUP(IF(ISNUMBER(B297),TEXT(B297,\"0\"),B297),Pricelist!$A$53:$F$60643,5,FALSE),\"\")","v":""},{"$f":"IF(B297<>\"\",VLOOKUP(IF(ISNUMBER(B297),TEXT(B297,\"0\"),B297),Pricelist!$A$3:$F$60643,3,FALSE),\"\")","v":""},"",{"$f":"IF(B297<>\"\",VLOOKUP(IF(ISNUMBER(B297),TEXT(B297,\"0\"),B297),Pricelist!$A$3:$F$60643,4,FALSE),\"\")","v":""},"","",null,null,null,null,"","","",""]
["",null,"",{"$f":"IF(B298<>\"\",VLOOKUP(IF(ISNUMBER(B298),TEXT(B298,\"0\"),B298),Pricelist!$A$53:$F$60643,6,FALSE),\"\")","v":""},{"$f":"IF(B298<>\"\",VLOOKUP(IF(ISNUMBER(B298),TEXT(B298,\"0\"),B298),Pricelist!$A$3:$F$60643,2,FALSE),\"\")","v":""},{"$f":"IF(B298<>\"\",VLOOKUP(IF(ISNUMBER(B298),TEXT(B298,\"0\"),B298),Pricelist!$A$53:$F$60643,5,FALSE),\"\")","v":""},{"$f":"IF(B298<>\"\",VLOOKUP(IF(ISNUMBER(B298),TEXT(B298,\"0\"),B298),Pricelist!$A$3:$F$60643,3,FALSE),\"\")","v":""},"",{"$f":"IF(B298<>\"\",VLOOKUP(IF(ISNUMBER(B298),TEXT(B298,\"0\"),B298),Pricelist!$A$3:$F$60643,4,FALSE),\"\")","v":""},"","",null,null,null,null,"","","",""]
["",null,"",{"$f":"IF(B299<>\"\",VLOOKUP(IF(ISNUMBER(B299),TEXT(B299,\"0\"),B299),Pricelist!$A$53:$F$60643,6,FALSE),\"\")","v":""},{"$f":"IF(B299<>\"\",VLOOKUP(IF(ISNUMBER(B299),TEXT(B299,\"0\"),B299),Pricelist!$A$3:$F$60643,2,FALSE),\"\")","v":""},{"$f":"IF(B299<>\"\",VLOOKUP(IF(ISNUMBER(B299),TEXT(B299,\"0\"),B299),Pricelist!$A$53:$F$60643,5,FALSE),\"\")","v":""},{"$f":"IF(B299<>\"\",VLOOKUP(IF(ISNUMBER(B299),TEXT(B299,\"0\"),B299),Pricelist!$A$3:$F$60643,3,FALSE),\"\")","v":""},"",{"$f":"IF(B299<>\"\",VLOOKUP(IF(ISNUMBER(B299),TEXT(B299,\"0\"),B299),Pricelist!$A$3:$F$60643,4,FALSE),\"\")","v":""},"","",null,null,null,null,"","","",""]
["",null,"",{"$f":"IF(B300<>\"\",VLOOKUP(IF(ISNUMBER(B300),TEXT(B300,\"0\"),B300),Pricelist!$A$53:$F$60643,6,FALSE),\"\")","v":""},{"$f":"IF(B300<>\"\",VLOOKUP(IF(ISNUMBER(B300),TEXT(B300,\"0\"),B300),Pricelist!$A$3:$F$60643,2,FALSE),\"\")","v":""},{"$f":"IF(B300<>\"\",VLOOKUP(IF(ISNUMBER(B300),TEXT(B300,\"0\"),B300),Pricelist!$A$53:$F$60643,5,FALSE),\"\")","v":""},{"$f":"IF(B300<>\"\",VLOOKUP(IF(ISNUMBER(B300),TEXT(B300,\"0\"),B300),Pricelist!$A$3:$F$60643,3,FALSE),\"\")","v":""},"",{"$f":"IF(B300<>\"\",VLOOKUP(IF(ISNUMBER(B300),TEXT(B300,\"0\"),B300),Pricelist!$A$3:$F$60643,4,FALSE),\"\")","v":""},"","",null,null,null,null,"","","",""]
[{"$f":"IF(B301<>\"\",A300+1,\"\")","v":""},null,{"$f":"IF(A301<>\"\",1,\"\")","v":""},{"$f":"IF(B301<>\"\",VLOOKUP(IF(ISNUMBER(B301),TEXT(B301,\"0\"),B301),Pricelist!$A$53:$F$60643,6,FALSE),\"\")","v":""},{"$f":"IF(B301<>\"\",VLOOKUP(IF(ISNUMBER(B301),TEXT(B301,\"0\"),B301),Pricelist!$A$3:$F$60643,2,FALSE),\"\")","v":""},{"$f":"IF(B301<>\"\",VLOOKUP(IF(ISNUMBER(B301),TEXT(B301,\"0\"),B301),Pricelist!$A$53:$F$60643,5,FALSE),\"\")","v":""},{"$f":"IF(B301<>\"\",VLOOKUP(IF(ISNUMBER(B301),TEXT(B301,\"0\"),B301),Pricelist!$A$3:$F$60643,3,FALSE),\"\")","v":""},{"$f":"IF(B301<>\"\",VLOOKUP(IF(ISNUMBER(I301),TEXT(I301,\"0\"),I301),$BD$12:$BE$44,2,FALSE),\"\")","v":""},{"$f":"IF(B301<>\"\",VLOOKUP(IF(ISNUMBER(B301),TEXT(B301,\"0\"),B301),Pricelist!$A$3:$F$60643,4,FALSE),\"\")","v":""},{"$f":"IF(B301<>\"\",G301*(1-H301),\"\")","v":""},{"$f":"IF(B301<>\"\",C301*(1-H301)*G301,\"\")","v":""},null,null,null,null,"",null,"",""]
[{"$f":"IF(B302<>\"\",A301+1,\"\")","v":""},"",{"$f":"IF(A302<>\"\",1,\"\")","v":""},{"$f":"IF(B302<>\"\",VLOOKUP(IF(ISNUMBER(B302),TEXT(B302,\"0\"),B302),Pricelist!$A$53:$F$60643,6,FALSE),\"\")","v":""},{"$f":"IF(B302<>\"\",VLOOKUP(IF(ISNUMBER(B302),TEXT(B302,\"0\"),B302),Pricelist!$A$3:$F$60643,2,FALSE),\"\")","v":""},{"$f":"IF(B302<>\"\",VLOOKUP(IF(ISNUMBER(B302),TEXT(B302,\"0\"),B302),Pricelist!$A$53:$F$60643,5,FALSE),\"\")","v":""},{"$f":"IF(B302<>\"\",VLOOKUP(IF(ISNUMBER(B302),TEXT(B302,\"0\"),B302),Pricelist!$A$3:$F$60643,3,FALSE),\"\")","v":""},"",{"$f":"IF(B302<>\"\",VLOOKUP(IF(ISNUMBER(B302),TEXT(B302,\"0\"),B302),Pricelist!$A$3:$F$60643,4,FALSE),\"\")","v":""},"","",null,null,null,null,"",null,"",""]
[{"$f":"IF(B303<>\"\",A302+1,\"\")","v":""},"",{"$f":"IF(A303<>\"\",1,\"\")","v":""},{"$f":"IF(B303<>\"\",VLOOKUP(IF(ISNUMBER(B303),TEXT(B303,\"0\"),B303),Pricelist!$A$53:$F$60643,6,FALSE),\"\")","v":""},{"$f":"IF(B303<>\"\",VLOOKUP(IF(ISNUMBER(B303),TEXT(B303,\"0\"),B303),Pricelist!$A$3:$F$60643,2,FALSE),\"\")","v":""},{"$f":"IF(B303<>\"\",VLOOKUP(IF(ISNUMBER(B303),TEXT(B303,\"0\"),B303),Pricelist!$A$53:$F$60643,5,FALSE),\"\")","v":""},{"$f":"IF(B303<>\"\",VLOOKUP(IF(ISNUMBER(B303),TEXT(B303,\"0\"),B303),Pricelist!$A$3:$F$60643,3,FALSE),\"\")","v":""},"",{"$f":"IF(B303<>\"\",VLOOKUP(IF(ISNUMBER(B303),TEXT(B303,\"0\"),B303),Pricelist!$A$3:$F$60643,4,FALSE),\"\")","v":""},"","",null,null,null,null,"",null,"",""]
[{"$f":"IF(B304<>\"\",A303+1,\"\")","v":""},"",{"$f":"IF(A304<>\"\",1,\"\")","v":""},{"$f":"IF(B304<>\"\",VLOOKUP(IF(ISNUMBER(B304),TEXT(B304,\"0\"),B304),Pricelist!$A$53:$F$60643,6,FALSE),\"\")","v":""},{"$f":"IF(B304<>\"\",VLOOKUP(IF(ISNUMBER(B304),TEXT(B304,\"0\"),B304),Pricelist!$A$3:$F$60643,2,FALSE),\"\")","v":""},{"$f":"IF(B304<>\"\",VLOOKUP(IF(ISNUMBER(B304),TEXT(B304,\"0\"),B304),Pricelist!$A$53:$F$60643,5,FALSE),\"\")","v":""},{"$f":"IF(B304<>\"\",VLOOKUP(IF(ISNUMBER(B304),TEXT(B304,\"0\"),B304),Pricelist!$A$3:$F$60643,3,FALSE),\"\")","v":""},"",{"$f":"IF(B304<>\"\",VLOOKUP(IF(ISNUMBER(B304),TEXT(B304,\"0\"),B304),Pricelist!$A$3:$F$60643,4,FALSE),\"\")","v":""},"","",null,null,null,null,"",null,"",""]
[{"$f":"IF(B305<>\"\",A304+1,\"\")","v":""},"",{"$f":"IF(A305<>\"\",1,\"\")","v":""},{"$f":"IF(B305<>\"\",VLOOKUP(IF(ISNUMBER(B305),TEXT(B305,\"0\"),B305),Pricelist!$A$53:$F$60643,6,FALSE),\"\")","v":""},{"$f":"IF(B305<>\"\",VLOOKUP(IF(ISNUMBER(B305),TEXT(B305,\"0\"),B305),Pricelist!$A$3:$F$60643,2,FALSE),\"\")","v":""},{"$f":"IF(B305<>\"\",VLOOKUP(IF(ISNUMBER(B305),TEXT(B305,\"0\"),B305),Pricelist!$A$53:$F$60643,5,FALSE),\"\")","v":""},{"$f":"IF(B305<>\"\",VLOOKUP(IF(ISNUMBER(B305),TEXT(B305,\"0\"),B305),Pricelist!$A$3:$F$60643,3,FALSE),\"\")","v":""},"",{"$f":"IF(B305<>\"\",VLOOKUP(IF(ISNUMBER(B305),TEXT(B305,\"0\"),B305),Pricelist!$A$3:$F$60643,4,FALSE),\"\")","v":""},"","",null,null,null,null,"",null,"",""]
[null,null,null,null,{"$f":"IF(B306<>\"\",VLOOKUP(IF(ISNUMBER(B306),TEXT(B306,\"0\"),B306),Pricelist!$A$3:$F$60643,2,FALSE),\"\")","v":""},{"$f":"IF(B306<>\"\",VLOOKUP(IF(ISNUMBER(B306),TEXT(B306,\"0\"),B306),Pricelist!$A$53:$F$60643,5,FALSE),\"\")","v":""},{"$f":"IF(B306<>\"\",VLOOKUP(IF(ISNUMBER(B306),TEXT(B306,\"0\"),B306),Pricelist!$A$3:$F$60643,3,FALSE),\"\")","v":""},"",{"$f":"IF(B306<>\"\",VLOOKUP(IF(ISNUMBER(B306),TEXT(B306,\"0\"),B306),Pricelist!$A$3:$F$60643,4,FALSE),\"\")","v":""},"",""]
[null,null,null,null,null,null,null,""]

{"sheet":"Zestawienie","index":4,"n_rows":300,"n_cols":7,"rows_kept":300,"cut":false,"hidden":false,"merged":[]}
[]
[]
[]
[]
[]
[]
[]
[]
[]
[]
[null,null,"9_4_Wpisz nazwę",null,null,"Wartość",2314.83]
[null,"ZZ01",null,30043,1,"Zenergy - Cokół H100, pełne osłony boczne, D400"]
[null,"ZZ01",null,30065,1,"Zenergy - Cokół H100, osłona przód,tył, W650"]
[null,"ZZ01",null,31465,1,"Zenergy - Pokrywa górna IP30, W650, D400"]
[null,"ZZ01",null,80365,1,"Zenergy - Drzwi pełne IP30, H2000 x W650"]
[null,"ZZ01",null,80965,1,"Zenergy - Płyta montażowa pełna H2000 x W650 + wsporniki,  ( 1850 x 550 )"]
[null,"ZZ01",null,81265,1,"Zenergy - Osłona tylna pełna IP30, H2000 x W650"]
[null,"ZZ01",null,84065,1,"Zenergy - Rama, H2000 x D400 x W650"]
[null,"ZZ01",null,89340,1,"Zenergy - Osłony boczne pełne IP30, H2000 x D400"]
[null,"",null,"","",""]
[null,"",null,"","",""]
[null,"",null,"","",""]
[null,"",null,"","",""]
[null,"",null,"","",""]
[null,"",null,"","",""]
[null,"",null,"","",""]
[null,"",null,"","",""]
[null,"",null,"","",""]
[null,"",null,"","",""]
[null,"",null,"","",""]
[null,"",null,"","",""]
[null,"",null,"","",""]
[null,"",null,"","",""]
[null,"",null,"","",""]
[null,"",null,"","",""]
[null,"",null,"","",""]
[null,"",null,"","",""]
[null,"",null,"","",""]
[null,"",null,"","",""]
[null,"",null,"","",""]
[null,"",null,"","",""]
[null,"",null,"","",""]
[null,"",null,"","",""]
[null,"",null,"","",""]
[null,"",null,"","",""]
[null,"",null,"","",""]
[null,"",null,"","",""]
[null,"",null,"","",""]
[null,"",null,"","",""]
[null,"",null,"","",""]
[null,"",null,"","",""]
[null,"",null,"","",""]
[null,"",null,"","",""]
[null,"",null,"","",""]
[null,"",null,"","",""]
[null,"",null,"","",""]
[null,"",null,"","",""]
[null,"",null,"","",""]
[null,"",null,"","",""]
[null,"",null,"","",""]
[null,"",null,"","",""]
[null,"",null,"","",""]
[null,"",null,"","",""]
[null,"",null,"","",""]
[null,"",null,"","",""]
[null,"",null,"","",""]
[null,"",null,"","",""]
[null,"",null,"","",""]
[null,"",null,"","",""]
[null,"",null,"","",""]
[null,"",null,"","",""]
[null,"",null,"","",""]
[null,"",null,"","",""]
[null,"",null,"","",""]
[null,"",null,"","",""]
[null,"",null,"","",""]
[null,"",null,"","",""]
[null,"",null,"","",""]
[null,"",null,"","",""]
[null,"",null,"","",""]
[null,"",null,"","",""]
[null,"",null,"","",""]
[null,"",null,"","",""]
[null,"",null,"","",""]
[null,"",null,"","",""]
[null,"",null,"","",""]
[null,"",null,"","",""]
[null,"",null,"","",""]
[null,"",null,"","",""]
[null,"",null,"","",""]
[null,"",null,"","",""]
[null,"",null,"","",""]
[null,"",null,"","",""]
[null,"",null,"","",""]
[null,"",null,"","",""]
[null,"",null,"","",""]
[null,"",null,"","",""]
[null,"",null,"","",""]
[null,"",null,"","",""]
[null,"",null,"","",""]
[null,"",null,"","",""]
[null,"",null,"","",""]
[null,"",null,"","",""]
[null,"",null,"","",""]
[null,"",null,"","",""]
[null,"",null,"","",""]
[null,"",null,"","",""]
[null,"",null,"","",""]
[null,"",null,"","",""]
[null,"",null,"","",""]
[null,"",null,"","",""]
[null,"",null,"","",""]
[null,"",null,"","",""]
[null,"",null,"","",""]
[null,"",null,"","",""]
[null,"",null,"","",""]
[null,"",null,"","",""]
[null,"",null,"","",""]
[null,"",null,"","",""]
[null,"",null,"","",""]
[null,"",null,"","",""]
[null,"",null,"","",""]
[null,"",null,"","",""]
[null,"",null,"","",""]
[null,"",null,"","",""]
[null,"",null,"","",""]
[null,"",null,"","",""]
[null,"",null,"","",""]
[null,"",null,"","",""]
[null,"",null,"","",""]
[null,"",null,"","",""]
[null,"",null,"","",""]
[null,"",null,"","",""]
[null,"",null,"","",""]
[null,"",null,"","",""]
[null,"",null,"","",""]
[null,"",null,"","",""]
[null,"",null,"","",""]
[null,"",null,"","",""]
[null,"",null,"","",""]
[null,"",null,"","",""]
[null,"",null,"","",""]
[null,"",null,"","",""]
[null,"",null,"","",""]
[null,"",null,"","",""]
[null,"",null,"","",""]
[null,"",null,"","",""]
[null,"",null,"","",""]
[null,"",null,"","",""]
[null,"",null,"","",""]
[null,"",null,"","",""]
[null,"",null,"","",""]
[null,"",null,"","",""]
[null,"",null,"","",""]
[null,"",null,"","",""]
[null,"",null,"","",""]
[null,"",null,"","",""]
[null,"",null,"","",""]
[null,"",null,"","",""]
[null,"",null,"","",""]
[null,"",null,"","",""]
[null,"",null,"","",""]
[null,"",null,"","",""]
[null,"",null,"","",""]
[null,"",null,"","",""]
[null,"",null,"","",""]
[null,"",null,"","",""]
[null,"",null,"","",""]
[null,"",null,"","",""]
[null,"",null,"","",""]
[null,"",null,"","",""]
[null,"",null,"","",""]
[null,"",null,"","",""]
[null,"",null,"","",""]
[null,"",null,"","",""]
[null,"",null,"","",""]
[null,"",null,"","",""]
[null,"",null,"","",""]
[null,"",null,"","",""]
[null,"",null,"","",""]
[null,"",null,"","",""]
[null,"",null,"","",""]
[null,"",null,"","",""]
[null,"",null,"","",""]
[null,"",null,"","",""]
[null,"",null,"","",""]
[null,"",null,"","",""]
[null,"",null,"","",""]
[null,"",null,"","",""]
[null,"",null,"","",""]
[null,"",null,"","",""]
[null,"",null,"","",""]
[null,"",null,"","",""]
[null,"",null,"","",""]
[null,"",null,"","",""]
[null,"",null,"","",""]
[null,"",null,"","",""]
[null,"",null,"","",""]
[null,"",null,"","",""]
[null,"",null,"","",""]
[null,"",null,"","",""]
[null,"",null,"","",""]
[null,"",null,"","",""]
[null,"",null,"","",""]
[null,"",null,"","",""]
[null,"",null,"","",""]
[null,"",null,"","",""]
[null,"",null,"","",""]
[null,"",null,"","",""]
[null,"",null,"","",""]
[null,"",null,"","",""]
[null,"",null,"","",""]
[null,"",null,"","",""]
[null,"",null,"","",""]
[null,"",null,"","",""]
[null,"",null,"","",""]
[null,"",null,"","",""]
[null,"",null,"","",""]
[null,"",null,"","",""]
[null,"",null,"","",""]
[null,"",null,"","",""]
[null,"",null,"","",""]
[null,"",null,"","",""]
[null,"",null,"","",""]
[null,"",null,"","",""]
[null,"",null,"","",""]
[null,"",null,"","",""]
[null,"",null,"","",""]
[null,"",null,"","",""]
[null,"",null,"","",""]
[null,"",null,"","",""]
[null,"",null,"","",""]
[null,"",null,"","",""]
[null,"",null,"","",""]
[null,"",null,"","",""]
[null,"",null,"","",""]
[null,"",null,"","",""]
[null,"",null,"","",""]
[null,"",null,"","",""]
[null,"",null,"","",""]
[null,"",null,"","",""]
[null,"",null,"","",""]
[null,"",null,"","",""]
[null,"",null,"","",""]
[null,"",null,"","",""]
[null,"",null,"","",""]
[null,"",null,"","",""]
[null,"",null,"","",""]
[null,"",null,"","",""]
[null,"",null,"","",""]
[null,"",null,"","",""]
[null,"",null,"","",""]
[null,"",null,"","",""]
[null,"",null,"","",""]
[null,"",null,"","",""]
[null,"",null,"","",""]
[null,"",null,"","",""]
[null,"",null,"","",""]
[null,"",null,"","",""]
[null,"",null,"","",""]
[null,"",null,"","",""]
[null,"",null,"","",""]
[null,"",null,"","",""]
[null,"",null,"","",""]
[null,"",null,"","",""]
[null,"",null,"","",""]
[null,"",null,"","",""]
[null,"",null,"","",""]
[null,"",null,"","",""]
[null,"",null,"","",""]
[null,"",null,"","",""]
[null,"",null,"","",""]
[null,"",null,"","",""]
[null,"",null,"","",""]
[null,"",null,"","",""]
[null,"",null,"","",""]
[null,"",null,"","",""]
[null,"",null,"","",""]
[null,"",null,"","",""]
[null,"",null,"","",""]
[null,"",null,"","",""]
[null,"",null,"","",""]
[null,"",null,"","",""]
[null,"",null,"","",""]
[null,"",null,"","",""]
[null,"",null,"","",""]
[null,"",null,"","",""]
[null,"",null,"","",""]
[null,"",null,"","",""]
[null,"",null,"","",""]
[null,"",null,"","",""]
[null,"",null,"","",""]
[null,"",null,"","",""]
[null,"",null,"","",""]
[null,"",null,"","",""]
[null,"",null,"","",""]
[null,"",null,"","",""]
[null,"",null,"","",""]
[null,"",null,"","",""]
[null,"",null,"","",""]

{"sheet":"Zbaza","index":5,"n_rows":430,"n_cols":162,"rows_kept":430,"cut":false,"hidden":false,"merged":[[380,9,381,9],[380,10,380,13],[354,9,355,9],[406,9,407,9],[406,10,406,13],[328,10,328,13],[306,18,306,21],[280,17,281,17],[306,17,307,17],[332,17,333,17],[83,1,84,1],[68,40,68,45],[48,10,48,15],[47,17,48,17],[41,9,42,9],[84,40,84,45],[82,40,82,45],[92,40,92,44],[127,17,128,17],[127,10,127,14],[110,1,111,1],[97,17,98,17],[29,1,30,1],[56,1,57,1],[74,9,75,9],[74,10,74,15],[48,9,49,9],[7,40,7,43],[8,40,8,43],[9,40,9,43],[59,40,59,43],[52,40,52,43],[38,40,38,43],[45,40,45,43],[10,40,10,43],[24,40,24,43],[66,40,66,45],[22,17,23,17],[2,140,2,141],[4,130,5,130],[4,131,4,136],[28,147,29,147],[2,147,3,147],[302,1,303,1],[2,1,3,1],[160,10,160,14],[276,10,276,13],[302,10,302,13],[276,9,277,9],[302,2,302,7],[257,79,257,80],[302,9,303,9],[127,9,128,9],[83,40,83,45],[228,18,228,21],[254,18,254,21],[176,9,177,9],[152,10,152,14],[250,9,251,9],[228,17,229,17],[250,10,250,13],[184,10,184,14],[2,9,3,9],[72,17,73,17],[4,55,4,56],[4,58,4,59],[13,53,13,54],[17,40,17,43],[70,40,70,45],[34,9,35,9],[27,9,28,9],[67,40,67,45],[6,40,6,43],[80,147,81,147],[4,114,4,119],[107,93,107,97],[99,40,99,43],[4,67,4,68],[106,93,106,97],[73,93,73,97],[74,93,74,97],[57,93,57,97],[58,93,58,97],[4,52,4,53],[4,40,4,43],[78,115,82,115],[78,114,82,114],[79,113,82,113],[78,129,82,129],[78,123,82,123],[78,124,82,124],[78,125,82,125],[78,126,82,126],[80,40,80,45],[78,130,82,130],[78,116,82,116],[78,117,82,117],[132,156,132,159],[54,155,55,155],[132,147,133,147],[71,40,71,45],[79,40,79,45],[69,40,69,45],[106,156,106,159],[2,155,3,155],[80,155,81,155],[2,148,2,151],[28,148,28,151],[106,148,106,151],[80,156,80,159],[80,148,80,151],[2,156,2,159],[28,155,29,155],[28,156,28,159],[85,40,85,45],[4,113,5,113],[31,40,31,43],[54,147,55,147],[81,40,81,45],[72,40,72,45],[5,40,5,43],[354,2,354,7],[380,1,381,1],[380,2,380,7],[371,17,372,17],[371,18,371,22],[354,1,355,1],[354,10,354,13],[332,18,332,22],[106,147,107,147],[184,9,185,9],[276,1,277,1],[276,2,276,7],[224,10,224,13],[192,10,192,14],[224,9,225,9],[139,1,140,1],[166,1,167,1],[168,10,168,14],[176,10,176,14],[200,10,200,14],[208,9,209,9],[208,10,208,14],[247,1,248,1],[152,17,153,17],[132,155,133,155],[106,155,107,155],[132,148,132,151],[328,9,329,9],[158,147,159,147],[220,1,221,1],[193,1,194,1],[328,2,328,7],[328,1,329,1],[254,17,255,17],[257,82,257,83],[177,17,178,17],[202,17,203,17],[200,9,201,9],[168,9,169,9],[152,9,153,9],[280,18,280,21],[118,113,121,113],[117,129,121,129],[117,130,121,130],[184,147,185,147],[184,155,185,155],[117,114,121,114],[117,115,121,115],[117,116,121,116],[117,117,121,117],[117,118,121,118],[117,119,121,119],[117,128,121,128],[78,118,82,118],[78,119,82,119],[78,120,82,120],[78,121,82,121],[78,122,82,122],[78,127,82,127],[78,128,82,128],[117,126,121,126],[117,127,121,127],[117,120,121,120],[117,121,121,121],[117,122,121,122],[117,123,121,123],[117,124,121,124],[117,125,121,125]]}
[null,null,null,null,null,null,null,null,null,null,null,null,null,null,null,null,null,null,null,null,{"$f":"Selection!AA9","v":"Wpisz nazwę"},{"$f":"CONCATENATE(T2,R14,S16,R14,T16,R14,U3,U4,U5,U6,U7,U8,U9,U10,U11,U12)","v":"PROJEKT___1"},null,{"$f":"IF(BA13>10,2,1)","v":1},"Pole 1",null,null,2,{"$f":"IF(AB1=1,AB1,AB1-1)","v":1},"Pole 2",null,null,1,{"$f":"IF(AG1=1,AG1,AG1-1)","v":1},"Pole 3",null,null,1,{"$f":"IF(AL1=1,AL1,AL1-1)","v":1},null,null,null,null,null,null,null,null,null,null,null,null,0,null,null,null,null,null,null,null,null,null,null,null,null,null,"Zest. szyn TS35",null,null,null,null,null,null,null,null,null,null,null,null,null,{"$f":"IF(CE6=14,23,IF(CP35=1,$BA$15,CB6))","v":1},null,null,{"$f":"IF(CP35=1,BD4,CE6)","v":1},null,null,null,null,null,null,null,"+5",null,null,null,{"$f":"SUM(CQ2:CQ23)","v":11},{"$f":"IF(CR25>0,CR25,CR24)","v":11},{"$f":"SUM(CS2:CS17)","v":11},0]
[null,null,null,null,null,null,null,null,null,null,null,null,null,null,null,null,null,1,null,"PROJEKT",{"$f":"CONCATENATE(S16,R14,T16,R14,U1)","v":"__Wpisz nazwę"},null,null,null,{"$f":"IF(Selection!AF18=\"\",1,0)","v":1},{"$f":"IF(BA13>1,1,0)","v":0},{"$f":"IF(BM4<6,1,0)","v":0},{"$f":"Z2+AA2-Y2","v":-1},null,{"$f":"IF(Selection!AN18=\"\",1,0)","v":1},{"$f":"IF(BA12>1,1,0)","v":0},{"$f":"IF(BM5<6,1,0)","v":0},{"$f":"AE2+AF2-AD2","v":-1},null,{"$f":"IF(Selection!AV18=\"\",1,0)","v":1},{"$f":"IF(BA15>1,1,0)","v":0},{"$f":"IF(BM6<6,1,0)","v":0},{"$f":"AJ2+AK2-AI2","v":-1},null,null,null,null,null,null,null,null,null,null,null,null,null,1,null,null,null,null,null,null,null,null,null,null,null,null,null,null,null,null,null,null,null,null,null,null,null,null,null,null,null,{"$f":"IF(CE5=14,25,IF(CO35=1,$BA$12,CB5))","v":1},null,null,{"$f":"IF(CO35=1,BD4,CE5)","v":1},null,null,null,null,null,null,null,"+4","Brak",1,null,{"$f":"IF(BA13=1,11,0)","v":11},{"$f":"IF(BA12=1,11,0)","v":11},{"$f":"IF(BA15=1,11,0)","v":11},1]
[null,"Szerokość obudowy","Drzwi pełne IP30   Wysokość",null,null,1,null,"Pole 1,3",null,"Szerokość obudowy","Pusty arkusz - formuły !!!!   Wysokość",null,null,10,null,null,null,null,{"$f":"IF(Selection!$Y$32=1,\"PROJEKT 1\",\"Project 1\")","v":"Project 1"},null,{"$f":"IF($R$2=1,\"1\",\"\")","v":"1"},null,null,null,{"$f":"IF(Selection!AF15=\"\",1,0)","v":1},{"$f":"IF(BA13>1,1,0)","v":0},{"$f":"IF(BJ4>1,1,0)","v":0},{"$f":"Z3+AA3-Y3","v":-1},null,{"$f":"IF(Selection!AN15=\"\",1,0)","v":1},{"$f":"IF(BA12>1,1,0)","v":0},{"$f":"IF(BJ5>1,1,0)","v":0},{"$f":"AE3+AF3-AD3","v":-1},null,{"$f":"IF(Selection!AV15=\"\",1,0)","v":1},{"$f":"IF(BA15>1,1,0)","v":0},{"$f":"IF(BJ6>1,1,0)","v":0},{"$f":"AJ3+AK3-AI3","v":-1},null,null,null,null,null,null,null,null,null,null,null,null,null,2,null,null,null,null,null,null,null,null,null,null,null,null,null,null,null,null,null,null,null,null,null,null,null,null,null,null,null,{"$f":"IF(CE4=14,23,IF(CN35=1,$BA$13,CB4))","v":1},null,null,{"$f":"IF(CN35=1,BD4,CE4)","v":1},null,null,null,null,null,null,null,"+3",300,2,null,{"$f":"IF(BA13=2,1,0)","v":0},{"$f":"IF(BA12=2,1,0)","v":0},{"$f":"IF(BA15=2,1,0)","v":0},2,null,"W 300 - 1","1 mod.","2 mod.","3 mod.","4 mod.","5 mod.","6 mod.","7 mod.","8 mod.","9 mod.","10 mod.","11 mod.","12 mod.",null,null,null,null,null,null,null,null,null,null,null,null,null,null,null,null,null,null,null,null,null,null,null,null,null,null,null,null,"POLa",null,null,null,null,null,null,"Szerokość obudowy","Rama osłon czołowych na zawiasach  Wysokość, Pole 1,3",null,null,null,2,null,null,"Szerokość obudowy","Rama osłon czołowych na zawiasach  Wysokość, Pole 2",null,null,null,2]
[null,null,"H 1200","H 1400","H 1600","H 1800","H 2000","H 2200",null,null,"H 1200","H 1400","H 1600","H 1800","H 2000","H 2200",null,null,{"$f":"IF(Selection!$Y$32=1,\"PROJEKT 2\",\"Project 2\")","v":"Project 2"},null,{"$f":"IF($R$2=2,\"2\",\"\")","v":""},null,null,null,{"$f":"IF(Selection!AF21=\"\",1,0)","v":1},{"$f":"IF(BA13>1,1,0)","v":0},{"$f":"IF(BS4>1,1,0)","v":0},{"$f":"Z4+AA4-Y4","v":-1},null,{"$f":"IF(Selection!AN21=\"\",1,0)","v":1},{"$f":"IF(BA12>1,1,0)","v":0},{"$f":"IF(BS5>1,1,0)","v":0},{"$f":"AE4+AF4-AD4","v":-1},null,{"$f":"IF(Selection!AV21=\"\",1,0)","v":1},{"$f":"IF(BA15>1,1,0)","v":0},{"$f":"IF(BS6>1,1,0)","v":0},{"$f":"AJ4+AK4-AI4","v":-1},null,null,null,null,null,null,null,null,null,null,null,null,null,3,1,7,null,5,8,null,4,9,null,1,10,null,6,11,null,1,12,null,1,13,null,1,14,null,1,15,null,1,1,null,1,1,null,1,1,null,null,null,"+2",400,3,null,{"$f":"IF(BA13=3,2,0)","v":0},{"$f":"IF(BA12=3,2,0)","v":0},{"$f":"IF(BA15=3,2,0)","v":0},3,null,"Brak",{"$f":"IF(CW3=0,\"\",\"\")","v":""},"","","","","","","","","","","",null,null,null,null,null,null,null,null,null,null,null,null,null,null,null,null,null,null,null,null,null,null,null,null,null,null,null,null,"Ref","Ilość",null,null,null,null,null,null,"H 1200","H 1400","H 1600","H 1800","H 2000","H 2200",null,null,"H 1200","H 1400","H 1600","H 1800","H 2000","H 2200"]
["Brak","Brak",{"$f":"IF(C4=0,\"\",\"\")","v":""},"","","","","",null,"Brak",{"$f":"\"\"","v":""},{"$f":"\"\"","v":""},{"$f":"\"\"","v":""},{"$f":"\"\"","v":""},{"$f":"\"\"","v":""},{"$f":"\"\"","v":""},null,null,{"$f":"IF(Selection!$Y$32=1,\"PROJEKT 3\",\"Project 3\")","v":"Project 3"},null,{"$f":"IF($R$2=3,\"3\",\"\")","v":""},null,null,null,{"$f":"IF(Selection!AF24=\"\",1,0)","v":1},{"$f":"IF(BA13>1,1,0)","v":0},{"$f":"IF(BV4>1,1,0)","v":0},{"$f":"Z5+AA5-Y5","v":-1},null,{"$f":"IF(Selection!AN24=\"\",1,0)","v":1},{"$f":"IF(BA12>1,1,0)","v":0},{"$f":"IF(BW5>1,1,0)","v":1},{"$f":"IF(AK23=2,2,AE5+AF5-AD5)","v":0},null,{"$f":"IF(Selection!AV24=\"\",1,0)","v":1},{"$f":"IF(BA15>1,1,0)","v":0},{"$f":"IF(BV6>1,1,0)","v":0},{"$f":"AJ5+AK5-AI5","v":-1},null,{"$f":"INDEX(($AO$13:$AR$15),$BA$4,$BS4)","v":5},"Pokrywa górna pole 1",null,null,null,null,null,null,null,null,null,null,4,"Stopień IP",null,null,"Wysokość",null,null,"Głębokość",null,null,1,"Drzwi",null,6,"Drzwi / plecy",null,"Cokół",null,null,1,"Pokrywa górna",null,1,"R. osłon front",null,1,"R. osłon tył",null,1,"Osłony",null,1,"Ilość mod.",null,1,"Akc.szerokość",null,null,null,"+1",450,4,null,{"$f":"IF(BA13=4,3,0)","v":0},{"$f":"IF(BA12=4,3,0)","v":0},{"$f":"IF(BA15=4,3,0)","v":0},4,null,"Osłona pełna",{"$f":"IF(CW3=0,\"\",\"\")","v":""},"","","","","","","","","","","",null,"Akcesoria","Głębokość obudowy",null,null,null,null,null,null,null,null,null,null,null,null,null,null,null,"Akcesoria","Głębokość obudowy",null,null,null,null,null,null,null,"Pole 1",{"$f":"IF(Selection!AF12=\"\",0,IF(Selection!AF12>0,Selection!AF12,0))","v":0},{"$f":"IF(Selection!AH12=\"\",0,Selection!AH12)","v":0},{"$f":"IF(EK5>1,VLOOKUP(IF(ISNUMBER(EK5),TEXT(EK5,\"0\"),EK5),Pricelist!$A$53:$F$60643,2,FALSE),\"\")","v":""},{"$f":"IF(EK5>1,VLOOKUP(IF(ISNUMBER(EK5),TEXT(EK5,\"0\"),EK5),Pricelist!$A$53:$F$60643,3,FALSE),0)","v":0},{"$f":"EL5*EN5","v":0},null,"Brak","Brak",{"$f":"\"\"","v":""},{"$f":"\"\"","v":""},{"$f":"\"\"","v":""},{"$f":"\"\"","v":""},{"$f":"\"\"","v":""},{"$f":"\"\"","v":""},null,"Brak",{"$f":"\"\"","v":""},{"$f":"\"\"","v":""},{"$f":"\"\"","v":""},{"$f":"\"\"","v":""},{"$f":"\"\"","v":""},{"$f":"\"\"","v":""}]
[400,300,40330,50330,60330,70330,80330,90330,null,300,{"$f":"\"\"","v":""},{"$f":"\"\"","v":""},{"$f":"\"\"","v":""},{"$f":"\"\"","v":""},{"$f":"\"\"","v":""},{"$f":"\"\"","v":""},null,null,{"$f":"IF(Selection!$Y$32=1,\"PROJEKT 4\",\"Project 4\")","v":"Project 4"},null,{"$f":"IF($R$2=4,\"4\",\"\")","v":""},null,null,null,{"$f":"IF(Selection!AF28=\"\",1,0)","v":1},{"$f":"IF(BA13>1,1,0)","v":0},{"$f":"IF(BY4>1,1,0)","v":0},{"$f":"Z6+AA6-Y6","v":-1},null,{"$f":"IF(Selection!AN28=\"\",1,0)","v":1},{"$f":"IF(BA12>1,1,0)","v":0},{"$f":"IF(BZ5>1,1,0)","v":1},{"$f":"IF(AK23=2,2,AE6+AF6-AD6)","v":0},null,{"$f":"IF(Selection!AV28=\"\",1,0)","v":1},{"$f":"IF(BA15>1,1,0)","v":0},{"$f":"IF(BY6>1,1,0)","v":0},{"$f":"AJ6+AK6-AI6","v":-1},null,{"$f":"INDEX(($AO$13:$AR$15),$BA$4,$BS5)","v":5},"Pokrywa górna pole 2",null,null,null,null,null,null,null,null,null,null,5,1,30,null,1,1200,null,1,230,null,1,{"$f":"IF(Selection!$Y$32=1,\"Brak\",\"None\")","v":"None"},null,6,{"$f":"IF(Selection!$Y$32=1,\"Plecy z wentylacją\",\"Vented back cover\")","v":"Vented back cover"},null,1,{"$f":"IF(Selection!$Y$32=1,\"Brak\",\"None\")","v":"None"},null,1,{"$f":"IF(Selection!$Y$32=1,\"Brak\",\"None\")","v":"None"},null,1,{"$f":"IF(Selection!$Y$32=1,\"Brak - przedział kablowy\",\"None - cables\")","v":"None - cables"},null,1,{"$f":"IF(Selection!$Y$32=1,\"Brak - przedział kablowy\",\"None - cables\")","v":"None - cables"},null,1,{"$f":"IF(Selection!$Y$32=1,\"Brak\",\"None\")","v":"None"},null,1,{"$f":"IF(Selection!$Y$32=1,\"1 modułowa\",\"1 module\")","v":"1 module"},null,1,{"$f":"IF(Selection!$Y$32=1,\"Brak\",\"None\")","v":"None"},null,null,null,0,600,5,null,{"$f":"IF(BA13=5,4,0)","v":0},{"$f":"IF(BA12=5,4,0)","v":0},{"$f":"IF(BA15=5,4,0)","v":0},5,null,"Osł. modułowa",{"$f":"IF(CW3=0,\"\",\"\")","v":""},"","","","","","","","","","","",null,null,230,300,400,600,800,null,null,null,null,null,null,null,null,null,null,null,null,"P 200",230,300,400,600,800,null,null,null,{"$f":"IF(Selection!AF15=\"\",0,IF(Selection!AF15>0,Selection!AF15,0))","v":0},{"$f":"IF(Selection!AH15=\"\",0,Selection!AH15)","v":0},{"$f":"IF(EK6>1,VLOOKUP(IF(ISNUMBER(EK6),TEXT(EK6,\"0\"),EK6),Pricelist!$A$53:$F$60643,2,FALSE),\"\")","v":""},{"$f":"IF(EK6>1,VLOOKUP(IF(ISNUMBER(EK6),TEXT(EK6,\"0\"),EK6),Pricelist!$A$53:$F$60643,3,FALSE),0)","v":0},{"$f":"EL6*EN6","v":0},null,300,300,{"$f":"\"\"","v":""},{"$f":"\"\"","v":""},{"$f":"\"\"","v":""},{"$f":"\"\"","v":""},{"$f":"\"\"","v":""},{"$f":"\"\"","v":""},null,300,{"$f":"\"\"","v":""},{"$f":"\"\"","v":""},{"$f":"\"\"","v":""},{"$f":"\"\"","v":""},{"$f":"\"\"","v":""},{"$f":"\"\"","v":""}]
[450,400,40340,50340,60340,70340,80340,90340,null,400,{"$f":"\"\"","v":""},{"$f":"\"\"","v":""},{"$f":"\"\"","v":""},{"$f":"\"\"","v":""},{"$f":"\"\"","v":""},{"$f":"\"\"","v":""},null,null,{"$f":"IF(Selection!$Y$32=1,\"PROJEKT 5\",\"Project 5\")","v":"Project 5"},null,{"$f":"IF($R$2=5,\"5\",\"\")","v":""},null,null,null,{"$f":"IF(BA13>1,1,0)","v":0},{"$f":"IF(BS13<4,1,0)","v":1},{"$f":"IF(BS13>1,1,0)","v":0},{"$f":"SUM(Y7:AA7)","v":1},null,null,{"$f":"IF(BA12>1,1,0)","v":0},{"$f":"IF(BS20>1,1,0)","v":0},{"$f":"SUM(AE7:AF7)","v":0},null,null,{"$f":"IF(BA13>1,1,0)","v":0},{"$f":"IF(BS21>1,1,0)","v":0},{"$f":"SUM(AJ7:AK7)","v":0},null,{"$f":"INDEX(($AO$13:$AR$15),$BA$4,$BS6)","v":5},"Pokrywa górna pole 3",null,null,null,null,null,null,null,null,null,null,6,2,43,null,2,1400,null,2,300,null,null,{"$f":"IF(Selection!$Y$32=1,\"Drzwi pełne\",\"Plain door\")","v":"Plain door"},null,null,{"$f":"IF(Selection!$Y$32=1,\"Plecy pełne\",\"Plain back cover\")","v":"Plain back cover"},null,2,{"$f":"IF(Selection!$Y$32=1,\"Cokół pełny 100mm\",\"100mm\")","v":"100mm"},null,null,{"$f":"IF(Selection!$Y$32=1,\"Pokrywa pełna\",\"Plain\")","v":"Plain"},null,null,{"$f":"IF(Selection!$Y$32=1,\"Rama osłon modułowych\",\"Modular\")","v":"Modular"},null,null,{"$f":"IF(Selection!$Y$32=1,\"Rama osłon modułowych\",\"Modular\")","v":"Modular"},null,null,{"$f":"IF(Selection!$Y$32=1,\"Panel osłonowy pełny\",\"Plain front plate\")","v":"Plain front plate"},null,{"$f":"IF($BA$12>1,0,IF(CE5<13,0,IF($BA$13>13,$BA$13-1,0)))","v":0},{"$f":"IF(Selection!$Y$32=1,\"2 modułowa\",\"2 modules\")","v":"2 modules"},null,1,{"$f":"IF(Selection!$Y$32=1,\"Izolator 3P, most pionowy na plecach\",\"Rear 3P vertical busbar support\")","v":"Rear 3P vertical busbar support"},null,null,null,-1,650,6,null,{"$f":"IF(BA13=6,5,0)","v":0},{"$f":"IF(BA12=6,5,0)","v":0},{"$f":"IF(BA15=6,5,0)","v":0},6,null,"Osł. przeszklona",{"$f":"IF(CW3=0,\"\",\"\")","v":""},"","","","","","","","","","","",null,"Brak",{"$f":"IF(DK6=0,\"\",\"\")","v":""},"","","","","",null,null,null,null,null,null,null,null,null,null,"Brak",{"$f":"IF(EB6=0,\"\",\"\")","v":""},"","","","","",null,null,null,{"$f":"IF(Selection!AF18=\"\",0,IF(Selection!AF18>0,Selection!AF18,0))","v":0},{"$f":"IF(Selection!AH18=\"\",0,Selection!AH18)","v":0},{"$f":"IF(EK7>1,VLOOKUP(IF(ISNUMBER(EK7),TEXT(EK7,\"0\"),EK7),Pricelist!$A$53:$F$60643,2,FALSE),\"\")","v":""},{"$f":"IF(EK7>1,VLOOKUP(IF(ISNUMBER(EK7),TEXT(EK7,\"0\"),EK7),Pricelist!$A$53:$F$60643,3,FALSE),0)","v":0},0,null,400,400,40140,50140,60140,70140,80140,90140,null,400,40140,50140,60140,70140,80140,90140]
[600,450,40345,50345,60345,70345,80345,90345,null,450,{"$f":"\"\"","v":""},{"$f":"\"\"","v":""},{"$f":"\"\"","v":""},{"$f":"\"\"","v":""},{"$f":"\"\"","v":""},{"$f":"\"\"","v":""},null,null,{"$f":"IF(Selection!$Y$32=1,\"PROJEKT 6\",\"Project 6\")","v":"Project 6"},null,{"$f":"IF($R$2=6,\"6\",\"\")","v":""},null,null,false,{"$f":"IF(X8=TRUE,1,0)","v":0},{"$f":"IF(BA13>1,1,0)","v":0},{"$f":"IF(BA4=3,1,0)","v":0},{"$f":"SUM(Y8:Z8)","v":0},false,{"$f":"IF(AC8=TRUE,1,0)","v":0},{"$f":"IF(BA12>1,1,0)","v":0},{"$f":"IF(BA10>13,1,0)","v":0},{"$f":"SUM(AD8:AF8)","v":0},false,{"$f":"IF(AH8=TRUE,1,0)","v":0},{"$f":"IF(BA12>1,1,0)","v":0},{"$f":"IF(BA4=3,1,0)","v":0},{"$f":"SUM(AI8:AJ8)","v":0},null,null,null,null,null,null,null,null,null,null,null,null,null,7,3,55,null,3,1600,null,3,400,null,null,{"$f":"IF(Selection!$Y$32=1,\"Drzwi z wentylacją\",\"Vented door\")","v":"Vented door"},null,null,{"$f":"IF(Selection!$Y$32=1,\"Drzwi pełne\",\"Plain door\")","v":"Plain door"},null,3,{"$f":"IF(Selection!$Y$32=1,\"Cokół pełny 200mm\",\"200mm\")","v":"200mm"},null,null,{"$f":"IF(Selection!$Y$32=1,\"Pokrywa wentylowana\",\"Vented\")","v":"Vented"},null,null,{"$f":"IF(Selection!$Y$32=1,\"Rama osłon modułowych, plomba\",\"Modular sealed\")","v":"Modular sealed"},null,null,{"$f":"IF(Selection!$Y$32=1,\"Rama osłon modułowych, plomba\",\"Modular sealed\")","v":"Modular sealed"},null,null,{"$f":"IF(Selection!$Y$32=1,\"Panel osłonowy modułowy\",\"Modular front plate\")","v":"Modular front plate"},null,null,{"$f":"IF(Selection!$Y$32=1,\"3 modułowa\",\"3 modules\")","v":"3 modules"},null,1,{"$f":"IF(Selection!$Y$32=1,\"Izolator 4P, most pionowy na plecach\",\"Rear 4P vertical busbar support\")","v":"Rear 4P vertical busbar support"},null,null,null,-2,800,7,null,{"$f":"IF(BA13=7,6,0)","v":0},{"$f":"IF(BA12=7,6,0)","v":0},{"$f":"IF(BA15=7,6,0)","v":0},7,null,"Szyna stała TS35",{"$f":"IF(CW3=0,\"\",\"\")","v":""},"","","","","","","","","","","",null,"Wspornik płyt montażowych, boczny 200/230",31023,{"$f":"\"\"","v":""},{"$f":"\"\"","v":""},31023,{"$f":"\"\"","v":""},{"$f":"IF(DP7=0,\"\",\"\")","v":""},null,null,null,null,null,null,null,null,null,null,null,null,null,null,null,null,null,null,null,null,{"$f":"IF(Selection!AF21=\"\",0,IF(Selection!AF21>0,Selection!AF21,0))","v":0},{"$f":"IF(Selection!AH21=\"\",0,Selection!AH21)","v":0},{"$f":"IF(EK8>1,VLOOKUP(IF(ISNUMBER(EK8),TEXT(EK8,\"0\"),EK8),Pricelist!$A$53:$F$60643,2,FALSE),\"\")","v":""},{"$f":"IF(EK8>1,VLOOKUP(IF(ISNUMBER(EK8),TEXT(EK8,\"0\"),EK8),Pricelist!$A$53:$F$60643,3,FALSE),0)","v":0},0,null,450,450,40145,50145,60145,70145,80145,90145,null,450,40145,50145,60145,70145,80145,90145]
[650,600,40360,50360,60360,70360,80360,90360,null,600,{"$f":"\"\"","v":""},{"$f":"\"\"","v":""},{"$f":"\"\"","v":""},{"$f":"\"\"","v":""},{"$f":"\"\"","v":""},{"$f":"\"\"","v":""},null,null,{"$f":"IF(Selection!$Y$32=1,\"PROJEKT 7\",\"Project 7\")","v":"Project 7"},null,{"$f":"IF($R$2=7,\"7\",\"\")","v":""},null,null,false,{"$f":"IF(X9=TRUE,1,0)","v":0},{"$f":"IF(BA13>1,1,0)","v":0},null,{"$f":"SUM(Y9:AA9)","v":0},null,{"$f":"IF(X9=TRUE,1,0)","v":0},{"$f":"IF(BA12>1,1,0)","v":0},{"$f":"IF(BA13>13,1,0)","v":0},{"$f":"SUM(AD9+AE9-AF9)","v":0},null,{"$f":"IF(X9=TRUE,1,0)","v":0},{"$f":"IF(BA15>1,1,0)","v":0},null,{"$f":"SUM(AI9:AK9)","v":0},null,null,null,null,null,null,null,null,null,null,null,null,null,8,null,null,null,4,1800,null,4,600,null,null,{"$f":"IF(Selection!$Y$32=1,\"Drzwi transparentne\",\"Transparent door\")","v":"Transparent door"},null,null,{"$f":"IF(Selection!$Y$32=1,\"Drzwi transparentne\",\"Transparent door\")","v":"Transparent door"},null,null,null,null,null,null,null,null,{"$f":"IF(Selection!$Y$32=1,\"Drzwi wewnętrzne\",\"Internal door\")","v":"Internal door"},null,null,{"$f":"IF(Selection!$Y$32=1,\"Drzwi wewnętrzne\",\"Internal door\")","v":"Internal door"},null,null,{"$f":"IF(Selection!$Y$32=1,\"Panel osłonowy przeszklony\",\"Transparent front plate\")","v":"Transparent front plate"},null,null,{"$f":"IF(Selection!$Y$32=1,\"4 modułowa\",\"4 modules\")","v":"4 modules"},null,1,{"$f":"IF(Selection!$Y$32=1,\"Izolator 3P, most pion. na plecach reg.\",\"Rear 3P vertical busbar support regulated\")","v":"Rear 3P vertical busbar support regulated"},null,null,null,-3,"650+150",8,null,{"$f":"IF(BA13=8,5,0)","v":0},{"$f":"IF(BA12=8,5,0)","v":0},{"$f":"IF(BA15=8,5,0)","v":0},8,null,"Szyna reg.TS35",{"$f":"IF(CW3=0,\"\",\"\")","v":""},"","","","","","","","","","","",null,"Wspornik płyt montażowych, boczny 400",{"$f":"IF(DK8=0,\"\",\"\")","v":""},31030,31040,31040,31040,{"$f":"IF(DP8=0,\"\",\"\")","v":""},null,null,null,null,null,null,null,null,null,null,"Izol.1P bok PN",31712,{"$f":"IF(EC8=0,\"\",\"\")","v":""},{"$f":"IF(ED8=0,\"\",\"\")","v":""},{"$f":"IF(EE8=0,\"\",\"\")","v":""},{"$f":"IF(EF8=0,\"\",\"\")","v":""},{"$f":"IF(EG8=0,\"\",\"\")","v":""},null,null,null,{"$f":"IF(Selection!AF24=\"\",0,IF(Selection!AF24>0,Selection!AF24,0))","v":0},{"$f":"IF(Selection!AH24=\"\",0,Selection!AH24)","v":0},{"$f":"IF(EK9>1,VLOOKUP(IF(ISNUMBER(EK9),TEXT(EK9,\"0\"),EK9),Pricelist!$A$53:$F$60643,2,FALSE),\"\")","v":""},{"$f":"IF(EK9>1,VLOOKUP(IF(ISNUMBER(EK9),TEXT(EK9,\"0\"),EK9),Pricelist!$A$53:$F$60643,3,FALSE),0)","v":0},0,null,600,600,{"$f":"\"\"","v":""},{"$f":"\"\"","v":""},{"$f":"\"\"","v":""},{"$f":"\"\"","v":""},{"$f":"\"\"","v":""},{"$f":"\"\"","v":""},null,600,{"$f":"\"\"","v":""},{"$f":"\"\"","v":""},{"$f":"\"\"","v":""},{"$f":"\"\"","v":""},{"$f":"\"\"","v":""},{"$f":"\"\"","v":""}]
["650+150",650,40365,50365,60365,70365,80365,90365,null,650,{"$f":"\"\"","v":""},{"$f":"\"\"","v":""},{"$f":"\"\"","v":""},{"$f":"\"\"","v":""},{"$f":"\"\"","v":""},{"$f":"\"\"","v":""},null,null,{"$f":"IF(Selection!$Y$32=1,\"PROJEKT 8\",\"Project 8\")","v":"Project 8"},null,{"$f":"IF($R$2=8,\"8\",\"\")","v":""},null,null,null,null,null,null,null,null,null,null,null,null,null,null,null,null,null,null,null,null,null,null,null,null,null,null,null,null,null,null,9,{"$f":"IF(BA13>13,BA13,BA14)","v":1},null,null,5,2000,null,5,800,null,null,{"$f":"IF(Selection!$Y$32=1,\"Plecy pełne\",\"Plain back cover\")","v":"Plain back cover"},null,null,{"$f":"IF(Selection!$Y$32=1,\"Drzwi z wentylacją\",\"Vented door\")","v":"Vented door"},null,null,null,null,null,null,null,null,{"$f":"IF(Selection!$Y$32=1,\"Rama rozłączników listwowych\",\"Vertical Fuse Switch\")","v":"Vertical Fuse Switch"},null,null,{"$f":"IF(Selection!$Y$32=1,\"Rama rozłączników listwowych\",\"Vertical Fuse Switch\")","v":"Vertical Fuse Switch"},null,null,{"$f":"IF(Selection!$Y$32=1,\"Szyna montażowa TS35D stała\",\"Fixed TS35D rail\")","v":"Fixed TS35D rail"},null,null,{"$f":"IF(Selection!$Y$32=1,\"5 modułowa\",\"5 modules\")","v":"5 modules"},null,null,{"$f":"IF(Selection!$Y$32=1,\"Izolator 4P, most pion. na plecach reg.\",\"Rear 4P vertical busbar support regulated\")","v":"Rear 4P vertical busbar support regulated"},null,null,null,-4,850,9,null,{"$f":"IF(BA13=9,7,0)","v":0},{"$f":"IF(BA12=9,7,0)","v":0},{"$f":"IF(BA15=9,7,0)","v":0},9,null,"Płyta ocynk pełna",{"$f":"IF(CW3=0,\"\",\"\")","v":""},33032,33033,33034,33035,33036,{"$f":"IF(DC3=0,\"\",\"\")","v":""},33037,{"$f":"IF(DE3=0,\"\",\"\")","v":""},33038,{"$f":"IF(DG3=0,\"\",\"\")","v":""},33039,null,"Uchwyt płyt montażowych",31010,31010,31010,31010,31010,{"$f":"IF(DP9=0,\"\",\"\")","v":""},null,null,null,null,null,null,null,null,null,null,"Izol.3P bok",{"$f":"IF(EB9=0,\"\",\"\")","v":""},{"$f":"IF(EC9=0,\"\",\"\")","v":""},{"$f":"IF(ED9=0,\"\",\"\")","v":""},31710,31710,31710,null,null,null,{"$f":"IF(Selection!AF25=\"\",0,IF(Selection!AF25>0,Selection!AF25,0))","v":0},{"$f":"IF(Selection!AH25=\"\",0,Selection!AH25)","v":0},{"$f":"IF(EK10>1,VLOOKUP(IF(ISNUMBER(EK10),TEXT(EK10,\"0\"),EK10),Pricelist!$A$53:$F$60643,2,FALSE),\"\")","v":""},{"$f":"IF(EK10>1,VLOOKUP(IF(ISNUMBER(EK10),TEXT(EK10,\"0\"),EK10),Pricelist!$A$53:$F$60643,3,FALSE),0)","v":0},0,null,650,650,40165,50165,60165,70165,80165,90165,null,650,40165,50165,60165,70165,80165,90165]
[800,800,40380,50380,60380,70380,80380,90380,null,800,{"$f":"\"\"","v":""},{"$f":"\"\"","v":""},{"$f":"\"\"","v":""},{"$f":"\"\"","v":""},{"$f":"\"\"","v":""},{"$f":"\"\"","v":""},null,null,{"$f":"IF(Selection!$Y$32=1,\"PROJEKT 9\",\"Project 9\")","v":"Project 9"},null,{"$f":"IF($R$2=9,\"9\",\"\")","v":""},null,null,null,null,null,null,null,null,null,null,null,null,null,null,null,null,null,null,null,null,null,null,null,null,null,null,null,null,null,null,10,{"$f":"IF(BA13>13,2,BA14)","v":1},null,null,6,2200,null,null,null,null,null,{"$f":"IF(Selection!$Y$32=1,\"Plecy z wentylacją\",\"Vented back cover\")","v":"Vented back cover"},null,null,{"$f":"IF(Selection!$Y$32=1,\"Brak\",\"None\")","v":"None"},null,null,null,null,null,null,null,null,{"$f":"IF(Selection!$Y$32=1,\"Rama rozłączników listwowych, plomba\",\"Vertical Fuse Switch sealed\")","v":"Vertical Fuse Switch sealed"},null,null,{"$f":"IF(Selection!$Y$32=1,\"Rama rozłączników listwowych, plomba\",\"Vertical Fuse Switch sealed\")","v":"Vertical Fuse Switch sealed"},null,null,{"$f":"IF(Selection!$Y$32=1,\"Szyna montażowa TS35D regulowana\",\"Adjustable TS35D rail\")","v":"Adjustable TS35D rail"},null,null,{"$f":"IF(Selection!$Y$32=1,\"6 modułowa\",\"6 modules\")","v":"6 modules"},null,null,{"$f":"IF(Selection!$Y$32=1,\"Izol. 3P, podpora mostu na plecach, reg.\",\"Rear 3P vert. busbar bottom support regulated\")","v":"Rear 3P vert. busbar bottom support regulated"},null,null,null,-5,"650+200",10,null,{"$f":"IF(BA13=10,5,0)","v":0},{"$f":"IF(BA12=10,5,0)","v":0},{"$f":"IF(BA15=10,5,0)","v":0},10,null,"Płyta malow.otw.",{"$f":"IF(CW3=0,\"\",\"\")","v":""},33532,33533,33534,33535,33536,{"$f":"IF(DC3=0,\"\",\"\")","v":""},33537,{"$f":"IF(DE3=0,\"\",\"\")","v":""},33538,{"$f":"IF(DG3=0,\"\",\"\")","v":""},33539,null,"Izol. AlCubar / Cu 1P, most poziomy, 200/230",20110,{"$f":"IF(DL21=0,\"\",\"\")","v":""},{"$f":"IF(DM21=0,\"\",\"\")","v":""},20110,{"$f":"IF(DO21=0,\"\",\"\")","v":""},null,null,null,null,null,null,null,null,null,null,null,"Izol.4P bok","","","",31711,31711,31711,null,null,null,{"$f":"IF(Selection!X25=\"\",0,IF(Selection!X25>0,Selection!X25,0))","v":0},{"$f":"IF(Selection!Z25=\"\",0,Selection!Z25)","v":0},{"$f":"IF(EK11>1,VLOOKUP(IF(ISNUMBER(EK11),TEXT(EK11,\"0\"),EK11),Pricelist!$A$53:$F$60643,2,FALSE),\"\")","v":""},{"$f":"IF(EK11>1,VLOOKUP(IF(ISNUMBER(EK11),TEXT(EK11,\"0\"),EK11),Pricelist!$A$53:$F$60643,3,FALSE),0)","v":0},0,null,800,800,{"$f":"\"\"","v":""},{"$f":"\"\"","v":""},{"$f":"\"\"","v":""},{"$f":"\"\"","v":""},{"$f":"\"\"","v":""},{"$f":"\"\"","v":""},null,800,{"$f":"\"\"","v":""},{"$f":"\"\"","v":""},{"$f":"\"\"","v":""},{"$f":"\"\"","v":""},{"$f":"\"\"","v":""},{"$f":"\"\"","v":""}]
[850,"650+150",40380,50380,60380,70380,80380,90380,null,"650+150",{"$f":"\"\"","v":""},{"$f":"\"\"","v":""},{"$f":"\"\"","v":""},{"$f":"\"\"","v":""},{"$f":"\"\"","v":""},{"$f":"\"\"","v":""},null,null,{"$f":"IF(Selection!$Y$32=1,\"PROJEKT 10\",\"Project 10\")","v":"Project 10"},null,{"$f":"IF($R$2=10,\"10\",\"\")","v":""},null,null,null,{"$f":"IF(Selection!AF24=\"\",0,1)","v":0},{"$f":"IF(BA13>1,1,0)","v":0},{"$f":"IF(BV4>4,1,0)","v":0},{"$f":"SUM(Y12:AA12)","v":0},{"$f":"IF(AL23>0,1,0)","v":0},{"$f":"IF(Selection!AN24=\"\",0,1)","v":0},{"$f":"IF(BA12>1,1,0)","v":0},{"$f":"IF(BV5>4,1,0)","v":0},{"$f":"SUM(AC12:AF12)","v":0},null,{"$f":"IF(Selection!AV24=\"\",0,1)","v":0},{"$f":"IF(BA15>1,1,0)","v":0},{"$f":"IF(BV6>4,1,0)","v":0},{"$f":"SUM(AI12:AK12)","v":0},null,"IP","Brak","Pełna","Went.",null,null,null,null,null,null,null,null,null,{"$f":"IF(BA13>13,1,BA14)","v":1},null,null,null,null,null,null,null,null,null,null,null,null,null,null,null,null,null,null,null,null,null,{"$f":"IF(Selection!$Y$32=1,\"Rama rozł. listwowych, analizator\",\"Vertical Fuse Switch Power Meter\")","v":"Vertical Fuse Switch Power Meter"},null,null,{"$f":"IF(Selection!$Y$32=1,\"Rama rozł. listwowych, analizator\",\"Vertical Fuse Switch Power Meter\")","v":"Vertical Fuse Switch Power Meter"},null,null,{"$f":"IF(Selection!$Y$32=1,\"Płyta montażowa pełna ocynkowana\",\"Plain mounting plate\")","v":"Plain mounting plate"},null,null,{"$f":"IF(Selection!$Y$32=1,\"7 modułowa\",\"7 modules\")","v":"7 modules"},null,null,{"$f":"IF(Selection!$Y$32=1,\"Izol. 4P, podpora mostu na plecach, reg.\",\"Rear 4P vert. busbar bottom support regulated\")","v":"Rear 4P vert. busbar bottom support regulated"},null,null,null,null,1000,11,null,{"$f":"IF(BA13=11,8,0)","v":0},{"$f":"IF(BA12=11,8,0)","v":0},{"$f":"IF(BA15=11,8,0)","v":0},11,null,"Płyta oc. pozioma",{"$f":"IF(CW2=0,\"\",\"\")","v":""},"","","","","","","","",{"$f":"IF(DF360=0,\"\",\"\")","v":""},{"$f":"IF(DG360=0,\"\",\"\")","v":""},{"$f":"IF(DH360=0,\"\",\"\")","v":""},null,"Izol. AlCubar / Cu 3P, most poziomy, 400",{"$f":"IF(DK11=0,\"\",\"\")","v":""},{"$f":"IF(DL11=0,\"\",\"\")","v":""},20113,20113,20113,null,null,null,null,null,null,null,null,null,null,null,"Iz.3P doizol.","","","",31714,31714,31714,null,null,null,{"$f":"IF(Selection!AF28=\"\",0,IF(Selection!AF28>0,Selection!AF28,0))","v":0},{"$f":"IF(Selection!AH28=\"\",0,Selection!AH28)","v":0},{"$f":"IF(EK12>1,VLOOKUP(IF(ISNUMBER(EK12),TEXT(EK12,\"0\"),EK12),Pricelist!$A$53:$F$60643,2,FALSE),\"\")","v":""},{"$f":"IF(EK12>1,VLOOKUP(IF(ISNUMBER(EK12),TEXT(EK12,\"0\"),EK12),Pricelist!$A$53:$F$60643,3,FALSE),0)","v":0},0,null,"650+150","650+150",40165,50165,60165,70165,80165,90165,null,"650+150",40165,50165,60165,70165,80165,90165]
[1000,850,40385,50385,60385,70385,80385,90385,null,850,{"$f":"\"\"","v":""},{"$f":"\"\"","v":""},{"$f":"\"\"","v":""},{"$f":"\"\"","v":""},{"$f":"\"\"","v":""},{"$f":"\"\"","v":""},null,null,{"$f":"TODAY()","v":"2022-03-02"},null,null,null,null,{"$f":"IF(Selection!AF28=\"\",2,0)","v":2},{"$f":"IF(BY4=4,1,0)","v":0},{"$f":"IF(Selection!AF28>80700,1,0)","v":1},{"$f":"IF(Selection!AF28=\"\",0,1)","v":0},{"$f":"SUM(X13:AA13)","v":3},{"$f":"IF(Selection!AN28=\"\",2,0)","v":2},{"$f":"IF(BY5=4,1,0)","v":0},{"$f":"IF(Selection!AN28>80700,1,0)","v":1},{"$f":"IF(Selection!AN28=\"\",0,1)","v":0},{"$f":"SUM(AC13:AF13)","v":3},{"$f":"IF(Selection!AV28=\"\",2,0)","v":2},{"$f":"IF(BY6=4,1,0)","v":0},{"$f":"IF(Selection!AV28>80700,1,0)","v":1},{"$f":"IF(Selection!AV28=\"\",0,1)","v":0},{"$f":"SUM(AH13:AK13)","v":3},null,30,5,2,1,null,null,null,null,null,null,null,null,null,1,1,null,null,null,null,null,null,null,null,null,null,null,null,null,null,null,null,1,13,null,null,{"$f":"IF(Selection!$Y$32=1,\"Rama rozł. listw, analizator, plomba\",\"Vertical Fuse Switch Power Meter sealed\")","v":"Vertical Fuse Switch Power Meter sealed"},null,null,{"$f":"IF(Selection!$Y$32=1,\"Rama rozł. listw, analizator, plomba\",\"Vertical Fuse Switch Power Meter sealed\")","v":"Vertical Fuse Switch Power Meter sealed"},null,null,{"$f":"IF(Selection!$Y$32=1,\"Płyta montażowa otworowana ocynk\",\"Painted mounting plate\")","v":"Painted mounting plate"},null,null,{"$f":"IF(Selection!$Y$32=1,\"8 modułowa\",\"8 modules\")","v":"8 modules"},null,null,{"$f":"IF(Selection!$Y$32=1,\"Izol. AlCubar 630A 3P pionowo na plecach\",\"Rear 3P AlCubar 630A vertical busbar support\")","v":"Rear 3P AlCubar 630A vertical busbar support"},null,null,null,null,1200,12,null,{"$f":"IF(BA13=12,9,0)","v":0},{"$f":"IF(BA12=12,9,0)","v":0},{"$f":"IF(BA15=12,9,0)","v":0},12,null,"Płyta licznikowa",{"$f":"IF(CW3=0,\"\",\"\")","v":""},"","","","","","","","","","","",null,"Izol. AlCubar / Cu 4P, most poziomy, 400",{"$f":"IF(DK12=0,\"\",\"\")","v":""},{"$f":"IF(DL12=0,\"\",\"\")","v":""},20114,20114,20114,null,null,null,null,null,null,null,null,null,null,null,"Iz.4P doizol.","","","",31715,31715,31715,null,null,null,{"$f":"IF(Selection!AF29=\"\",0,IF(Selection!AF29>0,Selection!AF29,0))","v":0},{"$f":"IF(Selection!AH29=\"\",0,Selection!AH29)","v":0},{"$f":"IF(EK13>1,VLOOKUP(IF(ISNUMBER(EK13),TEXT(EK13,\"0\"),EK13),Pricelist!$A$53:$F$60643,2,FALSE),\"\")","v":""},{"$f":"IF(EK13>1,VLOOKUP(IF(ISNUMBER(EK13),TEXT(EK13,\"0\"),EK13),Pricelist!$A$53:$F$60643,3,FALSE),0)","v":0},0,null,850,850,40185,50185,60185,70185,80185,90185,null,850,40185,50185,60185,70185,80185,90185]
[1200,"650+200",40385,50385,60385,70385,80385,90385,null,"650+200",{"$f":"\"\"","v":""},{"$f":"\"\"","v":""},{"$f":"\"\"","v":""},{"$f":"\"\"","v":""},{"$f":"\"\"","v":""},{"$f":"\"\"","v":""},null,"_","2019-09-04",null,null,null,null,null,{"$f":"IF(BA13>1,1,0)","v":0},{"$f":"IF(BA4=3,1,0)","v":0},{"$f":"IF(BV19>1,1,0)","v":1},{"$f":"SUM(Y14:AA14)","v":1},null,{"$f":"IF(BA12>1,1,0)","v":0},{"$f":"IF(BA4=3,1,0)","v":0},{"$f":"IF(BV20>1,1,0)","v":1},{"$f":"SUM(AD14:AF14)","v":1},null,{"$f":"IF(BA15>1,1,0)","v":0},{"$f":"IF(BA4=3,1,0)","v":0},{"$f":"IF(BV21>1,1,0)","v":0},{"$f":"SUM(AI14:AK14)","v":0},null,43,5,4,3,null,null,null,null,null,null,null,null,null,1,"Szerokość",null,null,null,null,null,null,null,null,null,null,null,null,null,null,null,null,null,"Cokół",null,null,null,null,2,"Wersja",null,null,{"$f":"IF(Selection!$Y$32=1,\"Płyta montażowa pozioma ocynk\",\"Horizontal plain mounting plate\")","v":"Horizontal plain mounting plate"},null,null,{"$f":"IF(Selection!$Y$32=1,\"9 modułowa\",\"9 modules\")","v":"9 modules"},null,null,{"$f":"IF(Selection!$Y$32=1,\"Izol. AlCubar 630A 4P pionowo na plecach\",\"Rear 4P AlCubar 630A vertical busbar support\")","v":"Rear 4P AlCubar 630A vertical busbar support"},null,null,null,null,1300,13,null,{"$f":"IF(BA13=13,10,0)","v":0},{"$f":"IF(BA12=13,10,0)","v":0},{"$f":"IF(BA15=13,10,0)","v":0},13,null,null,{"$f":"IF(CW3=0,\"\",\"\")","v":""},"","","","","","","","","","","",null,"Izolator AlCubar 1P, łącznik, poziom, 200/230",20120,{"$f":"IF(DL13=0,\"\",\"\")","v":""},{"$f":"IF(DM13=0,\"\",\"\")","v":""},20120,{"$f":"IF(DO13=0,\"\",\"\")","v":""},null,null,null,null,null,null,null,null,null,null,null,"Iz.3P poz.podpora","","","",31723,31723,31723,null,null,null,{"$f":"IF(Selection!AF32=\"\",0,IF(Selection!AF32>0,Selection!AF32,0))","v":0},{"$f":"IF(Selection!AH32=\"\",0,Selection!AH32)","v":0},{"$f":"IF(EK14>1,VLOOKUP(IF(ISNUMBER(EK14),TEXT(EK14,\"0\"),EK14),Pricelist!$A$53:$F$60643,2,FALSE),\"\")","v":""},{"$f":"IF(EK14>1,VLOOKUP(IF(ISNUMBER(EK14),TEXT(EK14,\"0\"),EK14),Pricelist!$A$53:$F$60643,3,FALSE),0)","v":0},0,null,"650+200","650+200",40165,50165,60165,70165,80165,90165,null,"650+200",40165,50165,60165,70165,80165,90165]
[1300,1000,40310,50310,60310,70310,80310,90310,null,1000,{"$f":"\"\"","v":""},{"$f":"\"\"","v":""},{"$f":"\"\"","v":""},{"$f":"\"\"","v":""},{"$f":"\"\"","v":""},{"$f":"\"\"","v":""},9,"/",4,"/",201,9,null,null,null,null,null,null,null,{"$f":"IF(Selection!AF25=36010,1,0)","v":0},{"$f":"IF(Selection!AN25=\"\",0,1)","v":0},{"$f":"SUM(AD15:AE15)","v":0},{"$f":"IF(AF15=2,1,2)","v":2},null,{"$f":"IF(Selection!AN25=36010,1,0)","v":0},{"$f":"IF(Selection!AV25=\"\",0,1)","v":0},{"$f":"SUM(AI15:AJ15)","v":0},{"$f":"IF(AK15=2,1,2)","v":2},null,55,5,4,5,null,null,null,null,null,null,null,null,null,1,{"$f":"IF(Selection!$Y$32=1,\"Brak wyboru\",\"None\")","v":"None"},null,null,null,null,null,null,null,null,null,null,null,null,null,null,null,null,null,{"$f":"IF(Selection!$Y$32=1,\"Brak\",\"None\")","v":"None"},null,null,null,null,null,"Polish version",null,null,{"$f":"IF(Selection!$Y$32=1,\"Zabudowa licznikowa\",\"kWh mounting plate\")","v":"kWh mounting plate"},null,null,{"$f":"IF(Selection!$Y$32=1,\"10 modułowa\",\"10 modules\")","v":"10 modules"},null,null,{"$f":"IF(Selection!$Y$32=1,\"Drabinka kablowa na plecach\",\"Cable tray\")","v":"Cable tray"},null,null,null,{"$f":"IF(AV13=14,12,0)","v":0},"650+650",14,null,{"$f":"IF(BA13=14,5,0)","v":0},{"$f":"IF(BA13=14,5,0)","v":0},null,14,null,null,{"$f":"IF(CW3=0,\"\",\"\")","v":""},"","","","","","","","","","","",null,{"$f":"IF(Selection!$Y$32=1,\"Izolator AlCubar 3P, łącznik, poziom, 400\",\"Horizontal200 1P insul.\")","v":"Horizontal200 1P insul."},{"$f":"IF(DK14=0,\"\",\"\")","v":""},"",20123,20123,20123,null,null,null,null,null,null,null,null,null,null,null,"Iz.4P poz.podpora","","","",31724,31724,31724,null,null,null,{"$f":"IF(Selection!AF33=\"\",0,IF(Selection!AF33>0,Selection!AF33,0))","v":0},{"$f":"IF(Selection!AH33=\"\",0,Selection!AH33)","v":0},{"$f":"IF(EK15>1,VLOOKUP(IF(ISNUMBER(EK15),TEXT(EK15,\"0\"),EK15),Pricelist!$A$53:$F$60643,2,FALSE),\"\")","v":""},{"$f":"IF(EK15>1,VLOOKUP(IF(ISNUMBER(EK15),TEXT(EK15,\"0\"),EK15),Pricelist!$A$53:$F$60643,3,FALSE),0)","v":0},0,null,1000,1000,40110,50110,60110,70110,80110,90110,null,1000,40110,50110,60110,70110,80110,90110]
["650+612",1200,40312,50312,60312,70312,80312,90312,null,1200,{"$f":"\"\"","v":""},{"$f":"\"\"","v":""},{"$f":"\"\"","v":""},{"$f":"\"\"","v":""},{"$f":"\"\"","v":""},{"$f":"\"\"","v":""},{"$f":"CONCATENATE(Q15,R15,S15,T15,U15,V15,W15)","v":"9/4/2019"},"9/4/2019",null,null,null,null,null,null,null,{"$f":"IF(AG1>1,1,0)","v":0},{"$f":"IF(AL1>1,1,0)","v":0},{"$f":"SUM(Z16:AA16)","v":0},null,{"$f":"IF(Selection!AF29=36010,1,0)","v":0},{"$f":"IF(Selection!AN29=\"\",0,1)","v":0},{"$f":"SUM(AD16:AE16)","v":0},{"$f":"IF(AF16=2,1,2)","v":2},null,{"$f":"IF(Selection!AN29=36010,1,0)","v":0},{"$f":"IF(Selection!AV29=\"\",0,1)","v":0},{"$f":"SUM(AI16:AJ16)","v":0},{"$f":"IF(AK16=2,1,2)","v":2},null,null,null,null,null,null,null,null,null,null,null,null,null,null,null,{"$f":"IF(Selection!$Y$32=1,\"Rama 300\",\"Frame 300\")","v":"Frame 300"},null,null,null,null,null,null,null,null,null,null,null,null,null,null,null,null,null,{"$f":"IF(Selection!$Y$32=1,\"Cokół pełny 100mm\",\"100mm\")","v":"100mm"},null,null,{"$f":"IF(Selection!$Y$32=1,\"1 moduł\",\"\")","v":""},null,null,"English version",null,null,null,null,null,{"$f":"IF(Selection!$Y$32=1,\"11 modułowa\",\"11 modules\")","v":"11 modules"},null,null,{"$f":"IF(Selection!$Y$32=1,\"Drabinka kablowa na drzwiach\",\"Door cable tray\")","v":"Door cable tray"},null,null,null,{"$f":"IF(AV13=15,13,0)","v":0},"650+850",15,null,{"$f":"IF(BA13=15,5,0)","v":0},{"$f":"IF(BA13=15,7,0)","v":0},null,15,null,null,{"$f":"IF(CW3=0,\"\",\"\")","v":""},"","","","","","","","","","","",null,{"$f":"IF(Selection!$Y$32=1,\"Izolator AlCubar 4P, łącznik, poziom, 400\",\"Horizontal200 1P insul.\")","v":"Horizontal200 1P insul."},"","",20124,20124,20124,null,null,null,null,null,null,null,null,null,null,null,"Iz.4P Linergy bok","","","",31774,31774,31774,null,null,null,{"$f":"IF(Selection!AF36=\"\",0,IF(Selection!AF36>0,Selection!AF36,0))","v":0},{"$f":"IF(Selection!AH36=\"\",0,Selection!AH36)","v":0},{"$f":"IF(EK16>1,VLOOKUP(IF(ISNUMBER(EK16),TEXT(EK16,\"0\"),EK16),Pricelist!$A$53:$F$60643,2,FALSE),\"\")","v":""},{"$f":"IF(EK16>1,VLOOKUP(IF(ISNUMBER(EK16),TEXT(EK16,\"0\"),EK16),Pricelist!$A$53:$F$60643,3,FALSE),0)","v":0},0,null,1200,1200,{"$f":"\"\"","v":""},{"$f":"\"\"","v":""},{"$f":"\"\"","v":""},{"$f":"\"\"","v":""},{"$f":"\"\"","v":""},{"$f":"\"\"","v":""},null,1200,{"$f":"\"\"","v":""},{"$f":"\"\"","v":""},{"$f":"\"\"","v":""},{"$f":"\"\"","v":""},{"$f":"\"\"","v":""},{"$f":"\"\"","v":""}]
["650+812",1300,40313,50313,60313,70313,80313,90313,null,1300,{"$f":"\"\"","v":""},{"$f":"\"\"","v":""},{"$f":"\"\"","v":""},{"$f":"\"\"","v":""},{"$f":"\"\"","v":""},{"$f":"\"\"","v":""},null,null,null,null,null,null,null,null,null,null,null,null,null,null,null,null,null,null,null,null,null,null,null,null,null,null,null,null,null,null,null,null,null,null,null,null,null,{"$f":"IF(Selection!$Y$32=1,\"Rama 400A\",\"Frame 400A\")","v":"Frame 400A"},null,null,null,null,null,null,null,1,{"$f":"BJ17-1","v":0},null,1,null,null,1,null,null,null,{"$f":"IF(Selection!$Y$32=1,\"Cokół pełny 200mm\",\"200mm\")","v":"200mm"},null,null,null,null,null,null,null,null,null,null,null,{"$f":"IF(Selection!$Y$32=1,\"12 modułowa\",\"12 modules\")","v":"12 modules"},null,null,{"$f":"IF(Selection!$Y$32=1,\"Drabinka kablowa pod osłonę\",\"Front plate cable tray\")","v":"Front plate cable tray"},null,null,null,{"$f":"IF(AV13=16,13,0)","v":0},"850+850",16,null,{"$f":"IF(BA13=16,7,0)","v":0},{"$f":"IF(BA13=16,7,0)","v":0},null,16,null,null,{"$f":"IF(CW3=0,\"\",\"\")","v":""},"","","","","","","","","","","",null,"Izol. AlCubar / Cu 3P, doizolowanie poz. 400","","",20118,20118,20118,null,null,null,null,null,null,null,null,null,null,null,null,"","","",{"$f":"IF(EE16=0,\"\",\"\")","v":""},{"$f":"IF(EF16=0,\"\",\"\")","v":""},{"$f":"IF(EG16=0,\"\",\"\")","v":""},null,null,null,{"$f":"IF(Selection!AF39=\"\",0,IF(Selection!AF39>0,Selection!AF39,0))","v":0},{"$f":"IF(Selection!AH39=\"\",0,Selection!AH39)","v":0},{"$f":"IF(EK17>1,VLOOKUP(IF(ISNUMBER(EK17),TEXT(EK17,\"0\"),EK17),Pricelist!$A$53:$F$60643,2,FALSE),\"\")","v":""},{"$f":"IF(EK17>1,VLOOKUP(IF(ISNUMBER(EK17),TEXT(EK17,\"0\"),EK17),Pricelist!$A$53:$F$60643,3,FALSE),0)","v":0},0,null,1300,1300,{"$f":"\"\"","v":""},{"$f":"\"\"","v":""},{"$f":"\"\"","v":""},{"$f":"\"\"","v":""},{"$f":"\"\"","v":""},{"$f":"\"\"","v":""},null,1300,{"$f":"\"\"","v":""},{"$f":"\"\"","v":""},{"$f":"\"\"","v":""},{"$f":"\"\"","v":""},{"$f":"\"\"","v":""},{"$f":"\"\"","v":""}]
["850+812","650+612",40365,50365,60365,70365,80365,90365,null,"650+612",{"$f":"\"\"","v":""},{"$f":"\"\"","v":""},{"$f":"\"\"","v":""},{"$f":"\"\"","v":""},{"$f":"\"\"","v":""},{"$f":"\"\"","v":""},null,null,null,null,null,null,null,null,null,null,null,null,null,null,null,null,null,null,null,null,null,null,null,{"$f":"INDEX(($AO$20:$AR$22),$BA$4,$BS$13)","v":5},"Cokół / pokrywa pole 1 - 3",null,null,null,null,null,null,null,null,null,null,null,null,{"$f":"IF(Selection!$Y$32=1,\"Rama 450A\",\"Frame 450A\")","v":"Frame 450A"},null,null,null,null,null,null,null,1,{"$f":"BJ18-1","v":0},null,1,null,null,1,null,null,null,{"$f":"IF(Selection!$Y$32=1,\"Dolna pełna pokrywa\",\"Plain cover\")","v":"Plain cover"},null,null,null,null,null,null,null,{"$f":"IF(CE23=14,14,IF(CP36=1,$BA$15,CB23))","v":1},null,null,{"$f":"IF(CP36=1,BD4,CE23)","v":1},{"$f":"IF(Selection!$Y$32=1,\"Płyta pełna ocynkowana\",\"Plain mounting plate\")","v":"Plain mounting plate"},null,null,{"$f":"IF(Selection!$Y$32=1,\"Metalowa kieszeń na dokumentację\",\"Drawing holder\")","v":"Drawing holder"},null,null,null,null,"650+300",17,null,{"$f":"IF(BA13=17,5,0)","v":0},{"$f":"IF(BA13=17,1,0)","v":0},null,17,null,null,{"$f":"IF(CW3=0,\"\",\"\")","v":""},"","","","","","","","","","","",null,"Izol. AlCubar / Cu 4P, doizolowanie poz. 400","","",20119,20119,20119,null,null,null,null,null,null,null,null,null,null,null,"Przył.tr.3P 250A","","","",32700,32700,32700,null,null,null,{"$f":"IF(Selection!AF42=\"\",0,IF(Selection!AF42>0,Selection!AF42,0))","v":0},{"$f":"Selection!AH42","v":0},{"$f":"IF(EK18>1,VLOOKUP(IF(ISNUMBER(EK18),TEXT(EK18,\"0\"),EK18),Pricelist!$A$53:$F$60643,2,FALSE),\"\")","v":""},{"$f":"IF(EK18>1,VLOOKUP(IF(ISNUMBER(EK18),TEXT(EK18,\"0\"),EK18),Pricelist!$A$53:$F$60643,3,FALSE),0)","v":0},0,null,"650+612","650+650",40165,50165,60165,70165,80165,90165,null,"650+650",40165,50165,60165,70165,80165,90165]
[null,"650+812",40365,50365,60365,70365,80365,90365,null,"650+812",{"$f":"\"\"","v":""},{"$f":"\"\"","v":""},{"$f":"\"\"","v":""},{"$f":"\"\"","v":""},{"$f":"\"\"","v":""},{"$f":"\"\"","v":""},null,null,null,null,null,null,null,null,null,null,null,null,null,null,null,null,null,null,{"$f":"IF(BM4<3,0,1)","v":1},{"$f":"IF(BJ4>4,0,1)","v":1},{"$f":"SUM(AI19:AI20)","v":1},null,null,"IP","Brak",100,200,"Pokrywa",null,null,null,null,null,null,null,null,null,{"$f":"IF(Selection!$Y$32=1,\"Rama 600\",\"Frame 600\")","v":"Frame 600"},null,null,null,null,null,null,null,1,0,null,1,null,null,1,null,null,null,null,null,2,11,null,1,null,null,{"$f":"IF(CE22=14,25,IF(CO36=1,$BA$12,CB22))","v":1},null,null,{"$f":"IF(CO36=1,BD4,CE22)","v":1},{"$f":"IF(Selection!$Y$32=1,\"Łącznik płyt pełnych\",\"Plates connector\")","v":"Plates connector"},null,null,{"$f":"IF(Selection!$Y$32=1,\"Pionowy zestaw szyn TS35, 6M\",\"6-Modules Vertical DIN-rail for terminals\")","v":"6-Modules Vertical DIN-rail for terminals"},null,null,null,null,"650+400",18,null,{"$f":"IF(BA13=18,5,0)","v":0},{"$f":"IF(BA13=18,2,0)","v":0},null,18,null,null,null,null,null,null,null,null,null,null,null,null,null,null,null,"Izol. AlCubar / Cu 1P, most poziomy z tyłu",20146,20146,20146,20146,20146,null,null,null,null,null,null,null,null,null,null,null,"Przył.tr.4P 250A","","","",32701,32701,32701,null,null,null,{"$f":"IF(Selection!AF45=\"\",0,IF(Selection!AF45>0,Selection!AF45,0))","v":0},{"$f":"Selection!AH45","v":0},{"$f":"IF(EK19>1,VLOOKUP(IF(ISNUMBER(EK19),TEXT(EK19,\"0\"),EK19),Pricelist!$A$53:$F$60643,2,FALSE),\"\")","v":""},{"$f":"IF(EK19>1,VLOOKUP(IF(ISNUMBER(EK19),TEXT(EK19,\"0\"),EK19),Pricelist!$A$53:$F$60643,3,FALSE),0)","v":0},0,null,"650+812","650+850",40165,50165,60165,70165,80165,90165,null,"650+850",40185,50185,60185,70185,80185,90185]
[null,"850+812",40385,50385,60385,70385,80385,90385,null,"850+812",{"$f":"\"\"","v":""},{"$f":"\"\"","v":""},{"$f":"\"\"","v":""},{"$f":"\"\"","v":""},{"$f":"\"\"","v":""},{"$f":"\"\"","v":""},null,null,null,null,null,null,null,null,null,null,null,null,null,null,null,null,null,null,{"$f":"IF(BA13>1,1,0)","v":0},null,{"$f":"SUM(AI20+AJ19)","v":1},null,null,30,5,1,2,3,null,null,null,null,null,null,null,null,null,{"$f":"IF(Selection!$Y$32=1,\"Rama 650A\",\"Frame 650A\")","v":"Frame 650A"},null,null,null,null,null,null,null,1,0,null,1,null,null,1,null,null,1,13,null,6,"Boki",null,1,{"$f":"IF(Selection!$Y$32=1,\"Ilość  1\",\"Quantity 1\")","v":"Quantity 1"},null,{"$f":"IF(CE21=14,23,IF(CN36=1,$BA$13,CB21))","v":1},null,null,{"$f":"IF(CN36=1,BD4,CE21)","v":1},null,null,{"$f":"IF(BA13>10,2,1)","v":1},{"$f":"IF(Selection!$Y$32=1,\"Poziomy zestaw dwóch szyn TS35\",\"Horizontal double DIN-rail for terminals\")","v":"Horizontal double DIN-rail for terminals"},null,null,null,null,"850+300",19,null,{"$f":"IF(BA13=19,7,0)","v":0},{"$f":"IF(BA13=19,1,0)","v":0},null,19,null,null,null,null,null,null,null,null,null,null,null,null,null,null,null,"Izol. AlCubar / Cu 3P, most poziomy z tyłu",20148,20148,20148,20148,20148,null,null,null,null,null,null,null,null,null,null,null,"Przył.tr.3P 630A","","","",32702,32702,32702,null,null,null,{"$f":"IF(Selection!AF48=\"\",0,IF(Selection!AF48>0,Selection!AF48,0))","v":0},{"$f":"Selection!AH48","v":0},{"$f":"IF(EK20>1,VLOOKUP(IF(ISNUMBER(EK20),TEXT(EK20,\"0\"),EK20),Pricelist!$A$53:$F$60643,2,FALSE),\"\")","v":""},{"$f":"IF(EK20>1,VLOOKUP(IF(ISNUMBER(EK20),TEXT(EK20,\"0\"),EK20),Pricelist!$A$53:$F$60643,3,FALSE),0)","v":0},0,null,"850+812","850+850",40185,50185,60185,70185,80185,90185,null,"850+850",40185,50185,60185,70185,80185,90185]
[null,"650+300",40365,50365,60365,70365,80365,90365,null,"650+300",{"$f":"\"\"","v":""},{"$f":"\"\"","v":""},{"$f":"\"\"","v":""},{"$f":"\"\"","v":""},{"$f":"\"\"","v":""},{"$f":"\"\"","v":""},null,null,null,null,null,null,null,null,null,null,null,null,null,null,null,null,null,null,null,null,null,null,null,43,5,1,2,4,null,null,null,null,null,null,null,null,null,{"$f":"IF(Selection!$Y$32=1,\"Rama 800\",\"Frame 800\")","v":"Frame 800"},null,null,null,null,null,null,null,1,0,null,1,null,null,1,null,null,1,"Cokół",null,null,{"$f":"IF(Selection!$Y$32=1,\"Brak\",\"None\")","v":"None"},null,1,{"$f":"IF(Selection!$Y$32=1,\"Ilość  2\",\"Quantity 2\")","v":"Quantity 2"},null,1,2,null,1,2,null,1,{"$f":"IF(Selection!$Y$32=1,\"Osłona mostu poziomego\",\"Horizontal busbar cover\")","v":"Horizontal busbar cover"},null,null,null,null,"850+400",20,null,{"$f":"IF(BA13=20,7,0)","v":0},{"$f":"IF(BA13=20,2,0)","v":0},null,20,null,"W 400 - 2","1 mod.","2 mod.","3 mod.","4 mod.","5 mod.","6 mod.","7 mod.","8 mod.","9 mod.","10 mod.","11 mod.","12 mod.",null,"Izol. AlCubar / Cu 4P, most poziomy z tyłu",20149,20149,20149,20149,20149,null,null,null,null,null,null,null,null,null,null,null,"Przył.tr.4P 630A","","","",32703,32703,32703,null,null,null,{"$f":"IF(Selection!AF51=\"\",0,IF(Selection!AF51>0,Selection!AF51,0))","v":0},{"$f":"Selection!AH51","v":0},{"$f":"IF(EK21>1,VLOOKUP(IF(ISNUMBER(EK21),TEXT(EK21,\"0\"),EK21),Pricelist!$A$53:$F$60643,2,FALSE),\"\")","v":""},{"$f":"IF(EK21>1,VLOOKUP(IF(ISNUMBER(EK21),TEXT(EK21,\"0\"),EK21),Pricelist!$A$53:$F$60643,3,FALSE),0)","v":0},0,null,null,"650+300",40165,50165,60165,70165,80165,90165,null,"650+300",{"$f":"\"\"","v":""},{"$f":"\"\"","v":""},{"$f":"\"\"","v":""},{"$f":"\"\"","v":""},{"$f":"\"\"","v":""},{"$f":"\"\"","v":""}]
[null,"650+400",40365,50365,60365,70365,80365,90365,null,"650+400",{"$f":"\"\"","v":""},{"$f":"\"\"","v":""},{"$f":"\"\"","v":""},{"$f":"\"\"","v":""},{"$f":"\"\"","v":""},{"$f":"\"\"","v":""},null,null,null,null,null,null,null,null,null,null,null,null,null,null,null,null,null,{"$f":"IF(BM5<3,0,1)","v":1},{"$f":"IF(BJ5>4,0,1)","v":1},{"$f":"SUM(AI23+AH22+AH23)","v":1},{"$f":"IF(BA12=1,1,0)","v":1},{"$f":"IF(AG5=2,AG1-1,IF(AG5=2,Zbaza!AG1-1,\"\"))","v":""},null,55,5,1,2,4,null,null,null,null,null,null,null,null,null,{"$f":"IF(Selection!$Y$32=1,\"Rama 650A+150\",\"Frame 650A+150\")","v":"Frame 650A+150"},null,null,null,null,null,null,null,1,0,null,1,null,null,1,null,null,null,{"$f":"IF(Selection!$Y$32=1,\"Cokół osłony boczne\",\"Plain sides\")","v":"Plain sides"},null,null,{"$f":"IF(Selection!$Y$32=1,\"Boki pełne, przykręcane\",\"\")","v":""},null,1,{"$f":"IF(Selection!$Y$32=1,\"Ilość  3\",\"Quantity 3\")","v":"Quantity 3"},null,1,"Osłony",null,1,"Ilość mod.",null,1,{"$f":"IF(Selection!$Y$32=1,\"Zestaw mocowania do ściany\",\"Zenergy cabinet wall sling rail\")","v":"Zenergy cabinet wall sling rail"},null,null,null,null,"150+650+300",21,null,{"$f":"IF(BA13=21,5,0)","v":0},{"$f":"IF(BA13=21,1,0)","v":0},null,21,null,"Brak",{"$f":"IF(CW21=0,\"\",\"\")","v":""},"","","","","","","","","","","",null,"Izol. AlCubar / Cu 1P, most pionowy, bok 200/230",{"$f":"IF(DK10=0,\"\",\"\")","v":""},{"$f":"IF(DL10=0,\"\",\"\")","v":""},{"$f":"IF(DM10=0,\"\",\"\")","v":""},20100,{"$f":"IF(DO10=0,\"\",\"\")","v":""},null,null,null,null,null,null,null,null,null,null,null,null,null,null,null,null,null,null,null,null,null,{"$f":"IF(Selection!AF54=\"\",0,IF(Selection!AF54>0,Selection!AF54,0))","v":0},{"$f":"Selection!AH54","v":0},{"$f":"IF(EK22>1,VLOOKUP(IF(ISNUMBER(EK22),TEXT(EK22,\"0\"),EK22),Pricelist!$A$53:$F$60643,2,FALSE),\"\")","v":""},{"$f":"IF(EK22>1,VLOOKUP(IF(ISNUMBER(EK22),TEXT(EK22,\"0\"),EK22),Pricelist!$A$53:$F$60643,3,FALSE),0)","v":0},0,null,null,"650+400",40165,50165,60165,70165,80165,90165,null,"650+400",40140,50140,60140,70140,80140,90140]
[null,"850+300",40385,50385,60385,70385,80385,90385,null,"850+300",{"$f":"\"\"","v":""},{"$f":"\"\"","v":""},{"$f":"\"\"","v":""},{"$f":"\"\"","v":""},{"$f":"\"\"","v":""},{"$f":"\"\"","v":""},null,"Szerokość obudowy","Osłona tylna went. IP30   Wysokość",null,null,5,null,"Pole 1,3",null,null,null,null,null,null,null,null,null,{"$f":"IF(BA12>1,1,0)","v":0},{"$f":"IF(BA13>13,1,0)","v":0},{"$f":"SUM(AH23+AI22+AI23)","v":1},{"$f":"AI23+AK22","v":1},{"$f":"IF(AK23=2,BA13-1,0)","v":0},null,null,null,null,null,null,null,null,null,null,null,null,null,null,null,{"$f":"IF(Selection!$Y$32=1,\"Rama 850A\",\"Frame 850A\")","v":"Frame 850A"},null,null,null,null,null,null,null,1,0,null,1,null,null,1,null,null,null,{"$f":"IF(Selection!$Y$32=1,\"Cokół osłony boczne z przepustem\",\"Passage\")","v":"Passage"},null,null,{"$f":"IF(Selection!$Y$32=1,\"Boki wentylowane, przykręcane\",\"\")","v":""},null,1,{"$f":"IF(Selection!$Y$32=1,\"Ilość  4\",\"Quantity 4\")","v":"Quantity 4"},null,1,{"$f":"IF(Selection!$Y$32=1,\"Brak\",\"None\")","v":"None"},null,1,{"$f":"IF(Selection!$Y$32=1,\"1 modułowa\",\"1 module\")","v":"1 module"},null,1,null,null,null,null,null,"150+650+400",22,null,{"$f":"IF(BA13=22,5,0)","v":0},{"$f":"IF(BA13=22,2,0)","v":0},null,22,null,"Osłona pełna",32010,32020,32030,32040,32050,32060,32070,32080,32090,32091,32092,32093,null,"Izol. AlCubar / Cu 3P, most pionowy z boku",{"$f":"IF(DK22=0,\"\",\"\")","v":""},"",20103,20103,20103,null,null,null,null,null,null,null,null,null,null,null,"Wsp.bok 1 rząd",31221,31222,31223,31224,31224,31224,null,null,null,{"$f":"IF(Selection!AF57=\"\",0,IF(Selection!AF57>0,Selection!AF57,0))","v":0},{"$f":"Selection!AH57","v":0},{"$f":"IF(EK23>1,VLOOKUP(IF(ISNUMBER(EK23),TEXT(EK23,\"0\"),EK23),Pricelist!$A$53:$F$60643,2,FALSE),\"\")","v":""},{"$f":"IF(EK23>1,VLOOKUP(IF(ISNUMBER(EK23),TEXT(EK23,\"0\"),EK23),Pricelist!$A$53:$F$60643,3,FALSE),0)","v":0},0,null,null,"850+300",40185,50185,60185,70185,80185,90185,null,"850+300",{"$f":"\"\"","v":""},{"$f":"\"\"","v":""},{"$f":"\"\"","v":""},{"$f":"\"\"","v":""},{"$f":"\"\"","v":""},{"$f":"\"\"","v":""}]
[null,"850+400",40385,50385,60385,70385,80385,90385,null,"850+400",{"$f":"\"\"","v":""},{"$f":"\"\"","v":""},{"$f":"\"\"","v":""},{"$f":"\"\"","v":""},{"$f":"\"\"","v":""},{"$f":"\"\"","v":""},null,null,"H 1200","H 1400","H 1600","H 1800","H 2000","H 2200",null,null,null,null,null,null,null,null,null,null,null,null,null,null,null,null,null,null,null,null,null,null,null,null,null,null,null,null,null,{"$f":"IF(Selection!$Y$32=1,\"Rama 650A+200\",\"Frame 650A+200\")","v":"Frame 650A+200"},null,null,null,null,null,null,null,1,0,null,1,null,null,1,null,null,null,null,null,null,{"$f":"IF(Selection!$Y$32=1,\"Boki pełne wraz z ramą\",\"\")","v":""},null,1,{"$f":"IF(Selection!$Y$32=1,\"Ilość  5\",\"Quantity 5\")","v":"Quantity 5"},null,null,{"$f":"IF(Selection!$Y$32=1,\"Panel osłonowy pełny\",\"Plain front plate\")","v":"Plain front plate"},null,{"$f":"IF($BA$12>1,0,IF(CE22<13,0,IF($BA$13>13,$BA$13-1,0)))","v":0},{"$f":"IF(Selection!$Y$32=1,\"2 modułowa\",\"2 modules\")","v":"2 modules"},null,1,null,null,null,null,null,null,null,null,null,{"$f":"SUM(CR2:CR14)","v":11},null,23,null,"Osł. modułowa",{"$f":"IF(CW21=0,\"\",\"\")","v":""},32025,32035,32045,32055,{"$f":"IF(DB23=0,\"\",\"\")","v":""},"","","","","","",null,"Izol. AlCubar / Cu 4P, most pionowy z boku","","",20104,20104,20104,null,null,null,null,null,null,null,null,null,null,null,"Wsp.bok 2 rzędy",31231,31232,31233,31234,31234,31234,null,null,null,{"$f":"IF(Selection!AF60=\"\",0,IF(Selection!AF60>0,Selection!AF60,0))","v":0},{"$f":"Selection!AH60","v":0},{"$f":"IF(EK24>1,VLOOKUP(IF(ISNUMBER(EK24),TEXT(EK24,\"0\"),EK24),Pricelist!$A$53:$F$60643,2,FALSE),\"\")","v":""},{"$f":"IF(EK24>1,VLOOKUP(IF(ISNUMBER(EK24),TEXT(EK24,\"0\"),EK24),Pricelist!$A$53:$F$60643,3,FALSE),0)","v":0},{"$f":"EL24*EN24","v":0},null,null,"850+400",40185,50185,60185,70185,80185,90185,null,"850+400",40140,50140,60140,70140,80140,90140]
[null,"150+650+300",40380,50380,60380,70380,80380,90380,null,"150+650+300",{"$f":"\"\"","v":""},{"$f":"\"\"","v":""},{"$f":"\"\"","v":""},{"$f":"\"\"","v":""},{"$f":"\"\"","v":""},{"$f":"\"\"","v":""},null,"Brak",{"$f":"\"\"","v":""},{"$f":"\"\"","v":""},{"$f":"\"\"","v":""},{"$f":"\"\"","v":""},{"$f":"\"\"","v":""},{"$f":"\"\"","v":""},null,null,null,null,null,{"$f":"IF(AB1<AG1,AG1-AB1,0)","v":0},{"$f":"IF(AG1<AL1,AL1-AG1,0)","v":0},{"$f":"SUM(AD25:AE25)","v":0},{"$f":"IF(BA13>13,1,0)","v":0},null,{"$f":"IF(BM6<3,0,1)","v":1},{"$f":"IF(BJ6>4,0,1)","v":1},{"$f":"SUM(AI25:AI26)","v":1},null,null,{"$f":"INDEX(($AO$27:$AR$29),$BS$20,$BS$13)","v":3},"Cokół boki / pokrywa pole 2",null,null,null,null,null,null,null,null,null,null,null,null,{"$f":"IF(Selection!$Y$32=1,\"Rama 1000A\",\"Frame 1000A\")","v":"Frame 1000A"},null,null,null,null,null,null,null,1,0,null,1,null,null,1,null,null,null,null,null,null,{"$f":"IF(Selection!$Y$32=1,\"Boki wentylowane wraz z ramą\",\"\")","v":""},null,1,{"$f":"IF(Selection!$Y$32=1,\"Ilość  6\",\"Quantity 6\")","v":"Quantity 6"},null,null,{"$f":"IF(Selection!$Y$32=1,\"Panel osłonowy modułowy\",\"Modular front plate\")","v":"Modular front plate"},null,null,{"$f":"IF(Selection!$Y$32=1,\"3 modułowa\",\"3 modules\")","v":"3 modules"},null,1,null,null,null,null,null,null,null,null,null,{"$f":"SUM(CR15:CR23)","v":0},null,24,null,"Osł. przeszklona",{"$f":"IF(CW21=0,\"\",\"\")","v":""},{"$f":"IF(CX21=0,\"\",\"\")","v":""},32039,32049,{"$f":"IF(DA21=0,\"\",\"\")","v":""},32069,{"$f":"IF(DC21=0,\"\",\"\")","v":""},32079,{"$f":"IF(DE21=0,\"\",\"\")","v":""},32089,{"$f":"IF(DG21=0,\"\",\"\")","v":""},32099,null,"Izol. AlCubar / Cu 3P, doizolowanie pion, bok 400","","",20108,20108,20108,null,null,null,null,null,null,null,null,null,null,null,null,{"$f":"IF(EB24=0,\"\",\"\")","v":""},"","","","","",null,null,null,{"$f":"IF(Selection!AF63=\"\",0,IF(Selection!AF63>0,Selection!AF63,0))","v":0},{"$f":"Selection!AH63","v":0},{"$f":"IF(EK25>1,VLOOKUP(IF(ISNUMBER(EK25),TEXT(EK25,\"0\"),EK25),Pricelist!$A$53:$F$60643,2,FALSE),\"\")","v":""},{"$f":"IF(EK25>1,VLOOKUP(IF(ISNUMBER(EK25),TEXT(EK25,\"0\"),EK25),Pricelist!$A$53:$F$60643,3,FALSE),0)","v":0},0,null,null,"150+650+300",40165,50165,60165,70165,80165,90165,null,"150+650+300",{"$f":"\"\"","v":""},{"$f":"\"\"","v":""},{"$f":"\"\"","v":""},{"$f":"\"\"","v":""},{"$f":"\"\"","v":""},{"$f":"\"\"","v":""}]
[null,"150+650+400",40380,50380,60380,70380,80380,90380,null,"150+650+400",{"$f":"\"\"","v":""},{"$f":"\"\"","v":""},{"$f":"\"\"","v":""},{"$f":"\"\"","v":""},{"$f":"\"\"","v":""},{"$f":"\"\"","v":""},null,300,41330,51330,61330,71330,81330,91330,null,null,null,null,null,{"$f":"AG1-1","v":0},{"$f":"AL1-1","v":0},{"$f":"SUM(AD26:AE26)","v":0},{"$f":"AF26-AF25-AG25","v":0},null,{"$f":"IF(BA15>1,1,0)","v":0},null,{"$f":"SUM(AI26+AJ25)","v":1},null,null,"Cokół","Brak",100,200,"Pokrywa",null,null,null,null,null,null,null,null,null,{"$f":"IF(Selection!$Y$32=1,\"Rama 1200\",\"Frame 1200\")","v":"Frame 1200"},null,null,null,null,null,null,null,1,0,null,1,null,null,1,null,null,null,null,null,null,null,null,1,{"$f":"IF(Selection!$Y$32=1,\"Ilość  7\",\"Quantity 7\")","v":"Quantity 7"},null,null,{"$f":"IF(Selection!$Y$32=1,\"Panel osłonowy przeszklony\",\"Transparent front plate\")","v":"Transparent front plate"},null,null,{"$f":"IF(Selection!$Y$32=1,\"4 modułowa\",\"4 modules\")","v":"4 modules"},null,1,null,null,null,null,null,null,null,null,null,null,null,25,null,"Szyna stała TS35",32000,32000,32000,32000,32000,32000,32000,32000,32000,32000,32000,32000,null,"Izol. AlCubar / Cu 4P, doizolowanie pion, bok 400","","",20109,20109,20109,null,null,null,null,null,null,null,null,null,null,null,null,null,null,null,null,null,null,null,null,null,{"$f":"IF(Selection!AF66=\"\",0,IF(Selection!AF66>0,Selection!AF66,0))","v":0},{"$f":"Selection!AH66","v":0},{"$f":"IF(EK26>1,VLOOKUP(IF(ISNUMBER(EK26),TEXT(EK26,\"0\"),EK26),Pricelist!$A$53:$F$60643,2,FALSE),\"\")","v":""},{"$f":"IF(EK26>1,VLOOKUP(IF(ISNUMBER(EK26),TEXT(EK26,\"0\"),EK26),Pricelist!$A$53:$F$60643,3,FALSE),0)","v":0},0,null,null,"150+650+400",40165,50165,60165,70165,80165,90165,null,"150+650+400",40140,50140,60140,70140,80140,90140]
[null,null,null,null,null,null,null,null,null,null,null,null,null,null,null,null,null,400,41340,51340,61340,71340,81340,91340,null,null,null,null,null,null,null,null,null,null,null,null,null,null,null,"P.boki",3,1,1,3,null,null,null,null,null,null,null,null,null,{"$f":"IF(Selection!$Y$32=1,\"Rama 1300\",\"Frame 1300\")","v":"Frame 1300"},null,null,null,null,null,null,null,1,0,null,1,null,null,1,null,null,null,null,null,null,null,null,1,{"$f":"IF(Selection!$Y$32=1,\"Ilość  8\",\"Quantity 8\")","v":"Quantity 8"},null,null,{"$f":"IF(Selection!$Y$32=1,\"Szyna montażowa TS35D stała\",\"Fixed TS35D rail\")","v":"Fixed TS35D rail"},null,null,{"$f":"IF(Selection!$Y$32=1,\"5 modułowa\",\"5 modules\")","v":"5 modules"},null,{"$f":"IF($BA$12>1,0,IF($BA$13>10,$BA$13-1,CH21))","v":1},null,null,null,null,null,null,null,null,null,null,null,26,null,"Szyna reg.TS35",32005,32005,32005,32005,32005,32005,32005,32005,32005,32005,32005,32005,null,{"$f":"IF(Selection!$Y$32=1,\"Podpora szyny AlCubar\",\"Free 3P insulator\")","v":"Free 3P insulator"},20070,20070,20070,20070,20070,{"$f":"IF(DP3=0,\"\",\"\")","v":""},null,null,null,null,null,null,null,null,null,null,null,"Izol.3P tył poz.","Izol.4P tył poz.",null,null,null,null,null,null,null,{"$f":"IF(Selection!AF69=\"\",0,IF(Selection!AF69>0,Selection!AF69,0))","v":0},{"$f":"Selection!AH69","v":0},{"$f":"IF(EK27>1,VLOOKUP(IF(ISNUMBER(EK27),TEXT(EK27,\"0\"),EK27),Pricelist!$A$53:$F$60643,2,FALSE),\"\")","v":""},{"$f":"IF(EK27>1,VLOOKUP(IF(ISNUMBER(EK27),TEXT(EK27,\"0\"),EK27),Pricelist!$A$53:$F$60643,3,FALSE),0)","v":0},0]
[null,null,null,null,null,null,null,null,null,"Wysokość","Cokół bok głębokość pełny",null,null,null,null,null,null,450,41345,51345,61345,71345,81345,91345,null,null,null,null,null,{"$f":"IF(BA13>23,1,0)","v":0},{"$f":"IF(AG1+AL1>2,1,0)","v":0},{"$f":"IF(BT94=0,0,1)","v":1},{"$f":"AE28+AF28-AD28","v":1},null,{"$f":"IF(Selection!AN32=31105,0,1)","v":1},{"$f":"IF(Selection!AN32=31205,0,1)","v":1},{"$f":"SUM(AI28:AJ28)","v":2},null,null,"Przepust",3,2,2,3,null,null,null,null,null,null,null,null,null,{"$f":"IF(Selection!$Y$32=1,\"Rama 650A+650A\",\"Frame 650A+650A\")","v":"Frame 650A+650A"},null,null,null,null,null,null,null,1,0,null,1,null,null,1,null,null,null,null,null,null,null,null,1,{"$f":"IF(Selection!$Y$32=1,\"Ilość  9\",\"Quantity 9\")","v":"Quantity 9"},null,null,{"$f":"IF(Selection!$Y$32=1,\"Szyna montażowa TS35D regulowana\",\"Adjustable TS35D rail\")","v":"Adjustable TS35D rail"},null,null,{"$f":"IF(Selection!$Y$32=1,\"6 modułowa\",\"6 modules\")","v":"6 modules"},null,null,null,null,null,null,null,null,null,null,null,null,null,27,null,"Płyta ocynk pełna",{"$f":"IF(CW21=0,\"\",\"\")","v":""},33042,33043,33044,33045,33046,{"$f":"IF(DC21=0,\"\",\"\")","v":""},33047,{"$f":"IF(DE21=0,\"\",\"\")","v":""},33048,{"$f":"IF(DG21=0,\"\",\"\")","v":""},33049,null,"Izol. AlCubar 630 1P, most poziomy, 200/230",20160,{"$f":"IF(DL27=0,\"\",\"\")","v":""},{"$f":"IF(DM27=0,\"\",\"\")","v":""},20160,{"$f":"IF(DO27=0,\"\",\"\")","v":""},null,null,null,null,null,null,null,null,null,null,null,null,{"$f":"IF(EB27=0,\"\",\"\")","v":""},{"$f":"IF(EC27=0,\"\",\"\")","v":""},null,null,null,null,null,null,null,{"$f":"IF(Selection!AF72=\"\",0,IF(Selection!AF72>0,Selection!AF72,0))","v":0},{"$f":"Selection!AH72","v":0},{"$f":"IF(EK28>1,VLOOKUP(IF(ISNUMBER(EK28),TEXT(EK28,\"0\"),EK28),Pricelist!$A$53:$F$60643,2,FALSE),\"\")","v":""},{"$f":"IF(EK28>1,VLOOKUP(IF(ISNUMBER(EK28),TEXT(EK28,\"0\"),EK28),Pricelist!$A$53:$F$60643,3,FALSE),0)","v":0},0]
[null,null,null,null,null,null,null,null,null,null,230,300,400,600,800,null,null,600,41360,51360,61360,71360,81360,91360,null,null,null,null,null,null,null,null,null,null,{"$f":"IF(Selection!AV32=31105,0,1)","v":1},{"$f":"IF(Selection!AV32=31205,0,1)","v":1},{"$f":"SUM(AI29:AJ29)","v":2},null,null,null,null,null,null,null,null,null,null,null,null,null,null,null,null,{"$f":"IF(Selection!$Y$32=1,\"Rama 650A+850A\",\"Frame 650A+850A\")","v":"Frame 650A+850A"},null,null,null,null,null,null,null,1,0,null,1,null,null,1,null,null,{"$f":"SUM(BS30:BS40)","v":0},null,null,null,null,null,1,{"$f":"IF(Selection!$Y$32=1,\"Ilość  10\",\"Quantity 10\")","v":"Quantity 10"},null,null,{"$f":"IF(Selection!$Y$32=1,\"Płyta montażowa pełna ocynkowana\",\"Plain mounting plate\")","v":"Plain mounting plate"},null,null,{"$f":"IF(Selection!$Y$32=1,\"7 modułowa\",\"7 modules\")","v":"7 modules"},null,null,null,null,null,null,null,null,null,null,null,null,null,28,null,"Płyta malow.otw.",{"$f":"IF(CW21=0,\"\",\"\")","v":""},33542,33543,33544,33545,33546,{"$f":"IF(DC21=0,\"\",\"\")","v":""},33547,{"$f":"IF(DE21=0,\"\",\"\")","v":""},33548,{"$f":"IF(DG21=0,\"\",\"\")","v":""},33549,null,{"$f":"IF(Selection!$Y$32=1,\"Izol. AlCubar 630 3P, most poziomy, 400\",\"Horizontal200 1P insul.\")","v":"Horizontal200 1P insul."},{"$f":"IF(DK28=0,\"\",\"\")","v":""},"",20163,20163,20163,null,null,null,null,null,null,null,null,null,null,null,null,31703,31704,null,null,null,null,null,null,null,{"$f":"IF(Selection!AF75=\"\",0,IF(Selection!AF75>0,Selection!AF75,0))","v":0},{"$f":"Selection!AH75","v":0},{"$f":"IF(EK29>1,VLOOKUP(IF(ISNUMBER(EK29),TEXT(EK29,\"0\"),EK29),Pricelist!$A$53:$F$60643,2,FALSE),\"\")","v":""},{"$f":"IF(EK29>1,VLOOKUP(IF(ISNUMBER(EK29),TEXT(EK29,\"0\"),EK29),Pricelist!$A$53:$F$60643,3,FALSE),0)","v":0},0,null,null,"Szerokość obudowy","Rama osłon na zawiasach do plomb.  Wysokość, Pole 1,3",null,null,null,3,null,null,"Szerokość obudowy","Rama osłon na zawiasach do plomb.  Wysokość, Pole 2",null,null,null,3]
[null,"Szerokość obudowy","Drzwi wentylowane IP30 Wysokość",null,null,2,null,"Pole 1,3",null,"Brak",{"$f":"IF(K29=0,\"\",\"\")","v":""},{"$f":"IF(L29=0,\"\",\"\")","v":""},{"$f":"IF(M29=0,\"\",\"\")","v":""},{"$f":"IF(N29=0,\"\",\"\")","v":""},{"$f":"IF(O29=0,\"\",\"\")","v":""},null,null,650,41365,51365,61365,71365,81365,91365,null,null,null,null,null,null,{"$f":"IF(BA12>1,1,0)","v":0},{"$f":"IF(BA13>10,2,0)","v":0},{"$f":"SUM(AE30:AF30)","v":0},null,null,null,null,null,null,null,null,null,null,null,null,null,null,null,null,null,null,null,null,{"$f":"IF(Selection!$Y$32=1,\"Rama 850A+850A\",\"Frame 850A+850A\")","v":"Frame 850A+850A"},null,null,null,null,null,null,null,1,0,null,1,null,null,1,null,null,{"$f":"IF(BV20=1,5,0)","v":0},1,null,1,1,null,1,{"$f":"IF(Selection!$Y$32=1,\"Ilość  11\",\"Quantity 11\")","v":"Quantity 11"},null,null,{"$f":"IF(Selection!$Y$32=1,\"Płyta montażowa otworowana ocynk\",\"Painted mounting plate\")","v":"Painted mounting plate"},null,null,{"$f":"IF(Selection!$Y$32=1,\"8 modułowa\",\"8 modules\")","v":"8 modules"},null,null,"Akc.szerokość",null,null,null,null,null,null,null,null,null,null,29,null,"Płyta oc. pozioma",33741,33742,33743,33744,33745,33746,33747,33748,null,33749,{"$f":"IF(DG20=0,\"\",\"\")","v":""},{"$f":"IF(DH20=0,\"\",\"\")","v":""},null,{"$f":"IF(Selection!$Y$32=1,\"Izol. AlCubar 630 4P, most poziomy, 400\",\"Horizontal200 1P insul.\")","v":"Horizontal200 1P insul."},"","",20164,20164,20164,null,null,null,null,null,null,null,null,null,null,null,null,null,null,null,null,null,null,null,null,null,{"$f":"IF(Selection!AF78=\"\",0,IF(Selection!AF78>0,Selection!AF78,0))","v":0},{"$f":"Selection!AH78","v":0},{"$f":"IF(EK30>1,VLOOKUP(IF(ISNUMBER(EK30),TEXT(EK30,\"0\"),EK30),Pricelist!$A$53:$F$60643,2,FALSE),\"\")","v":""},{"$f":"IF(EK30>1,VLOOKUP(IF(ISNUMBER(EK30),TEXT(EK30,\"0\"),EK30),Pricelist!$A$53:$F$60643,3,FALSE),0)","v":0},{"$f":"EL30*EN30","v":0},null,null,null,"H 1200","H 1400","H 1600","H 1800","H 2000","H 2200",null,null,"H 1200","H 1400","H 1600","H 1800","H 2000","H 2200"]
[null,null,"H 1200","H 1400","H 1600","H 1800","H 2000","H 2200",null,100,30023,30033,30043,30063,30083,null,null,800,41380,51380,61380,71380,81380,91380,null,null,null,null,null,null,null,null,null,null,{"$f":"IF(BA12>1,1,0)","v":0},{"$f":"IF(Selection!AF32<31200,1,0)","v":0},{"$f":"SUM(AI31:AJ31)","v":0},null,null,null,null,null,null,null,null,null,null,null,null,null,null,null,null,{"$f":"IF(Selection!$Y$32=1,\"Rama 650A+300\",\"Frame 650A+300\")","v":"Frame 650A+300"},null,null,null,null,null,null,null,1,0,null,1,null,null,1,null,null,{"$f":"IF(BV20=2,4,0)","v":0},2,null,1,"Akcesoria głęb.",null,1,{"$f":"IF(Selection!$Y$32=1,\"Ilość  12\",\"Quantity 12\")","v":"Quantity 12"},null,null,{"$f":"IF(Selection!$Y$32=1,\"Płyta montażowa pozioma ocynk\",\"Horizontal plain mounting plate\")","v":"Horizontal plain mounting plate"},null,null,{"$f":"IF(Selection!$Y$32=1,\"9 modułowa\",\"9 modules\")","v":"9 modules"},null,null,{"$f":"IF(Selection!$Y$32=1,\"Brak\",\"None\")","v":"None"},null,null,null,null,null,null,null,null,null,null,30,null,"Płyta licznikowa",33204,33204,33204,33204,33204,33204,33204,33204,33204,33204,33204,33204,null,{"$f":"IF(Selection!$Y$32=1,\"Izol. AlCubar 630 3P, doizolowanie poz.400\",\"Free 3P insulator\")","v":"Free 3P insulator"},"","",20168,20168,20168,null,null,null,null,null,null,null,null,null,null,null,null,null,null,null,null,null,null,null,null,null,{"$f":"IF(Selection!AF81=\"\",0,IF(Selection!AF81>0,Selection!AF81,0))","v":0},{"$f":"Selection!AH81","v":0},{"$f":"IF(EK31>1,VLOOKUP(IF(ISNUMBER(EK31),TEXT(EK31,\"0\"),EK31),Pricelist!$A$53:$F$60643,2,FALSE),\"\")","v":""},{"$f":"IF(EK31>1,VLOOKUP(IF(ISNUMBER(EK31),TEXT(EK31,\"0\"),EK31),Pricelist!$A$53:$F$60643,3,FALSE),0)","v":0},0,null,null,"Brak",{"$f":"\"\"","v":""},{"$f":"\"\"","v":""},{"$f":"\"\"","v":""},{"$f":"\"\"","v":""},{"$f":"\"\"","v":""},{"$f":"\"\"","v":""},null,"Brak",{"$f":"\"\"","v":""},{"$f":"\"\"","v":""},{"$f":"\"\"","v":""},{"$f":"\"\"","v":""},{"$f":"\"\"","v":""},{"$f":"\"\"","v":""}]
[null,"Brak",{"$f":"IF(C31=0,\"\",\"\")","v":""},"","","","","",null,200,30123,30133,30143,30163,30183,null,null,"650+150",41380,51380,61380,71380,81380,91380,null,null,null,null,null,null,null,null,null,null,null,null,null,null,null,{"$f":"INDEX(($AO34:$AR36),$BS$21,$BS$13)","v":3},"Cokół boki / pokrywa pole 3",null,null,null,null,null,null,null,null,null,null,null,null,{"$f":"IF(Selection!$Y$32=1,\"Rama 650A+400A\",\"Frame 650A+400A\")","v":"Frame 650A+400A"},null,null,null,null,null,null,null,1,0,null,1,null,null,1,null,null,{"$f":"IF(BV20=3,3,0)","v":0},3,null,1,{"$f":"IF(Selection!$Y$32=1,\"Brak\",\"None\")","v":"None"},null,1,{"$f":"IF(Selection!$Y$32=1,\"Ilość  13\",\"Quantity 13\")","v":"Quantity 13"},null,null,{"$f":"IF(Selection!$Y$32=1,\"Zabudowa licznikowa\",\"kWh mounting plate\")","v":"kWh mounting plate"},null,null,{"$f":"IF(Selection!$Y$32=1,\"10 modułowa\",\"10 modules\")","v":"10 modules"},null,null,{"$f":"IF(Selection!$Y$32=1,\"Izolator 3P, most pionowy na plecach\",\"Rear 3P vertical busbar support\")","v":"Rear 3P vertical busbar support"},null,null,null,null,null,null,null,null,null,null,31,null,null,{"$f":"IF(CW21=0,\"\",\"\")","v":""},"","","","","","","","","","","",null,{"$f":"IF(Selection!$Y$32=1,\"Izol. AlCubar 630 4P, doizolowanie poz.400\",\"Free 3P insulator\")","v":"Free 3P insulator"},"","",20169,20169,20169,null,null,null,null,null,null,null,null,null,null,null,null,null,null,null,null,null,null,null,null,null,{"$f":"IF(Selection!AF84=\"\",0,IF(Selection!AF84>0,Selection!AF84,0))","v":0},{"$f":"Selection!AH84","v":0},{"$f":"IF(EK32>1,VLOOKUP(IF(ISNUMBER(EK32),TEXT(EK32,\"0\"),EK32),Pricelist!$A$53:$F$60643,2,FALSE),\"\")","v":""},{"$f":"IF(EK32>1,VLOOKUP(IF(ISNUMBER(EK32),TEXT(EK32,\"0\"),EK32),Pricelist!$A$53:$F$60643,3,FALSE),0)","v":0},0,null,null,300,{"$f":"\"\"","v":""},{"$f":"\"\"","v":""},{"$f":"\"\"","v":""},{"$f":"\"\"","v":""},{"$f":"\"\"","v":""},{"$f":"\"\"","v":""},null,300,{"$f":"\"\"","v":""},{"$f":"\"\"","v":""},{"$f":"\"\"","v":""},{"$f":"\"\"","v":""},{"$f":"\"\"","v":""},{"$f":"\"\"","v":""}]
[null,300,40230,50230,60230,70230,80230,90230,null,"Pokr. Pełna",{"$f":"IF(K32=0,\"\",\"\")","v":""},{"$f":"IF(L32=0,\"\",\"\")","v":""},{"$f":"IF(M32=0,\"\",\"\")","v":""},{"$f":"IF(N32=0,\"\",\"\")","v":""},{"$f":"IF(O32=0,\"\",\"\")","v":""},null,null,850,41385,51385,61385,71385,81385,91385,null,null,null,null,null,null,null,null,null,null,null,null,null,null,null,"Cokół","Brak",100,200,"Pokrywa",null,null,null,null,null,null,null,null,null,{"$f":"IF(Selection!$Y$32=1,\"Rama 850A+300\",\"Frame 850A+300\")","v":"Frame 850A+300"},null,null,null,null,null,null,null,1,0,null,1,null,null,1,null,null,{"$f":"IF(BV20=4,2,0)","v":0},4,null,1,{"$f":"IF(Selection!$Y$32=1,\"Wspornik płyt montażowych, boczny 200/230\",\"Side support for mounting plates D200/230\")","v":"Side support for mounting plates D200/230"},null,1,{"$f":"IF(Selection!$Y$32=1,\"Ilość  14\",\"Quantity 14\")","v":"Quantity 14"},null,null,null,null,null,{"$f":"IF(Selection!$Y$32=1,\"11 modułowa\",\"11 modules\")","v":"11 modules"},null,null,{"$f":"IF(Selection!$Y$32=1,\"Izolator 4P, most pionowy na plecach\",\"Rear 4P vertical busbar support\")","v":"Rear 4P vertical busbar support"},null,null,null,null,null,null,null,null,null,null,32,null,null,{"$f":"IF(CW21=0,\"\",\"\")","v":""},"","","","","","","","","","","",null,"Izol. AlCubar 630 1P, most pionowy, 200/230","","",{"$f":"IF(DM32=0,\"\",\"\")","v":""},20151,{"$f":"IF(DO32=0,\"\",\"\")","v":""},null,null,null,null,null,null,null,null,null,null,null,null,null,null,null,null,null,null,null,null,null,{"$f":"IF(Selection!AF87=\"\",0,IF(Selection!AF87>0,Selection!AF87,0))","v":0},{"$f":"Selection!AH87","v":0},{"$f":"IF(EK33>1,VLOOKUP(IF(ISNUMBER(EK33),TEXT(EK33,\"0\"),EK33),Pricelist!$A$53:$F$60643,2,FALSE),\"\")","v":""},{"$f":"IF(EK33>1,VLOOKUP(IF(ISNUMBER(EK33),TEXT(EK33,\"0\"),EK33),Pricelist!$A$53:$F$60643,3,FALSE),0)","v":0},0,null,null,400,40141,50141,60141,70141,80141,90141,null,400,40141,50141,60141,70141,80141,90141]
[null,400,40240,50240,60240,70240,80240,90240,null,null,null,null,null,null,null,null,null,"650+200",41385,51385,61385,71385,81385,91385,null,null,null,null,null,null,null,null,null,null,{"$f":"IF(Selection!AF32=\"\",0,1)","v":0},{"$f":"IF(Selection!AN12=\"\",0,1)","v":0},{"$f":"SUM(AI34:AJ34)","v":0},null,null,"P.boki",3,1,1,3,null,null,null,null,null,null,null,null,null,{"$f":"IF(Selection!$Y$32=1,\"Rama 850A+400A\",\"Frame 850A+400A\")","v":"Frame 850A+400A"},null,null,null,null,null,null,null,1,0,null,1,null,null,1,null,null,{"$f":"IF(BV20=5,1,0)","v":0},5,null,1,{"$f":"IF(Selection!$Y$32=1,\"Wspornik płyt montażowych, boczny 400\",\"Side support for mounting plates D400\")","v":"Side support for mounting plates D400"},null,1,{"$f":"IF(Selection!$Y$32=1,\"Ilość  15\",\"Quantity 15\")","v":"Quantity 15"},null,null,null,null,null,{"$f":"IF(Selection!$Y$32=1,\"12 modułowa\",\"12 modules\")","v":"12 modules"},null,null,{"$f":"IF(Selection!$Y$32=1,\"Izolator 3P, most pion. na plecach reg.\",\"Rear 3P vertical busbar support regulated\")","v":"Rear 3P vertical busbar support regulated"},null,null,null,null,null,null,null,null,null,null,33,null,null,{"$f":"IF(CW21=0,\"\",\"\")","v":""},"","","","","","","","","","","",null,"Izol. AlCubar 630 3P, most pionowy z boku","","",20153,20153,20153,null,null,null,null,null,null,null,null,null,null,null,null,null,null,null,null,null,null,null,null,null,{"$f":"IF(Selection!AF90=\"\",0,IF(Selection!AF90>0,Selection!AF90,0))","v":0},{"$f":"Selection!AH90","v":0},{"$f":"IF(EK34>1,VLOOKUP(IF(ISNUMBER(EK34),TEXT(EK34,\"0\"),EK34),Pricelist!$A$53:$F$60643,2,FALSE),\"\")","v":""},{"$f":"IF(EK34>1,VLOOKUP(IF(ISNUMBER(EK34),TEXT(EK34,\"0\"),EK34),Pricelist!$A$53:$F$60643,3,FALSE),0)","v":0},0,null,null,450,40146,50146,60146,70146,80146,90146,null,450,40146,50146,60146,70146,80146,90146]
[null,450,40245,50245,60245,70245,80245,90245,null,"Wysokość","Cokół bok głębokość przepust",null,null,null,null,null,null,1000,41310,51310,61310,71310,81310,91310,null,null,null,null,null,null,null,null,null,null,{"$f":"IF(Selection!AF32=\"\",0,1)","v":0},{"$f":"IF(Selection!AV12=\"\",0,1)","v":0},{"$f":"SUM(AI35:AJ35)","v":0},null,null,"Przepust",3,2,2,3,null,null,null,null,null,null,null,null,null,{"$f":"IF(Selection!$Y$32=1,\"Rama 150+650A+300\",\"Frame 150+650A+300\")","v":"Frame 150+650A+300"},null,null,null,null,null,null,null,null,null,null,null,null,null,null,null,null,{"$f":"IF(BV20=6,0,0)","v":0},6,null,1,{"$f":"IF(Selection!$Y$32=1,\"Uchwyt płyt montażowych\",\"Plates grip for side support\")","v":"Plates grip for side support"},null,1,{"$f":"IF(Selection!$Y$32=1,\"Ilość  16\",\"Quantity 16\")","v":"Quantity 16"},null,{"$f":"IF(CE40=14,14,IF(CP37=1,$BA$15,CB40))","v":1},null,null,{"$f":"IF(CP37=1,BD4,CE40)","v":1},{"$f":"IF(Selection!$Y$32=1,\"Płyta pełna ocynkowana\",\"Plain mounting plate\")","v":"Plain mounting plate"},null,null,{"$f":"IF(Selection!$Y$32=1,\"Izolator 4P, most pion. na plecach reg.\",\"Rear 4P vertical busbar support regulated\")","v":"Rear 4P vertical busbar support regulated"},null,null,null,null,{"$f":"IF(CE4>12,1,0)","v":0},{"$f":"IF(CE5>12,1,0)","v":0},{"$f":"IF(CE6>12,1,0)","v":0},{"$f":"IF($CE$4=13,14,IF($CE$4=14,14,$CQ$1))","v":11},{"$f":"IF($CE$5=13,14,IF($CE$5=14,14,$CR$1))","v":11},{"$f":"IF($CE$6=13,14,IF($CE$6=14,14,$CS$1))","v":11},34,null,null,{"$f":"IF(CW21=0,\"\",\"\")","v":""},"","","","","","","","","","","",null,"Izol. AlCubar 630 4P, most pionowy z boku","","",20154,20154,20154,null,null,null,null,null,null,null,null,null,null,null,null,null,null,null,null,null,null,null,null,null,{"$f":"IF(Selection!AF93=\"\",0,IF(Selection!AF93>0,Selection!AF93,0))","v":0},{"$f":"Selection!AH93","v":0},{"$f":"IF(EK35>1,VLOOKUP(IF(ISNUMBER(EK35),TEXT(EK35,\"0\"),EK35),Pricelist!$A$53:$F$60643,2,FALSE),\"\")","v":""},{"$f":"IF(EK35>1,VLOOKUP(IF(ISNUMBER(EK35),TEXT(EK35,\"0\"),EK35),Pricelist!$A$53:$F$60643,3,FALSE),0)","v":0},0,null,null,600,{"$f":"\"\"","v":""},{"$f":"\"\"","v":""},{"$f":"\"\"","v":""},{"$f":"\"\"","v":""},{"$f":"\"\"","v":""},{"$f":"\"\"","v":""},null,600,{"$f":"\"\"","v":""},{"$f":"\"\"","v":""},{"$f":"\"\"","v":""},{"$f":"\"\"","v":""},{"$f":"\"\"","v":""},{"$f":"\"\"","v":""}]
[null,600,40260,50260,60260,70260,80260,90260,null,null,230,300,400,600,800,null,null,1200,41312,51312,61312,71312,81312,91312,null,null,null,null,null,null,null,null,null,null,null,null,null,null,null,null,null,null,null,null,null,null,null,null,null,null,null,null,null,{"$f":"IF(Selection!$Y$32=1,\"Rama 150+650A+400A\",\"Frame 150+650A+400A\")","v":"Frame 150+650A+400A"},null,null,null,null,null,null,null,null,null,null,null,null,null,null,null,null,{"$f":"IF(BV20=7,-1,0)","v":0},7,null,1,{"$f":"IF(Selection!$Y$32=1,\"Izolator AlCubar / Cu 1P most poziomy 200/230\",\"Horizontal AlCubar / Cu 1P busbar support D200/230\")","v":"Horizontal AlCubar / Cu 1P busbar support D200/230"},null,1,{"$f":"IF(Selection!$Y$32=1,\"Ilość  17\",\"Quantity 17\")","v":"Quantity 17"},null,{"$f":"IF(CE39=14,25,IF(CO37=1,$BA$12,CB39))","v":1},null,null,{"$f":"IF(CO37=1,BD4,CE39)","v":1},{"$f":"IF(Selection!$Y$32=1,\"Łącznik płyt pełnych\",\"Plates connector\")","v":"Plates connector"},null,null,{"$f":"IF(Selection!$Y$32=1,\"Izol. 3P, podpora mostu na plecach, reg.\",\"Rear 3P vert. busbar bottom support regulated\")","v":"Rear 3P vert. busbar bottom support regulated"},null,null,null,null,{"$f":"IF(CE21>12,1,0)","v":0},{"$f":"IF(CE22>12,1,0)","v":0},{"$f":"IF(CE23>12,1,0)","v":0},{"$f":"IF($CE$21=13,14,IF($CE$21=14,14,$CQ$1))","v":11},{"$f":"IF($CE$22=13,14,IF($CE$22=14,14,$CR$1))","v":11},11,35,null,null,{"$f":"IF(CW21=0,\"\",\"\")","v":""},"","","","","","","","","","","",null,{"$f":"IF(Selection!$Y$32=1,\"Izolator 3P,rozstaw 60 mm z plytą montażową\",\"\")","v":""},36020,36020,36020,36020,36020,{"$f":"IF(DP29=0,\"\",\"\")","v":""},null,null,null,null,null,null,null,null,null,null,null,null,null,null,null,null,null,null,null,"Pole 2",{"$f":"IF(Selection!AN12=\"\",0,IF(Selection!AN12>0,Selection!AN12,0))","v":0},{"$f":"IF(Selection!AP12=\"\",0,Selection!AP12)","v":0},{"$f":"IF(EK36>1,VLOOKUP(IF(ISNUMBER(EK36),TEXT(EK36,\"0\"),EK36),Pricelist!$A$53:$F$60643,2,FALSE),\"\")","v":""},{"$f":"IF(EK36>1,VLOOKUP(IF(ISNUMBER(EK36),TEXT(EK36,\"0\"),EK36),Pricelist!$A$53:$F$60643,3,FALSE),0)","v":0},0,null,null,650,40166,50166,60166,70166,80166,90166,null,650,40166,50166,60166,70166,80166,90166]
[null,650,40265,50265,60265,70265,80265,90265,null,"Brak",{"$f":"IF(K36=0,\"\",\"\")","v":""},{"$f":"IF(L36=0,\"\",\"\")","v":""},{"$f":"IF(M36=0,\"\",\"\")","v":""},{"$f":"IF(N36=0,\"\",\"\")","v":""},{"$f":"IF(O36=0,\"\",\"\")","v":""},null,null,1300,41313,51313,61313,71313,81313,91313,null,null,null,null,null,null,null,null,null,null,null,null,null,null,null,null,null,null,null,null,null,null,null,null,null,null,null,null,null,null,null,null,null,null,null,null,null,null,null,null,null,null,null,null,null,null,{"$f":"IF(BV20=8,-2,0)","v":0},8,null,1,{"$f":"IF(Selection!$Y$32=1,\"Izolator AlCubar / Cu 3P most poziomy 400\",\"Horizontal AlCubar / Cu 3P busbar support D400\")","v":"Horizontal AlCubar / Cu 3P busbar support D400"},null,1,{"$f":"IF(Selection!$Y$32=1,\"Ilość  18\",\"Quantity 18\")","v":"Quantity 18"},null,{"$f":"IF(CE38=14,23,IF(CN37=1,$BA$13,CB38))","v":1},null,null,{"$f":"IF(CN37=1,BD4,CE38)","v":1},null,null,null,{"$f":"IF(Selection!$Y$32=1,\"Izol. 4P, podpora mostu na plecach, reg.\",\"Rear 4P vert. busbar bottom support regulated\")","v":"Rear 4P vert. busbar bottom support regulated"},null,null,null,null,{"$f":"IF(CE38>12,1,0)","v":0},{"$f":"IF(CE39>12,1,0)","v":0},{"$f":"IF(CE40>12,1,0)","v":0},{"$f":"IF($CE$38=13,14,IF($CE$38=14,14,$CQ$1))","v":11},{"$f":"IF($CE$39=13,14,IF($CE$39=14,14,$CR$1))","v":11},11,36,null,null,null,null,null,null,null,null,null,null,null,null,null,null,null,{"$f":"IF(Selection!$Y$32=1,\"Izolator 3P,rozstaw 100 mm z plytą montażową\",\"\")","v":""},36030,36030,36030,36030,36030,{"$f":"IF(DP36=0,\"\",\"\")","v":""},null,null,null,null,null,null,null,null,null,null,null,null,null,null,null,null,null,null,null,null,{"$f":"IF(Selection!AN15=\"\",0,IF(Selection!AN15>0,Selection!AN15,0))","v":0},{"$f":"IF(Selection!AP15=\"\",0,Selection!AP15)","v":0},{"$f":"IF(EK37>1,VLOOKUP(IF(ISNUMBER(EK37),TEXT(EK37,\"0\"),EK37),Pricelist!$A$53:$F$60643,2,FALSE),\"\")","v":""},{"$f":"IF(EK37>1,VLOOKUP(IF(ISNUMBER(EK37),TEXT(EK37,\"0\"),EK37),Pricelist!$A$53:$F$60643,3,FALSE),0)","v":0},0,null,null,800,{"$f":"\"\"","v":""},{"$f":"\"\"","v":""},{"$f":"\"\"","v":""},{"$f":"\"\"","v":""},{"$f":"\"\"","v":""},{"$f":"\"\"","v":""},null,800,{"$f":"\"\"","v":""},{"$f":"\"\"","v":""},{"$f":"\"\"","v":""},{"$f":"\"\"","v":""},{"$f":"\"\"","v":""},{"$f":"\"\"","v":""}]
[null,800,40280,50280,60280,70280,80280,90280,null,100,30100,30100,30100,30100,30100,null,null,"650+650",41365,51365,61365,71365,81365,91365,null,{"$f":"IF(Selection!AF42=\"\",0,1)","v":0},{"$f":"IF(Selection!AF42>40000,1,0)","v":1},{"$f":"SUM(Z38:AA38)","v":1},null,null,{"$f":"IF(Selection!AN42=\"\",0,1)","v":0},{"$f":"IF(Selection!AN42>40000,1,0)","v":1},{"$f":"SUM(AE38:AF38)","v":1},null,{"$f":"IF(Selection!AV42=\"\",0,1)","v":0},{"$f":"IF(Selection!AV42>40000,1,0)","v":1},{"$f":"SUM(AI38:AJ38)","v":1},null,null,null,null,null,null,null,null,null,null,null,null,null,null,null,null,null,null,null,null,null,null,null,null,null,null,null,null,null,null,null,null,null,{"$f":"IF(BV20=9,-3,0)","v":0},9,null,1,{"$f":"IF(Selection!$Y$32=1,\"Izolator AlCubar / Cu 4P most poziomy 400\",\"Horizontal AlCubar / Cu 4P busbar support D400\")","v":"Horizontal AlCubar / Cu 4P busbar support D400"},null,1,{"$f":"IF(Selection!$Y$32=1,\"Ilość  19\",\"Quantity 19\")","v":"Quantity 19"},null,1,3,null,1,3,null,1,{"$f":"IF(Selection!$Y$32=1,\"Izol. AlCubar 630A 3P pionowo na plecach\",\"Rear 3P AlCubar 630A vertical busbar support\")","v":"Rear 3P AlCubar 630A vertical busbar support"},null,null,null,null,{"$f":"IF(CE55>12,1,0)","v":0},{"$f":"IF(CE56>12,1,0)","v":0},{"$f":"IF(CE57>12,1,0)","v":0},{"$f":"IF($CE$55=13,14,IF($CE$55=14,14,$CQ$1))","v":11},{"$f":"IF($CE$56=13,14,IF($CE$56=14,14,$CR$1))","v":11},11,37,null,null,null,null,null,null,null,null,null,null,null,null,null,null,null,{"$f":"IF(Selection!$Y$32=1,\"Izolator 3P,rozstaw 185 mm z plytą montażową\",\"\")","v":""},36010,36010,36010,36010,36010,"",null,null,null,null,null,null,null,null,null,null,null,null,null,null,null,null,null,null,null,null,{"$f":"IF(Selection!AN18=\"\",0,IF(Selection!AN18>0,Selection!AN18,0))","v":0},{"$f":"IF(Selection!AP18=\"\",0,Selection!AP18)","v":0},{"$f":"IF(EK38>1,VLOOKUP(IF(ISNUMBER(EK38),TEXT(EK38,\"0\"),EK38),Pricelist!$A$53:$F$60643,2,FALSE),\"\")","v":""},{"$f":"IF(EK38>1,VLOOKUP(IF(ISNUMBER(EK38),TEXT(EK38,\"0\"),EK38),Pricelist!$A$53:$F$60643,3,FALSE),0)","v":0},0,null,null,"650+150",40166,50166,60166,70166,80166,90166,null,"650+150",40166,50166,60166,70166,80166,90166]
[null,"650+150",40280,50280,60280,70280,80280,90280,null,200,30000,30000,30000,30000,30000,null,null,"650+850",41365,51365,61365,71365,81365,91365,null,{"$f":"IF(Selection!AF45=\"\",0,1)","v":0},{"$f":"IF(Selection!AF45>40000,1,0)","v":1},1,null,null,{"$f":"IF(Selection!AN45=\"\",0,1)","v":0},{"$f":"IF(Selection!AN45>40000,1,0)","v":1},1,null,{"$f":"IF(Selection!AV45=\"\",0,1)","v":0},{"$f":"IF(Selection!AV45>40000,1,0)","v":1},1,null,null,{"$f":"INDEX(($AO41:$AR43),$BS$21,$BS$13)","v":3},"Cokół boki / pokrywa pole 4",null,null,null,null,null,null,null,null,null,null,null,null,null,null,null,null,null,null,null,null,null,null,null,null,null,null,null,null,null,{"$f":"IF(BV20=10,-4,0)","v":0},10,null,1,{"$f":"IF(Selection!$Y$32=1,\"Izolator AlCubar 1P, łącznik, poziom, 200/230\",\"Horizontal AlCubar 1P busbar support D200/230 for Cu link\")","v":"Horizontal AlCubar 1P busbar support D200/230 for Cu link"},null,null,{"$f":"IF(Selection!$Y$32=1,\"Ilość  20\",\"Quantity 20\")","v":"Quantity 20"},null,1,"Osłony",null,1,"Ilość mod.",null,1,{"$f":"IF(Selection!$Y$32=1,\"Izol. AlCubar 630A 4P pionowo na plecach\",\"Rear 4P AlCubar 630A vertical busbar support\")","v":"Rear 4P AlCubar 630A vertical busbar support"},null,null,null,null,{"$f":"IF(CE72>12,1,0)","v":0},{"$f":"IF(CE73>12,1,0)","v":0},{"$f":"IF(CE74>12,1,0)","v":0},{"$f":"IF($CE$72=13,14,IF($CE$72=14,14,$CQ$1))","v":11},{"$f":"IF($CE$73=13,14,IF($CE$73=14,14,$CR$1))","v":11},11,38,null,"W 450 - 3","1 mod.","2 mod.","3 mod.","4 mod.","5 mod.","6 mod.","7 mod.","8 mod.","9 mod.","10 mod.","11 mod.","12 mod.",null,{"$f":"IF(Selection!$Y$32=1,\"Wspornik szyny PE\",\"PE Support\")","v":"PE Support"},31930,31930,31930,31930,31930,"",null,null,null,null,null,null,null,null,null,null,null,null,null,null,null,null,null,null,null,null,{"$f":"IF(Selection!AN21=\"\",0,IF(Selection!AN21>0,Selection!AN21,0))","v":0},{"$f":"IF(Selection!AP21=\"\",0,Selection!AP21)","v":0},{"$f":"IF(EK39>1,VLOOKUP(IF(ISNUMBER(EK39),TEXT(EK39,\"0\"),EK39),Pricelist!$A$53:$F$60643,2,FALSE),\"\")","v":""},{"$f":"IF(EK39>1,VLOOKUP(IF(ISNUMBER(EK39),TEXT(EK39,\"0\"),EK39),Pricelist!$A$53:$F$60643,3,FALSE),0)","v":0},0,null,null,850,40186,50186,60186,70186,80186,90186,null,850,40186,50186,60186,70186,80186,90186]
[null,850,40285,50285,60285,70285,80285,90285,null,"Pokr. Pełna",{"$f":"IF(K39=0,\"\",\"\")","v":""},{"$f":"IF(L39=0,\"\",\"\")","v":""},{"$f":"IF(M39=0,\"\",\"\")","v":""},{"$f":"IF(N39=0,\"\",\"\")","v":""},{"$f":"IF(O39=0,\"\",\"\")","v":""},null,null,"850+850",41385,51385,61385,71385,81385,91385,null,{"$f":"IF(Selection!AF48=\"\",0,1)","v":0},{"$f":"IF(Selection!AF48>40000,1,0)","v":1},1,null,null,{"$f":"IF(Selection!AN48=\"\",0,1)","v":0},{"$f":"IF(Selection!AN48>40000,1,0)","v":1},1,null,{"$f":"IF(Selection!AV48=\"\",0,1)","v":0},{"$f":"IF(Selection!AV48>40000,1,0)","v":1},1,null,null,"Cokół","Brak",100,200,"Pokrywa",null,null,null,null,null,null,null,null,null,null,null,null,null,null,null,null,null,null,null,null,null,null,null,null,null,null,{"$f":"IF(BV20=11,-5,0)","v":0},11,null,1,{"$f":"IF(Selection!$Y$32=1,\"Izolator AlCubar 3P, łącznik, poziom, 400\",\"Horizontal AlCubar 3P busbar support D400 for Cu link\")","v":"Horizontal AlCubar 3P busbar support D400 for Cu link"},null,null,{"$f":"IF(Selection!$Y$32=1,\"Ilość  21\",\"Quantity 21\")","v":"Quantity 21"},null,1,{"$f":"IF(Selection!$Y$32=1,\"Brak\",\"None\")","v":"None"},null,1,{"$f":"IF(Selection!$Y$32=1,\"1 modułowa\",\"1 module\")","v":"1 module"},null,1,{"$f":"IF(Selection!$Y$32=1,\"Drabinka kablowa na plecach\",\"Cable tray\")","v":"Cable tray"},null,null,null,null,{"$f":"IF(CE89>12,1,0)","v":0},{"$f":"IF(CE90>12,1,0)","v":0},{"$f":"IF(CE91>12,1,0)","v":0},{"$f":"IF($CE$89=13,14,IF($CE$89=14,14,$CQ$1))","v":11},{"$f":"IF($CE$90=13,14,IF($CE$90=14,14,$CR$1))","v":11},11,39,null,"Brak",{"$f":"IF(CW39=0,\"\",\"\")","v":""},"","","","","","","","","","","",null,"Drabinka kablowa 200/230",33171,{"$f":"IF(DL39=0,\"\",\"\")","v":""},{"$f":"IF(DM39=0,\"\",\"\")","v":""},33171,33171,"",null,null,null,null,null,null,null,null,null,null,null,null,null,null,null,null,null,null,null,null,{"$f":"IF(Selection!AN24=\"\",0,IF(Selection!AN24>0,Selection!AN24,0))","v":0},{"$f":"IF(Selection!AP24=\"\",0,Selection!AP24)","v":0},{"$f":"IF(EK40>1,VLOOKUP(IF(ISNUMBER(EK40),TEXT(EK40,\"0\"),EK40),Pricelist!$A$53:$F$60643,2,FALSE),\"\")","v":""},{"$f":"IF(EK40>1,VLOOKUP(IF(ISNUMBER(EK40),TEXT(EK40,\"0\"),EK40),Pricelist!$A$53:$F$60643,3,FALSE),0)","v":0},0,null,null,"650+200",40166,50166,60166,70166,80166,90166,null,"650+200",40166,50166,60166,70166,80166,90166]
[null,"650+200",40285,50285,60285,70285,80285,90285,null,null,null,null,null,null,null,null,null,"650+300",41395,51395,61395,71395,81395,91395,null,{"$f":"IF(Selection!AF51=\"\",0,1)","v":0},{"$f":"IF(Selection!AF51>40000,1,0)","v":1},1,null,null,{"$f":"IF(Selection!AN51=\"\",0,1)","v":0},{"$f":"IF(Selection!AN51>40000,1,0)","v":1},1,null,{"$f":"IF(Selection!AV51=\"\",0,1)","v":0},{"$f":"IF(Selection!AV51>40000,1,0)","v":1},1,null,null,"P.boki",3,1,1,3,null,null,null,null,null,null,null,null,null,null,null,null,null,null,null,null,null,null,null,null,null,null,null,null,null,null,null,12,null,1,{"$f":"IF(Selection!$Y$32=1,\"Izolator AlCubar 4P, łącznik, poziom, 400\",\"Horizontal AlCubar 4P busbar support D400 for Cu link\")","v":"Horizontal AlCubar 4P busbar support D400 for Cu link"},null,null,{"$f":"IF(Selection!$Y$32=1,\"Ilość  22\",\"Quantity 22\")","v":"Quantity 22"},null,null,{"$f":"IF(Selection!$Y$32=1,\"Panel osłonowy pełny\",\"Plain front plate\")","v":"Plain front plate"},null,{"$f":"IF($BA$12>1,0,IF(CE39<13,0,IF($BA$13>13,$BA$13-1,0)))","v":0},{"$f":"IF(Selection!$Y$32=1,\"2 modułowa\",\"2 modules\")","v":"2 modules"},null,1,{"$f":"IF(Selection!$Y$32=1,\"Drabinka kablowa na drzwiach\",\"Door cable tray\")","v":"Door cable tray"},null,null,null,null,{"$f":"IF(CE106>12,1,0)","v":0},{"$f":"IF(CE107>12,1,0)","v":0},{"$f":"IF(CE108>12,1,0)","v":0},{"$f":"IF($CE$106=13,14,IF($CE$106=14,14,$CQ$1))","v":11},{"$f":"IF($CE$107=13,14,IF($CE$107=14,14,$CR$1))","v":11},11,40,null,"Osłona pełna",32510,32520,32530,32540,32550,32560,32570,32580,32590,32591,32592,32593,null,{"$f":"IF(Selection!$Y$32=1,\"Drabinka kablowa 400\",\"Cable tray 400\")","v":"Cable tray 400"},33172,33173,33174,33174,33174,"",null,null,null,null,null,null,null,null,null,null,null,null,null,null,null,null,null,null,null,null,{"$f":"IF(Selection!AN25=\"\",0,IF(Selection!AN25>0,Selection!AN25,0))","v":0},{"$f":"IF(Selection!AP25=\"\",0,Selection!AP25)","v":0},{"$f":"IF(EK41>1,VLOOKUP(IF(ISNUMBER(EK41),TEXT(EK41,\"0\"),EK41),Pricelist!$A$53:$F$60643,2,FALSE),\"\")","v":""},{"$f":"IF(EK41>1,VLOOKUP(IF(ISNUMBER(EK41),TEXT(EK41,\"0\"),EK41),Pricelist!$A$53:$F$60643,3,FALSE),0)","v":0},0,null,null,1000,40111,50111,60111,70111,80111,90111,null,1000,40111,50111,60111,70111,80111,90111]
[null,1000,40210,50210,60210,70210,80210,90210,null,"Wysokość","Cokół bok głębokość",null,null,null,null,null,null,"650+400",41311,51311,61311,71311,81311,91311,null,{"$f":"IF(Selection!AF54=\"\",0,1)","v":0},{"$f":"IF(Selection!AF54>40000,1,0)","v":1},1,null,null,{"$f":"IF(Selection!AN54=\"\",0,1)","v":0},{"$f":"IF(Selection!AN54>40000,1,0)","v":1},1,null,{"$f":"IF(Selection!AV54=\"\",0,1)","v":0},{"$f":"IF(Selection!AV54>40000,1,0)","v":1},1,null,null,"Przepust",3,2,2,3,null,null,null,null,null,null,null,null,null,null,null,null,null,null,null,null,null,null,null,null,null,null,null,null,null,null,null,13,null,1,{"$f":"IF(Selection!$Y$32=1,\"Izol. AlCubar / Cu 3P, doizolowanie poz. 400\",\"AlCubar / Cu 3P free busbar support D400\")","v":"AlCubar / Cu 3P free busbar support D400"},null,null,{"$f":"IF(Selection!$Y$32=1,\"Ilość  23\",\"Quantity 23\")","v":"Quantity 23"},null,null,{"$f":"IF(Selection!$Y$32=1,\"Panel osłonowy modułowy\",\"Modular front plate\")","v":"Modular front plate"},null,null,{"$f":"IF(Selection!$Y$32=1,\"3 modułowa\",\"3 modules\")","v":"3 modules"},null,1,{"$f":"IF(Selection!$Y$32=1,\"Drabinka kablowa pod osłonę\",\"Front plate cable tray\")","v":"Front plate cable tray"},null,null,null,null,{"$f":"IF(CE123>12,1,0)","v":0},{"$f":"IF(CE124>12,1,0)","v":0},{"$f":"IF(CE125>12,1,0)","v":0},{"$f":"IF($CE$123=13,14,IF($CE$123=14,14,$CQ$1))","v":11},{"$f":"IF($CE$124=13,14,IF($CE$124=14,14,$CR$1))","v":11},11,null,null,"Osł. modułowa",{"$f":"IF(CW39=0,\"\",\"\")","v":""},32525,32535,32545,32555,{"$f":"IF(DB41=0,\"\",\"\")","v":""},"","","","","","",null,{"$f":"IF(Selection!$Y$32=1,\"Przepust membranowy IP55\",\"\")","v":""},31935,31935,31935,31935,31935,"",null,null,null,null,null,null,null,null,null,null,null,null,null,null,null,null,null,null,null,null,{"$f":"IF(Selection!AN28=\"\",0,IF(Selection!AN28>0,Selection!AN28,0))","v":0},{"$f":"IF(Selection!AP28=\"\",0,Selection!AP28)","v":0},{"$f":"IF(EK42>1,VLOOKUP(IF(ISNUMBER(EK42),TEXT(EK42,\"0\"),EK42),Pricelist!$A$53:$F$60643,2,FALSE),\"\")","v":""},{"$f":"IF(EK42>1,VLOOKUP(IF(ISNUMBER(EK42),TEXT(EK42,\"0\"),EK42),Pricelist!$A$53:$F$60643,3,FALSE),0)","v":0},0,null,null,1200,{"$f":"\"\"","v":""},{"$f":"\"\"","v":""},{"$f":"\"\"","v":""},{"$f":"\"\"","v":""},{"$f":"\"\"","v":""},{"$f":"\"\"","v":""},null,1200,{"$f":"\"\"","v":""},{"$f":"\"\"","v":""},{"$f":"\"\"","v":""},{"$f":"\"\"","v":""},{"$f":"\"\"","v":""},{"$f":"\"\"","v":""}]
[null,1200,40212,50212,60212,70212,80212,90212,null,null,230,300,400,600,800,null,null,"850+300",41385,51385,61385,71385,81385,91385,null,{"$f":"IF(Selection!AF57=\"\",0,1)","v":0},{"$f":"IF(Selection!AF57>40000,1,0)","v":1},1,null,null,{"$f":"IF(Selection!AN57=\"\",0,1)","v":0},{"$f":"IF(Selection!AN57>40000,1,0)","v":1},1,null,{"$f":"IF(Selection!AV57=\"\",0,1)","v":0},{"$f":"IF(Selection!AV57>40000,1,0)","v":1},1,null,null,null,null,null,null,null,null,null,null,null,null,null,null,null,null,null,null,null,null,null,null,null,null,null,null,null,null,null,null,null,null,null,null,14,null,1,{"$f":"IF(Selection!$Y$32=1,\"Izol. AlCubar / Cu 4P, doizolowanie poz. 400\",\"AlCubar / Cu 4P free busbar support D400\")","v":"AlCubar / Cu 4P free busbar support D400"},null,null,{"$f":"IF(Selection!$Y$32=1,\"Ilość  24\",\"Quantity 24\")","v":"Quantity 24"},null,null,{"$f":"IF(Selection!$Y$32=1,\"Panel osłonowy przeszklony\",\"Transparent front plate\")","v":"Transparent front plate"},null,null,{"$f":"IF(Selection!$Y$32=1,\"4 modułowa\",\"4 modules\")","v":"4 modules"},null,1,{"$f":"IF(Selection!$Y$32=1,\"Metalowa kieszeń na dokumentację\",\"Drawing holder\")","v":"Drawing holder"},null,null,null,null,{"$f":"IF(CE140>12,1,0)","v":0},{"$f":"IF(CE141>12,1,0)","v":0},{"$f":"IF(CE142>12,1,0)","v":0},{"$f":"IF($CE$4100=13,14,IF($CE$140=14,14,$CQ$1))","v":11},{"$f":"IF($CE$141=13,14,IF($CE$141=14,14,$CR$1))","v":11},11,null,null,"Osł. przeszklona",{"$f":"IF(CW39=0,\"\",\"\")","v":""},{"$f":"IF(CX39=0,\"\",\"\")","v":""},32539,32549,{"$f":"IF(DA39=0,\"\",\"\")","v":""},32569,{"$f":"IF(DC39=0,\"\",\"\")","v":""},32579,{"$f":"IF(DE39=0,\"\",\"\")","v":""},32589,{"$f":"IF(DG39=0,\"\",\"\")","v":""},32599,null,"Kratka wentylacyjna 160x160",31940,31940,31940,31940,31940,"",null,null,null,null,null,null,null,null,null,null,null,null,null,null,null,null,null,null,null,null,{"$f":"IF(Selection!AN29=\"\",0,IF(Selection!AN29>0,Selection!AN29,0))","v":0},{"$f":"IF(Selection!AP29=\"\",0,Selection!AP29)","v":0},{"$f":"IF(EK43>1,VLOOKUP(IF(ISNUMBER(EK43),TEXT(EK43,\"0\"),EK43),Pricelist!$A$53:$F$60643,2,FALSE),\"\")","v":""},{"$f":"IF(EK43>1,VLOOKUP(IF(ISNUMBER(EK43),TEXT(EK43,\"0\"),EK43),Pricelist!$A$53:$F$60643,3,FALSE),0)","v":0},0,null,null,1300,{"$f":"\"\"","v":""},{"$f":"\"\"","v":""},{"$f":"\"\"","v":""},{"$f":"\"\"","v":""},{"$f":"\"\"","v":""},{"$f":"\"\"","v":""},null,1300,{"$f":"\"\"","v":""},{"$f":"\"\"","v":""},{"$f":"\"\"","v":""},{"$f":"\"\"","v":""},{"$f":"\"\"","v":""},{"$f":"\"\"","v":""}]
[null,1300,40213,50213,60213,70213,80213,90213,null,"Brak",{"$f":"IF(K43=0,\"\",\"\")","v":""},"","","","",null,null,"850+400",41385,51385,61385,71385,81385,91385,null,{"$f":"IF(Selection!AF60=\"\",0,1)","v":0},{"$f":"IF(Selection!AF60>40000,1,0)","v":1},{"$f":"SUM(Z44:AA44)","v":1},null,null,{"$f":"IF(Selection!AN60=\"\",0,1)","v":0},{"$f":"IF(Selection!AN60>40000,1,0)","v":1},{"$f":"SUM(AE44:AF44)","v":1},null,{"$f":"IF(Selection!AV60=\"\",0,1)","v":0},{"$f":"IF(Selection!AV60>40000,1,0)","v":1},{"$f":"SUM(AI44:AJ44)","v":1},null,null,null,null,null,null,null,null,null,null,null,null,null,null,null,null,null,null,null,null,null,null,null,null,null,null,null,null,null,null,null,null,null,null,15,null,1,{"$f":"IF(Selection!$Y$32=1,\"Izolator Cu 1P, most poziomy na plecach\",\"Rear Horizontal Cu 1P busbar support\")","v":"Rear Horizontal Cu 1P busbar support"},null,null,{"$f":"IF(Selection!$Y$32=1,\"Ilość  25\",\"Quantity 25\")","v":"Quantity 25"},null,null,{"$f":"IF(Selection!$Y$32=1,\"Szyna montażowa TS35D stała\",\"Fixed TS35D rail\")","v":"Fixed TS35D rail"},null,null,{"$f":"IF(Selection!$Y$32=1,\"5 modułowa\",\"5 modules\")","v":"5 modules"},null,null,{"$f":"IF(Selection!$Y$32=1,\"Pionowy zestaw szyn TS35, 6M\",\"6-Modules Vertical DIN-rail for terminals\")","v":"6-Modules Vertical DIN-rail for terminals"},null,null,null,null,{"$f":"IF(CE157>12,1,0)","v":0},{"$f":"IF(CE158>12,1,0)","v":0},{"$f":"IF(CE159>12,1,0)","v":0},{"$f":"IF($CE$157=13,14,IF($CE$157=14,14,$CQ$1))","v":11},{"$f":"IF($CE$158=13,14,IF($CE$158=14,14,$CR$1))","v":11},11,null,null,"Szyna stała TS35",32500,32500,32500,32500,32500,32500,32500,32500,32500,32500,32500,32500,null,"Kratka wentylacyjna 230x230",31941,31941,31941,31941,31941,"",null,null,null,null,null,null,null,null,null,null,null,null,null,null,null,null,null,null,null,null,{"$f":"IF(Selection!AN32=\"\",0,IF(Selection!AN32>0,Selection!AN32,0))","v":0},{"$f":"IF(Selection!AP32=\"\",0,Selection!AP32)","v":0},{"$f":"IF(EK44>1,VLOOKUP(IF(ISNUMBER(EK44),TEXT(EK44,\"0\"),EK44),Pricelist!$A$53:$F$60643,2,FALSE),\"\")","v":""},{"$f":"IF(EK44>1,VLOOKUP(IF(ISNUMBER(EK44),TEXT(EK44,\"0\"),EK44),Pricelist!$A$53:$F$60643,3,FALSE),0)","v":0},0,null,null,"650+650",40166,50166,60166,70166,80166,90166,null,"650+650",40166,50166,60166,70166,80166,90166]
[null,"650+612",40265,50265,60265,70265,80265,90265,null,100,"","","","","",null,null,"650+150+300",41380,51380,61380,71380,81380,91380,null,{"$f":"IF(Selection!AF63=\"\",0,1)","v":0},{"$f":"IF(Selection!AF63>40000,1,0)","v":1},1,null,null,{"$f":"IF(Selection!AN63=\"\",0,1)","v":0},{"$f":"IF(Selection!AN63>40000,1,0)","v":1},1,null,{"$f":"IF(Selection!AV63=\"\",0,1)","v":0},{"$f":"IF(Selection!AV63>40000,1,0)","v":1},1,null,null,null,null,null,null,null,null,null,null,null,null,null,null,null,null,null,null,null,null,null,null,null,null,null,null,null,null,null,null,null,null,null,null,16,null,1,{"$f":"IF(Selection!$Y$32=1,\"Izolator Cu 3P, most poziomy na plecach\",\"Rear Horizontal Cu 3P busbar support\")","v":"Rear Horizontal Cu 3P busbar support"},null,null,{"$f":"IF(Selection!$Y$32=1,\"Ilość  26\",\"Quantity 26\")","v":"Quantity 26"},null,null,{"$f":"IF(Selection!$Y$32=1,\"Szyna montażowa TS35D regulowana\",\"Adjustable TS35D rail\")","v":"Adjustable TS35D rail"},null,null,{"$f":"IF(Selection!$Y$32=1,\"6 modułowa\",\"6 modules\")","v":"6 modules"},null,null,{"$f":"IF(Selection!$Y$32=1,\"Poziomy zestaw dwóch szyn TS35\",\"Horizontal double DIN-rail for terminals\")","v":"Horizontal double DIN-rail for terminals"},null,null,null,null,{"$f":"IF(CE174>12,1,0)","v":0},{"$f":"IF(CE175>12,1,0)","v":0},{"$f":"IF(CE176>12,1,0)","v":0},{"$f":"IF($CE$4134=13,14,IF($CE$174=14,14,$CQ$1))","v":11},{"$f":"IF($CE$175=13,14,IF($CE$175=14,14,$CR$1))","v":11},11,null,null,"Szyna reg.TS35",32505,32505,32505,32505,32505,32505,32505,32505,32505,32505,32505,32505,null,"Przyłącza kablowe w przedziale 3P 250A",{"$f":"IF(DK26=0,\"\",\"\")","v":""},{"$f":"IF(DL26=0,\"\",\"\")","v":""},33100,33100,33100,{"$f":"IF(DP26=0,\"\",\"\")","v":""},null,null,null,null,null,null,null,null,null,null,null,null,null,null,null,null,null,null,null,null,{"$f":"IF(Selection!AN33=\"\",0,IF(Selection!AN33>0,Selection!AN33,0))","v":0},{"$f":"IF(Selection!AP33=\"\",0,Selection!AP33)","v":0},{"$f":"IF(EK45>1,VLOOKUP(IF(ISNUMBER(EK45),TEXT(EK45,\"0\"),EK45),Pricelist!$A$53:$F$60643,2,FALSE),\"\")","v":""},{"$f":"IF(EK45>1,VLOOKUP(IF(ISNUMBER(EK45),TEXT(EK45,\"0\"),EK45),Pricelist!$A$53:$F$60643,3,FALSE),0)","v":0},0,null,null,"650+850",40166,50166,60166,70166,80166,90166,null,"650+850",40186,50186,60186,70186,80186,90186]
[null,"650+812",40265,50265,60265,70265,80265,90265,null,200,"","","","","",null,null,"650+150+400",41380,51380,61380,71380,81380,91380,null,{"$f":"IF(Selection!AF66=\"\",0,1)","v":0},{"$f":"IF(Selection!AF66>40000,1,0)","v":1},1,null,null,{"$f":"IF(Selection!AN66=\"\",0,1)","v":0},{"$f":"IF(Selection!AN66>40000,1,0)","v":1},1,null,{"$f":"IF(Selection!AV66=\"\",0,1)","v":0},{"$f":"IF(Selection!AV66>40000,1,0)","v":1},1,null,null,{"$f":"INDEX(($AO48:$AR50),$BS$21,$BS$13)","v":3},"Cokół boki / pokrywa pole 5",null,null,null,null,null,null,null,null,null,null,null,null,null,null,null,null,null,null,null,null,null,null,null,null,null,null,null,null,null,null,17,null,1,{"$f":"IF(Selection!$Y$32=1,\"Izolator Cu 4P, most poziomy na plecach\",\"Rear Horizontal Cu 4P busbar support\")","v":"Rear Horizontal Cu 4P busbar support"},null,null,{"$f":"IF(Selection!$Y$32=1,\"Ilość  27\",\"Quantity 27\")","v":"Quantity 27"},null,null,{"$f":"IF(Selection!$Y$32=1,\"Płyta montażowa pełna ocynkowana\",\"Plain mounting plate\")","v":"Plain mounting plate"},null,null,{"$f":"IF(Selection!$Y$32=1,\"7 modułowa\",\"7 modules\")","v":"7 modules"},null,null,{"$f":"IF(Selection!$Y$32=1,\"Osłona mostu poziomego\",\"Horizontal busbar cover\")","v":"Horizontal busbar cover"},null,null,null,null,{"$f":"IF(CE191>12,1,0)","v":0},{"$f":"IF(CE192>12,1,0)","v":0},{"$f":"IF(CE193>12,1,0)","v":0},{"$f":"IF($CE$4151=13,14,IF($CE$191=14,14,$CQ$1))","v":11},{"$f":"IF($CE$192=13,14,IF($CE$192=14,14,$CR$1))","v":11},11,null,null,"Płyta ocynk pełna",{"$f":"IF(CW39=0,\"\",\"\")","v":""},33052,33053,33054,33055,33056,{"$f":"IF(DC39=0,\"\",\"\")","v":""},33057,{"$f":"IF(DE39=0,\"\",\"\")","v":""},33058,{"$f":"IF(DG39=0,\"\",\"\")","v":""},33059,null,"Przyłącza kablowe w przedziale 4P 250A",{"$f":"IF(DK45=0,\"\",\"\")","v":""},"",33101,33101,33101,{"$f":"IF(DP45=0,\"\",\"\")","v":""},null,null,null,null,null,null,null,null,null,null,null,null,null,null,null,null,null,null,null,null,{"$f":"IF(Selection!AN36=\"\",0,IF(Selection!AN36>0,Selection!AN36,0))","v":0},{"$f":"IF(Selection!AP36=\"\",0,Selection!AP36)","v":0},{"$f":"IF(EK46>1,VLOOKUP(IF(ISNUMBER(EK46),TEXT(EK46,\"0\"),EK46),Pricelist!$A$53:$F$60643,2,FALSE),\"\")","v":""},{"$f":"IF(EK46>1,VLOOKUP(IF(ISNUMBER(EK46),TEXT(EK46,\"0\"),EK46),Pricelist!$A$53:$F$60643,3,FALSE),0)","v":0},0,null,null,"850+850",40186,50186,60186,70186,80186,90186,null,"850+850",40186,50186,60186,70186,80186,90186]
[null,"850+812",40285,50285,60285,70285,80285,90285,null,"Pokr. Pełna","","","","","",null,null,null,null,null,null,null,null,null,null,{"$f":"IF(Selection!AF69=\"\",0,1)","v":0},{"$f":"IF(Selection!AF69>40000,1,0)","v":1},1,null,null,{"$f":"IF(Selection!AN69=\"\",0,1)","v":0},{"$f":"IF(Selection!AN69>40000,1,0)","v":1},1,null,{"$f":"IF(Selection!AV69=\"\",0,1)","v":0},{"$f":"IF(Selection!AV69>40000,1,0)","v":1},1,null,null,"Cokół","Brak",100,200,"Pokrywa",null,null,null,null,null,null,null,null,null,null,null,null,null,null,null,null,null,null,null,null,null,null,null,null,null,null,null,18,null,1,{"$f":"IF(Selection!$Y$32=1,\"Izolator AlCubar 1P most pion z boku 200/230\",\"Vertical AlCubar / Cu 1P busbar support D200/230\")","v":"Vertical AlCubar / Cu 1P busbar support D200/230"},null,null,{"$f":"IF(Selection!$Y$32=1,\"Ilość  28\",\"Quantity 28\")","v":"Quantity 28"},null,null,{"$f":"IF(Selection!$Y$32=1,\"Płyta montażowa otworowana ocynk\",\"Painted mounting plate\")","v":"Painted mounting plate"},null,null,{"$f":"IF(Selection!$Y$32=1,\"8 modułowa\",\"8 modules\")","v":"8 modules"},null,null,{"$f":"IF(Selection!$Y$32=1,\"Zestaw mocowania do ściany\",\"Zenergy cabinet wall sling rail\")","v":"Zenergy cabinet wall sling rail"},null,null,null,null,null,null,null,null,null,null,null,null,"Płyta malow.otw.",{"$f":"IF(CW39=0,\"\",\"\")","v":""},33552,33553,33554,33555,33556,{"$f":"IF(DC39=0,\"\",\"\")","v":""},33557,{"$f":"IF(DE39=0,\"\",\"\")","v":""},33558,{"$f":"IF(DG39=0,\"\",\"\")","v":""},33559,null,"Przyłącza kablowe w przedziale 3P 630A","","",33102,33102,33102,{"$f":"IF(DP46=0,\"\",\"\")","v":""},null,null,null,null,null,null,null,null,null,null,null,null,null,null,null,null,null,null,null,null,{"$f":"IF(Selection!AN39=\"\",0,IF(Selection!AN39>0,Selection!AN39,0))","v":0},{"$f":"IF(Selection!AP39=\"\",0,Selection!AP39)","v":0},{"$f":"IF(EK47>1,VLOOKUP(IF(ISNUMBER(EK47),TEXT(EK47,\"0\"),EK47),Pricelist!$A$53:$F$60643,2,FALSE),\"\")","v":""},{"$f":"IF(EK47>1,VLOOKUP(IF(ISNUMBER(EK47),TEXT(EK47,\"0\"),EK47),Pricelist!$A$53:$F$60643,3,FALSE),0)","v":0},0,null,null,"650+300",40166,50166,60166,70166,80166,90166,null,"650+300",{"$f":"\"\"","v":""},{"$f":"\"\"","v":""},{"$f":"\"\"","v":""},{"$f":"\"\"","v":""},{"$f":"\"\"","v":""},{"$f":"\"\"","v":""}]
[null,"650+300",40265,50265,60265,70265,80265,90265,null,null,null,null,null,null,null,null,null,"Szerokość obudowy","Osłona tylna pełna IP30   Wysokość",null,null,4,null,"Pole 1,3",null,{"$f":"IF(Selection!AF72=\"\",0,1)","v":0},{"$f":"IF(Selection!AF72>40000,1,0)","v":1},1,null,null,{"$f":"IF(Selection!AN72=\"\",0,1)","v":0},{"$f":"IF(Selection!AN72>40000,1,0)","v":1},1,null,{"$f":"IF(Selection!AV72=\"\",0,1)","v":0},{"$f":"IF(Selection!AV72>40000,1,0)","v":1},1,null,null,"P.boki",3,1,1,3,null,null,null,null,null,null,null,null,null,null,null,null,null,null,null,null,null,null,null,null,null,null,null,null,null,null,null,19,null,1,{"$f":"IF(Selection!$Y$32=1,\"Izolator AlCubar 3P most pionowy z boku 400\",\"Vertical AlCubar / Cu 3P busbar support D400\")","v":"Vertical AlCubar / Cu 3P busbar support D400"},null,null,{"$f":"IF(Selection!$Y$32=1,\"Ilość  29\",\"Quantity 29\")","v":"Quantity 29"},null,null,{"$f":"IF(Selection!$Y$32=1,\"Płyta montażowa pozioma ocynk\",\"Horizontal plain mounting plate\")","v":"Horizontal plain mounting plate"},null,null,{"$f":"IF(Selection!$Y$32=1,\"9 modułowa\",\"9 modules\")","v":"9 modules"},null,null,null,null,null,null,null,null,null,null,null,null,null,null,null,"Płyta oc. pozioma",33751,33752,33753,33754,33755,33756,33757,33758,null,33759,{"$f":"IF(DG257=0,\"\",\"\")","v":""},{"$f":"IF(DH257=0,\"\",\"\")","v":""},null,"Przyłącza kablowe w przedziale 4P 630A","","",33103,33103,33103,{"$f":"IF(DP47=0,\"\",\"\")","v":""},null,null,null,null,null,null,null,null,null,null,null,null,null,null,null,null,null,null,null,null,{"$f":"IF(Selection!AN42=\"\",0,IF(Selection!AN42>0,Selection!AN42,0))","v":0},{"$f":"Selection!AP42","v":0},{"$f":"IF(EK48>1,VLOOKUP(IF(ISNUMBER(EK48),TEXT(EK48,\"0\"),EK48),Pricelist!$A$53:$F$60643,2,FALSE),\"\")","v":""},{"$f":"IF(EK48>1,VLOOKUP(IF(ISNUMBER(EK48),TEXT(EK48,\"0\"),EK48),Pricelist!$A$53:$F$60643,3,FALSE),0)","v":0},0,null,null,"650+400",40166,50166,60166,70166,80166,90166,null,"650+400",40141,50141,60141,70141,80141,90141]
[null,"650+400",40265,50265,60265,70265,80265,90265,null,"Szerokość obudowy W","Pełna płyta montażowa,  Wysokość obudowy H, POLE 1, 3",null,null,null,null,null,null,null,"H 1200","H 1400","H 1600","H 1800","H 2000","H 2200",null,{"$f":"IF(Selection!AF75=\"\",0,1)","v":0},{"$f":"IF(Selection!AF75>40000,1,0)","v":1},1,null,null,{"$f":"IF(Selection!AN75=\"\",0,1)","v":0},{"$f":"IF(Selection!AN75>40000,1,0)","v":1},1,null,{"$f":"IF(Selection!AV75=\"\",0,1)","v":0},{"$f":"IF(Selection!AV75>40000,1,0)","v":1},1,null,null,"Przepust",3,2,2,3,null,null,null,null,null,null,null,null,null,null,null,null,null,null,null,null,null,null,null,null,null,null,null,null,null,null,null,20,null,1,{"$f":"IF(Selection!$Y$32=1,\"Izolator AlCubar 4P most pionowy z boku 400\",\"Vertical AlCubar / Cu 4P busbar support D400\")","v":"Vertical AlCubar / Cu 4P busbar support D400"},null,null,{"$f":"IF(Selection!$Y$32=1,\"Ilość  30\",\"Quantity 30\")","v":"Quantity 30"},null,null,{"$f":"IF(Selection!$Y$32=1,\"Zabudowa licznikowa\",\"kWh mounting plate\")","v":"kWh mounting plate"},null,null,{"$f":"IF(Selection!$Y$32=1,\"10 modułowa\",\"10 modules\")","v":"10 modules"},null,null,null,null,null,null,null,null,null,null,null,null,null,null,null,"Płyta licznikowa",33205,33205,33205,33205,33205,33205,33205,33205,33205,33205,33205,33205,null,null,null,null,null,null,null,null,null,null,null,null,null,null,null,null,null,null,null,null,null,null,null,null,null,null,null,null,{"$f":"IF(Selection!AN45=\"\",0,IF(Selection!AN45>0,Selection!AN45,0))","v":0},{"$f":"Selection!AP45","v":0},{"$f":"IF(EK49>1,VLOOKUP(IF(ISNUMBER(EK49),TEXT(EK49,\"0\"),EK49),Pricelist!$A$53:$F$60643,2,FALSE),\"\")","v":""},{"$f":"IF(EK49>1,VLOOKUP(IF(ISNUMBER(EK49),TEXT(EK49,\"0\"),EK49),Pricelist!$A$53:$F$60643,3,FALSE),0)","v":0},0,null,null,"850+300",40186,50186,60186,70186,80186,90186,null,"850+300",{"$f":"\"\"","v":""},{"$f":"\"\"","v":""},{"$f":"\"\"","v":""},{"$f":"\"\"","v":""},{"$f":"\"\"","v":""},{"$f":"\"\"","v":""}]
[null,"850+300",40285,50285,60285,70285,80285,90285,null,null,1200,1400,1600,1800,2000,2200,null,"Brak",{"$f":"\"\"","v":""},{"$f":"\"\"","v":""},{"$f":"\"\"","v":""},{"$f":"\"\"","v":""},{"$f":"\"\"","v":""},{"$f":"\"\"","v":""},null,null,null,null,null,null,null,null,null,null,null,null,null,null,null,null,null,null,null,null,null,null,null,null,null,null,null,null,null,null,null,null,null,null,null,null,null,null,null,null,null,null,null,null,null,null,null,null,null,null,{"$f":"IF(Selection!$Y$32=1,\"Izolator AlCubar 3P doizolowanie pion, bok 400\",\"Vertical AlCubar / Cu 3P free busbar support D400\")","v":"Vertical AlCubar / Cu 3P free busbar support D400"},null,null,{"$f":"IF(Selection!$Y$32=1,\"Ilość  31\",\"Quantity 31\")","v":"Quantity 31"},null,null,null,null,null,{"$f":"IF(Selection!$Y$32=1,\"11 modułowa\",\"11 modules\")","v":"11 modules"},null,null,null,null,null,null,null,null,null,null,null,null,null,null,null,null,{"$f":"IF(CW39=0,\"\",\"\")","v":""},"","","","","","","","","","","",null,null,null,null,null,null,null,null,null,null,null,null,null,null,null,null,null,null,null,null,null,null,null,null,null,null,null,null,{"$f":"IF(Selection!AN48=\"\",0,IF(Selection!AN48>0,Selection!AN48,0))","v":0},{"$f":"Selection!AP48","v":0},{"$f":"IF(EK50>1,VLOOKUP(IF(ISNUMBER(EK50),TEXT(EK50,\"0\"),EK50),Pricelist!$A$53:$F$60643,2,FALSE),\"\")","v":""},{"$f":"IF(EK50>1,VLOOKUP(IF(ISNUMBER(EK50),TEXT(EK50,\"0\"),EK50),Pricelist!$A$53:$F$60643,3,FALSE),0)","v":0},0,null,null,"850+400",40186,50186,60186,70186,80186,90186,null,"850+400",40141,50141,60141,70141,80141,90141]
[null,"850+400",40285,50285,60285,70285,80285,90285,1,"Brak",{"$f":"\"\"","v":""},{"$f":"\"\"","v":""},{"$f":"\"\"","v":""},{"$f":"\"\"","v":""},{"$f":"\"\"","v":""},{"$f":"\"\"","v":""},null,300,41230,51230,61230,71230,81230,91230,null,null,null,null,null,null,null,null,null,null,null,null,null,null,null,null,null,null,null,null,null,null,null,null,null,null,null,null,null,null,null,null,null,null,null,null,null,null,null,null,null,null,null,null,null,null,null,null,null,null,{"$f":"IF(Selection!$Y$32=1,\"Izolator AlCubar 4P doizolowanie pion, bok 400\",\"Vertical AlCubar / Cu 4P free busbar support D400\")","v":"Vertical AlCubar / Cu 4P free busbar support D400"},null,null,{"$f":"IF(Selection!$Y$32=1,\"Ilość  32\",\"Quantity 32\")","v":"Quantity 32"},null,null,null,null,null,{"$f":"IF(Selection!$Y$32=1,\"12 modułowa\",\"12 modules\")","v":"12 modules"},null,null,null,null,null,null,null,null,null,null,null,null,null,null,null,null,{"$f":"IF(CW39=0,\"\",\"\")","v":""},"","","","","","","","","","","",null,null,null,null,null,null,null,null,null,null,null,null,null,null,null,null,null,null,null,null,null,null,null,null,null,null,null,null,{"$f":"IF(Selection!AN51=\"\",0,IF(Selection!AN51>0,Selection!AN51,0))","v":0},{"$f":"Selection!AP51","v":0},{"$f":"IF(EK51>1,VLOOKUP(IF(ISNUMBER(EK51),TEXT(EK51,\"0\"),EK51),Pricelist!$A$53:$F$60643,2,FALSE),\"\")","v":""},{"$f":"IF(EK51>1,VLOOKUP(IF(ISNUMBER(EK51),TEXT(EK51,\"0\"),EK51),Pricelist!$A$53:$F$60643,3,FALSE),0)","v":0},0,null,null,"150+650+300",40166,50166,60166,70166,80166,90166,null,"150+650+300",{"$f":"\"\"","v":""},{"$f":"\"\"","v":""},{"$f":"\"\"","v":""},{"$f":"\"\"","v":""},{"$f":"\"\"","v":""},{"$f":"\"\"","v":""}]
[null,"150+650+300",40280,50280,60280,70280,80280,90280,2,300,40930,50930,60930,70930,80930,90930,null,400,41240,51240,61240,71240,81240,91240,null,null,null,null,null,null,null,null,null,null,null,null,null,null,null,null,null,null,null,null,null,null,null,null,null,null,null,null,null,null,null,null,null,null,null,null,null,null,null,null,null,null,null,null,null,null,null,null,null,null,{"$f":"IF(Selection!$Y$32=1,\"Podpora pionowej szyny AlCubar\",\"Vertical AlCubar holder\")","v":"Vertical AlCubar holder"},null,null,{"$f":"IF(Selection!$Y$32=1,\"Ilość  33\",\"Quantity 33\")","v":"Quantity 33"},null,{"$f":"IF(CE57=14,14,IF(CP38=1,$BA$15,CB57))","v":1},null,null,{"$f":"IF(CP38=1,BD4,CE57)","v":1},{"$f":"IF(Selection!$Y$32=1,\"Płyta pełna ocynkowana\",\"Plain mounting plate\")","v":"Plain mounting plate"},null,null,null,null,null,null,null,null,null,null,null,null,null,null,null,null,{"$f":"IF(CW39=0,\"\",\"\")","v":""},"","","","","","","","","","","",null,null,null,null,null,null,null,null,null,null,null,null,null,null,null,null,null,null,null,null,null,null,null,null,null,null,null,null,{"$f":"IF(Selection!AN54=\"\",0,IF(Selection!AN54>0,Selection!AN54,0))","v":0},{"$f":"Selection!AP54","v":0},{"$f":"IF(EK52>1,VLOOKUP(IF(ISNUMBER(EK52),TEXT(EK52,\"0\"),EK52),Pricelist!$A$53:$F$60643,2,FALSE),\"\")","v":""},{"$f":"IF(EK52>1,VLOOKUP(IF(ISNUMBER(EK52),TEXT(EK52,\"0\"),EK52),Pricelist!$A$53:$F$60643,3,FALSE),0)","v":0},0,null,null,"150+650+400",40166,50166,60166,70166,80166,90166,null,"150+650+400",40141,50141,60141,70141,80141,90141]
[null,"150+650+400",40280,50280,60280,70280,80280,90280,3,400,40940,50940,60940,70940,80940,90940,null,450,41245,51245,61245,71245,81245,91245,null,null,null,null,null,null,null,null,null,null,null,null,null,null,null,{"$f":"INDEX(($AO55:$AR57),$BS$21,$BS$13)","v":3},"Cokół boki / pokrywa pole 6",null,null,null,null,null,null,null,null,null,null,null,null,null,null,null,null,null,null,null,null,null,null,null,null,null,null,null,null,null,null,null,null,null,{"$f":"IF(Selection!$Y$32=1,\"Izol. AlCubar 630 1P most poziomy 200/230\",\"Horizontal AlCubar 1P 630A busbar support D200/230\")","v":"Horizontal AlCubar 1P 630A busbar support D200/230"},null,null,{"$f":"IF(Selection!$Y$32=1,\"Ilość  34\",\"Quantity 34\")","v":"Quantity 34"},null,{"$f":"IF(CE56=14,25,IF(CO38=1,$BA$12,CB56))","v":1},null,null,{"$f":"IF(CO38=1,BD4,CE56)","v":1},{"$f":"IF(Selection!$Y$32=1,\"Łącznik płyt pełnych\",\"Plates connector\")","v":"Plates connector"},null,null,null,null,null,null,null,null,null,null,null,null,null,null,null,null,{"$f":"IF(CW39=0,\"\",\"\")","v":""},"","","","","","","","","","","",null,null,null,null,null,null,null,null,null,null,null,null,null,null,null,null,null,null,null,null,null,null,null,null,null,null,null,null,{"$f":"IF(Selection!AN57=\"\",0,IF(Selection!AN57>0,Selection!AN57,0))","v":0},{"$f":"Selection!AP57","v":0},{"$f":"IF(EK53>1,VLOOKUP(IF(ISNUMBER(EK53),TEXT(EK53,\"0\"),EK53),Pricelist!$A$53:$F$60643,2,FALSE),\"\")","v":""},{"$f":"IF(EK53>1,VLOOKUP(IF(ISNUMBER(EK53),TEXT(EK53,\"0\"),EK53),Pricelist!$A$53:$F$60643,3,FALSE),0)","v":0},0]
[null,null,null,null,null,null,null,null,4,450,40945,50945,60945,70945,80945,90945,null,600,41260,51260,61260,71260,81260,91260,null,null,null,null,null,null,null,null,null,null,null,null,null,null,null,"Cokół","Brak",100,200,"Pokrywa",null,null,null,null,null,null,null,null,null,null,null,null,null,null,null,null,null,null,null,null,null,null,null,null,null,null,null,null,null,null,{"$f":"IF(Selection!$Y$32=1,\"Izol. AlCubar 630 3P most poziomy 400\",\"Horizontal AlCubar 3P 630A busbar support D400\")","v":"Horizontal AlCubar 3P 630A busbar support D400"},null,null,{"$f":"IF(Selection!$Y$32=1,\"Ilość  35\",\"Quantity 35\")","v":"Quantity 35"},null,{"$f":"IF(CE55=14,23,IF(CN38=1,$BA$13,CB55))","v":1},null,null,{"$f":"IF(CN38=1,BD4,CE55)","v":1},null,null,null,null,null,null,null,null,null,null,null,null,null,null,null,null,null,{"$f":"IF(CW39=0,\"\",\"\")","v":""},"","","","","","","","","","","",null,null,null,null,null,null,null,null,null,null,null,null,null,null,null,null,null,null,null,null,null,null,null,null,null,null,null,null,{"$f":"IF(Selection!AN60=\"\",0,IF(Selection!AN60>0,Selection!AN60,0))","v":0},{"$f":"Selection!AP60","v":0},{"$f":"IF(EK54>1,VLOOKUP(IF(ISNUMBER(EK54),TEXT(EK54,\"0\"),EK54),Pricelist!$A$53:$F$60643,2,FALSE),\"\")","v":""},{"$f":"IF(EK54>1,VLOOKUP(IF(ISNUMBER(EK54),TEXT(EK54,\"0\"),EK54),Pricelist!$A$53:$F$60643,3,FALSE),0)","v":0},{"$f":"EL54*EN54","v":0}]
[null,null,null,null,null,null,null,null,5,600,40960,50960,60960,70960,80960,90960,null,650,41265,51265,61265,71265,81265,91265,null,null,null,null,null,null,null,null,null,null,null,null,null,null,null,"P.boki",3,1,1,3,null,null,null,null,null,null,null,null,null,null,null,null,null,null,null,null,null,null,null,null,null,null,null,null,null,null,null,null,null,null,{"$f":"IF(Selection!$Y$32=1,\"Izol. AlCubar 630 4P most poziomy 400\",\"Horizontal AlCubar 4P 630A busbar support D400\")","v":"Horizontal AlCubar 4P 630A busbar support D400"},null,null,{"$f":"IF(Selection!$Y$32=1,\"Ilość  36\",\"Quantity 36\")","v":"Quantity 36"},null,1,4,null,1,4,null,null,"Akc.szerokość",null,null,null,null,null,null,null,null,null,null,null,null,null,null,null,null,null,null,null,null,null,null,null,null,null,null,null,null,null,null,null,null,null,null,null,null,null,null,null,null,null,null,null,null,null,null,null,null,null,null,null,null,null,{"$f":"IF(Selection!AN63=\"\",0,IF(Selection!AN63>0,Selection!AN63,0))","v":0},{"$f":"Selection!AP63","v":0},{"$f":"IF(EK55>1,VLOOKUP(IF(ISNUMBER(EK55),TEXT(EK55,\"0\"),EK55),Pricelist!$A$53:$F$60643,2,FALSE),\"\")","v":""},{"$f":"IF(EK55>1,VLOOKUP(IF(ISNUMBER(EK55),TEXT(EK55,\"0\"),EK55),Pricelist!$A$53:$F$60643,3,FALSE),0)","v":0},0,null,null,"Szerokość obudowy","Rama rozł. Listw. na zawiasach  Wysokość, Pole 1,3",null,null,null,5,null,null,"Szerokość obudowy","Rama rozł. Listw. na zawiasach  Wysokość, Pole 2",null,null,null,5]
[null,null,null,null,null,null,null,null,6,650,40965,50965,60965,70965,80965,90965,null,800,41280,51280,61280,71280,81280,91280,null,null,null,null,null,null,null,null,null,null,null,null,null,null,null,"Przepust",3,2,2,3,null,null,null,null,null,null,null,null,null,null,null,null,null,null,null,null,null,null,null,null,null,null,null,null,null,null,null,null,null,null,{"$f":"IF(Selection!$Y$32=1,\"Izol. AlCubar 630 3P doizolowanie poz.400\",\"AlCubar 3P 630A free busbar support D400\")","v":"AlCubar 3P 630A free busbar support D400"},null,null,{"$f":"IF(Selection!$Y$32=1,\"Ilość  37\",\"Quantity 37\")","v":"Quantity 37"},null,1,"Osłony",null,1,"Ilość mod.",null,null,{"$f":"IF(Selection!$Y$32=1,\"Brak\",\"None\")","v":"None"},null,null,null,null,null,null,null,null,null,null,null,null,null,null,null,null,null,null,null,null,null,null,null,null,null,null,null,null,null,null,null,null,null,null,null,null,null,null,null,null,null,null,null,null,null,null,null,null,null,null,null,null,null,{"$f":"IF(Selection!AN66=\"\",0,IF(Selection!AN66>0,Selection!AN66,0))","v":0},{"$f":"Selection!AP66","v":0},{"$f":"IF(EK56>1,VLOOKUP(IF(ISNUMBER(EK56),TEXT(EK56,\"0\"),EK56),Pricelist!$A$53:$F$60643,2,FALSE),\"\")","v":""},{"$f":"IF(EK56>1,VLOOKUP(IF(ISNUMBER(EK56),TEXT(EK56,\"0\"),EK56),Pricelist!$A$53:$F$60643,3,FALSE),0)","v":0},0,null,null,null,"H 1200","H 1400","H 1600","H 1800","H 2000","H 2200",null,null,"H 1200","H 1400","H 1600","H 1800","H 2000","H 2200"]
[null,"Szerokość obudowy","Drzwi wentyl. IP43   Wysokość",null,null,7,null,"Pole 1,3",7,800,40980,50980,60980,70980,80980,90980,null,"650+150",41280,51280,61280,71280,81280,91280,null,null,null,null,null,null,null,null,null,null,null,null,null,null,null,null,null,null,null,null,null,null,null,null,null,null,null,null,null,null,null,null,null,null,null,null,null,null,null,null,null,null,null,null,null,null,null,null,null,null,{"$f":"IF(Selection!$Y$32=1,\"Izol. AlCubar 630 4P doizolowanie poz.400\",\"AlCubar 4P 630A free busbar support D400\")","v":"AlCubar 4P 630A free busbar support D400"},null,null,{"$f":"IF(Selection!$Y$32=1,\"Ilość  38\",\"Quantity 38\")","v":"Quantity 38"},null,1,{"$f":"IF(Selection!$Y$32=1,\"Brak\",\"None\")","v":"None"},null,1,{"$f":"IF(Selection!$Y$32=1,\"1 modułowa\",\"1 module\")","v":"1 module"},null,null,{"$f":"IF(Selection!$Y$32=1,\"Izolator 3P, most pionowy na plecach\",\"Rear 3P vertical busbar support\")","v":"Rear 3P vertical busbar support"},null,null,null,null,null,null,null,null,null,null,null,null,"W 600 - 4","1 mod.","2 mod.","3 mod.","4 mod.","5 mod.","6 mod.","7 mod.","8 mod.","9 mod.","10 mod.","11 mod.","12 mod.",null,null,null,null,null,null,null,null,null,null,null,null,null,null,null,null,null,null,null,null,null,null,null,null,null,null,null,null,{"$f":"IF(Selection!AN69=\"\",0,IF(Selection!AN69>0,Selection!AN69,0))","v":0},{"$f":"Selection!AP69","v":0},{"$f":"IF(EK57>1,VLOOKUP(IF(ISNUMBER(EK57),TEXT(EK57,\"0\"),EK57),Pricelist!$A$53:$F$60643,2,FALSE),\"\")","v":""},{"$f":"IF(EK57>1,VLOOKUP(IF(ISNUMBER(EK57),TEXT(EK57,\"0\"),EK57),Pricelist!$A$53:$F$60643,3,FALSE),0)","v":0},0,null,null,"Brak",{"$f":"\"\"","v":""},{"$f":"\"\"","v":""},{"$f":"\"\"","v":""},{"$f":"\"\"","v":""},{"$f":"\"\"","v":""},{"$f":"\"\"","v":""},null,"Brak",{"$f":"\"\"","v":""},{"$f":"\"\"","v":""},{"$f":"\"\"","v":""},{"$f":"\"\"","v":""},{"$f":"\"\"","v":""},{"$f":"\"\"","v":""}]
[null,null,"H 1200","H 1400","H 1600","H 1800","H 2000","H 2200",8,"650+150",40980,50980,60980,70980,80980,90980,null,850,41285,51285,61285,71285,81285,91285,null,null,null,null,null,null,null,null,null,null,null,null,null,null,null,null,null,null,null,null,null,null,null,null,null,null,null,null,null,null,null,null,null,null,null,null,null,null,null,null,null,null,null,null,null,null,null,null,null,null,{"$f":"IF(Selection!$Y$32=1,\"Izol. AlCubar 630 1P most pion z boku 200/230\",\"Vertical 1P AlCubar 630A busbar support D200/230\")","v":"Vertical 1P AlCubar 630A busbar support D200/230"},null,null,{"$f":"IF(Selection!$Y$32=1,\"Ilość  39\",\"Quantity 39\")","v":"Quantity 39"},null,null,{"$f":"IF(Selection!$Y$32=1,\"Panel osłonowy pełny\",\"Plain front plate\")","v":"Plain front plate"},null,{"$f":"IF($BA$12>1,0,IF(CE56<13,0,IF($BA$13>13,$BA$13-1,0)))","v":0},{"$f":"IF(Selection!$Y$32=1,\"2 modułowa\",\"2 modules\")","v":"2 modules"},null,null,{"$f":"IF(Selection!$Y$32=1,\"Izolator 4P, most pionowy na plecach\",\"Rear 4P vertical busbar support\")","v":"Rear 4P vertical busbar support"},null,null,null,null,null,null,"Pole 1",null,null,null,null,null,"Brak",{"$f":"IF(CW57=0,\"\",\"\")","v":""},"","","","","","","","","","","","Brak",null,null,null,null,null,null,null,null,null,null,null,null,null,null,null,null,null,null,null,null,null,null,null,null,null,null,null,{"$f":"IF(Selection!AN72=\"\",0,IF(Selection!AN72>0,Selection!AN72,0))","v":0},{"$f":"Selection!AP72","v":0},{"$f":"IF(EK58>1,VLOOKUP(IF(ISNUMBER(EK58),TEXT(EK58,\"0\"),EK58),Pricelist!$A$53:$F$60643,2,FALSE),\"\")","v":""},{"$f":"IF(EK58>1,VLOOKUP(IF(ISNUMBER(EK58),TEXT(EK58,\"0\"),EK58),Pricelist!$A$53:$F$60643,3,FALSE),0)","v":0},0,null,null,300,{"$f":"\"\"","v":""},{"$f":"\"\"","v":""},{"$f":"\"\"","v":""},{"$f":"\"\"","v":""},{"$f":"\"\"","v":""},{"$f":"\"\"","v":""},null,300,{"$f":"\"\"","v":""},{"$f":"\"\"","v":""},{"$f":"\"\"","v":""},{"$f":"\"\"","v":""},{"$f":"\"\"","v":""},{"$f":"\"\"","v":""}]
[null,"Brak",{"$f":"IF(C58=0,\"\",\"\")","v":""},"","","","","",9,850,40985,50985,60985,70985,80985,90985,null,"650+200",41285,51285,61285,71285,81285,91285,null,null,null,null,null,null,null,null,null,null,null,null,null,null,null,null,null,null,null,null,null,null,null,null,null,null,null,null,null,null,null,null,null,null,null,null,null,null,null,null,null,null,null,null,null,null,null,null,null,null,{"$f":"IF(Selection!$Y$32=1,\"Izol. AlCubar 630 3P most pionowy z boku 400\",\"Vertical 3P AlCubar 630A busbar support D400\")","v":"Vertical 3P AlCubar 630A busbar support D400"},null,null,{"$f":"IF(Selection!$Y$32=1,\"Ilość  40\",\"Quantity 40\")","v":"Quantity 40"},null,null,{"$f":"IF(Selection!$Y$32=1,\"Panel osłonowy modułowy\",\"Modular front plate\")","v":"Modular front plate"},null,null,{"$f":"IF(Selection!$Y$32=1,\"3 modułowa\",\"3 modules\")","v":"3 modules"},null,null,{"$f":"IF(Selection!$Y$32=1,\"Izolator 3P, most pion. na plecach reg.\",\"Rear 3P vertical busbar support regulated\")","v":"Rear 3P vertical busbar support regulated"},null,null,null,null,null,null,"Ilość mod.przód",null,null,null,null,null,"Osłona pełna",{"$f":"IF(CW57=0,\"\",\"\")","v":""},"","","","","","","","","","","",300,null,null,null,null,null,null,null,null,null,null,null,null,null,null,null,null,null,null,null,null,null,null,null,null,null,null,null,{"$f":"IF(Selection!AN75=\"\",0,IF(Selection!AN75>0,Selection!AN75,0))","v":0},{"$f":"Selection!AP75","v":0},{"$f":"IF(EK59>1,VLOOKUP(IF(ISNUMBER(EK59),TEXT(EK59,\"0\"),EK59),Pricelist!$A$53:$F$60643,2,FALSE),\"\")","v":""},{"$f":"IF(EK59>1,VLOOKUP(IF(ISNUMBER(EK59),TEXT(EK59,\"0\"),EK59),Pricelist!$A$53:$F$60643,3,FALSE),0)","v":0},0,null,null,400,{"$f":"\"\"","v":""},{"$f":"\"\"","v":""},{"$f":"\"\"","v":""},{"$f":"\"\"","v":""},{"$f":"\"\"","v":""},{"$f":"\"\"","v":""},null,400,{"$f":"\"\"","v":""},{"$f":"\"\"","v":""},{"$f":"\"\"","v":""},{"$f":"\"\"","v":""},{"$f":"\"\"","v":""},{"$f":"\"\"","v":""}]
[null,300,40430,50430,60430,70430,80430,90430,10,"650+200",40985,50985,60985,70985,80985,90985,null,1000,41210,51210,61210,71210,81210,91210,null,null,null,null,null,null,null,null,null,null,null,null,null,null,null,{"$f":"INDEX(($AO62:$AR64),$BS$21,$BS$13)","v":3},"Cokół boki / pokrywa pole 7",null,null,null,null,null,null,null,null,null,null,null,null,null,null,null,null,null,null,null,null,null,null,null,null,null,null,null,null,null,null,null,null,null,{"$f":"IF(Selection!$Y$32=1,\"Izol. AlCubar 630 4P most pionowy z boku 400\",\"Vertical 3P AlCubar 630A busbar support D400\")","v":"Vertical 3P AlCubar 630A busbar support D400"},null,null,{"$f":"IF(Selection!$Y$32=1,\"Ilość  41\",\"Quantity 41\")","v":"Quantity 41"},null,null,{"$f":"IF(Selection!$Y$32=1,\"Panel osłonowy przeszklony\",\"Transparent front plate\")","v":"Transparent front plate"},null,null,{"$f":"IF(Selection!$Y$32=1,\"4 modułowa\",\"4 modules\")","v":"4 modules"},null,null,{"$f":"IF(Selection!$Y$32=1,\"Izolator 4P, most pion. na plecach reg.\",\"Rear 4P vertical busbar support regulated\")","v":"Rear 4P vertical busbar support regulated"},null,null,null,{"$f":"IF(BV4>3,1,0)","v":0},{"$f":"IF(CM60=1,SUM(CN61:CN66),0)","v":0},null,1,{"$f":"IF(BA13>1,Selection!AH42/(Zbaza!AC1),0)","v":0},{"$f":"IF(CB4>4,0,IF(CE4<13,CE4,0))","v":1},{"$f":"CQ60*CR60","v":0},{"$f":"SUM(CS60:CS71)","v":0},null,"Osł. modułowa",{"$f":"IF(CW57=0,\"\",\"\")","v":""},"","","","","","","","","","","",400,null,null,null,null,null,null,null,null,null,null,null,null,null,null,null,null,null,null,null,null,null,null,null,null,null,null,null,{"$f":"IF(Selection!AN78=\"\",0,IF(Selection!AN78>0,Selection!AN78,0))","v":0},{"$f":"Selection!AP78","v":0},{"$f":"IF(EK60>1,VLOOKUP(IF(ISNUMBER(EK60),TEXT(EK60,\"0\"),EK60),Pricelist!$A$53:$F$60643,2,FALSE),\"\")","v":""},{"$f":"IF(EK60>1,VLOOKUP(IF(ISNUMBER(EK60),TEXT(EK60,\"0\"),EK60),Pricelist!$A$53:$F$60643,3,FALSE),0)","v":0},{"$f":"EL60*EN60","v":0},null,null,450,40845,50845,60845,70845,80845,90845,null,450,40845,50845,60845,70845,80845,90845]
[null,400,40440,50440,60440,70440,80440,90440,11,1000,40910,50910,60910,70910,80910,90910,null,1200,41212,51212,61212,71212,81212,91212,null,null,null,null,null,null,null,null,null,null,null,null,null,null,null,"Cokół","Brak",100,200,"Pokrywa",null,null,null,null,null,null,null,null,null,null,null,null,null,null,null,null,null,null,null,null,null,null,null,null,null,null,null,null,null,null,{"$f":"IF(Selection!$Y$32=1,\"Izolator 3P,rozstaw 60 mm\",\"Cu 3P Busbar support 60mm spacing\")","v":"Cu 3P Busbar support 60mm spacing"},null,null,{"$f":"IF(Selection!$Y$32=1,\"Ilość  42\",\"Quantity 42\")","v":"Quantity 42"},null,null,{"$f":"IF(Selection!$Y$32=1,\"Szyna montażowa TS35D stała\",\"Fixed TS35D rail\")","v":"Fixed TS35D rail"},null,null,{"$f":"IF(Selection!$Y$32=1,\"5 modułowa\",\"5 modules\")","v":"5 modules"},null,null,{"$f":"IF(Selection!$Y$32=1,\"Izol. 3P, podpora mostu na plecach, reg.\",\"Rear 3P vert. busbar bottom support regulated\")","v":"Rear 3P vert. busbar bottom support regulated"},null,null,null,{"$f":"IF(BD4=1,20,0)","v":0},{"$f":"IF(BD4=1,0,0)","v":0},null,2,{"$f":"IF(BA13>1,Selection!AH45/(Zbaza!AC1),0)","v":0},{"$f":"IF(CB21>4,0,IF(CE21<13,CE21,0))","v":1},0,{"$f":"IF(CT60<=CM67,CT60,CM67)","v":0},null,"Osł. przeszklona",{"$f":"IF(CW57=0,\"\",\"\")","v":""},"","","","","","","","","","","",450,null,null,null,null,null,null,null,null,null,null,null,null,null,null,null,null,null,null,null,null,null,null,null,null,null,null,null,{"$f":"IF(Selection!AN81=\"\",0,IF(Selection!AN81>0,Selection!AN81,0))","v":0},{"$f":"Selection!AP81","v":0},{"$f":"IF(EK61>1,VLOOKUP(IF(ISNUMBER(EK61),TEXT(EK61,\"0\"),EK61),Pricelist!$A$53:$F$60643,2,FALSE),\"\")","v":""},{"$f":"IF(EK61>1,VLOOKUP(IF(ISNUMBER(EK61),TEXT(EK61,\"0\"),EK61),Pricelist!$A$53:$F$60643,3,FALSE),0)","v":0},0,null,null,600,{"$f":"\"\"","v":""},{"$f":"\"\"","v":""},{"$f":"\"\"","v":""},{"$f":"\"\"","v":""},{"$f":"\"\"","v":""},{"$f":"\"\"","v":""},null,600,{"$f":"\"\"","v":""},{"$f":"\"\"","v":""},{"$f":"\"\"","v":""},{"$f":"\"\"","v":""},{"$f":"\"\"","v":""},{"$f":"\"\"","v":""}]
[null,450,40445,50445,60445,70445,80445,90445,12,1200,40912,50912,60912,70912,80912,90912,null,1300,41213,51213,61213,71213,81213,91213,null,null,null,null,null,null,null,null,null,null,null,null,null,null,null,"P.boki",3,1,1,3,null,null,null,null,null,null,null,null,null,null,null,null,null,null,null,null,null,null,null,null,null,null,null,null,null,null,null,null,null,null,{"$f":"IF(Selection!$Y$32=1,\"Izolator 3P,rozstaw 100 mm\",\"Cu 3P Busbar support 100mm spacing\")","v":"Cu 3P Busbar support 100mm spacing"},null,null,{"$f":"IF(Selection!$Y$32=1,\"Ilość  43\",\"Quantity 43\")","v":"Quantity 43"},null,null,{"$f":"IF(Selection!$Y$32=1,\"Szyna montażowa TS35D regulowana\",\"Adjustable TS35D rail\")","v":"Adjustable TS35D rail"},null,null,{"$f":"IF(Selection!$Y$32=1,\"6 modułowa\",\"6 modules\")","v":"6 modules"},null,null,{"$f":"IF(Selection!$Y$32=1,\"Izol. 4P, podpora mostu na plecach, reg.\",\"Rear 4P vert. busbar bottom support regulated\")","v":"Rear 4P vert. busbar bottom support regulated"},null,null,null,{"$f":"IF(BD4=2,24,0)","v":0},{"$f":"IF(BD4=2,0,0)","v":0},null,3,{"$f":"IF(BA13>1,Selection!AH48/(Zbaza!AC1),0)","v":0},{"$f":"IF(CB38>4,0,IF(CE38<13,CE38,0))","v":1},0,{"$f":"IF(CT61=CM67,CT60-CT61,\"\")","v":""},null,"Szyna stała TS35",{"$f":"IF(CW57=0,\"\",\"\")","v":""},"","","","","","","","","","","",600,null,null,null,null,null,null,null,null,null,null,null,null,null,null,null,null,null,null,null,null,null,null,null,null,null,null,null,{"$f":"IF(Selection!AN84=\"\",0,IF(Selection!AN84>0,Selection!AN84,0))","v":0},{"$f":"Selection!AP84","v":0},{"$f":"IF(EK62>1,VLOOKUP(IF(ISNUMBER(EK62),TEXT(EK62,\"0\"),EK62),Pricelist!$A$53:$F$60643,2,FALSE),\"\")","v":""},{"$f":"IF(EK62>1,VLOOKUP(IF(ISNUMBER(EK62),TEXT(EK62,\"0\"),EK62),Pricelist!$A$53:$F$60643,3,FALSE),0)","v":0},0,null,null,650,40865,50865,60865,70865,80865,90865,null,650,40865,50865,60865,70865,80865,90865]
[null,600,40460,50460,60460,70460,80460,90460,13,1300,40913,50913,60913,70913,80913,90913,null,"650+650",41265,51265,61265,71265,81265,91265,null,null,null,null,null,null,null,null,null,null,null,null,null,null,null,"Przepust",3,2,2,3,null,null,null,null,null,null,null,null,null,null,null,null,null,null,null,null,null,null,null,null,null,null,null,null,null,null,null,null,null,null,{"$f":"IF(Selection!$Y$32=1,\"Izolator 3P,rozstaw 185 mm\",\"Cu 3P Busbar support 185mm spacing\")","v":"Cu 3P Busbar support 185mm spacing"},null,null,{"$f":"IF(Selection!$Y$32=1,\"Ilość  44\",\"Quantity 44\")","v":"Quantity 44"},null,null,{"$f":"IF(Selection!$Y$32=1,\"Płyta montażowa pełna ocynkowana\",\"Plain mounting plate\")","v":"Plain mounting plate"},null,null,{"$f":"IF(Selection!$Y$32=1,\"7 modułowa\",\"7 modules\")","v":"7 modules"},null,null,{"$f":"IF(Selection!$Y$32=1,\"Izol. AlCubar 630A 3P pionowo na plecach\",\"Rear 3P AlCubar 630A vertical busbar support\")","v":"Rear 3P AlCubar 630A vertical busbar support"},null,null,null,{"$f":"IF(BD4=3,28,0)","v":0},{"$f":"IF(BD4=3,5,0)","v":0},null,4,{"$f":"IF(BA13>1,Selection!AH51/(Zbaza!AC1),0)","v":0},{"$f":"IF(CB55>4,0,IF(CE55<13,CE55,0))","v":1},0,{"$f":"IF(BV4=4,\"\",CT61)","v":0},null,"Szyna reg.TS35",{"$f":"IF(CW57=0,\"\",\"\")","v":""},"","","","","","","","","","","",650,null,null,null,null,null,null,null,null,null,null,null,null,null,null,null,null,null,null,null,null,null,null,null,null,null,null,null,{"$f":"IF(Selection!AN87=\"\",0,IF(Selection!AN87>0,Selection!AN87,0))","v":0},{"$f":"Selection!AP87","v":0},{"$f":"IF(EK63>1,VLOOKUP(IF(ISNUMBER(EK63),TEXT(EK63,\"0\"),EK63),Pricelist!$A$53:$F$60643,2,FALSE),\"\")","v":""},{"$f":"IF(EK63>1,VLOOKUP(IF(ISNUMBER(EK63),TEXT(EK63,\"0\"),EK63),Pricelist!$A$53:$F$60643,3,FALSE),0)","v":0},0,null,null,800,{"$f":"\"\"","v":""},{"$f":"\"\"","v":""},{"$f":"\"\"","v":""},{"$f":"\"\"","v":""},{"$f":"\"\"","v":""},{"$f":"\"\"","v":""},null,800,{"$f":"\"\"","v":""},{"$f":"\"\"","v":""},{"$f":"\"\"","v":""},{"$f":"\"\"","v":""},{"$f":"\"\"","v":""},{"$f":"\"\"","v":""}]
[null,650,40465,50465,60465,70465,80465,90465,14,"650+612",40965,50965,60965,70965,80965,90965,null,"650+850",41265,51265,61265,71265,81265,91265,null,null,null,null,null,null,null,null,null,null,null,null,null,null,null,null,null,null,null,null,null,null,null,null,null,null,null,null,null,null,null,null,null,null,null,null,null,null,null,null,null,null,null,null,null,null,null,null,null,null,{"$f":"IF(Selection!$Y$32=1,\"Wspornik szyny PE\",\"PE busbar Support\")","v":"PE busbar Support"},null,null,{"$f":"IF(Selection!$Y$32=1,\"Ilość  45\",\"Quantity 45\")","v":"Quantity 45"},null,null,{"$f":"IF(Selection!$Y$32=1,\"Płyta montażowa otworowana ocynk\",\"Painted mounting plate\")","v":"Painted mounting plate"},null,null,{"$f":"IF(Selection!$Y$32=1,\"8 modułowa\",\"8 modules\")","v":"8 modules"},null,null,{"$f":"IF(Selection!$Y$32=1,\"Izol. AlCubar 630A 4P pionowo na plecach\",\"Rear 4P AlCubar 630A vertical busbar support\")","v":"Rear 4P AlCubar 630A vertical busbar support"},null,null,null,{"$f":"IF(BD4=4,32,0)","v":0},{"$f":"IF(BD4=4,9,0)","v":0},null,5,{"$f":"IF(BA13>1,Selection!AH54/(Zbaza!AC1),0)","v":0},{"$f":"IF(CB72>4,0,IF(CE72<13,CE72,0))","v":1},0,null,null,"Płyta ocynk pełna",{"$f":"IF(CW57=0,\"\",\"\")","v":""},33062,33063,33064,33065,33066,{"$f":"IF(DC57=0,\"\",\"\")","v":""},33067,{"$f":"IF(DE57=0,\"\",\"\")","v":""},33068,{"$f":"IF(DG57=0,\"\",\"\")","v":""},33069,800,null,null,null,null,null,null,null,null,null,null,null,null,null,null,null,null,null,null,null,null,null,null,null,null,null,null,null,{"$f":"IF(Selection!AN90=\"\",0,IF(Selection!AN90>0,Selection!AN90,0))","v":0},{"$f":"Selection!AP90","v":0},{"$f":"IF(EK64>1,VLOOKUP(IF(ISNUMBER(EK64),TEXT(EK64,\"0\"),EK64),Pricelist!$A$53:$F$60643,2,FALSE),\"\")","v":""},{"$f":"IF(EK64>1,VLOOKUP(IF(ISNUMBER(EK64),TEXT(EK64,\"0\"),EK64),Pricelist!$A$53:$F$60643,3,FALSE),0)","v":0},0,null,null,"650+150",40865,50865,60865,70865,80865,90865,null,"650+150",40165,50165,60165,70165,80165,90165]
[null,800,40480,50480,60480,70480,80480,90480,15,"650+812",40965,50965,60965,70965,80965,90965,null,"850+850",41285,51285,61285,71285,81285,91285,null,null,null,null,null,null,null,null,null,null,null,null,null,null,null,null,null,null,null,null,null,null,null,null,null,null,null,null,null,null,null,null,null,null,null,null,null,null,null,null,null,null,null,null,null,null,null,null,null,2,{"$f":"IF(Selection!$Y$32=1,\"Drabinka kablowa 200/230\",\"Cable tray D200/230\")","v":"Cable tray D200/230"},null,null,{"$f":"IF(Selection!$Y$32=1,\"Ilość  46\",\"Quantity 46\")","v":"Quantity 46"},null,null,{"$f":"IF(Selection!$Y$32=1,\"Płyta montażowa pozioma ocynk\",\"Horizontal plain mounting plate\")","v":"Horizontal plain mounting plate"},null,null,{"$f":"IF(Selection!$Y$32=1,\"9 modułowa\",\"9 modules\")","v":"9 modules"},null,null,{"$f":"IF(Selection!$Y$32=1,\"Drabinka kablowa na plecach\",\"Cable tray\")","v":"Cable tray"},null,null,null,{"$f":"IF(BD4=5,36,0)","v":36},{"$f":"IF(BD4=5,13,0)","v":13},null,6,{"$f":"IF($BA$13>1,Selection!AH57/(Zbaza!$AC$1),0)","v":0},{"$f":"IF(CB89>4,0,IF(CE89<13,CE89,0))","v":1},0,null,null,"Płyta malow.otw.",{"$f":"IF(CW57=0,\"\",\"\")","v":""},33562,33563,33564,33565,33566,{"$f":"IF(DC57=0,\"\",\"\")","v":""},33567,{"$f":"IF(DE57=0,\"\",\"\")","v":""},33568,{"$f":"IF(DG57=0,\"\",\"\")","v":""},33569,"650+150",null,null,null,null,null,null,null,null,null,null,null,null,null,null,null,null,null,null,null,null,null,null,null,null,null,null,null,{"$f":"IF(Selection!AN93=\"\",0,IF(Selection!AN93>0,Selection!AN93,0))","v":0},{"$f":"Selection!AP93","v":0},{"$f":"IF(EK65>1,VLOOKUP(IF(ISNUMBER(EK65),TEXT(EK65,\"0\"),EK65),Pricelist!$A$53:$F$60643,2,FALSE),\"\")","v":""},{"$f":"IF(EK65>1,VLOOKUP(IF(ISNUMBER(EK65),TEXT(EK65,\"0\"),EK65),Pricelist!$A$53:$F$60643,3,FALSE),0)","v":0},0,null,null,850,40885,50885,60885,70885,80885,90885,null,850,40885,50885,60885,70885,80885,90885]
[null,"650+150",40480,50480,60480,70480,80480,90480,16,"850+812",40985,50985,60985,70985,80985,90985,null,"650+300",41295,51295,61295,71295,81295,91295,null,null,null,null,null,null,null,null,null,null,null,null,null,null,null,null,null,null,null,null,null,null,null,null,null,null,null,null,null,null,null,null,null,null,null,null,null,null,null,null,null,null,null,null,null,null,null,null,null,null,{"$f":"IF(Selection!$Y$32=1,\"Drabinka kablowa 400\",\"Cable tray D400\")","v":"Cable tray D400"},null,null,{"$f":"IF(Selection!$Y$32=1,\"Ilość  47\",\"Quantity 47\")","v":"Quantity 47"},null,null,{"$f":"IF(Selection!$Y$32=1,\"Zabudowa licznikowa\",\"kWh mounting plate\")","v":"kWh mounting plate"},null,null,{"$f":"IF(Selection!$Y$32=1,\"10 modułowa\",\"10 modules\")","v":"10 modules"},null,null,{"$f":"IF(Selection!$Y$32=1,\"Drabinka kablowa na drzwiach\",\"Door cable tray\")","v":"Door cable tray"},null,null,null,{"$f":"IF(BD4=6,40,0)","v":0},{"$f":"IF(BD4=6,17,0)","v":0},null,7,{"$f":"IF($BA$13>1,Selection!AH60/(Zbaza!$AC$1),0)","v":0},{"$f":"IF(CB106>4,0,IF(CE106<13,CE106,0))","v":1},0,null,null,"Płyta oc. pozioma",{"$f":"IF(CW56=0,\"\",\"\")","v":""},"","","","","","","","",{"$f":"IF(DF149=0,\"\",\"\")","v":""},{"$f":"IF(DG149=0,\"\",\"\")","v":""},{"$f":"IF(DH149=0,\"\",\"\")","v":""},850,null,null,null,null,null,null,null,null,null,null,null,null,null,null,null,null,null,null,null,null,null,null,null,null,null,null,"Pole 3",{"$f":"IF(Selection!AV12=\"\",0,IF(Selection!AX12>0,Selection!AV12,0))","v":0},{"$f":"IF(Selection!AX12=\"\",0,Selection!AX12)","v":0},{"$f":"IF(EK66>1,VLOOKUP(IF(ISNUMBER(EK66),TEXT(EK66,\"0\"),EK66),Pricelist!$A$53:$F$60643,2,FALSE),\"\")","v":""},{"$f":"IF(EK66>1,VLOOKUP(IF(ISNUMBER(EK66),TEXT(EK66,\"0\"),EK66),Pricelist!$A$53:$F$60643,3,FALSE),0)","v":0},0,null,null,"650+200",40865,50865,60865,70865,80865,90865,null,"650+200",40165,50165,60165,70165,80165,90165]
[null,850,40485,50485,60485,70485,80485,90485,17,"650+300",40965,50965,60965,70965,80965,90965,null,"650+400",41211,51211,61211,71211,81211,91211,null,null,null,null,null,null,null,null,null,null,null,null,null,null,null,{"$f":"INDEX(($AO$75:$AT$77),$BA$4,$BJ4)","v":10},"Drzwi przód, pole 1",null,null,null,null,null,null,null,null,null,null,null,null,null,null,null,null,null,null,null,null,null,null,null,null,null,null,null,null,null,null,null,null,null,{"$f":"IF(Selection!$Y$32=1,\"Przepust membranowy IP55\",\"Diaphragm cable passage IP55\")","v":"Diaphragm cable passage IP55"},null,null,{"$f":"IF(Selection!$Y$32=1,\"Ilość  48\",\"Quantity 48\")","v":"Quantity 48"},null,null,null,null,null,{"$f":"IF(Selection!$Y$32=1,\"11 modułowa\",\"11 modules\")","v":"11 modules"},null,null,{"$f":"IF(Selection!$Y$32=1,\"Drabinka kablowa pod osłonę\",\"Front plate cable tray\")","v":"Front plate cable tray"},null,null,null,{"$f":"IF(CN60=0,SUM(CM61:CM66),CN60)","v":36},{"$f":"CT60-CM67","v":-36},null,8,{"$f":"IF($BA$13>1,Selection!AH63/(Zbaza!$AC$1),0)","v":0},{"$f":"IF(CB123>4,0,IF(CE123<13,CE123,0))","v":1},0,null,null,"Płyta licznikowa",{"$f":"IF(CW57=0,\"\",\"\")","v":""},"","","","","","","","","","","","650+200",null,null,null,null,null,null,null,null,null,null,null,null,null,null,null,null,null,null,null,null,null,null,null,null,null,null,null,{"$f":"IF(Selection!AV15=\"\",0,IF(Selection!AX15>0,Selection!AV15,0))","v":0},{"$f":"IF(Selection!AX15=\"\",0,Selection!AX15)","v":0},{"$f":"IF(EK67>1,VLOOKUP(IF(ISNUMBER(EK67),TEXT(EK67,\"0\"),EK67),Pricelist!$A$53:$F$60643,2,FALSE),\"\")","v":""},{"$f":"IF(EK67>1,VLOOKUP(IF(ISNUMBER(EK67),TEXT(EK67,\"0\"),EK67),Pricelist!$A$53:$F$60643,3,FALSE),0)","v":0},0,null,null,1000,{"$f":"\"\"","v":""},{"$f":"\"\"","v":""},{"$f":"\"\"","v":""},{"$f":"\"\"","v":""},{"$f":"\"\"","v":""},{"$f":"\"\"","v":""},null,1000,{"$f":"\"\"","v":""},{"$f":"\"\"","v":""},{"$f":"\"\"","v":""},{"$f":"\"\"","v":""},{"$f":"\"\"","v":""},{"$f":"\"\"","v":""}]
[null,"650+200",40485,50485,60485,70485,80485,90485,18,"650+400",40965,50965,60965,70965,80965,90965,null,"850+300",41285,51285,61285,71285,81285,91285,null,null,null,null,null,null,null,null,null,null,null,null,null,null,null,{"$f":"INDEX(($AO$75:$AT$77),$BA$4,$BJ5)","v":10},"Drzwi przód, pole 2",null,null,null,null,null,null,null,null,null,null,null,null,null,null,null,null,null,null,null,null,null,null,null,null,null,null,null,null,null,null,null,null,null,{"$f":"IF(Selection!$Y$32=1,\"Kratka wentylacyjna 160x160\",\"IP54 filter 160x160\")","v":"IP54 filter 160x160"},null,null,{"$f":"IF(Selection!$Y$32=1,\"Ilość  49\",\"Quantity 49\")","v":"Quantity 49"},null,null,null,null,null,{"$f":"IF(Selection!$Y$32=1,\"12 modułowa\",\"12 modules\")","v":"12 modules"},null,null,{"$f":"IF(Selection!$Y$32=1,\"Metalowa kieszeń na dokumentację\",\"Drawing holder\")","v":"Drawing holder"},null,null,null,{"$f":"IF(BV4=4,\"\",CN67)","v":-36},null,null,9,{"$f":"IF($BA$13>1,Selection!AH66/(Zbaza!$AC$1),0)","v":0},{"$f":"IF(CB140>4,0,IF(CE140<13,CE140,0))","v":1},0,null,null,null,{"$f":"IF(CW57=0,\"\",\"\")","v":""},"","","","","","","","","","","",1000,null,null,null,null,null,null,null,null,null,null,null,null,null,null,null,null,null,null,null,null,null,null,null,null,null,null,null,{"$f":"IF(Selection!AV18=\"\",0,IF(Selection!AX18>0,Selection!AV18,0))","v":0},{"$f":"IF(Selection!AX18=\"\",0,Selection!AX18)","v":0},{"$f":"IF(EK68>1,VLOOKUP(IF(ISNUMBER(EK68),TEXT(EK68,\"0\"),EK68),Pricelist!$A$53:$F$60643,2,FALSE),\"\")","v":""},{"$f":"IF(EK68>1,VLOOKUP(IF(ISNUMBER(EK68),TEXT(EK68,\"0\"),EK68),Pricelist!$A$53:$F$60643,3,FALSE),0)","v":0},0,null,null,1200,{"$f":"\"\"","v":""},{"$f":"\"\"","v":""},{"$f":"\"\"","v":""},{"$f":"\"\"","v":""},{"$f":"\"\"","v":""},{"$f":"\"\"","v":""},null,1200,{"$f":"\"\"","v":""},{"$f":"\"\"","v":""},{"$f":"\"\"","v":""},{"$f":"\"\"","v":""},{"$f":"\"\"","v":""},{"$f":"\"\"","v":""}]
[null,1000,40410,50410,60410,70410,80410,90410,19,"850+300",40985,50985,60985,70985,80985,90985,null,"850+400",41285,51285,61285,71285,81285,91285,null,null,null,null,null,null,null,null,null,null,null,null,null,null,null,{"$f":"INDEX(($AO$75:$AT$77),$BA$4,$BJ6)","v":10},"Drzwi przód, pole 3",null,null,null,null,null,null,null,null,null,null,null,null,null,null,null,null,null,null,null,null,null,null,null,null,null,null,null,null,null,null,null,null,null,{"$f":"IF(Selection!$Y$32=1,\"Kratka wentylacyjna 230x230\",\"IP54 filter 230x230\")","v":"IP54 filter 230x230"},null,null,{"$f":"IF(Selection!$Y$32=1,\"Ilość  50\",\"Quantity 50\")","v":"Quantity 50"},null,{"$f":"IF(CE74=14,14,IF(CP39=1,$BA$15,CB74))","v":1},null,null,{"$f":"IF(CP39=1,BD4,CE74)","v":1},{"$f":"IF(Selection!$Y$32=1,\"Płyta pełna ocynkowana\",\"Plain mounting plate\")","v":"Plain mounting plate"},null,null,{"$f":"IF(Selection!$Y$32=1,\"Pionowy zestaw szyn TS35, 6M\",\"6-Modules Vertical DIN-rail for terminals\")","v":"6-Modules Vertical DIN-rail for terminals"},null,null,null,null,null,null,10,{"$f":"IF($BA$13>1,Selection!AH69/(Zbaza!$AC$1),0)","v":0},{"$f":"IF(CB157>4,0,IF(CE157<13,CE157,0))","v":1},0,null,null,null,{"$f":"IF(CW57=0,\"\",\"\")","v":""},"","","","","","","","","","","",1200,null,null,null,null,null,null,null,null,null,null,null,null,null,null,null,null,null,null,null,null,null,null,null,null,null,null,null,{"$f":"IF(Selection!AV21=\"\",0,IF(Selection!AX21>0,Selection!AV21,0))","v":0},{"$f":"IF(Selection!AX21=\"\",0,Selection!AX21)","v":0},{"$f":"IF(EK69>1,VLOOKUP(IF(ISNUMBER(EK69),TEXT(EK69,\"0\"),EK69),Pricelist!$A$53:$F$60643,2,FALSE),\"\")","v":""},{"$f":"IF(EK69>1,VLOOKUP(IF(ISNUMBER(EK69),TEXT(EK69,\"0\"),EK69),Pricelist!$A$53:$F$60643,3,FALSE),0)","v":0},0,null,null,1300,{"$f":"\"\"","v":""},{"$f":"\"\"","v":""},{"$f":"\"\"","v":""},{"$f":"\"\"","v":""},{"$f":"\"\"","v":""},{"$f":"\"\"","v":""},null,1300,{"$f":"\"\"","v":""},{"$f":"\"\"","v":""},{"$f":"\"\"","v":""},{"$f":"\"\"","v":""},{"$f":"\"\"","v":""},{"$f":"\"\"","v":""}]
[null,1200,40412,50412,60412,70412,80412,90412,20,"850+400",40985,50985,60985,70985,80985,90985,null,"650+150+300",41280,51280,61280,71280,81280,91280,null,null,null,null,null,null,null,null,null,null,null,null,null,null,null,null,null,null,null,null,null,null,null,null,null,null,null,null,null,null,null,null,null,null,null,null,null,null,null,null,null,null,null,null,null,null,null,null,null,null,{"$f":"IF(Selection!$Y$32=1,\"Przyłącza kablowe w przedziale 3P 250A\",\"Cable Terminal Transfer 3P 250A\")","v":"Cable Terminal Transfer 3P 250A"},null,null,null,null,{"$f":"IF(CE73=14,25,IF(CO39=1,$BA$12,CB73))","v":1},null,null,{"$f":"IF(CO39=1,BD4,CE73)","v":1},{"$f":"IF(Selection!$Y$32=1,\"Łącznik płyt pełnych\",\"Plates connector\")","v":"Plates connector"},null,null,{"$f":"IF(Selection!$Y$32=1,\"Poziomy zestaw dwóch szyn TS35\",\"Horizontal double DIN-rail for terminals\")","v":"Horizontal double DIN-rail for terminals"},null,null,null,null,null,null,11,{"$f":"IF($BA$13>1,Selection!AH72/(Zbaza!$AC$1),0)","v":0},{"$f":"IF(CB174>4,0,IF(CE174<13,CE174,0))","v":1},0,null,null,null,{"$f":"IF(CW57=0,\"\",\"\")","v":""},"","","","","","","","","","","",1300,null,null,null,null,null,null,null,null,null,null,null,null,null,null,null,null,null,null,null,null,null,null,null,null,null,null,null,{"$f":"IF(Selection!AV24=\"\",0,IF(Selection!AX24>0,Selection!AV24,0))","v":0},{"$f":"IF(Selection!AX24=\"\",0,Selection!AX24)","v":0},{"$f":"IF(EK70>1,VLOOKUP(IF(ISNUMBER(EK70),TEXT(EK70,\"0\"),EK70),Pricelist!$A$53:$F$60643,2,FALSE),\"\")","v":""},{"$f":"IF(EK70>1,VLOOKUP(IF(ISNUMBER(EK70),TEXT(EK70,\"0\"),EK70),Pricelist!$A$53:$F$60643,3,FALSE),0)","v":0},0,null,null,"650+650",40865,50865,60865,70865,80865,90865,null,"650+650",40865,50865,60865,70865,80865,90865]
[null,1300,40413,50413,60413,70413,80413,90413,21,"150+650+300",40965,50965,60965,70965,80965,90965,null,"650+150+400",41280,51280,61280,71280,81280,91280,null,null,null,null,null,null,null,null,null,null,null,null,null,null,null,null,null,null,null,null,null,null,null,null,null,null,null,null,null,null,null,null,null,null,null,null,null,null,null,null,null,null,null,null,null,null,null,null,null,null,{"$f":"IF(Selection!$Y$32=1,\"Przyłącza kablowe w przedziale 4P 250A\",\"Cable Terminal Transfer 4P 250A\")","v":"Cable Terminal Transfer 4P 250A"},null,null,null,null,{"$f":"IF(CE72=14,23,IF(CN39=1,$BA$13,CB72))","v":1},null,null,{"$f":"IF(CN39=1,BD4,CE72)","v":1},null,null,null,{"$f":"IF(Selection!$Y$32=1,\"Osłona mostu poziomego\",\"Horizontal busbar cover\")","v":"Horizontal busbar cover"},null,null,null,null,null,null,12,{"$f":"IF($BA$13>1,Selection!AH75/(Zbaza!$AC$1),0)","v":0},{"$f":"IF(CB191>4,0,IF(CE191<13,CE191,0))","v":1},0,null,null,null,{"$f":"IF(CW57=0,\"\",\"\")","v":""},"","","","","","","","","","","","650+612",null,null,null,null,null,null,null,null,null,null,null,null,null,null,null,null,null,null,null,null,null,null,null,null,null,null,null,{"$f":"IF(Selection!AV25=\"\",0,IF(Selection!AX25>0,Selection!AV25,0))","v":0},{"$f":"IF(Selection!AX25=\"\",0,Selection!AX25)","v":0},{"$f":"IF(EK71>1,VLOOKUP(IF(ISNUMBER(EK71),TEXT(EK71,\"0\"),EK71),Pricelist!$A$53:$F$60643,2,FALSE),\"\")","v":""},{"$f":"IF(EK71>1,VLOOKUP(IF(ISNUMBER(EK71),TEXT(EK71,\"0\"),EK71),Pricelist!$A$53:$F$60643,3,FALSE),0)","v":0},0,null,null,"650+850",40865,50865,60865,70865,80865,90865,null,"650+850",40885,50885,60885,70885,80885,90885]
[null,"650+612",40465,50465,60465,70465,80465,90465,22,"150+650+400",40965,50965,60965,70965,80965,90965,null,null,null,null,null,null,null,null,null,null,null,null,null,null,null,null,null,null,null,null,null,null,null,null,null,null,null,null,null,null,null,null,null,null,null,null,null,null,null,null,null,null,null,null,null,null,null,null,null,null,null,null,null,null,null,null,null,null,{"$f":"IF(Selection!$Y$32=1,\"Przyłącza kablowe w przedziale 3P 630A\",\"Cable Terminal Transfer 3P 630A\")","v":"Cable Terminal Transfer 3P 630A"},null,null,null,null,1,5,null,1,5,null,null,{"$f":"IF(Selection!$Y$32=1,\"Zestaw mocowania do ściany\",\"Zenergy cabinet wall sling rail\")","v":"Zenergy cabinet wall sling rail"},null,null,null,null,null,null,null,null,null,null,null,null,null,{"$f":"IF(CW57=0,\"\",\"\")","v":""},"","","","","","","","","","","","650+812",null,null,null,null,null,null,null,null,null,null,null,null,null,null,null,null,null,null,null,null,null,null,null,null,null,null,null,{"$f":"IF(Selection!AV28=\"\",0,IF(Selection!AX28>0,Selection!AV28,0))","v":0},{"$f":"IF(Selection!AX28=\"\",0,Selection!AX28)","v":0},{"$f":"IF(EK72>1,VLOOKUP(IF(ISNUMBER(EK72),TEXT(EK72,\"0\"),EK72),Pricelist!$A$53:$F$60643,2,FALSE),\"\")","v":""},{"$f":"IF(EK72>1,VLOOKUP(IF(ISNUMBER(EK72),TEXT(EK72,\"0\"),EK72),Pricelist!$A$53:$F$60643,3,FALSE),0)","v":0},0,null,null,"850+850",40885,50885,60885,70885,80885,90885,null,"850+850",40885,50885,60885,70885,80885,90885]
[null,"650+812",40465,50465,60465,70465,80465,90465,23,98,40995,50995,60995,70995,80995,90995,null,"Szerokość obudowy","Osłona tylna went. IP43   Wysokość",null,null,9,null,"Pole 1,3",null,null,null,null,null,null,null,null,null,null,null,null,null,null,null,null,null,null,null,null,null,null,null,null,null,null,null,null,null,null,null,null,null,null,null,null,null,null,null,null,null,null,null,null,null,null,null,null,null,null,{"$f":"IF(Selection!$Y$32=1,\"Przyłącza kablowe w przedziale 4P 630A\",\"Cable Terminal Transfer 4P 630A\")","v":"Cable Terminal Transfer 4P 630A"},null,null,null,null,1,"Osłony",null,1,"Ilość mod.",null,null,null,null,null,null,null,null,null,null,null,null,null,null,null,null,null,null,null,null,null,null,null,null,null,null,null,null,"850+812",null,null,null,null,null,null,null,null,null,null,null,null,null,null,null,null,null,null,null,null,null,null,null,null,null,null,null,{"$f":"IF(Selection!AV29=\"\",0,IF(Selection!AX29>0,Selection!AV29,0))","v":0},{"$f":"IF(Selection!AX29=\"\",0,Selection!AX29)","v":0},{"$f":"IF(EK73>1,VLOOKUP(IF(ISNUMBER(EK73),TEXT(EK73,\"0\"),EK73),Pricelist!$A$53:$F$60643,2,FALSE),\"\")","v":""},{"$f":"IF(EK73>1,VLOOKUP(IF(ISNUMBER(EK73),TEXT(EK73,\"0\"),EK73),Pricelist!$A$53:$F$60643,3,FALSE),0)","v":0},0,null,null,"650+300",40865,50865,60865,70865,80865,90865,null,"650+300",{"$f":"\"\"","v":""},{"$f":"\"\"","v":""},{"$f":"\"\"","v":""},{"$f":"\"\"","v":""},{"$f":"\"\"","v":""},{"$f":"\"\"","v":""}]
[null,"850+812",40485,50485,60485,70485,80485,90485,null,null,null,null,null,null,null,null,null,null,"H 1200","H 1400","H 1600","H 1800","H 2000","H 2200",null,null,null,null,null,null,null,null,null,null,null,null,null,null,null,"IP","Brak","D.pełne","D.went.","D.szkl.","P.pełne","P,went.",null,null,null,null,null,null,null,null,null,null,null,null,null,null,null,null,null,null,null,null,null,null,null,null,null,null,null,null,null,null,null,null,null,1,{"$f":"IF(Selection!$Y$32=1,\"Brak\",\"None\")","v":"None"},null,1,{"$f":"IF(Selection!$Y$32=1,\"1 modułowa\",\"1 module\")","v":"1 module"},null,null,null,null,null,null,null,null,null,"Pole 2",null,null,null,null,null,null,null,null,null,null,null,null,null,null,null,null,null,null,null,null,null,null,null,null,null,null,null,null,null,null,null,null,null,null,null,null,null,null,null,null,null,null,null,null,null,null,{"$f":"IF(Selection!AV32=\"\",0,IF(Selection!AX32>0,Selection!AV32,0))","v":0},{"$f":"IF(Selection!AX32=\"\",0,Selection!AX32)","v":0},{"$f":"IF(EK74>1,VLOOKUP(IF(ISNUMBER(EK74),TEXT(EK74,\"0\"),EK74),Pricelist!$A$53:$F$60643,2,FALSE),\"\")","v":""},{"$f":"IF(EK74>1,VLOOKUP(IF(ISNUMBER(EK74),TEXT(EK74,\"0\"),EK74),Pricelist!$A$53:$F$60643,3,FALSE),0)","v":0},0,null,null,"650+400",40865,50865,60865,70865,80865,90865,null,"650+400",{"$f":"\"\"","v":""},{"$f":"\"\"","v":""},{"$f":"\"\"","v":""},{"$f":"\"\"","v":""},{"$f":"\"\"","v":""},{"$f":"\"\"","v":""}]
[null,"650+300",40465,50465,60465,70465,80465,90465,null,"Szerokość obudowy W","Pełna płyta montażowa,  Wysokość obudowy H, POLE 2",null,null,null,null,null,null,"Brak",{"$f":"\"\"","v":""},{"$f":"\"\"","v":""},{"$f":"\"\"","v":""},{"$f":"\"\"","v":""},{"$f":"\"\"","v":""},{"$f":"\"\"","v":""},null,null,null,null,null,null,null,null,null,null,null,null,null,null,null,30,10,1,2,3,4,5,null,null,null,null,null,null,null,null,null,null,null,null,null,null,null,null,null,null,null,null,null,null,null,null,null,null,null,null,null,null,null,null,null,null,{"$f":"IF(Selection!$Y$32=1,\"Panel osłonowy pełny\",\"Plain front plate\")","v":"Plain front plate"},null,{"$f":"IF($BA$12>1,0,IF(CE73<13,0,IF($BA$13>13,$BA$13-1,0)))","v":0},{"$f":"IF(Selection!$Y$32=1,\"2 modułowa\",\"2 modules\")","v":"2 modules"},null,null,null,null,null,null,null,null,null,"Ilość mod.przód",null,null,null,null,null,"W 650 - 5+12","1 mod.","2 mod.","3 mod.","4 mod.","5 mod.","6 mod.","7 mod.","8 mod.","9 mod.","10 mod.","11 mod.","12 mod.",null,null,null,null,null,null,null,null,null,null,null,null,null,null,null,null,null,null,null,null,null,null,null,null,null,null,null,null,{"$f":"IF(Selection!AV33=\"\",0,IF(Selection!AX33>0,Selection!AV33,0))","v":0},{"$f":"IF(Selection!AX33=\"\",0,Selection!AX33)","v":0},{"$f":"IF(EK75>1,VLOOKUP(IF(ISNUMBER(EK75),TEXT(EK75,\"0\"),EK75),Pricelist!$A$53:$F$60643,2,FALSE),\"\")","v":""},{"$f":"IF(EK75>1,VLOOKUP(IF(ISNUMBER(EK75),TEXT(EK75,\"0\"),EK75),Pricelist!$A$53:$F$60643,3,FALSE),0)","v":0},0,null,null,"850+300",40885,50885,60885,70885,80885,90885,null,"850+300",{"$f":"\"\"","v":""},{"$f":"\"\"","v":""},{"$f":"\"\"","v":""},{"$f":"\"\"","v":""},{"$f":"\"\"","v":""},{"$f":"\"\"","v":""}]
[null,"650+400",40465,50465,60465,70465,80465,90465,null,null,1200,1400,1600,1800,2000,2200,null,300,41430,51430,61430,71430,81430,91430,null,null,null,null,null,null,null,null,null,null,null,null,null,null,null,43,10,6,7,3,8,9,null,null,null,null,null,null,null,null,null,null,null,null,null,null,null,null,null,null,null,null,null,null,null,null,null,null,null,null,null,null,null,null,null,null,{"$f":"IF(Selection!$Y$32=1,\"Panel osłonowy modułowy\",\"Modular front plate\")","v":"Modular front plate"},null,null,{"$f":"IF(Selection!$Y$32=1,\"3 modułowa\",\"3 modules\")","v":"3 modules"},null,null,null,null,null,null,{"$f":"IF(BV5>3,1,0)","v":0},{"$f":"IF(CM76=1,SUM(CN77:CN82),0)","v":0},null,1,{"$f":"IF($BA$11>1,Selection!AP42/Zbaza!$AH$1,IF($AG$1>1,Selection!AH42/Zbaza!$AC$1,0))","v":0},{"$f":"IF(CB5>4,0,IF(CE5<13,CE5,0))","v":1},{"$f":"CQ76*CR76","v":0},{"$f":"SUM(CS76:CS87)","v":0},null,"Brak",{"$f":"IF(CW75=0,\"\",\"\")","v":""},"","","","","","","","","","","",null,null,null,null,null,null,null,null,null,null,null,null,null,null,null,null,null,null,null,null,null,null,null,null,null,null,null,null,{"$f":"IF(Selection!AV36=\"\",0,IF(Selection!AX36>0,Selection!AV36,0))","v":0},{"$f":"IF(Selection!AX36=\"\",0,Selection!AX36)","v":0},{"$f":"IF(EK76>1,VLOOKUP(IF(ISNUMBER(EK76),TEXT(EK76,\"0\"),EK76),Pricelist!$A$53:$F$60643,2,FALSE),\"\")","v":""},{"$f":"IF(EK76>1,VLOOKUP(IF(ISNUMBER(EK76),TEXT(EK76,\"0\"),EK76),Pricelist!$A$53:$F$60643,3,FALSE),0)","v":0},0,null,null,"850+400",40885,50885,60885,70885,80885,90885,null,"850+400",{"$f":"\"\"","v":""},{"$f":"\"\"","v":""},{"$f":"\"\"","v":""},{"$f":"\"\"","v":""},{"$f":"\"\"","v":""},{"$f":"\"\"","v":""}]
[null,"850+300",40485,50485,60485,70485,80485,90485,1,"Brak",{"$f":"IF(CW208=0,\"\",\"\")","v":""},"","","","","",null,400,41440,51440,61440,71440,81440,91440,null,null,null,null,null,null,null,null,null,null,null,null,null,null,null,55,10,6,10,3,8,10,null,null,null,null,null,null,null,null,null,null,null,null,null,null,null,null,null,null,null,null,null,null,null,null,null,null,null,null,null,null,null,null,null,null,{"$f":"IF(Selection!$Y$32=1,\"Panel osłonowy przeszklony\",\"Transparent front plate\")","v":"Transparent front plate"},null,null,{"$f":"IF(Selection!$Y$32=1,\"4 modułowa\",\"4 modules\")","v":"4 modules"},null,null,null,null,null,null,{"$f":"IF(BD4=1,20,0)","v":0},{"$f":"IF(BD4=1,0,0)","v":0},null,2,{"$f":"IF($BA$11>1,Selection!AP45/Zbaza!$AH$1,IF($AG$1>1,Selection!AH43/Zbaza!$AC$1,0))","v":0},{"$f":"IF(CB22>4,0,IF(CE22<13,CE22,0))","v":1},0,{"$f":"IF(CT76<=CM83,CT76,CM83)","v":0},null,"Osłona pełna",32710,32720,32730,32740,32750,32760,32770,32780,32790,32791,32792,32793,null,null,null,null,null,null,null,null,null,null,null,null,null,null,null,null,null,null,null,null,null,null,null,null,null,null,null,null,{"$f":"IF(Selection!AV39=\"\",0,IF(Selection!AX39>0,Selection!AV39,0))","v":0},{"$f":"IF(Selection!AX39=\"\",0,Selection!AX39)","v":0},{"$f":"IF(EK77>1,VLOOKUP(IF(ISNUMBER(EK77),TEXT(EK77,\"0\"),EK77),Pricelist!$A$53:$F$60643,2,FALSE),\"\")","v":""},{"$f":"IF(EK77>1,VLOOKUP(IF(ISNUMBER(EK77),TEXT(EK77,\"0\"),EK77),Pricelist!$A$53:$F$60643,3,FALSE),0)","v":0},0,null,null,"150+650+300",40865,50865,60865,70865,80865,90865,null,"150+650+300",{"$f":"\"\"","v":""},{"$f":"\"\"","v":""},{"$f":"\"\"","v":""},{"$f":"\"\"","v":""},{"$f":"\"\"","v":""},{"$f":"\"\"","v":""}]
[null,"850+400",40485,50485,60485,70485,80485,90485,2,300,40930,50930,60930,70930,80930,90930,null,450,41445,51445,61445,71445,81445,91445,null,null,null,null,null,null,null,null,null,null,null,null,null,null,null,null,null,null,null,null,null,null,null,null,null,null,null,null,null,null,null,null,null,null,null,null,null,null,null,null,null,null,null,null,null,null,null,null,null,null,null,null,null,null,null,null,{"$f":"IF(Selection!$Y$32=1,\"Szyna montażowa TS35D stała\",\"Fixed TS35D rail\")","v":"Fixed TS35D rail"},null,null,{"$f":"IF(Selection!$Y$32=1,\"5 modułowa\",\"5 modules\")","v":"5 modules"},null,null,null,null,null,null,{"$f":"IF(BD4=2,24,0)","v":0},{"$f":"IF(BD4=2,0,0)","v":0},null,3,{"$f":"IF($BA$11>1,Selection!AP48/Zbaza!$AH$1,IF($AG$1>1,Selection!AH44/Zbaza!$AC$1,0))","v":0},{"$f":"IF(CB39>4,0,IF(CE39<13,CE39,0))","v":1},0,{"$f":"IF(CT77=CM83,CT76-CT77,\"\")","v":""},null,"Osł. modułowa",{"$f":"IF(CW75=0,\"\",\"\")","v":""},32725,32735,32745,32755,{"$f":"IF(DB77=0,\"\",\"\")","v":""},"","","","","","","Brak",null,null,null,null,null,null,null,null,null,null,null,null,null,null,null,null,null,null,null,null,null,null,null,null,null,null,null,{"$f":"IF(Selection!AV42=\"\",0,IF(Selection!AX42>0,Selection!AV42,0))","v":0},{"$f":"Selection!AX42","v":0},{"$f":"IF(EK78>1,VLOOKUP(IF(ISNUMBER(EK78),TEXT(EK78,\"0\"),EK78),Pricelist!$A$53:$F$60643,2,FALSE),\"\")","v":""},{"$f":"IF(EK78>1,VLOOKUP(IF(ISNUMBER(EK78),TEXT(EK78,\"0\"),EK78),Pricelist!$A$53:$F$60643,3,FALSE),0)","v":0},0,null,null,"150+650+400",40865,50865,60865,70865,80865,90865,null,"150+650+400",{"$f":"\"\"","v":""},{"$f":"\"\"","v":""},{"$f":"\"\"","v":""},{"$f":"\"\"","v":""},{"$f":"\"\"","v":""},{"$f":"\"\"","v":""}]
[null,"150+650+300",40480,50480,60480,70480,80480,90480,3,400,40940,50940,60940,70940,80940,90940,null,600,41460,51460,61460,71460,81460,91460,null,null,null,null,null,null,null,null,null,null,null,null,null,null,null,null,null,null,null,null,null,null,null,null,null,null,null,null,null,null,null,null,null,null,null,null,null,null,null,null,null,null,null,null,null,null,null,null,null,null,null,null,null,null,null,null,{"$f":"IF(Selection!$Y$32=1,\"Szyna montażowa TS35D regulowana\",\"Adjustable TS35D rail\")","v":"Adjustable TS35D rail"},null,null,{"$f":"IF(Selection!$Y$32=1,\"6 modułowa\",\"6 modules\")","v":"6 modules"},null,null,null,null,null,null,{"$f":"IF(BD4=3,28,0)","v":0},{"$f":"IF(BD4=3,5,0)","v":0},null,4,{"$f":"IF($BA$11>1,Selection!AP51/Zbaza!$AH$1,IF($AG$1>1,Selection!AH45/Zbaza!$AC$1,0))","v":0},{"$f":"IF(CB56>4,0,IF(CE56<13,CE56,0))","v":1},0,{"$f":"IF(BV5=4,\"\",CT77)","v":0},null,"Osł. przeszklona",{"$f":"IF(CW75=0,\"\",\"\")","v":""},{"$f":"IF(CX75=0,\"\",\"\")","v":""},32739,32749,{"$f":"IF(DA75=0,\"\",\"\")","v":""},32769,{"$f":"IF(DC75=0,\"\",\"\")","v":""},32779,{"$f":"IF(DE75=0,\"\",\"\")","v":""},32789,{"$f":"IF(DG75=0,\"\",\"\")","v":""},32799,300,"Akcesoria tył, Pole 1, 3","Brak","Izolator 3P, most pionowy na plecach","Izolator 4P, most pionowy na plecach","Izolator 3P, most pionowy na plecach regulowany","Izolator 4P, most pionowy na plecach regulowany","Izolator 3P, podpora mostu na plecach, regulowana","Izolator 4P, podpora mostu na plecach, regulowana","Izol. AlCubar 630A 3P pionowo na plecach","Izol. AlCubar 630A 4P pionowo na plecach","Drabinka kablowa na plecach","Drabinka kablowa na drzwi","Drabinka kablowa pod osłonę","Metalowa kieszeń na dokumentację","Pionowy zestaw szyn TS35, 6M","Poziomy zestaw dwóch szyn TS35","Osłona mostu poziomego","Zestaw mocowania do ściany",null,null,null,null,null,null,null,null,null,{"$f":"IF(Selection!AV45=\"\",0,IF(Selection!AX45>0,Selection!AV45,0))","v":0},{"$f":"Selection!AX45","v":0},{"$f":"IF(EK79>1,VLOOKUP(IF(ISNUMBER(EK79),TEXT(EK79,\"0\"),EK79),Pricelist!$A$53:$F$60643,2,FALSE),\"\")","v":""},{"$f":"IF(EK79>1,VLOOKUP(IF(ISNUMBER(EK79),TEXT(EK79,\"0\"),EK79),Pricelist!$A$53:$F$60643,3,FALSE),0)","v":0},0]
[null,"150+650+400",40480,50480,60480,70480,80480,90480,4,450,40945,50945,60945,70945,80945,90945,null,650,41465,51465,61465,71465,81465,91465,null,null,null,null,null,null,null,null,null,null,null,null,null,null,null,{"$f":"INDEX(($AO$88:$AT$90),$BA$4,$BM4)","v":10},"Plecy tył, pole 1",null,null,null,null,null,null,null,null,null,null,null,null,null,null,null,null,null,null,null,null,null,null,null,null,null,null,null,null,null,null,null,null,null,null,null,null,null,null,null,{"$f":"IF(Selection!$Y$32=1,\"Płyta montażowa pełna ocynkowana\",\"Plain mounting plate\")","v":"Plain mounting plate"},null,null,{"$f":"IF(Selection!$Y$32=1,\"7 modułowa\",\"7 modules\")","v":"7 modules"},null,null,null,null,null,null,{"$f":"IF(BD4=4,32,0)","v":0},{"$f":"IF(BD4=4,9,0)","v":0},null,5,{"$f":"IF($BA$11>1,Selection!AP54/Zbaza!$AH$1,IF($AG$1>1,Selection!AH46/Zbaza!$AC$1,0))","v":0},{"$f":"IF(CB73>4,0,IF(CE73<13,CE73,0))","v":1},0,null,null,"Szyna stała TS35",32700,32700,32700,32700,32700,32700,32700,32700,32700,32700,32700,32700,400,"Szerokość obudowy",null,null,null,null,null,null,null,null,null,null,null,null,null,null,null,null,null,null,null,null,null,null,null,null,null,null,{"$f":"IF(Selection!AV48=\"\",0,IF(Selection!AX48>0,Selection!AV48,0))","v":0},{"$f":"Selection!AX48","v":0},{"$f":"IF(EK80>1,VLOOKUP(IF(ISNUMBER(EK80),TEXT(EK80,\"0\"),EK80),Pricelist!$A$53:$F$60643,2,FALSE),\"\")","v":""},{"$f":"IF(EK80>1,VLOOKUP(IF(ISNUMBER(EK80),TEXT(EK80,\"0\"),EK80),Pricelist!$A$53:$F$60643,3,FALSE),0)","v":0},0]
[null,null,null,null,null,null,null,null,5,600,40960,50960,60960,70960,80960,90960,null,800,41480,51480,61480,71480,81480,91480,null,null,null,null,null,null,null,null,null,null,null,null,null,null,null,{"$f":"INDEX(($AO$88:$AT$90),$BA$4,$BM5)","v":10},"Plecy tył, pole 2",null,null,null,null,null,null,null,null,null,null,null,null,null,null,null,null,null,null,null,null,null,null,null,null,null,null,null,null,null,null,null,null,null,null,null,null,null,null,null,{"$f":"IF(Selection!$Y$32=1,\"Płyta montażowa otworowana ocynk\",\"Painted mounting plate\")","v":"Painted mounting plate"},null,null,{"$f":"IF(Selection!$Y$32=1,\"8 modułowa\",\"8 modules\")","v":"8 modules"},null,null,null,null,null,null,{"$f":"IF(BD4=5,36,0)","v":36},{"$f":"IF(BD4=5,13,0)","v":13},null,6,{"$f":"IF($BA$11>1,Selection!AP57/Zbaza!$AH$1,IF($AG$1>1,Selection!AH47/Zbaza!$AC$1,0))","v":0},{"$f":"IF(CB90>4,0,IF(CE90<13,CE90,0))","v":1},0,null,null,"Szyna reg.TS35",32705,32705,32705,32705,32705,32705,32705,32705,32705,32705,32705,32705,450,null,null,null,null,null,null,null,null,null,null,null,null,null,null,null,null,null,null,null,null,null,null,null,null,null,null,null,{"$f":"IF(Selection!AV51=\"\",0,IF(Selection!AX51>0,Selection!AV51,0))","v":0},{"$f":"Selection!AX51","v":0},{"$f":"IF(EK81>1,VLOOKUP(IF(ISNUMBER(EK81),TEXT(EK81,\"0\"),EK81),Pricelist!$A$53:$F$60643,2,FALSE),\"\")","v":""},{"$f":"IF(EK81>1,VLOOKUP(IF(ISNUMBER(EK81),TEXT(EK81,\"0\"),EK81),Pricelist!$A$53:$F$60643,3,FALSE),0)","v":0},0,null,null,"Szerokość obudowy","Rama rozł. Listw. do plombowania  Wysokość, Pole 1,3",null,null,null,6,null,null,"Szerokość obudowy","Rama rozł. Listw. do plombowania  Wysokość, Pole 2",null,null,null,6]
[null,null,null,null,null,null,null,null,6,650,40965,50965,60965,70965,80965,90965,null,"650+150",41480,51480,61480,71480,81480,91480,null,null,null,null,null,null,null,null,null,null,null,null,null,null,null,{"$f":"INDEX(($AO$88:$AT$90),$BA$4,$BM6)","v":10},"Plecy tył, pole 3",null,null,null,null,null,null,null,null,null,null,null,null,null,null,null,null,null,null,null,null,null,null,null,null,null,null,null,null,null,null,null,null,null,null,null,null,null,null,null,{"$f":"IF(Selection!$Y$32=1,\"Płyta montażowa pozioma ocynk\",\"Horizontal plain mounting plate\")","v":"Horizontal plain mounting plate"},null,null,{"$f":"IF(Selection!$Y$32=1,\"9 modułowa\",\"9 modules\")","v":"9 modules"},null,null,null,null,null,null,{"$f":"IF(BD4=6,40,0)","v":0},{"$f":"IF(BD4=6,17,0)","v":0},null,7,{"$f":"IF($BA$11>1,Selection!AP60/Zbaza!$AH$1,IF($AG$1>1,Selection!AH48/Zbaza!$AC$1,0))","v":0},{"$f":"IF(CB107>4,0,IF(CE107<13,CE107,0))","v":1},{"$f":"CQ82*CR82","v":0},null,null,"Płyta ocynk pełna",{"$f":"IF(CW75=0,\"\",\"\")","v":""},33072,33073,33074,33075,33076,{"$f":"IF(DC75=0,\"\",\"\")","v":""},33077,{"$f":"IF(DE75=0,\"\",\"\")","v":""},33078,{"$f":"IF(DG75=0,\"\",\"\")","v":""},33079,600,null,null,null,null,null,null,null,null,null,null,null,null,null,null,null,null,null,null,null,null,null,null,null,null,null,null,null,{"$f":"IF(Selection!AV54=\"\",0,IF(Selection!AX54>0,Selection!AV54,0))","v":0},{"$f":"Selection!AX54","v":0},{"$f":"IF(EK82>1,VLOOKUP(IF(ISNUMBER(EK82),TEXT(EK82,\"0\"),EK82),Pricelist!$A$53:$F$60643,2,FALSE),\"\")","v":""},{"$f":"IF(EK82>1,VLOOKUP(IF(ISNUMBER(EK82),TEXT(EK82,\"0\"),EK82),Pricelist!$A$53:$F$60643,3,FALSE),0)","v":0},0,null,null,null,"H 1200","H 1400","H 1600","H 1800","H 2000","H 2200",null,null,"H 1200","H 1400","H 1600","H 1800","H 2000","H 2200"]
[null,null,null,null,null,null,null,null,7,800,40980,50980,60980,70980,80980,90980,null,850,41485,51485,61485,71485,81485,91485,null,null,null,null,null,null,null,null,null,null,null,null,null,null,null,null,null,null,null,null,null,null,null,null,null,null,null,null,null,null,null,null,null,null,null,null,null,null,null,null,null,null,null,null,null,null,null,null,null,null,null,null,null,null,null,null,{"$f":"IF(Selection!$Y$32=1,\"Zabudowa licznikowa\",\"kWh mounting plate\")","v":"kWh mounting plate"},null,null,{"$f":"IF(Selection!$Y$32=1,\"10 modułowa\",\"10 modules\")","v":"10 modules"},null,null,null,null,null,null,{"$f":"IF(CN76=0,SUM(CM77:CM82),CN76)","v":36},{"$f":"CT76-CM83","v":-36},null,8,{"$f":"IF($BA$11>1,Selection!AP63/Zbaza!$AH$1,IF($AG$1>1,Selection!AH49/Zbaza!$AC$1,0))","v":0},{"$f":"IF(CB124>4,0,IF(CE124<13,CE124,0))","v":1},0,null,null,"Płyta malow.otw.",{"$f":"IF(CW75=0,\"\",\"\")","v":""},33572,33573,33574,33575,33576,{"$f":"IF(DC75=0,\"\",\"\")","v":""},33577,{"$f":"IF(DE75=0,\"\",\"\")","v":""},33578,{"$f":"IF(DG75=0,\"\",\"\")","v":""},33579,650,null,null,null,null,null,null,null,null,null,null,null,null,null,null,null,null,null,null,null,null,null,null,null,null,null,null,null,{"$f":"IF(Selection!AV57=\"\",0,IF(Selection!AX57>0,Selection!AV57,0))","v":0},{"$f":"Selection!AX57","v":0},{"$f":"IF(EK83>1,VLOOKUP(IF(ISNUMBER(EK83),TEXT(EK83,\"0\"),EK83),Pricelist!$A$53:$F$60643,2,FALSE),\"\")","v":""},{"$f":"IF(EK83>1,VLOOKUP(IF(ISNUMBER(EK83),TEXT(EK83,\"0\"),EK83),Pricelist!$A$53:$F$60643,3,FALSE),0)","v":0},0,null,null,"Brak",{"$f":"\"\"","v":""},{"$f":"\"\"","v":""},{"$f":"\"\"","v":""},{"$f":"\"\"","v":""},{"$f":"\"\"","v":""},{"$f":"\"\"","v":""},null,"Brak",{"$f":"\"\"","v":""},{"$f":"\"\"","v":""},{"$f":"\"\"","v":""},{"$f":"\"\"","v":""},{"$f":"\"\"","v":""},{"$f":"\"\"","v":""}]
[null,"Szerokość obudowy","Drzwi pełne IP43/55   Wysokość",null,null,6,null,"Pole 1,3",8,"650+150",40980,50980,60980,70980,80980,90980,null,"650+200",41485,51485,61485,71485,81485,91485,null,null,null,null,null,null,null,null,null,null,null,null,null,null,null,null,null,null,null,null,null,null,null,null,null,null,null,null,null,null,null,null,null,null,null,null,null,null,null,null,null,null,null,null,null,null,null,null,null,null,null,null,null,null,null,null,null,null,null,{"$f":"IF(Selection!$Y$32=1,\"11 modułowa\",\"11 modules\")","v":"11 modules"},null,null,null,null,null,null,{"$f":"IF(BV5=4,\"\",CN83)","v":-36},null,null,9,{"$f":"IF($BA$11>1,Selection!AP66/Zbaza!$AH$1,IF($AG$1>1,Selection!AH50/Zbaza!$AC$1,0))","v":0},{"$f":"IF(CB141>4,0,IF(CE141<13,CE141,0))","v":1},0,null,null,"Płyta oc. pozioma",33771,33772,33773,33774,33775,33776,33777,33778,null,33779,{"$f":"IF(DG256=0,\"\",\"\")","v":""},{"$f":"IF(DH256=0,\"\",\"\")","v":""},800,"Brak",{"$f":"\"\"","v":""},{"$f":"\"\"","v":""},{"$f":"\"\"","v":""},{"$f":"\"\"","v":""},{"$f":"\"\"","v":""},{"$f":"\"\"","v":""},{"$f":"\"\"","v":""},{"$f":"\"\"","v":""},{"$f":"\"\"","v":""},{"$f":"\"\"","v":""},{"$f":"\"\"","v":""},{"$f":"\"\"","v":""},{"$f":"\"\"","v":""},{"$f":"\"\"","v":""},{"$f":"\"\"","v":""},{"$f":"\"\"","v":""},{"$f":"\"\"","v":""},{"$f":"\"\"","v":""},{"$f":"\"\"","v":""},{"$f":"\"\"","v":""},{"$f":"\"\"","v":""},{"$f":"\"\"","v":""},null,null,null,null,{"$f":"IF(Selection!AV60=\"\",0,IF(Selection!AX60>0,Selection!AV60,0))","v":0},{"$f":"Selection!AX60","v":0},{"$f":"IF(EK84>1,VLOOKUP(IF(ISNUMBER(EK84),TEXT(EK84,\"0\"),EK84),Pricelist!$A$53:$F$60643,2,FALSE),\"\")","v":""},{"$f":"IF(EK84>1,VLOOKUP(IF(ISNUMBER(EK84),TEXT(EK84,\"0\"),EK84),Pricelist!$A$53:$F$60643,3,FALSE),0)","v":0},{"$f":"EL84*EN84","v":0},null,null,300,{"$f":"\"\"","v":""},{"$f":"\"\"","v":""},{"$f":"\"\"","v":""},{"$f":"\"\"","v":""},{"$f":"\"\"","v":""},{"$f":"\"\"","v":""},null,300,{"$f":"\"\"","v":""},{"$f":"\"\"","v":""},{"$f":"\"\"","v":""},{"$f":"\"\"","v":""},{"$f":"\"\"","v":""},{"$f":"\"\"","v":""}]
[null,null,"H 1200","H 1400","H 1600","H 1800","H 2000","H 2200",9,850,40985,50985,60985,70985,80985,90985,null,1000,41410,51410,61410,71410,81410,91410,null,null,null,null,null,null,null,null,null,null,null,null,null,null,null,null,null,null,null,null,null,null,null,null,null,null,null,null,null,null,null,null,null,null,null,null,null,null,null,null,null,null,null,null,null,null,null,null,null,null,null,null,null,null,null,null,null,null,null,{"$f":"IF(Selection!$Y$32=1,\"12 modułowa\",\"12 modules\")","v":"12 modules"},null,null,null,null,null,null,null,null,null,10,{"$f":"IF($BA$11>1,Selection!AP69/Zbaza!$AH$1,IF($AG$1>1,Selection!AH51/Zbaza!$AC$1,0))","v":0},{"$f":"IF(CB158>4,0,IF(CE158<13,CE158,0))","v":1},0,null,null,"Płyta licznikowa",33207,33207,33207,33207,33207,33207,33207,33207,33207,33207,33207,33207,"650+150",300,{"$f":"\"\"","v":""},{"$f":"\"\"","v":""},{"$f":"\"\"","v":""},{"$f":"\"\"","v":""},{"$f":"\"\"","v":""},{"$f":"\"\"","v":""},{"$f":"\"\"","v":""},{"$f":"\"\"","v":""},{"$f":"\"\"","v":""},33163,33183,{"$f":"\"\"","v":""},31953,{"$f":"\"\"","v":""},{"$f":"\"\"","v":""},31083,31973,{"$f":"\"\"","v":""},{"$f":"\"\"","v":""},{"$f":"\"\"","v":""},{"$f":"\"\"","v":""},{"$f":"\"\"","v":""},null,null,null,null,{"$f":"IF(Selection!AV63=\"\",0,IF(Selection!AX63>0,Selection!AV63,0))","v":0},{"$f":"Selection!AX63","v":0},{"$f":"IF(EK85>1,VLOOKUP(IF(ISNUMBER(EK85),TEXT(EK85,\"0\"),EK85),Pricelist!$A$53:$F$60643,2,FALSE),\"\")","v":""},{"$f":"IF(EK85>1,VLOOKUP(IF(ISNUMBER(EK85),TEXT(EK85,\"0\"),EK85),Pricelist!$A$53:$F$60643,3,FALSE),0)","v":0},0,null,null,400,{"$f":"\"\"","v":""},{"$f":"\"\"","v":""},{"$f":"\"\"","v":""},{"$f":"\"\"","v":""},{"$f":"\"\"","v":""},{"$f":"\"\"","v":""},null,400,{"$f":"\"\"","v":""},{"$f":"\"\"","v":""},{"$f":"\"\"","v":""},{"$f":"\"\"","v":""},{"$f":"\"\"","v":""},{"$f":"\"\"","v":""}]
[null,"Brak",{"$f":"IF(C85=0,\"\",\"\")","v":""},"","","","","",10,"650+200",40985,50985,60985,70985,80985,90985,null,1200,41412,51412,61412,71412,81412,91412,null,null,null,null,null,null,null,null,null,null,null,null,null,null,null,null,null,null,null,null,null,null,null,null,null,null,null,null,null,null,null,null,null,null,null,null,null,null,null,null,null,null,null,null,null,null,null,null,null,null,null,null,null,null,null,{"$f":"IF(CE91=14,14,IF(CP40=1,$BA$15,CB91))","v":1},null,null,{"$f":"IF(CP40=1,BD4,CE91)","v":1},{"$f":"IF(Selection!$Y$32=1,\"Płyta pełna ocynkowana\",\"Plain mounting plate\")","v":"Plain mounting plate"},null,null,null,null,null,null,null,null,null,11,{"$f":"IF($BA$11>1,Selection!AP72/Zbaza!$AH$1,IF($AG$1>1,Selection!AH52/Zbaza!$AC$1,0))","v":0},{"$f":"IF(CB175>4,0,IF(CE175<13,CE175,0))","v":1},0,null,null,null,{"$f":"IF(CW75=0,\"\",\"\")","v":""},"","","","","","","","","","","",850,400,{"$f":"\"\"","v":""},20204,20214,20224,20234,20244,20254,20174,20184,33164,33184,33194,31954,30944,30940,31084,31974,{"$f":"\"\"","v":""},{"$f":"\"\"","v":""},{"$f":"\"\"","v":""},{"$f":"\"\"","v":""},{"$f":"\"\"","v":""},null,null,null,null,{"$f":"IF(Selection!AV66=\"\",0,IF(Selection!AX66>0,Selection!AV66,0))","v":0},{"$f":"Selection!AX66","v":0},{"$f":"IF(EK86>1,VLOOKUP(IF(ISNUMBER(EK86),TEXT(EK86,\"0\"),EK86),Pricelist!$A$53:$F$60643,2,FALSE),\"\")","v":""},{"$f":"IF(EK86>1,VLOOKUP(IF(ISNUMBER(EK86),TEXT(EK86,\"0\"),EK86),Pricelist!$A$53:$F$60643,3,FALSE),0)","v":0},0,null,null,450,40846,50846,60846,70846,80846,90846,null,450,40846,50846,60846,70846,80846,90846]
[null,300,40530,50530,60530,70530,80530,90530,11,1000,40910,50910,60910,70910,80910,90910,null,1300,41413,51413,61413,71413,81413,91413,null,null,null,null,null,null,null,null,null,null,null,null,null,null,null,"IP","P,went.","P.pełne","D.pełne","D.szkl.","D.went.","Brak",null,null,null,null,null,null,null,null,null,null,null,null,null,null,null,null,null,null,null,null,null,null,null,null,null,null,null,null,null,null,null,null,null,{"$f":"IF(CE90=14,25,IF(CO40=1,$BA$12,CB90))","v":1},null,null,{"$f":"IF(CO40=1,BD4,CE90)","v":1},{"$f":"IF(Selection!$Y$32=1,\"Łącznik płyt pełnych\",\"Plates connector\")","v":"Plates connector"},null,null,null,null,null,null,null,null,null,12,{"$f":"IF($BA$11>1,Selection!AP75/Zbaza!$AH$1,IF($AG$1>1,Selection!AH53/Zbaza!$AC$1,0))","v":0},{"$f":"IF(CB192>4,0,IF(CE192<13,CE192,0))","v":1},0,null,null,null,{"$f":"IF(CW75=0,\"\",\"\")","v":""},"","","","","","","","","","","","650+200",450,{"$f":"\"\"","v":""},20205,20215,20225,20235,20245,20255,20175,20185,33165,33185,33195,31955,30954,30950,31085,31975,{"$f":"\"\"","v":""},{"$f":"\"\"","v":""},{"$f":"\"\"","v":""},{"$f":"\"\"","v":""},{"$f":"\"\"","v":""},null,null,null,null,{"$f":"IF(Selection!AV69=\"\",0,IF(Selection!AX69>0,Selection!AV69,0))","v":0},{"$f":"Selection!AX69","v":0},{"$f":"IF(EK87>1,VLOOKUP(IF(ISNUMBER(EK87),TEXT(EK87,\"0\"),EK87),Pricelist!$A$53:$F$60643,2,FALSE),\"\")","v":""},{"$f":"IF(EK87>1,VLOOKUP(IF(ISNUMBER(EK87),TEXT(EK87,\"0\"),EK87),Pricelist!$A$53:$F$60643,3,FALSE),0)","v":0},0,null,null,600,{"$f":"\"\"","v":""},{"$f":"\"\"","v":""},{"$f":"\"\"","v":""},{"$f":"\"\"","v":""},{"$f":"\"\"","v":""},{"$f":"\"\"","v":""},null,600,{"$f":"\"\"","v":""},{"$f":"\"\"","v":""},{"$f":"\"\"","v":""},{"$f":"\"\"","v":""},{"$f":"\"\"","v":""},{"$f":"\"\"","v":""}]
[null,400,40540,50540,60540,70540,80540,90540,12,1200,40912,50912,60912,70912,80912,90912,null,"650+650",41465,51465,61465,71465,81465,91465,null,null,null,null,null,null,null,null,null,null,null,null,null,null,null,30,5,4,1,3,2,10,null,null,null,null,null,null,null,null,null,null,null,null,null,null,null,null,null,null,null,null,null,null,null,null,null,null,null,null,null,null,null,null,null,{"$f":"IF(CE89=14,23,IF(CN40=1,$BA$13,CB89))","v":1},null,null,{"$f":"IF(CN40=1,BD4,CE89)","v":1},null,null,null,null,null,null,null,null,null,null,null,null,null,null,null,null,null,{"$f":"IF(CW75=0,\"\",\"\")","v":""},"","","","","","","","","","","",1000,600,{"$f":"\"\"","v":""},20206,20216,20226,20236,20246,20256,20176,20186,33166,33186,null,31956,30964,30960,31086,31976,{"$f":"\"\"","v":""},{"$f":"\"\"","v":""},{"$f":"\"\"","v":""},{"$f":"\"\"","v":""},{"$f":"\"\"","v":""},null,null,null,null,{"$f":"IF(Selection!AV72=\"\",0,IF(Selection!AX72>0,Selection!AV72,0))","v":0},{"$f":"Selection!AX72","v":0},{"$f":"IF(EK88>1,VLOOKUP(IF(ISNUMBER(EK88),TEXT(EK88,\"0\"),EK88),Pricelist!$A$53:$F$60643,2,FALSE),\"\")","v":""},{"$f":"IF(EK88>1,VLOOKUP(IF(ISNUMBER(EK88),TEXT(EK88,\"0\"),EK88),Pricelist!$A$53:$F$60643,3,FALSE),0)","v":0},0,null,null,650,40866,50866,60866,70866,80866,90866,null,650,40866,50866,60866,70866,80866,90866]
[null,450,40545,50545,60545,70545,80545,90545,13,1300,40913,50913,60913,70913,80913,90913,null,"650+850",41465,51465,61465,71465,81465,91465,null,null,null,null,null,null,null,null,null,null,null,null,null,null,null,43,9,8,6,3,7,10,null,null,null,null,null,null,null,null,null,null,null,null,null,null,null,null,null,null,null,null,null,null,null,null,null,null,null,null,null,null,null,null,null,1,6,null,1,6,null,null,null,null,null,null,null,null,null,null,null,null,null,null,null,null,{"$f":"IF(CW75=0,\"\",\"\")","v":""},"","","","","","","","","","","",1200,650,{"$f":"\"\"","v":""},20207,20217,20227,20237,20247,20257,20177,20187,33167,33187,33197,31957,30974,30970,31087,31977,{"$f":"\"\"","v":""},{"$f":"\"\"","v":""},{"$f":"\"\"","v":""},{"$f":"\"\"","v":""},{"$f":"\"\"","v":""},null,null,null,null,{"$f":"IF(Selection!AV75=\"\",0,IF(Selection!AX75>0,Selection!AV75,0))","v":0},{"$f":"Selection!AX75","v":0},{"$f":"IF(EK89>1,VLOOKUP(IF(ISNUMBER(EK89),TEXT(EK89,\"0\"),EK89),Pricelist!$A$53:$F$60643,2,FALSE),\"\")","v":""},{"$f":"IF(EK89>1,VLOOKUP(IF(ISNUMBER(EK89),TEXT(EK89,\"0\"),EK89),Pricelist!$A$53:$F$60643,3,FALSE),0)","v":0},0,null,null,800,{"$f":"\"\"","v":""},{"$f":"\"\"","v":""},{"$f":"\"\"","v":""},{"$f":"\"\"","v":""},{"$f":"\"\"","v":""},{"$f":"\"\"","v":""},null,800,{"$f":"\"\"","v":""},{"$f":"\"\"","v":""},{"$f":"\"\"","v":""},{"$f":"\"\"","v":""},{"$f":"\"\"","v":""},{"$f":"\"\"","v":""}]
[null,600,40560,50560,60560,70560,80560,90560,14,"650+612",40965,50965,60965,70965,80965,90965,null,"850+850",41485,51485,61485,71485,81485,91485,null,null,null,null,null,null,null,null,null,null,null,null,null,null,null,55,10,8,6,3,10,10,null,null,null,null,null,null,null,null,null,null,null,null,null,null,null,null,null,null,null,null,null,null,null,null,null,null,null,null,null,null,null,null,null,1,"Osłony",null,1,"Ilość mod.",null,null,null,null,null,null,null,null,null,null,null,null,null,null,null,null,{"$f":"IF(CW75=0,\"\",\"\")","v":""},"","","","","","","","","","","",1300,800,{"$f":"\"\"","v":""},20208,20218,20228,20238,20248,20258,20178,20188,33168,33188,{"$f":"\"\"","v":""},31958,30985,30980,31088,31978,{"$f":"\"\"","v":""},{"$f":"\"\"","v":""},{"$f":"\"\"","v":""},{"$f":"\"\"","v":""},{"$f":"\"\"","v":""},null,null,null,null,{"$f":"IF(Selection!AV78=\"\",0,IF(Selection!AX78>0,Selection!AV78,0))","v":0},{"$f":"Selection!AX78","v":0},{"$f":"IF(EK90>1,VLOOKUP(IF(ISNUMBER(EK90),TEXT(EK90,\"0\"),EK90),Pricelist!$A$53:$F$60643,2,FALSE),\"\")","v":""},{"$f":"IF(EK90>1,VLOOKUP(IF(ISNUMBER(EK90),TEXT(EK90,\"0\"),EK90),Pricelist!$A$53:$F$60643,3,FALSE),0)","v":0},{"$f":"EL90*EN90","v":0},null,null,"650+150",40866,50866,60866,70866,80866,90866,null,"650+150",40165,50165,60165,70165,80165,90165]
[null,650,40565,50565,60565,70565,80565,90565,15,"650+812",40985,50985,60985,70985,80985,90985,null,"650+300",41495,51495,61495,71495,81495,91495,null,null,null,null,null,null,null,null,null,null,null,null,null,null,null,null,null,null,null,null,null,null,null,null,null,null,null,null,null,null,null,null,null,null,null,null,null,null,null,null,null,null,null,null,null,null,null,{"$f":"IF(BV91=2,31931,0)","v":0},null,3,null,null,null,null,null,1,{"$f":"IF(Selection!$Y$32=1,\"Brak\",\"None\")","v":"None"},null,1,{"$f":"IF(Selection!$Y$32=1,\"1 modułowa\",\"1 module\")","v":"1 module"},null,null,null,null,null,null,null,null,null,null,null,null,null,null,null,null,null,null,null,null,null,null,null,null,null,null,null,null,"650+612","650+150",{"$f":"\"\"","v":""},20207,20217,20227,20237,20247,20257,20177,20187,33167,33187,33197,31957,30974,30970,31087,31978,{"$f":"\"\"","v":""},{"$f":"\"\"","v":""},{"$f":"\"\"","v":""},{"$f":"\"\"","v":""},{"$f":"\"\"","v":""},null,null,null,null,{"$f":"IF(Selection!AV81=\"\",0,IF(Selection!AX81>0,Selection!AV81,0))","v":0},{"$f":"Selection!AX81","v":0},{"$f":"IF(EK91>1,VLOOKUP(IF(ISNUMBER(EK91),TEXT(EK91,\"0\"),EK91),Pricelist!$A$53:$F$60643,2,FALSE),\"\")","v":""},{"$f":"IF(EK91>1,VLOOKUP(IF(ISNUMBER(EK91),TEXT(EK91,\"0\"),EK91),Pricelist!$A$53:$F$60643,3,FALSE),0)","v":0},0,null,null,850,40886,50886,60886,70886,80886,90886,null,850,40886,50886,60886,70886,80886,90886]
[null,800,40580,50580,60580,70580,80580,90580,16,"850+812",40985,50985,60985,70985,80985,90985,null,"650+400",41411,51411,61411,71411,81411,91411,null,null,null,null,null,null,null,null,null,null,null,null,null,null,null,null,null,null,null,null,null,null,null,null,null,null,null,null,null,null,null,null,null,null,null,null,null,null,null,null,null,null,null,null,null,null,null,{"$f":"IF(BV91=3,31932,0)","v":31932},null,null,"Zestaw połączeniowy",null,null,null,null,null,{"$f":"IF(Selection!$Y$32=1,\"Panel osłonowy pełny\",\"Plain front plate\")","v":"Plain front plate"},null,{"$f":"IF($BA$12>1,0,IF(CE90<13,0,IF($BA$13>13,$BA$13-1,0)))","v":0},{"$f":"IF(Selection!$Y$32=1,\"2 modułowa\",\"2 modules\")","v":"2 modules"},null,null,null,null,null,null,null,null,null,null,null,null,null,null,null,null,null,null,null,null,null,null,null,null,null,null,null,null,"650+812",850,{"$f":"\"\"","v":""},20209,20219,20229,20239,20249,20259,20179,20189,33169,33189,33199,31959,30995,30990,31089,31979,{"$f":"\"\"","v":""},{"$f":"\"\"","v":""},{"$f":"\"\"","v":""},{"$f":"\"\"","v":""},{"$f":"\"\"","v":""},null,null,null,null,{"$f":"IF(Selection!AV84=\"\",0,IF(Selection!AX84>0,Selection!AV84,0))","v":0},{"$f":"Selection!AX84","v":0},{"$f":"IF(EK92>1,VLOOKUP(IF(ISNUMBER(EK92),TEXT(EK92,\"0\"),EK92),Pricelist!$A$53:$F$60643,2,FALSE),\"\")","v":""},{"$f":"IF(EK92>1,VLOOKUP(IF(ISNUMBER(EK92),TEXT(EK92,\"0\"),EK92),Pricelist!$A$53:$F$60643,3,FALSE),0)","v":0},0,null,null,"650+200",40866,50866,60866,70866,80866,90866,null,"650+200",40165,50165,60165,70165,80165,90165]
[null,"650+150",40580,50580,60580,70580,80580,90580,17,"650+300",40930,50930,60930,70930,80930,90930,null,"850+300",41485,51485,61485,71485,81485,91485,null,null,null,null,null,null,null,null,null,null,null,null,null,null,null,{"$f":"INDEX(($AO$95:$AS$97),$BA$4,$BV$19)","v":1},"Boki obudowy",null,null,null,null,null,null,null,null,null,null,null,null,null,null,null,null,null,null,null,null,null,null,null,null,null,null,null,null,null,null,{"$f":"SUM(BT91:BT92)","v":31932},null,null,{"$f":"IF(Selection!$Y$32=1,\"Brak\",\"None\")","v":"None"},null,null,null,null,null,{"$f":"IF(Selection!$Y$32=1,\"Panel osłonowy modułowy\",\"Modular front plate\")","v":"Modular front plate"},null,null,{"$f":"IF(Selection!$Y$32=1,\"3 modułowa\",\"3 modules\")","v":"3 modules"},null,null,null,null,null,null,null,null,null,null,null,null,null,null,null,"W 800 - 6","1 mod.","2 mod.","3 mod.","4 mod.","5 mod.","6 mod.","7 mod.","8 mod.","9 mod.","10 mod.","11 mod.","12 mod.","850+812","650+200",{"$f":"\"\"","v":""},20207,20217,20227,20237,20247,20257,20177,20187,33167,33187,33197,31957,30974,30970,31086,31979,{"$f":"\"\"","v":""},{"$f":"\"\"","v":""},{"$f":"\"\"","v":""},{"$f":"\"\"","v":""},{"$f":"\"\"","v":""},null,null,null,null,{"$f":"IF(Selection!AV87=\"\",0,IF(Selection!AX87>0,Selection!AV87,0))","v":0},{"$f":"Selection!AX87","v":0},{"$f":"IF(EK93>1,VLOOKUP(IF(ISNUMBER(EK93),TEXT(EK93,\"0\"),EK93),Pricelist!$A$53:$F$60643,2,FALSE),\"\")","v":""},{"$f":"IF(EK93>1,VLOOKUP(IF(ISNUMBER(EK93),TEXT(EK93,\"0\"),EK93),Pricelist!$A$53:$F$60643,3,FALSE),0)","v":0},0,null,null,1000,{"$f":"\"\"","v":""},{"$f":"\"\"","v":""},{"$f":"\"\"","v":""},{"$f":"\"\"","v":""},{"$f":"\"\"","v":""},{"$f":"\"\"","v":""},null,1000,{"$f":"\"\"","v":""},{"$f":"\"\"","v":""},{"$f":"\"\"","v":""},{"$f":"\"\"","v":""},{"$f":"\"\"","v":""},{"$f":"\"\"","v":""}]
[null,850,40585,50585,60585,70585,80585,90585,18,"650+400",40940,50940,60940,70940,80940,90940,null,"850+400",41485,51485,61485,71485,81485,91485,null,null,null,null,null,null,null,null,null,null,null,null,null,null,null,"IP","Brak","B.pełny","B.went.","Pełny st.","Went.st.",null,null,null,null,null,null,null,null,null,null,null,null,null,null,null,null,null,null,null,null,null,null,null,null,null,null,{"$f":"IF(BT93>1,BT93,0)","v":31932},null,null,{"$f":"IF(Selection!$Y$32=1,\"Zestaw tulejkowy\",\"Tubular\")","v":"Tubular"},null,null,null,null,null,{"$f":"IF(Selection!$Y$32=1,\"Panel osłonowy przeszklony\",\"Transparent front plate\")","v":"Transparent front plate"},null,null,{"$f":"IF(Selection!$Y$32=1,\"4 modułowa\",\"4 modules\")","v":"4 modules"},null,null,null,null,null,null,null,null,null,null,null,null,null,null,null,"Brak",{"$f":"IF(CW93=0,\"\",\"\")","v":""},"","","","","","","","","","","",null,1000,{"$f":"\"\"","v":""},20200,20210,20220,20230,20240,20250,20170,20180,33160,33180,{"$f":"\"\"","v":""},31950,30916,30910,31080,31970,{"$f":"\"\"","v":""},{"$f":"\"\"","v":""},{"$f":"\"\"","v":""},{"$f":"\"\"","v":""},{"$f":"\"\"","v":""},null,null,null,null,{"$f":"IF(Selection!AV90=\"\",0,IF(Selection!AX90>0,Selection!AV90,0))","v":0},{"$f":"Selection!AX90","v":0},{"$f":"IF(EK94>1,VLOOKUP(IF(ISNUMBER(EK94),TEXT(EK94,\"0\"),EK94),Pricelist!$A$53:$F$60643,2,FALSE),\"\")","v":""},{"$f":"IF(EK94>1,VLOOKUP(IF(ISNUMBER(EK94),TEXT(EK94,\"0\"),EK94),Pricelist!$A$53:$F$60643,3,FALSE),0)","v":0},0,null,null,1200,{"$f":"\"\"","v":""},{"$f":"\"\"","v":""},{"$f":"\"\"","v":""},{"$f":"\"\"","v":""},{"$f":"\"\"","v":""},{"$f":"\"\"","v":""},null,1200,{"$f":"\"\"","v":""},{"$f":"\"\"","v":""},{"$f":"\"\"","v":""},{"$f":"\"\"","v":""},{"$f":"\"\"","v":""},{"$f":"\"\"","v":""}]
[null,"650+200",40585,50585,60585,70585,80585,90585,19,"850+300",40930,50930,60930,70930,80930,90930,null,"650+150+300",41480,51480,61480,71480,81480,91480,null,null,null,null,null,null,null,null,null,null,null,null,null,null,null,30,8,1,2,5,6,null,null,null,null,null,null,null,null,null,null,null,null,null,null,null,null,null,null,null,null,null,null,null,null,null,null,null,null,null,{"$f":"IF(Selection!$Y$32=1,\"Zestaw płytkowy\",\"Flat plate\")","v":"Flat plate"},null,null,null,null,null,{"$f":"IF(Selection!$Y$32=1,\"Szyna montażowa TS35D stała\",\"Fixed TS35D rail\")","v":"Fixed TS35D rail"},null,null,{"$f":"IF(Selection!$Y$32=1,\"5 modułowa\",\"5 modules\")","v":"5 modules"},null,null,null,null,null,null,null,null,null,null,null,null,null,null,null,"Osłona pełna",{"$f":"IF(CW93=0,\"\",\"\")","v":""},"","","","","","","","","","","",null,1200,{"$f":"\"\"","v":""},20201,20211,20221,20231,20241,20251,20171,20181,33161,33181,{"$f":"\"\"","v":""},31951,{"$f":"\"\"","v":""},{"$f":"\"\"","v":""},31081,31971,{"$f":"\"\"","v":""},{"$f":"\"\"","v":""},{"$f":"\"\"","v":""},{"$f":"\"\"","v":""},{"$f":"\"\"","v":""},null,null,null,null,{"$f":"IF(Selection!AV93=\"\",0,IF(Selection!AX93>0,Selection!AV93,0))","v":0},{"$f":"Selection!AX93","v":0},{"$f":"IF(EK95>1,VLOOKUP(IF(ISNUMBER(EK95),TEXT(EK95,\"0\"),EK95),Pricelist!$A$53:$F$60643,2,FALSE),\"\")","v":""},{"$f":"IF(EK95>1,VLOOKUP(IF(ISNUMBER(EK95),TEXT(EK95,\"0\"),EK95),Pricelist!$A$53:$F$60643,3,FALSE),0)","v":0},0,null,null,1300,{"$f":"\"\"","v":""},{"$f":"\"\"","v":""},{"$f":"\"\"","v":""},{"$f":"\"\"","v":""},{"$f":"\"\"","v":""},{"$f":"\"\"","v":""},null,1300,{"$f":"\"\"","v":""},{"$f":"\"\"","v":""},{"$f":"\"\"","v":""},{"$f":"\"\"","v":""},{"$f":"\"\"","v":""},{"$f":"\"\"","v":""}]
[null,1000,40510,50510,60510,70510,80510,90510,20,"850+400",40940,50940,60940,70940,80940,90940,null,"650+150+400",41480,51480,61480,71480,81480,91480,null,null,null,null,null,null,null,null,null,null,null,null,null,null,null,43,8,4,3,5,7,null,null,null,null,null,null,null,null,null,null,null,null,null,null,null,null,null,null,null,null,null,null,null,null,null,null,null,null,null,null,null,null,null,null,null,{"$f":"IF(Selection!$Y$32=1,\"Szyna montażowa TS35D regulowana\",\"Adjustable TS35D rail\")","v":"Adjustable TS35D rail"},null,null,{"$f":"IF(Selection!$Y$32=1,\"6 modułowa\",\"6 modules\")","v":"6 modules"},null,null,null,null,null,null,null,null,null,null,null,null,null,null,null,"Osł. modułowa",{"$f":"IF(CW93=0,\"\",\"\")","v":""},"","","","","","","","","","","",null,1300,{"$f":"\"\"","v":""},20202,20212,20222,20232,20242,20252,20172,20182,33162,33182,{"$f":"\"\"","v":""},31952,{"$f":"\"\"","v":""},{"$f":"\"\"","v":""},31082,31972,{"$f":"\"\"","v":""},{"$f":"\"\"","v":""},{"$f":"\"\"","v":""},{"$f":"\"\"","v":""},{"$f":"\"\"","v":""},null,null,null,"Akcesoria",{"$f":"IF(Selection!X36=\"\",0,IF(Selection!X36>0,Selection!X36,0))","v":0},{"$f":"IF(Selection!Z36=\"\",0,Selection!Z36)","v":0},{"$f":"IF(EK96>1,VLOOKUP(IF(ISNUMBER(EK96),TEXT(EK96,\"0\"),EK96),Pricelist!$A$53:$F$60643,2,FALSE),\"\")","v":""},{"$f":"IF(EK96>1,VLOOKUP(IF(ISNUMBER(EK96),TEXT(EK96,\"0\"),EK96),Pricelist!$A$53:$F$60643,3,FALSE),0)","v":0},0,null,null,"650+650",40866,50866,60866,70866,80866,90866,null,"650+650",40866,50866,60866,70866,80866,90866]
[null,1200,40512,50512,60512,70512,80512,90512,21,"150+650+300",40930,50930,60930,70930,80930,90930,null,null,null,null,null,null,null,null,null,null,null,null,null,null,null,null,null,null,null,null,null,null,null,55,8,4,8,5,8,null,null,null,null,null,null,null,null,null,null,null,null,null,null,null,null,null,null,null,null,null,null,null,null,null,null,null,null,null,null,null,null,null,null,null,{"$f":"IF(Selection!$Y$32=1,\"Płyta montażowa pełna ocynkowana\",\"Plain mounting plate\")","v":"Plain mounting plate"},null,null,{"$f":"IF(Selection!$Y$32=1,\"7 modułowa\",\"7 modules\")","v":"7 modules"},null,null,null,null,null,null,null,null,null,null,null,null,null,null,null,"Osł. przeszklona",{"$f":"IF(CW93=0,\"\",\"\")","v":""},"","","","","","","","","","","",null,"650+650",{"$f":"\"\"","v":""},20207,20217,20227,20237,20247,20257,20177,20187,33167,33187,33197,31957,30974,30970,31087,31972,{"$f":"\"\"","v":""},{"$f":"\"\"","v":""},{"$f":"\"\"","v":""},{"$f":"\"\"","v":""},{"$f":"\"\"","v":""},null,null,null,null,{"$f":"IF(Selection!X39=\"\",0,IF(Selection!Z39>0,Selection!X39,0))","v":0},{"$f":"IF(Selection!Z39=\"\",0,Selection!Z39)","v":0},{"$f":"IF(EK97>1,VLOOKUP(IF(ISNUMBER(EK97),TEXT(EK97,\"0\"),EK97),Pricelist!$A$53:$F$60643,2,FALSE),\"\")","v":""},{"$f":"IF(EK97>1,VLOOKUP(IF(ISNUMBER(EK97),TEXT(EK97,\"0\"),EK97),Pricelist!$A$53:$F$60643,3,FALSE),0)","v":0},0,null,null,"650+850",40866,50866,60866,70866,80866,90866,null,"650+850",40886,50886,60886,70886,80886,90886]
[null,1300,40513,50513,60513,70513,80513,90513,22,"150+650+400",40940,50940,60940,70940,80940,90940,null,"Szerokość obudowy","Osłona tylna pełna IP55   Wysokość",null,null,8,null,"Pole 1,3",null,null,null,null,null,null,null,null,null,null,null,null,null,null,null,null,null,null,null,null,null,null,null,null,null,null,null,null,null,null,null,null,null,null,null,null,null,null,null,null,null,null,null,null,null,null,null,null,null,null,null,null,null,null,null,null,{"$f":"IF(Selection!$Y$32=1,\"Płyta montażowa otworowana ocynk\",\"Painted mounting plate\")","v":"Painted mounting plate"},null,null,{"$f":"IF(Selection!$Y$32=1,\"8 modułowa\",\"8 modules\")","v":"8 modules"},null,null,null,null,null,null,null,null,null,null,null,null,null,null,null,"Szyna stała TS35",{"$f":"IF(CW93=0,\"\",\"\")","v":""},"","","","","","","","","","","",null,"650+850",{"$f":"\"\"","v":""},20207,20217,20227,20237,20247,20257,20177,20187,33167,33187,33197,31957,30974,30970,31087,31966,{"$f":"\"\"","v":""},{"$f":"\"\"","v":""},{"$f":"\"\"","v":""},{"$f":"\"\"","v":""},{"$f":"\"\"","v":""},null,null,null,null,{"$f":"IF(Selection!X42=\"\",0,IF(Selection!Z42>0,Selection!X42,0))","v":0},{"$f":"IF(Selection!Z42=\"\",0,Selection!Z42)","v":0},{"$f":"IF(EK98>1,VLOOKUP(IF(ISNUMBER(EK98),TEXT(EK98,\"0\"),EK98),Pricelist!$A$53:$F$60643,2,FALSE),\"\")","v":""},{"$f":"IF(EK98>1,VLOOKUP(IF(ISNUMBER(EK98),TEXT(EK98,\"0\"),EK98),Pricelist!$A$53:$F$60643,3,FALSE),0)","v":0},0,null,null,"850+850",40886,50886,60886,70886,80886,90886,null,"850+850",40886,50886,60886,70886,80886,90886]
[null,"650+612",40565,50565,60565,70565,80565,90565,23,null,null,null,null,null,null,null,null,null,"H 1200","H 1400","H 1600","H 1800","H 2000","H 2200",null,null,null,null,null,null,null,null,null,null,null,null,null,null,null,null,null,null,null,null,null,null,null,null,null,null,null,null,null,null,null,null,null,null,null,null,null,null,null,null,null,null,null,null,null,null,null,null,null,null,null,null,null,null,null,null,{"$f":"IF(Selection!$Y$32=1,\"Płyta montażowa pozioma ocynk\",\"Horizontal plain mounting plate\")","v":"Horizontal plain mounting plate"},null,null,{"$f":"IF(Selection!$Y$32=1,\"9 modułowa\",\"9 modules\")","v":"9 modules"},null,null,null,null,null,null,null,null,null,null,null,null,null,null,null,"Szyna reg.TS35",{"$f":"IF(CW93=0,\"\",\"\")","v":""},"","","","","","","","","","","",null,"850+850",{"$f":"\"\"","v":""},20209,20219,20229,20239,20249,20259,20179,20189,33169,33189,33199,31957,30995,30990,31089,31967,{"$f":"\"\"","v":""},{"$f":"\"\"","v":""},{"$f":"\"\"","v":""},{"$f":"\"\"","v":""},{"$f":"\"\"","v":""},null,null,null,null,{"$f":"IF(Selection!X45=\"\",0,IF(Selection!Z45>0,Selection!X45,0))","v":0},{"$f":"IF(Selection!Z45=\"\",0,Selection!Z45)","v":0},{"$f":"IF(EK99>1,VLOOKUP(IF(ISNUMBER(EK99),TEXT(EK99,\"0\"),EK99),Pricelist!$A$53:$F$60643,2,FALSE),\"\")","v":""},{"$f":"IF(EK99>1,VLOOKUP(IF(ISNUMBER(EK99),TEXT(EK99,\"0\"),EK99),Pricelist!$A$53:$F$60643,3,FALSE),0)","v":0},0,null,null,"650+300",40866,50866,60866,70866,80866,90866,null,"650+300",{"$f":"\"\"","v":""},{"$f":"\"\"","v":""},{"$f":"\"\"","v":""},{"$f":"\"\"","v":""},{"$f":"\"\"","v":""},{"$f":"\"\"","v":""}]
[null,"650+812",40565,50565,60565,70565,80565,90565,24,null,{"$f":"\"\"","v":""},{"$f":"\"\"","v":""},{"$f":"\"\"","v":""},{"$f":"\"\"","v":""},{"$f":"\"\"","v":""},{"$f":"\"\"","v":""},null,"Brak",{"$f":"\"\"","v":""},{"$f":"\"\"","v":""},{"$f":"\"\"","v":""},{"$f":"\"\"","v":""},{"$f":"\"\"","v":""},{"$f":"\"\"","v":""},null,null,null,null,null,null,null,null,null,null,null,null,null,null,null,{"$f":"INDEX(($AO$102:$AO$117),$BA$10,$AN$101)","v":0},"Obudowy łączone drzwi",null,null,null,null,null,null,null,null,null,null,null,null,null,null,null,null,null,null,null,null,null,null,null,null,null,null,null,null,null,null,null,null,4,null,11,null,null,null,null,{"$f":"IF(Selection!$Y$32=1,\"Zabudowa licznikowa\",\"kWh mounting plate\")","v":"kWh mounting plate"},null,null,{"$f":"IF(Selection!$Y$32=1,\"10 modułowa\",\"10 modules\")","v":"10 modules"},null,null,null,null,null,null,null,null,null,null,null,null,null,null,null,"Płyta ocynk pełna",{"$f":"IF(CW93=0,\"\",\"\")","v":""},33082,33083,33084,33085,33086,{"$f":"IF(DC93=0,\"\",\"\")","v":""},33087,{"$f":"IF(DE93=0,\"\",\"\")","v":""},33088,{"$f":"IF(DG93=0,\"\",\"\")","v":""},33089,null,"650+300",{"$f":"\"\"","v":""},20207,20217,20227,20237,20247,20257,20177,20187,33167,33187,33197,31957,30974,30970,31087,31969,{"$f":"\"\"","v":""},{"$f":"\"\"","v":""},{"$f":"\"\"","v":""},{"$f":"\"\"","v":""},{"$f":"\"\"","v":""},null,null,null,null,{"$f":"IF(Selection!X48=\"\",0,IF(Selection!Z48>0,Selection!X48,0))","v":0},{"$f":"IF(Selection!Z48=\"\",0,Selection!Z48)","v":0},{"$f":"IF(EK100>1,VLOOKUP(IF(ISNUMBER(EK100),TEXT(EK100,\"0\"),EK100),Pricelist!$A$53:$F$60643,2,FALSE),\"\")","v":""},{"$f":"IF(EK100>1,VLOOKUP(IF(ISNUMBER(EK100),TEXT(EK100,\"0\"),EK100),Pricelist!$A$53:$F$60643,3,FALSE),0)","v":0},0,null,null,"650+400",40866,50866,60866,70866,80866,90866,null,"650+400",{"$f":"\"\"","v":""},{"$f":"\"\"","v":""},{"$f":"\"\"","v":""},{"$f":"\"\"","v":""},{"$f":"\"\"","v":""},{"$f":"\"\"","v":""}]
[null,"850+812",40585,50585,60585,70585,80585,90585,25,98,40995,50995,60995,70995,80995,90995,null,300,41530,51530,61530,71530,81530,91530,null,null,null,null,null,null,null,null,null,null,null,null,null,null,null,1,"Brak",null,null,null,null,null,null,null,null,null,null,null,null,null,null,null,null,null,null,null,null,null,null,null,null,null,null,null,null,null,null,null,null,null,"Prąd",null,null,null,null,null,null,null,null,{"$f":"IF(Selection!$Y$32=1,\"11 modułowa\",\"11 modules\")","v":"11 modules"},null,null,null,null,null,null,null,null,null,null,null,null,null,null,null,"Płyta malow.otw.",{"$f":"IF(CW93=0,\"\",\"\")","v":""},33582,33583,33584,33585,33586,{"$f":"IF(DC93=0,\"\",\"\")","v":""},33587,{"$f":"IF(DE93=0,\"\",\"\")","v":""},33588,{"$f":"IF(DG93=0,\"\",\"\")","v":""},33589,null,"650+400",{"$f":"\"\"","v":""},20207,20217,20227,20237,20247,20257,20177,20187,33167,33187,33197,31957,30974,30970,31087,31960,{"$f":"\"\"","v":""},{"$f":"\"\"","v":""},{"$f":"\"\"","v":""},{"$f":"\"\"","v":""},{"$f":"\"\"","v":""},null,null,null,null,{"$f":"IF(Selection!X51=\"\",0,IF(Selection!Z51>0,Selection!X51,0))","v":0},{"$f":"IF(Selection!Z51=\"\",0,Selection!Z51)","v":0},{"$f":"IF(EK101>1,VLOOKUP(IF(ISNUMBER(EK101),TEXT(EK101,\"0\"),EK101),Pricelist!$A$53:$F$60643,2,FALSE),\"\")","v":""},{"$f":"IF(EK101>1,VLOOKUP(IF(ISNUMBER(EK101),TEXT(EK101,\"0\"),EK101),Pricelist!$A$53:$F$60643,3,FALSE),0)","v":0},0,null,null,"850+300",40886,50886,60886,70886,80886,90886,null,"850+300",{"$f":"\"\"","v":""},{"$f":"\"\"","v":""},{"$f":"\"\"","v":""},{"$f":"\"\"","v":""},{"$f":"\"\"","v":""},{"$f":"\"\"","v":""}]
[null,"650+300",40565,50565,60565,70565,80565,90565,26,null,{"$f":"\"\"","v":""},{"$f":"\"\"","v":""},{"$f":"\"\"","v":""},{"$f":"\"\"","v":""},{"$f":"\"\"","v":""},{"$f":"\"\"","v":""},null,400,41540,51540,61540,71540,81540,91540,null,null,null,null,null,null,null,null,null,null,null,null,null,null,null,"Brak",0,null,null,null,null,null,null,null,null,null,null,null,null,null,null,null,null,null,null,null,null,null,null,null,null,null,null,null,null,null,null,null,null,null,"630 A",null,null,null,null,null,null,null,null,{"$f":"IF(Selection!$Y$32=1,\"12 modułowa\",\"12 modules\")","v":"12 modules"},null,null,null,null,null,null,null,null,null,null,null,null,null,null,null,"Płyta oc. pozioma",{"$f":"IF(CW92=0,\"\",\"\")","v":""},"","","","","","","","",{"$f":"IF(DF377=0,\"\",\"\")","v":""},{"$f":"IF(DG377=0,\"\",\"\")","v":""},{"$f":"IF(DH377=0,\"\",\"\")","v":""},null,"850+300",{"$f":"\"\"","v":""},20209,20219,20229,20239,20249,20259,20179,20189,33169,33189,33199,31957,30995,30990,31089,31961,{"$f":"\"\"","v":""},{"$f":"\"\"","v":""},{"$f":"\"\"","v":""},{"$f":"\"\"","v":""},{"$f":"\"\"","v":""},null,null,null,null,{"$f":"IF(Selection!X54=\"\",0,IF(Selection!Z54>0,Selection!X54,0))","v":0},{"$f":"IF(Selection!Z54=\"\",0,Selection!Z54)","v":0},{"$f":"IF(EK102>1,VLOOKUP(IF(ISNUMBER(EK102),TEXT(EK102,\"0\"),EK102),Pricelist!$A$53:$F$60643,2,FALSE),\"\")","v":""},{"$f":"IF(EK102>1,VLOOKUP(IF(ISNUMBER(EK102),TEXT(EK102,\"0\"),EK102),Pricelist!$A$53:$F$60643,3,FALSE),0)","v":0},0,null,null,"850+400",40886,50886,60886,70886,80886,90886,null,"850+400",{"$f":"\"\"","v":""},{"$f":"\"\"","v":""},{"$f":"\"\"","v":""},{"$f":"\"\"","v":""},{"$f":"\"\"","v":""},{"$f":"\"\"","v":""}]
[null,"650+400",40565,50565,60565,70565,80565,90565,27,null,{"$f":"\"\"","v":""},{"$f":"\"\"","v":""},{"$f":"\"\"","v":""},{"$f":"\"\"","v":""},{"$f":"\"\"","v":""},{"$f":"\"\"","v":""},null,450,41545,51545,61545,71545,81545,91545,null,null,null,null,null,null,null,null,null,null,null,null,null,null,null,300,0,null,null,null,null,null,null,null,null,null,null,null,null,null,null,null,null,null,null,null,null,null,null,null,null,null,null,null,null,null,null,null,null,null,"1000 A",null,null,null,null,{"$f":"IF(CE108=14,14,IF(CP41=1,$BA$15,CB108))","v":1},null,null,{"$f":"IF(CP41=1,BD4,CE108)","v":1},{"$f":"IF(Selection!$Y$32=1,\"Płyta pełna ocynkowana\",\"Plain mounting plate\")","v":"Plain mounting plate"},null,null,null,null,null,null,null,null,null,null,null,null,null,null,null,"Płyta licznikowa","","","","","","","","","","","","",null,"850+400",{"$f":"\"\"","v":""},20209,20219,20229,20239,20249,20259,20179,20189,33169,33189,33199,31957,30995,30990,31089,31963,{"$f":"\"\"","v":""},{"$f":"\"\"","v":""},{"$f":"\"\"","v":""},{"$f":"\"\"","v":""},{"$f":"\"\"","v":""},null,null,null,null,{"$f":"IF(Selection!X57=\"\",0,IF(Selection!Z57>0,Selection!X57,0))","v":0},{"$f":"IF(Selection!Z57=\"\",0,Selection!Z57)","v":0},{"$f":"IF(EK103>1,VLOOKUP(IF(ISNUMBER(EK103),TEXT(EK103,\"0\"),EK103),Pricelist!$A$53:$F$60643,2,FALSE),\"\")","v":""},{"$f":"IF(EK103>1,VLOOKUP(IF(ISNUMBER(EK103),TEXT(EK103,\"0\"),EK103),Pricelist!$A$53:$F$60643,3,FALSE),0)","v":0},0,null,null,"150+650+300",40866,50866,60866,70866,80866,90866,null,"150+650+300",{"$f":"\"\"","v":""},{"$f":"\"\"","v":""},{"$f":"\"\"","v":""},{"$f":"\"\"","v":""},{"$f":"\"\"","v":""},{"$f":"\"\"","v":""}]
[null,"850+300",40585,50585,60585,70585,80585,90585,28,null,{"$f":"\"\"","v":""},{"$f":"\"\"","v":""},{"$f":"\"\"","v":""},{"$f":"\"\"","v":""},{"$f":"\"\"","v":""},{"$f":"\"\"","v":""},null,600,41560,51560,61560,71560,81560,91560,null,null,null,null,null,null,null,null,null,null,null,null,null,null,null,400,0,null,null,null,null,null,null,null,null,null,null,null,null,null,null,null,null,null,null,null,null,null,null,null,null,null,null,null,null,null,null,null,null,null,"1600 A",null,null,null,null,{"$f":"IF(CE107=14,25,IF(CO41=1,$BA$12,CB107))","v":1},null,null,{"$f":"IF(CO41=1,BD4,CE107)","v":1},{"$f":"IF(Selection!$Y$32=1,\"Łącznik płyt pełnych\",\"Plates connector\")","v":"Plates connector"},null,null,null,null,null,null,null,null,null,null,null,null,null,null,null,null,{"$f":"IF(CW93=0,\"\",\"\")","v":""},"","","","","","","","","","","",null,"150+650+300",{"$f":"\"\"","v":""},20207,20217,20227,20237,20247,20257,20177,20187,33167,33187,33197,31957,30974,30970,31087,31962,{"$f":"\"\"","v":""},{"$f":"\"\"","v":""},{"$f":"\"\"","v":""},{"$f":"\"\"","v":""},{"$f":"\"\"","v":""},null,null,null,null,{"$f":"IF(Selection!X60=\"\",0,IF(Selection!Z60>0,Selection!X60,0))","v":0},{"$f":"IF(Selection!Z60=\"\",0,Selection!Z60)","v":0},{"$f":"IF(EK104>1,VLOOKUP(IF(ISNUMBER(EK104),TEXT(EK104,\"0\"),EK104),Pricelist!$A$53:$F$60643,2,FALSE),\"\")","v":""},{"$f":"IF(EK104>1,VLOOKUP(IF(ISNUMBER(EK104),TEXT(EK104,\"0\"),EK104),Pricelist!$A$53:$F$60643,3,FALSE),0)","v":0},{"$f":"EL104*EN104","v":0},null,null,"150+650+400",40866,50866,60866,70866,80866,90866,null,"150+650+400",{"$f":"\"\"","v":""},{"$f":"\"\"","v":""},{"$f":"\"\"","v":""},{"$f":"\"\"","v":""},{"$f":"\"\"","v":""},{"$f":"\"\"","v":""}]
[null,"850+400",40585,50585,60585,70585,80585,90585,29,null,{"$f":"\"\"","v":""},{"$f":"\"\"","v":""},{"$f":"\"\"","v":""},{"$f":"\"\"","v":""},null,{"$f":"\"\"","v":""},null,650,41565,51565,61565,71565,81565,91565,null,null,null,null,null,null,null,null,null,null,null,null,null,null,null,450,0,null,null,null,null,null,null,null,null,null,null,null,null,null,null,null,null,null,null,null,null,null,null,null,null,null,null,null,null,null,null,null,null,null,"2500 A",null,null,null,null,{"$f":"IF(CE106=14,23,IF(CN41=1,$BA$13,CB106))","v":1},null,null,{"$f":"IF(CN41=1,BD4,CE106)","v":1},null,null,null,null,null,null,null,null,null,null,null,null,null,null,null,null,null,{"$f":"IF(CW93=0,\"\",\"\")","v":""},"","","","","","","","","","","",null,"150+650+400",{"$f":"\"\"","v":""},20207,20217,20227,20237,20247,20257,20177,20187,33167,33187,33197,31957,30974,30970,31087,31971,{"$f":"\"\"","v":""},{"$f":"\"\"","v":""},{"$f":"\"\"","v":""},{"$f":"\"\"","v":""},{"$f":"\"\"","v":""},null,null,null,null,{"$f":"IF(Selection!X63=\"\",0,IF(Selection!Z63>0,Selection!X63,0))","v":0},{"$f":"IF(Selection!Z63=\"\",0,Selection!Z63)","v":0},{"$f":"IF(EK105>1,VLOOKUP(IF(ISNUMBER(EK105),TEXT(EK105,\"0\"),EK105),Pricelist!$A$53:$F$60643,2,FALSE),\"\")","v":""},{"$f":"IF(EK105>1,VLOOKUP(IF(ISNUMBER(EK105),TEXT(EK105,\"0\"),EK105),Pricelist!$A$53:$F$60643,3,FALSE),0)","v":0},0]
[null,"150+650+300",40580,50580,60580,70580,80580,90580,30,null,{"$f":"\"\"","v":""},{"$f":"\"\"","v":""},{"$f":"\"\"","v":""},{"$f":"\"\"","v":""},{"$f":"\"\"","v":""},{"$f":"\"\"","v":""},null,800,41580,51580,61580,71580,81580,91580,null,null,null,null,null,null,null,null,null,null,null,null,null,null,null,600,0,null,null,null,null,null,null,null,null,null,null,null,null,null,null,null,null,null,null,null,null,null,null,null,null,null,null,null,null,null,null,null,null,null,null,null,null,null,null,1,7,null,1,7,null,null,null,null,null,null,null,null,null,null,null,null,null,null,null,null,{"$f":"IF(CW93=0,\"\",\"\")","v":""},"","","","","","","","","","","",null,null,{"$f":"\"\"","v":""},{"$f":"IF(DL105=0,\"\",\"\")","v":""},"","","",{"$f":"IF(DP105=0,\"\",\"\")","v":""},{"$f":"IF(DQ105=0,\"\",\"\")","v":""},{"$f":"\"\"","v":""},{"$f":"\"\"","v":""},{"$f":"IF(DT105=0,\"\",\"\")","v":""},"","","",{"$f":"\"\"","v":""},{"$f":"\"\"","v":""},{"$f":"IF(DY105=0,\"\",\"\")","v":""},{"$f":"IF(EA105=0,\"\",\"\")","v":""},{"$f":"\"\"","v":""},{"$f":"\"\"","v":""},{"$f":"\"\"","v":""},{"$f":"\"\"","v":""},{"$f":"\"\"","v":""},null,null,null,null,{"$f":"IF(Selection!X66=\"\",0,IF(Selection!Z66>0,Selection!X66,0))","v":0},{"$f":"IF(Selection!Z66=\"\",0,Selection!Z66)","v":0},{"$f":"IF(EK106>1,VLOOKUP(IF(ISNUMBER(EK106),TEXT(EK106,\"0\"),EK106),Pricelist!$A$53:$F$60643,2,FALSE),\"\")","v":""},{"$f":"IF(EK106>1,VLOOKUP(IF(ISNUMBER(EK106),TEXT(EK106,\"0\"),EK106),Pricelist!$A$53:$F$60643,3,FALSE),0)","v":0},0]
[null,"150+650+400",40580,50580,60580,70580,80580,90580,31,null,{"$f":"\"\"","v":""},{"$f":"\"\"","v":""},{"$f":"\"\"","v":""},{"$f":"\"\"","v":""},{"$f":"\"\"","v":""},{"$f":"\"\"","v":""},null,"650+150",41580,51580,61580,71580,81580,91580,null,null,null,null,null,null,null,null,null,null,null,null,null,null,null,650,0,null,null,null,null,null,null,null,null,null,null,null,null,null,null,null,null,null,null,null,null,null,null,null,null,null,null,null,null,null,null,null,null,null,null,null,null,null,null,1,"Osłony",null,1,"Ilość mod.",null,null,null,null,null,null,null,null,null,"Pole 3",null,null,null,null,null,null,{"$f":"IF(CW93=0,\"\",\"\")","v":""},"","","","","","","","","","","",null,null,{"$f":"\"\"","v":""},"","","","",{"$f":"IF(DP106=0,\"\",\"\")","v":""},{"$f":"IF(DQ106=0,\"\",\"\")","v":""},{"$f":"\"\"","v":""},{"$f":"\"\"","v":""},"","","","",{"$f":"\"\"","v":""},{"$f":"\"\"","v":""},{"$f":"IF(DZ106=0,\"\",\"\")","v":""},{"$f":"IF(EA106=0,\"\",\"\")","v":""},{"$f":"\"\"","v":""},{"$f":"\"\"","v":""},{"$f":"\"\"","v":""},{"$f":"\"\"","v":""},{"$f":"\"\"","v":""},null,null,null,null,{"$f":"IF(Selection!X69=\"\",0,IF(Selection!Z69>0,Selection!X69,0))","v":0},{"$f":"IF(Selection!Z69=\"\",0,Selection!Z69)","v":0},{"$f":"IF(EK107>1,VLOOKUP(IF(ISNUMBER(EK107),TEXT(EK107,\"0\"),EK107),Pricelist!$A$53:$F$60643,2,FALSE),\"\")","v":""},{"$f":"IF(EK107>1,VLOOKUP(IF(ISNUMBER(EK107),TEXT(EK107,\"0\"),EK107),Pricelist!$A$53:$F$60643,3,FALSE),0)","v":0},0,null,null,"Szerokość obudowy","Rama rozł. iistw. z analizatorami  Wysokość, Pole 1,3",null,null,null,7,null,null,"Szerokość obudowy","Rama rozł. iistw. z analizatorami  Wysokość, Pole 2",null,null,null,7]
[null,null,null,null,null,null,null,null,32,null,{"$f":"\"\"","v":""},{"$f":"\"\"","v":""},{"$f":"\"\"","v":""},{"$f":"\"\"","v":""},{"$f":"\"\"","v":""},{"$f":"\"\"","v":""},null,850,41585,51585,61585,71585,81585,91585,null,null,null,null,null,null,null,null,null,null,null,null,null,null,null,800,0,null,null,null,null,null,null,null,null,null,null,null,null,null,null,null,null,null,null,null,null,null,null,null,null,null,null,null,null,null,null,null,null,null,null,null,null,null,null,1,{"$f":"IF(Selection!$Y$32=1,\"Brak\",\"None\")","v":"None"},null,1,{"$f":"IF(Selection!$Y$32=1,\"1 modułowa\",\"1 module\")","v":"1 module"},null,null,null,null,null,null,{"$f":"IF(BV6>3,1,0)","v":0},{"$f":"IF(CM108=1,SUM(CN109:CN114),0)","v":0},null,"Ilość mod.przód",null,null,null,null,null,null,{"$f":"IF(CW93=0,\"\",\"\")","v":""},"","","","","","","","","","","",null,null,null,null,null,null,null,null,null,null,null,null,null,null,null,null,null,null,null,null,null,null,null,null,null,null,null,null,{"$f":"IF(Selection!X72=\"\",0,IF(Selection!Z72>0,Selection!X72,0))","v":0},{"$f":"IF(Selection!Z72=\"\",0,Selection!Z72)","v":0},{"$f":"IF(EK108>1,VLOOKUP(IF(ISNUMBER(EK108),TEXT(EK108,\"0\"),EK108),Pricelist!$A$53:$F$60643,2,FALSE),\"\")","v":""},{"$f":"IF(EK108>1,VLOOKUP(IF(ISNUMBER(EK108),TEXT(EK108,\"0\"),EK108),Pricelist!$A$53:$F$60643,3,FALSE),0)","v":0},0,null,null,null,"H 1200","H 1400","H 1600","H 1800","H 2000","H 2200",null,null,"H 1200","H 1400","H 1600","H 1800","H 2000","H 2200"]
[null,null,null,null,null,null,null,null,33,null,{"$f":"\"\"","v":""},{"$f":"\"\"","v":""},{"$f":"\"\"","v":""},{"$f":"\"\"","v":""},{"$f":"\"\"","v":""},{"$f":"\"\"","v":""},null,"650+200",41585,51585,61585,71585,81585,91585,null,null,null,null,null,null,null,null,null,null,null,null,null,null,null,"650+150",0,null,null,null,null,null,null,null,null,null,null,null,null,null,null,null,null,null,null,null,null,null,null,null,null,null,null,null,null,null,null,null,null,null,null,null,null,null,null,null,{"$f":"IF(Selection!$Y$32=1,\"Panel osłonowy pełny\",\"Plain front plate\")","v":"Plain front plate"},null,{"$f":"IF($BA$12>1,0,IF(CE107<13,0,IF($BA$13>13,$BA$13-1,0)))","v":0},{"$f":"IF(Selection!$Y$32=1,\"2 modułowa\",\"2 modules\")","v":"2 modules"},null,null,null,null,null,null,{"$f":"IF(BD4=1,20,0)","v":0},{"$f":"IF(BD4=1,0,0)","v":0},null,1,{"$f":"IF(BA15>1,Selection!AX42/(Zbaza!AM1),0)","v":0},{"$f":"IF(CB6>4,0,IF(CE6<13,CE6,0))","v":1},{"$f":"CQ109*CR109","v":0},{"$f":"SUM(CS109:CS120)","v":0},null,null,null,null,null,null,null,null,null,null,null,null,null,null,null,null,null,null,null,null,null,null,null,null,null,null,null,null,null,null,null,null,null,null,null,null,null,null,null,null,null,null,{"$f":"IF(Selection!X75=\"\",0,IF(Selection!Z75>0,Selection!X75,0))","v":0},{"$f":"IF(Selection!Z75=\"\",0,Selection!Z75)","v":0},{"$f":"IF(EK109>1,VLOOKUP(IF(ISNUMBER(EK109),TEXT(EK109,\"0\"),EK109),Pricelist!$A$53:$F$60643,2,FALSE),\"\")","v":""},{"$f":"IF(EK109>1,VLOOKUP(IF(ISNUMBER(EK109),TEXT(EK109,\"0\"),EK109),Pricelist!$A$53:$F$60643,3,FALSE),0)","v":0},0,null,null,"Brak",{"$f":"\"\"","v":""},{"$f":"\"\"","v":""},{"$f":"\"\"","v":""},{"$f":"\"\"","v":""},{"$f":"\"\"","v":""},{"$f":"\"\"","v":""},null,"Brak",{"$f":"\"\"","v":""},{"$f":"\"\"","v":""},{"$f":"\"\"","v":""},{"$f":"\"\"","v":""},{"$f":"\"\"","v":""},{"$f":"\"\"","v":""}]
[null,null,null,null,null,null,null,null,34,null,{"$f":"\"\"","v":""},{"$f":"\"\"","v":""},{"$f":"\"\"","v":""},{"$f":"\"\"","v":""},{"$f":"\"\"","v":""},{"$f":"\"\"","v":""},null,1000,41510,51510,61510,71510,81510,91510,null,null,null,null,null,null,null,null,null,null,null,null,null,null,null,850,0,null,null,null,null,null,null,null,null,null,null,null,null,null,null,null,null,null,null,null,null,null,null,null,null,null,null,null,null,null,null,null,null,null,null,null,null,null,null,null,{"$f":"IF(Selection!$Y$32=1,\"Panel osłonowy modułowy\",\"Modular front plate\")","v":"Modular front plate"},null,null,{"$f":"IF(Selection!$Y$32=1,\"3 modułowa\",\"3 modules\")","v":"3 modules"},null,null,null,null,null,null,{"$f":"IF(BD4=2,24,0)","v":0},{"$f":"IF(BD4=2,0,0)","v":0},null,2,{"$f":"IF(BA15>1,Selection!AX45/(Zbaza!AM1),0)","v":0},{"$f":"IF(CB23>4,0,IF(CE23<13,CE23,0))","v":1},0,{"$f":"IF(CT109<=CM115,CT109,CM115)","v":0},null,null,null,null,null,null,null,null,null,null,null,null,null,null,null,null,null,null,null,null,null,null,null,null,null,null,null,null,null,null,null,null,null,null,null,null,null,null,null,null,null,null,{"$f":"IF(Selection!X78=\"\",0,IF(Selection!Z78>0,Selection!X78,0))","v":0},{"$f":"IF(Selection!Z78=\"\",0,Selection!Z78)","v":0},{"$f":"IF(EK110>1,VLOOKUP(IF(ISNUMBER(EK110),TEXT(EK110,\"0\"),EK110),Pricelist!$A$53:$F$60643,2,FALSE),\"\")","v":""},{"$f":"IF(EK110>1,VLOOKUP(IF(ISNUMBER(EK110),TEXT(EK110,\"0\"),EK110),Pricelist!$A$53:$F$60643,3,FALSE),0)","v":0},{"$f":"EL110*EN110","v":0},null,null,300,{"$f":"\"\"","v":""},{"$f":"\"\"","v":""},{"$f":"\"\"","v":""},{"$f":"\"\"","v":""},{"$f":"\"\"","v":""},{"$f":"\"\"","v":""},null,300,{"$f":"\"\"","v":""},{"$f":"\"\"","v":""},{"$f":"\"\"","v":""},{"$f":"\"\"","v":""},{"$f":"\"\"","v":""},{"$f":"\"\"","v":""}]
[null,"Szerokość obudowy","Drzwi przeszklone IP55   Wysokość",null,null,3,null,"Pole 1,3",35,null,{"$f":"\"\"","v":""},{"$f":"\"\"","v":""},{"$f":"\"\"","v":""},{"$f":"\"\"","v":""},{"$f":"\"\"","v":""},{"$f":"\"\"","v":""},null,1200,41512,51512,61512,71512,81512,91512,null,null,null,null,null,null,null,null,null,null,null,null,null,null,null,"650+200",0,null,null,null,null,null,null,null,null,null,null,null,null,null,null,null,null,null,null,null,null,null,null,null,null,null,null,null,null,null,null,null,null,null,null,null,null,null,null,null,{"$f":"IF(Selection!$Y$32=1,\"Panel osłonowy przeszklony\",\"Transparent front plate\")","v":"Transparent front plate"},null,null,{"$f":"IF(Selection!$Y$32=1,\"4 modułowa\",\"4 modules\")","v":"4 modules"},null,null,null,null,null,null,{"$f":"IF(BD4=3,28,0)","v":0},{"$f":"IF(BD4=3,5,0)","v":0},null,3,{"$f":"IF(BA15>1,Selection!AX48/(Zbaza!AM1),0)","v":0},{"$f":"IF(CB40>4,0,IF(CE40<13,CE40,0))","v":1},0,{"$f":"IF(CT110=CM115,CT109-CT110,\"\")","v":""},null,"W 850 - 7+13","1 mod.","2 mod.","3 mod.","4 mod.","5 mod.","6 mod.","7 mod.","8 mod.","9 mod.","10 mod.","11 mod.","12 mod.",null,null,null,null,null,null,null,null,null,null,null,null,null,null,null,null,null,null,null,null,null,null,null,null,null,null,null,null,{"$f":"IF(Selection!X81=\"\",0,IF(Selection!Z81>0,Selection!X81,0))","v":0},{"$f":"IF(Selection!Z81=\"\",0,Selection!Z81)","v":0},{"$f":"IF(EK111>1,VLOOKUP(IF(ISNUMBER(EK111),TEXT(EK111,\"0\"),EK111),Pricelist!$A$53:$F$60643,2,FALSE),\"\")","v":""},{"$f":"IF(EK111>1,VLOOKUP(IF(ISNUMBER(EK111),TEXT(EK111,\"0\"),EK111),Pricelist!$A$53:$F$60643,3,FALSE),0)","v":0},0,null,null,400,{"$f":"\"\"","v":""},{"$f":"\"\"","v":""},{"$f":"\"\"","v":""},{"$f":"\"\"","v":""},{"$f":"\"\"","v":""},{"$f":"\"\"","v":""},null,400,{"$f":"\"\"","v":""},{"$f":"\"\"","v":""},{"$f":"\"\"","v":""},{"$f":"\"\"","v":""},{"$f":"\"\"","v":""},{"$f":"\"\"","v":""}]
[null,null,"H 1200","H 1400","H 1600","H 1800","H 2000","H 2200",36,null,{"$f":"\"\"","v":""},{"$f":"\"\"","v":""},{"$f":"\"\"","v":""},{"$f":"\"\"","v":""},{"$f":"\"\"","v":""},{"$f":"\"\"","v":""},null,1300,41513,51513,61513,71513,81513,91513,null,null,null,null,null,null,null,null,null,null,null,null,null,null,null,1000,0,null,null,null,null,null,null,null,null,null,null,null,null,null,null,null,null,null,null,null,null,null,null,null,null,null,null,null,null,null,null,null,null,null,null,null,null,null,null,null,{"$f":"IF(Selection!$Y$32=1,\"Szyna montażowa TS35D stała\",\"Fixed TS35D rail\")","v":"Fixed TS35D rail"},null,null,{"$f":"IF(Selection!$Y$32=1,\"5 modułowa\",\"5 modules\")","v":"5 modules"},null,null,null,null,null,null,{"$f":"IF(BD4=4,32,0)","v":0},{"$f":"IF(BD4=4,9,0)","v":0},null,4,{"$f":"IF(BA15>1,Selection!AX51/(Zbaza!AM1),0)","v":0},{"$f":"IF(CB57>4,0,IF(CE57<13,CE57,0))","v":1},0,{"$f":"IF(BV6=4,\"\",CT110)","v":0},null,"Brak",{"$f":"IF(CW111=0,\"\",\"\")","v":""},"","","","","","","","","","","",null,null,null,null,null,null,null,null,null,null,null,null,null,null,null,null,null,null,null,null,null,null,null,null,null,null,null,null,{"$f":"IF(Selection!X84=\"\",0,IF(Selection!Z84>0,Selection!X84,0))","v":0},{"$f":"IF(Selection!Z84=\"\",0,Selection!Z84)","v":0},{"$f":"IF(EK112>1,VLOOKUP(IF(ISNUMBER(EK112),TEXT(EK112,\"0\"),EK112),Pricelist!$A$53:$F$60643,2,FALSE),\"\")","v":""},{"$f":"IF(EK112>1,VLOOKUP(IF(ISNUMBER(EK112),TEXT(EK112,\"0\"),EK112),Pricelist!$A$53:$F$60643,3,FALSE),0)","v":0},0,null,null,450,40745,50745,60745,70745,80745,90745,null,450,40745,50745,60745,70745,80745,90745]
[null,"Brak",{"$f":"IF(C112=0,\"\",\"\")","v":""},"","","","","",37,98,{"$f":"\"\"","v":""},{"$f":"\"\"","v":""},{"$f":"\"\"","v":""},{"$f":"\"\"","v":""},{"$f":"\"\"","v":""},{"$f":"\"\"","v":""},null,"650+650",41565,51565,61565,71565,81565,91565,null,null,null,null,null,null,null,null,null,null,null,null,null,null,null,1200,0,null,null,null,null,null,null,null,null,null,null,null,null,null,null,null,null,null,null,null,null,null,null,null,null,null,null,null,null,null,null,null,null,null,null,null,null,null,null,null,{"$f":"IF(Selection!$Y$32=1,\"Szyna montażowa TS35D regulowana\",\"Adjustable TS35D rail\")","v":"Adjustable TS35D rail"},null,null,{"$f":"IF(Selection!$Y$32=1,\"6 modułowa\",\"6 modules\")","v":"6 modules"},null,null,null,null,null,null,{"$f":"IF(BD4=5,36,0)","v":36},{"$f":"IF(BD4=5,13,0)","v":13},null,5,{"$f":"IF(BA15>1,Selection!AX54/(Zbaza!AM1),0)","v":0},{"$f":"IF(CB74>4,0,IF(CE74<13,CE74,0))","v":1},0,null,null,"Osłona pełna",32910,32920,32930,32940,32950,32960,32970,32980,32990,32991,32992,32993,null,null,null,null,null,null,null,null,null,null,null,null,null,null,null,null,null,null,null,null,null,null,null,null,null,null,null,null,{"$f":"IF(Selection!X87=\"\",0,IF(Selection!Z87>0,Selection!X87,0))","v":0},{"$f":"IF(Selection!Z87=\"\",0,Selection!Z87)","v":0},{"$f":"IF(EK113>1,VLOOKUP(IF(ISNUMBER(EK113),TEXT(EK113,\"0\"),EK113),Pricelist!$A$53:$F$60643,2,FALSE),\"\")","v":""},{"$f":"IF(EK113>1,VLOOKUP(IF(ISNUMBER(EK113),TEXT(EK113,\"0\"),EK113),Pricelist!$A$53:$F$60643,3,FALSE),0)","v":0},0,null,null,600,{"$f":"\"\"","v":""},{"$f":"\"\"","v":""},{"$f":"\"\"","v":""},{"$f":"\"\"","v":""},{"$f":"\"\"","v":""},{"$f":"\"\"","v":""},null,600,{"$f":"\"\"","v":""},{"$f":"\"\"","v":""},{"$f":"\"\"","v":""},{"$f":"\"\"","v":""},{"$f":"\"\"","v":""},{"$f":"\"\"","v":""}]
[null,300,"","","","","","",38,"650+612",40995,50995,60995,70995,80995,90995,null,"650+850",41565,51565,61565,71565,81565,91565,null,null,null,null,null,null,null,null,null,null,null,null,null,null,null,1300,0,null,null,null,null,null,null,null,null,null,null,null,null,null,null,null,null,null,null,null,null,null,null,null,null,null,null,null,null,null,null,null,null,null,null,null,null,null,null,null,{"$f":"IF(Selection!$Y$32=1,\"Płyta montażowa pełna ocynkowana\",\"Plain mounting plate\")","v":"Plain mounting plate"},null,null,{"$f":"IF(Selection!$Y$32=1,\"7 modułowa\",\"7 modules\")","v":"7 modules"},null,null,null,null,null,null,{"$f":"IF(BD4=6,40,0)","v":0},{"$f":"IF(BD4=6,17,0)","v":0},null,6,{"$f":"IF($BA$15>1,Selection!AX57/(Zbaza!$AM$1),0)","v":0},{"$f":"IF(CB91>4,0,IF(CE91<13,CE91,0))","v":1},0,null,null,"Osł. modułowa",{"$f":"IF(CW111=0,\"\",\"\")","v":""},32925,32935,32945,32955,{"$f":"IF(DB113=0,\"\",\"\")","v":""},"","","","","","",null,null,null,null,null,null,null,null,null,null,null,null,null,null,null,null,null,null,null,null,null,null,null,null,null,null,null,null,{"$f":"IF(Selection!X90=\"\",0,IF(Selection!Z90>0,Selection!X90,0))","v":0},{"$f":"IF(Selection!Z90=\"\",0,Selection!Z90)","v":0},{"$f":"IF(EK114>1,VLOOKUP(IF(ISNUMBER(EK114),TEXT(EK114,\"0\"),EK114),Pricelist!$A$53:$F$60643,2,FALSE),\"\")","v":""},{"$f":"IF(EK114>1,VLOOKUP(IF(ISNUMBER(EK114),TEXT(EK114,\"0\"),EK114),Pricelist!$A$53:$F$60643,3,FALSE),0)","v":0},0,null,null,650,40765,50765,60765,70765,80765,90765,null,650,40765,50765,60765,70765,80765,90765]
[null,400,40640,50640,60640,70640,80640,90640,39,"650+812",40995,50995,60995,70995,80995,90995,null,"850+850",41585,51585,61585,71585,81585,91585,null,null,null,null,null,null,null,null,null,null,null,null,null,null,null,"650+650",0,null,null,null,null,null,null,null,null,null,null,null,null,null,null,null,null,null,null,null,null,null,null,null,null,null,null,null,null,null,null,null,null,null,null,null,null,null,null,null,{"$f":"IF(Selection!$Y$32=1,\"Płyta montażowa otworowana ocynk\",\"Painted mounting plate\")","v":"Painted mounting plate"},null,null,{"$f":"IF(Selection!$Y$32=1,\"8 modułowa\",\"8 modules\")","v":"8 modules"},null,null,null,null,null,null,{"$f":"IF(CN108=0,SUM(CM109:CM114),CN108)","v":36},{"$f":"CT108-CM115","v":-36},null,7,{"$f":"IF($BA$15>1,Selection!AX60/(Zbaza!$AM$1),0)","v":0},{"$f":"IF(CB108>4,0,IF(CE108<13,CE108,0))","v":1},0,null,null,"Osł. przeszklona",{"$f":"IF(CW111=0,\"\",\"\")","v":""},{"$f":"IF(CX111=0,\"\",\"\")","v":""},32939,32949,{"$f":"IF(DA111=0,\"\",\"\")","v":""},32969,{"$f":"IF(DC111=0,\"\",\"\")","v":""},32979,{"$f":"IF(DE111=0,\"\",\"\")","v":""},32989,{"$f":"IF(DG111=0,\"\",\"\")","v":""},32999,null,null,null,null,null,null,null,null,null,null,null,null,null,null,null,null,null,null,null,null,null,null,null,null,null,null,null,null,{"$f":"IF(Selection!X93=\"\",0,IF(Selection!Z93>0,Selection!X93,0))","v":0},{"$f":"IF(Selection!Z93=\"\",0,Selection!Z93)","v":0},{"$f":"IF(EK115>1,VLOOKUP(IF(ISNUMBER(EK115),TEXT(EK115,\"0\"),EK115),Pricelist!$A$53:$F$60643,2,FALSE),\"\")","v":""},{"$f":"IF(EK115>1,VLOOKUP(IF(ISNUMBER(EK115),TEXT(EK115,\"0\"),EK115),Pricelist!$A$53:$F$60643,3,FALSE),0)","v":0},0,null,null,800,{"$f":"\"\"","v":""},{"$f":"\"\"","v":""},{"$f":"\"\"","v":""},{"$f":"\"\"","v":""},{"$f":"\"\"","v":""},{"$f":"\"\"","v":""},null,800,{"$f":"\"\"","v":""},{"$f":"\"\"","v":""},{"$f":"\"\"","v":""},{"$f":"\"\"","v":""},{"$f":"\"\"","v":""},{"$f":"\"\"","v":""}]
[null,450,40645,50645,60645,70645,80645,90645,40,"850+812",40995,50995,60995,70995,80995,90995,null,"650+300",41595,51595,61595,71595,81595,91595,null,null,null,null,null,null,null,null,null,null,null,null,null,null,null,"650+850",1,null,null,null,null,null,null,null,null,null,null,null,null,null,null,null,null,null,null,null,null,null,null,null,null,null,null,null,null,null,null,null,null,null,null,null,null,null,null,null,{"$f":"IF(Selection!$Y$32=1,\"Płyta montażowa pozioma ocynk\",\"Horizontal plain mounting plate\")","v":"Horizontal plain mounting plate"},null,null,{"$f":"IF(Selection!$Y$32=1,\"9 modułowa\",\"9 modules\")","v":"9 modules"},null,null,null,null,null,null,{"$f":"IF(BV6=4,\"\",CN115)","v":-36},null,null,8,{"$f":"IF($BA$15>1,Selection!AX63/(Zbaza!$AM$1),0)","v":0},{"$f":"IF(CB125>4,0,IF(CE125<13,CE125,0))","v":1},0,null,null,"Szyna stała TS35",32900,32900,32900,32900,32900,32900,32900,32900,32900,32900,32900,32900,null,null,null,null,null,null,null,null,null,null,null,null,null,null,null,null,null,null,null,null,null,null,null,null,null,null,null,null,{"$f":"IF(Selection!X21=\"\",0,IF(Selection!Z21>0,Selection!X21,0))","v":0},{"$f":"IF(Selection!Z21=\"\",0,Selection!Z21)","v":0},{"$f":"IF(EK116>1,VLOOKUP(IF(ISNUMBER(EK116),TEXT(EK116,\"0\"),EK116),Pricelist!$A$53:$F$60643,2,FALSE),\"\")","v":""},{"$f":"IF(EK116>1,VLOOKUP(IF(ISNUMBER(EK116),TEXT(EK116,\"0\"),EK116),Pricelist!$A$53:$F$60643,3,FALSE),0)","v":0},0,null,null,"650+150",40765,50765,60765,70765,80765,90765,null,"650+150",40165,50165,60165,70165,80165,90165]
[null,600,40660,50660,60660,70660,80660,90660,41,"650+300",40995,50995,60995,70995,80995,90995,null,"650+400",41511,51511,61511,71511,81511,91511,null,null,null,null,null,null,null,null,null,null,null,null,null,null,null,"850+850",1,null,null,null,null,null,null,null,null,null,null,null,null,null,null,null,null,null,null,null,null,null,null,null,null,null,null,null,null,null,null,null,null,null,null,null,null,null,null,null,{"$f":"IF(Selection!$Y$32=1,\"Zabudowa licznikowa\",\"kWh mounting plate\")","v":"kWh mounting plate"},null,null,{"$f":"IF(Selection!$Y$32=1,\"10 modułowa\",\"10 modules\")","v":"10 modules"},null,null,null,null,null,null,null,null,null,9,{"$f":"IF($BA$15>1,Selection!AX66/(Zbaza!$AM$1),0)","v":0},{"$f":"IF(CB142>4,0,IF(CE142<13,CE142,0))","v":1},0,null,null,"Szyna reg.TS35",32905,32905,32905,32905,32905,32905,32905,32905,32905,32905,32905,32905,null,null,null,null,null,null,null,null,null,null,null,null,null,null,null,null,null,null,null,null,null,null,null,null,null,null,null,null,null,null,null,null,null,null,null,850,40785,50785,60785,70785,80785,90785,null,850,40785,50785,60785,70785,80785,90785]
[null,650,40665,50665,60665,70665,80665,90665,42,"650+400",40995,50995,60995,70995,80995,90995,null,"850+300",41585,51585,61585,71585,81585,91585,null,null,null,null,null,null,null,null,null,null,null,null,null,null,null,null,null,null,null,null,null,null,null,null,null,null,null,null,null,null,null,null,null,null,null,null,null,null,null,null,null,null,null,null,null,null,null,null,null,null,null,null,null,null,null,null,null,null,null,{"$f":"IF(Selection!$Y$32=1,\"11 modułowa\",\"11 modules\")","v":"11 modules"},null,null,null,null,null,null,null,null,null,10,{"$f":"IF($BA$15>1,Selection!AX69/(Zbaza!$AM$1),0)","v":0},{"$f":"IF(CB159>4,0,IF(CE159<13,CE159,0))","v":1},0,null,null,"Płyta ocynk pełna",{"$f":"IF(CW111=0,\"\",\"\")","v":""},33092,33093,33094,33095,33096,{"$f":"IF(DC111=0,\"\",\"\")","v":""},33097,{"$f":"IF(DE111=0,\"\",\"\")","v":""},33098,{"$f":"IF(DG111=0,\"\",\"\")","v":""},33099,null,"Akcesoria tył, Pole 2","Brak","Izolator 3P, most pionowy na plecach","Izolator 4P, most pionowy na plecach","Izolator 3P, most pionowy na plecach regulowany","Izolator 4P, most pionowy na plecach regulowany","Izolator 3P, podpora mostu na plecach, regulowana","Izolator 4P, podpora mostu na plecach, regulowana","Izol. AlCubar 630A 3P pionowo na plecach","Izol. AlCubar 630A 4P pionowo na plecach","Drabinka kablowa na plecach","Drabinka kablowa na drzwi","Drabinka kablowa pod osłonę","Metalowa kieszeń na dokumentację","Pionowy zestaw szyn TS35, 6M","Poziomy zestaw dwóch szyn TS35","Osłona mostu poziomego","Zestaw mocowania do ściany",null,null,null,null,null,null,null,null,null,null,null,null,null,null,null,null,"650+200",40765,50765,60765,70765,80765,90765,null,"650+200",40165,50165,60165,70165,80165,90165]
[null,800,40680,50680,60680,70680,80680,90680,43,"850+300",40995,50995,60995,70995,80995,90995,null,"850+400",41585,51585,61585,71585,81585,91585,null,null,null,null,null,null,null,null,null,null,null,null,null,null,null,null,null,null,null,null,null,null,null,null,null,null,null,null,null,null,null,null,null,null,null,null,null,null,null,null,null,null,null,null,null,null,null,null,null,null,null,null,null,null,null,null,null,null,null,{"$f":"IF(Selection!$Y$32=1,\"12 modułowa\",\"12 modules\")","v":"12 modules"},null,null,null,null,null,null,null,null,null,11,{"$f":"IF($BA$15>1,Selection!AX72/(Zbaza!$AM$1),0)","v":0},{"$f":"IF(CB176>4,0,IF(CE176<13,CE176,0))","v":1},0,null,null,"Płyta malow.otw.",{"$f":"IF(CW111=0,\"\",\"\")","v":""},33592,33593,33594,33595,33596,{"$f":"IF(DC111=0,\"\",\"\")","v":""},33597,{"$f":"IF(DE111=0,\"\",\"\")","v":""},33598,{"$f":"IF(DG111=0,\"\",\"\")","v":""},33599,null,"Szerokość obudowy",null,null,null,null,null,null,null,null,null,null,null,null,null,null,null,null,null,null,null,null,null,null,null,null,null,null,null,null,null,null,null,null,null,1000,{"$f":"\"\"","v":""},{"$f":"\"\"","v":""},{"$f":"\"\"","v":""},{"$f":"\"\"","v":""},{"$f":"\"\"","v":""},{"$f":"\"\"","v":""},null,1000,{"$f":"\"\"","v":""},{"$f":"\"\"","v":""},{"$f":"\"\"","v":""},{"$f":"\"\"","v":""},{"$f":"\"\"","v":""},{"$f":"\"\"","v":""}]
[null,"650+150",40680,50680,60680,70680,80680,90680,44,"850+400",40995,50995,60995,70995,80995,90995,null,"650+150+300",41580,51580,61580,71580,81580,91580,null,null,null,null,null,null,null,null,null,null,null,null,null,null,null,null,null,null,null,null,null,null,null,null,null,null,null,null,null,null,null,null,null,null,null,null,null,null,null,null,null,null,null,null,null,null,null,null,null,null,null,null,null,null,null,{"$f":"IF(CE125=14,14,IF(CP42=1,$BA$15,CB125))","v":1},null,null,{"$f":"IF(CP42=1,BD4,CE125)","v":1},{"$f":"IF(Selection!$Y$32=1,\"Płyta pełna ocynkowana\",\"Plain mounting plate\")","v":"Plain mounting plate"},null,null,null,null,null,null,null,null,null,12,{"$f":"IF($BA$15>1,Selection!AX75/(Zbaza!$AM$1),0)","v":0},{"$f":"IF(CB193>4,0,IF(CE193<13,CE193,0))","v":1},0,null,null,"Płyta oc. pozioma",33791,33792,33793,33794,33795,33796,33797,33798,null,33799,{"$f":"IF(DG292=0,\"\",\"\")","v":""},{"$f":"IF(DH292=0,\"\",\"\")","v":""},null,null,null,null,null,null,null,null,null,null,null,null,null,null,null,null,null,null,null,null,null,null,null,null,null,null,null,null,null,null,null,null,null,null,null,1200,{"$f":"\"\"","v":""},{"$f":"\"\"","v":""},{"$f":"\"\"","v":""},{"$f":"\"\"","v":""},{"$f":"\"\"","v":""},{"$f":"\"\"","v":""},null,1200,{"$f":"\"\"","v":""},{"$f":"\"\"","v":""},{"$f":"\"\"","v":""},{"$f":"\"\"","v":""},{"$f":"\"\"","v":""},{"$f":"\"\"","v":""}]
[null,850,40685,50685,60685,70685,80685,90685,45,"150+650+300",40995,50995,60995,70995,80995,90995,null,"650+150+400",41580,51580,61580,71580,81580,91580,null,null,null,null,null,null,null,null,null,null,null,null,null,null,null,null,null,null,null,null,null,null,null,null,null,null,null,null,null,null,null,null,null,null,null,null,null,null,null,null,null,null,null,null,null,null,null,null,null,null,null,null,null,null,null,{"$f":"IF(CE124=14,25,IF(CO42=1,$BA$12,CB124))","v":1},null,null,{"$f":"IF(CO42=1,BD4,CE124)","v":1},{"$f":"IF(Selection!$Y$32=1,\"Łącznik płyt pełnych\",\"Plates connector\")","v":"Plates connector"},null,null,null,null,null,null,null,null,null,null,null,null,null,null,null,"Płyta licznikowa",33209,33209,33209,33209,33209,33209,33209,33209,33209,33209,33209,33209,null,null,null,null,null,null,null,null,null,null,null,null,null,null,null,null,null,null,null,null,null,null,null,null,null,null,null,null,null,null,null,null,null,null,null,1300,{"$f":"\"\"","v":""},{"$f":"\"\"","v":""},{"$f":"\"\"","v":""},{"$f":"\"\"","v":""},{"$f":"\"\"","v":""},{"$f":"\"\"","v":""},null,1300,{"$f":"\"\"","v":""},{"$f":"\"\"","v":""},{"$f":"\"\"","v":""},{"$f":"\"\"","v":""},{"$f":"\"\"","v":""},{"$f":"\"\"","v":""}]
[null,"650+200",40685,50685,60685,70685,80685,90685,46,"150+650+400",40995,50995,60995,70995,80995,90995,null,null,null,null,null,null,null,null,null,null,null,null,null,null,null,null,null,null,null,null,null,null,null,null,null,null,null,null,null,null,null,null,null,null,null,null,null,null,null,null,null,null,null,null,null,null,null,null,null,null,null,null,null,null,null,null,null,null,null,null,null,null,null,{"$f":"IF(CE123=14,23,IF(CN42=1,$BA$13,CB123))","v":1},null,null,{"$f":"IF(CN42=1,BD4,CE123)","v":1},null,null,null,null,null,null,null,null,null,null,null,null,null,null,null,null,null,{"$f":"IF(CW111=0,\"\",\"\")","v":""},"","","","","","","","","","","",null,null,null,null,null,null,null,null,null,null,null,null,null,null,null,null,null,null,null,null,null,null,null,null,null,null,null,null,null,null,null,null,{"$f":"SUM(EO5:EO116)","v":0},null,null,"650+650",40765,50765,60765,70765,80765,90765,null,"650+650",40765,50765,60765,70765,80765,90765]
[null,1000,40610,50610,60610,70610,80610,90610,47,null,{"$f":"\"\"","v":""},{"$f":"\"\"","v":""},{"$f":"\"\"","v":""},{"$f":"\"\"","v":""},{"$f":"\"\"","v":""},{"$f":"\"\"","v":""},null,null,null,null,null,null,null,null,null,null,null,null,null,null,null,null,null,null,null,null,null,null,null,null,null,null,null,null,null,null,null,null,null,null,null,null,null,null,null,null,null,null,null,null,null,null,null,null,null,null,null,null,null,null,null,null,null,null,null,null,null,null,null,1,8,null,1,8,null,null,null,null,null,null,null,null,null,null,null,null,null,null,null,null,{"$f":"IF(CW111=0,\"\",\"\")","v":""},"","","","","","","","","","","",null,"Brak",{"$f":"\"\"","v":""},{"$f":"\"\"","v":""},{"$f":"\"\"","v":""},{"$f":"\"\"","v":""},{"$f":"\"\"","v":""},{"$f":"\"\"","v":""},{"$f":"\"\"","v":""},{"$f":"\"\"","v":""},{"$f":"\"\"","v":""},{"$f":"\"\"","v":""},{"$f":"\"\"","v":""},{"$f":"\"\"","v":""},{"$f":"\"\"","v":""},{"$f":"\"\"","v":""},{"$f":"\"\"","v":""},{"$f":"\"\"","v":""},{"$f":"\"\"","v":""},{"$f":"\"\"","v":""},{"$f":"\"\"","v":""},{"$f":"\"\"","v":""},{"$f":"\"\"","v":""},{"$f":"\"\"","v":""},null,null,null,null,null,null,"Rabat",0.2,{"$f":"EO122*(1-EN123)","v":0},null,null,"650+850",40765,50765,60765,70765,80765,90765,null,"650+850",40785,50785,60785,70785,80785,90785]
[null,1200,40612,50612,60612,70612,80612,90612,48,null,{"$f":"\"\"","v":""},{"$f":"\"\"","v":""},{"$f":"\"\"","v":""},{"$f":"\"\"","v":""},{"$f":"\"\"","v":""},{"$f":"\"\"","v":""},null,null,null,null,null,null,null,null,null,null,null,null,null,null,null,null,null,null,null,null,null,null,null,null,null,null,null,null,null,null,null,null,null,null,null,null,null,null,null,null,null,null,null,null,null,null,null,null,null,null,null,null,null,null,null,null,null,null,null,null,null,null,null,1,"Osłony",null,1,"Ilość mod.",null,null,null,null,null,null,null,null,null,null,null,null,null,null,null,null,{"$f":"IF(CW111=0,\"\",\"\")","v":""},"","","","","","","","","","","",null,300,{"$f":"\"\"","v":""},{"$f":"\"\"","v":""},{"$f":"\"\"","v":""},{"$f":"\"\"","v":""},{"$f":"\"\"","v":""},{"$f":"\"\"","v":""},{"$f":"\"\"","v":""},{"$f":"\"\"","v":""},{"$f":"\"\"","v":""},33163,33183,{"$f":"\"\"","v":""},31953,{"$f":"\"\"","v":""},{"$f":"\"\"","v":""},31083,31973,{"$f":"\"\"","v":""},{"$f":"\"\"","v":""},{"$f":"\"\"","v":""},{"$f":"\"\"","v":""},{"$f":"\"\"","v":""},null,null,null,null,null,null,null,null,null,null,null,"850+850",40785,50785,60785,70785,80785,90785,null,"850+850",40785,50785,60785,70785,80785,90785]
[null,1300,40613,50613,60613,70613,80613,90613,49,null,{"$f":"\"\"","v":""},{"$f":"\"\"","v":""},{"$f":"\"\"","v":""},{"$f":"\"\"","v":""},{"$f":"\"\"","v":""},{"$f":"\"\"","v":""},null,null,null,null,null,null,null,null,null,null,null,null,null,null,null,null,null,null,null,null,null,null,null,null,null,null,null,null,null,null,null,null,null,null,null,null,null,null,null,null,null,null,null,null,null,null,null,null,null,null,null,null,null,null,null,null,null,null,null,null,null,null,null,1,{"$f":"IF(Selection!$Y$32=1,\"Brak\",\"None\")","v":"None"},null,1,{"$f":"IF(Selection!$Y$32=1,\"1 modułowa\",\"1 module\")","v":"1 module"},null,null,null,null,null,null,null,null,null,null,null,null,null,null,null,null,{"$f":"IF(CW111=0,\"\",\"\")","v":""},"","","","","","","","","","","",null,400,{"$f":"\"\"","v":""},20204,20214,20224,20234,20244,20254,20174,20184,33164,33184,33194,31954,30944,30940,31084,31974,{"$f":"\"\"","v":""},{"$f":"\"\"","v":""},{"$f":"\"\"","v":""},{"$f":"\"\"","v":""},{"$f":"\"\"","v":""},null,null,null,null,null,null,null,null,null,null,null,"650+300",40765,50765,60765,70765,80765,90765,null,"650+300",{"$f":"\"\"","v":""},{"$f":"\"\"","v":""},{"$f":"\"\"","v":""},{"$f":"\"\"","v":""},{"$f":"\"\"","v":""},{"$f":"\"\"","v":""}]
[null,"650+612",40665,50665,60665,70665,80665,90665,50,null,{"$f":"\"\"","v":""},{"$f":"\"\"","v":""},{"$f":"\"\"","v":""},{"$f":"\"\"","v":""},{"$f":"\"\"","v":""},{"$f":"\"\"","v":""},null,null,null,null,null,null,null,null,null,null,null,null,null,null,null,null,null,null,null,null,null,null,null,null,null,null,null,null,null,null,null,null,null,null,null,null,null,null,null,null,null,null,null,null,null,null,null,null,null,null,null,null,null,null,null,null,null,null,null,null,null,null,null,null,{"$f":"IF(Selection!$Y$32=1,\"Panel osłonowy pełny\",\"Plain front plate\")","v":"Plain front plate"},null,{"$f":"IF($BA$12>1,0,IF(CE124<13,0,IF($BA$13>13,$BA$13-1,0)))","v":0},{"$f":"IF(Selection!$Y$32=1,\"2 modułowa\",\"2 modules\")","v":"2 modules"},null,null,null,null,null,null,null,null,null,null,null,null,null,null,null,null,{"$f":"IF(CW111=0,\"\",\"\")","v":""},"","","","","","","","","","","",null,450,{"$f":"\"\"","v":""},20205,20215,20225,20235,20245,20255,20175,20185,33165,33185,33195,31955,30954,30950,31085,31975,{"$f":"\"\"","v":""},{"$f":"\"\"","v":""},{"$f":"\"\"","v":""},{"$f":"\"\"","v":""},{"$f":"\"\"","v":""},null,null,null,null,null,null,null,null,null,null,null,"650+400",40765,50765,60765,70765,80765,90765,null,"650+400",{"$f":"\"\"","v":""},{"$f":"\"\"","v":""},{"$f":"\"\"","v":""},{"$f":"\"\"","v":""},{"$f":"\"\"","v":""},{"$f":"\"\"","v":""}]
[null,"650+812",40665,50665,60665,70665,80665,90665,null,null,null,null,null,null,null,null,null,null,null,null,null,null,null,null,null,null,null,null,null,null,null,null,null,null,null,null,null,null,null,null,null,null,null,null,null,null,null,null,null,null,null,null,null,null,null,null,null,null,null,null,null,null,null,null,null,null,null,null,null,null,null,null,null,null,null,null,null,null,null,null,{"$f":"IF(Selection!$Y$32=1,\"Panel osłonowy modułowy\",\"Modular front plate\")","v":"Modular front plate"},null,null,{"$f":"IF(Selection!$Y$32=1,\"3 modułowa\",\"3 modules\")","v":"3 modules"},null,null,null,null,null,null,null,null,null,null,null,null,null,null,null,null,null,null,null,null,null,null,null,null,null,null,null,null,null,600,{"$f":"\"\"","v":""},20206,20216,20226,20236,20246,20256,20176,20186,33166,33186,{"$f":"\"\"","v":""},31956,30964,30960,31086,31976,{"$f":"\"\"","v":""},{"$f":"\"\"","v":""},{"$f":"\"\"","v":""},{"$f":"\"\"","v":""},{"$f":"\"\"","v":""},null,null,null,null,null,null,null,null,null,null,null,"850+300",40785,50785,60785,70785,80785,90785,null,"850+300",{"$f":"\"\"","v":""},{"$f":"\"\"","v":""},{"$f":"\"\"","v":""},{"$f":"\"\"","v":""},{"$f":"\"\"","v":""},{"$f":"\"\"","v":""}]
[null,"850+812",40685,50685,60685,70685,80685,90685,null,"Szerokość obudowy","Daszek obudowy",null,null,null,null,null,null,"Szerokość obudowy","Osłona tylna went. IP30   Wysokość",null,null,5,null,"Pole 2",null,null,null,null,null,null,null,null,null,null,null,null,null,null,null,null,null,null,null,null,null,null,null,null,null,null,null,null,null,null,null,null,null,null,null,null,null,null,null,null,null,null,null,null,null,null,null,null,null,null,null,null,null,null,null,null,{"$f":"IF(Selection!$Y$32=1,\"Panel osłonowy przeszklony\",\"Transparent front plate\")","v":"Transparent front plate"},null,null,{"$f":"IF(Selection!$Y$32=1,\"4 modułowa\",\"4 modules\")","v":"4 modules"},null,null,null,null,null,null,null,null,null,null,null,null,null,null,null,null,null,null,null,null,null,null,null,null,null,null,null,null,null,650,{"$f":"\"\"","v":""},20207,20217,20227,20237,20247,20257,20177,20187,33167,33187,33197,31957,30974,30970,31087,31977,{"$f":"\"\"","v":""},{"$f":"\"\"","v":""},{"$f":"\"\"","v":""},{"$f":"\"\"","v":""},{"$f":"\"\"","v":""},null,null,null,null,null,null,null,null,null,null,null,"850+400",40785,50785,60785,70785,80785,90785,null,"850+400",{"$f":"\"\"","v":""},{"$f":"\"\"","v":""},{"$f":"\"\"","v":""},{"$f":"\"\"","v":""},{"$f":"\"\"","v":""},{"$f":"\"\"","v":""}]
[null,"650+300",40665,50665,60665,70665,80665,90665,null,null,230,300,400,600,800,null,null,null,"H 1200","H 1400","H 1600","H 1800","H 2000","H 2200",null,null,null,null,null,null,null,null,null,null,null,null,null,null,null,null,null,null,null,null,null,null,null,null,null,null,null,null,null,null,null,null,null,null,null,null,null,null,null,null,null,null,null,null,null,null,null,null,null,null,null,null,null,null,null,null,{"$f":"IF(Selection!$Y$32=1,\"Szyna montażowa TS35D stała\",\"Fixed TS35D rail\")","v":"Fixed TS35D rail"},null,null,{"$f":"IF(Selection!$Y$32=1,\"5 modułowa\",\"5 modules\")","v":"5 modules"},null,null,null,null,null,null,null,null,null,null,null,null,null,null,null,"W 1000 - 8","1 mod.","2 mod.","3 mod.","4 mod.","5 mod.","6 mod.","7 mod.","8 mod.","9 mod.","10 mod.","11 mod.","12 mod.",null,800,{"$f":"\"\"","v":""},20208,20218,20228,20238,20248,20258,20178,20188,33168,33188,{"$f":"\"\"","v":""},31958,30985,30980,31088,31978,{"$f":"\"\"","v":""},{"$f":"\"\"","v":""},{"$f":"\"\"","v":""},{"$f":"\"\"","v":""},{"$f":"\"\"","v":""},null,null,null,null,null,null,null,null,null,null,null,"150+650+300",40765,50765,60765,70765,80765,90765,null,"150+650+300",{"$f":"\"\"","v":""},{"$f":"\"\"","v":""},{"$f":"\"\"","v":""},{"$f":"\"\"","v":""},{"$f":"\"\"","v":""},{"$f":"\"\"","v":""}]
[null,"650+400",40665,50665,60665,70665,80665,90665,null,"Brak",{"$f":"\"\"","v":""},{"$f":"\"\"","v":""},{"$f":"\"\"","v":""},{"$f":"\"\"","v":""},{"$f":"\"\"","v":""},null,null,"Brak",{"$f":"\"\"","v":""},{"$f":"\"\"","v":""},{"$f":"\"\"","v":""},{"$f":"\"\"","v":""},{"$f":"\"\"","v":""},{"$f":"\"\"","v":""},null,null,null,null,null,null,null,null,null,null,null,null,null,null,null,null,null,null,null,null,null,null,null,null,null,null,null,null,null,null,null,null,null,null,null,null,null,null,null,null,null,null,null,null,null,null,null,null,null,null,null,null,null,null,null,null,{"$f":"IF(Selection!$Y$32=1,\"Szyna montażowa TS35D regulowana\",\"Adjustable TS35D rail\")","v":"Adjustable TS35D rail"},null,null,{"$f":"IF(Selection!$Y$32=1,\"6 modułowa\",\"6 modules\")","v":"6 modules"},null,null,null,null,null,null,null,null,null,null,null,null,null,null,null,"Brak",{"$f":"IF(CW129=0,\"\",\"\")","v":""},"","","","","","","","","","","",null,"650+150",{"$f":"\"\"","v":""},20207,20217,20227,20237,20247,20257,20177,20187,33167,33187,{"$f":"\"\"","v":""},31957,30974,30970,31087,31978,{"$f":"\"\"","v":""},{"$f":"\"\"","v":""},{"$f":"\"\"","v":""},{"$f":"\"\"","v":""},{"$f":"\"\"","v":""},null,null,null,null,null,null,null,null,null,null,null,"150+650+400",40765,50765,60765,70765,80765,90765,null,"150+650+400",{"$f":"\"\"","v":""},{"$f":"\"\"","v":""},{"$f":"\"\"","v":""},{"$f":"\"\"","v":""},{"$f":"\"\"","v":""},{"$f":"\"\"","v":""}]
[null,"850+300",40685,50685,60685,70685,80685,90685,null,300,30723,30733,30743,30763,30783,null,null,300,41330,51330,61330,71330,81330,91330,null,null,null,null,null,null,null,null,null,null,null,null,null,null,null,null,null,null,null,null,null,null,null,null,null,null,null,null,null,null,null,null,null,null,null,null,null,null,null,null,null,null,null,null,null,null,null,null,null,null,null,null,null,null,null,null,{"$f":"IF(Selection!$Y$32=1,\"Płyta montażowa pełna ocynkowana\",\"Plain mounting plate\")","v":"Plain mounting plate"},null,null,{"$f":"IF(Selection!$Y$32=1,\"7 modułowa\",\"7 modules\")","v":"7 modules"},null,null,null,null,null,null,null,null,null,null,null,null,null,null,null,"Osłona pełna",32110,32120,32130,32140,32150,32160,32170,32180,32190,32191,32192,32193,null,850,{"$f":"\"\"","v":""},20209,20219,20229,20239,20249,20259,20179,20189,33169,33189,33199,31959,30995,30990,31089,31979,{"$f":"\"\"","v":""},{"$f":"\"\"","v":""},{"$f":"\"\"","v":""},{"$f":"\"\"","v":""},{"$f":"\"\"","v":""}]
[null,"850+400",40685,50685,60685,70685,80685,90685,null,400,30724,30734,30744,30764,30784,null,null,400,41340,51340,61340,71340,81340,91340,null,null,null,null,null,null,null,null,null,null,null,null,null,null,null,null,null,null,null,null,null,null,null,null,null,null,null,null,null,null,null,null,null,null,null,null,null,null,null,null,null,null,null,null,null,null,null,null,null,null,null,null,null,null,null,null,{"$f":"IF(Selection!$Y$32=1,\"Płyta montażowa otworowana ocynk\",\"Painted mounting plate\")","v":"Painted mounting plate"},null,null,{"$f":"IF(Selection!$Y$32=1,\"8 modułowa\",\"8 modules\")","v":"8 modules"},null,null,null,null,null,null,null,null,null,null,null,null,null,null,null,"Osł. modułowa",{"$f":"IF(CW129=0,\"\",\"\")","v":""},32125,32135,32145,32155,{"$f":"IF(DB131=0,\"\",\"\")","v":""},"","","","","","",null,"650+200",{"$f":"\"\"","v":""},20207,20217,20227,20237,20247,20257,20177,20187,33167,33187,{"$f":"\"\"","v":""},31957,30974,30970,31086,31979,{"$f":"\"\"","v":""},{"$f":"\"\"","v":""},{"$f":"\"\"","v":""},{"$f":"\"\"","v":""},{"$f":"\"\"","v":""}]
[null,"150+650+300",40680,50680,60680,70680,80680,90680,null,450,30725,30735,30745,30765,30785,null,null,450,41345,51345,61345,71345,81345,91345,null,null,null,null,null,null,null,null,null,null,null,null,null,null,null,null,null,null,null,null,null,null,null,null,null,null,null,null,null,null,null,null,null,null,null,null,null,null,null,null,null,null,null,null,null,null,null,null,null,null,null,null,null,null,null,null,{"$f":"IF(Selection!$Y$32=1,\"Płyta montażowa pozioma ocynk\",\"Horizontal plain mounting plate\")","v":"Horizontal plain mounting plate"},null,null,{"$f":"IF(Selection!$Y$32=1,\"9 modułowa\",\"9 modules\")","v":"9 modules"},null,null,null,null,null,null,null,null,null,null,null,null,null,null,null,"Osł. przeszklona",{"$f":"IF(CW129=0,\"\",\"\")","v":""},{"$f":"IF(CX129=0,\"\",\"\")","v":""},32139,32149,{"$f":"IF(DA129=0,\"\",\"\")","v":""},32169,{"$f":"IF(DC129=0,\"\",\"\")","v":""},32179,{"$f":"IF(DE129=0,\"\",\"\")","v":""},32189,{"$f":"IF(DG129=0,\"\",\"\")","v":""},32199,null,1000,{"$f":"\"\"","v":""},20200,20210,20220,20230,20240,20250,20170,20180,33160,33180,{"$f":"\"\"","v":""},31950,30916,30910,31080,31970,{"$f":"\"\"","v":""},{"$f":"\"\"","v":""},{"$f":"\"\"","v":""},{"$f":"\"\"","v":""},{"$f":"\"\"","v":""},null,null,null,null,null,null,null,null,null,null,null,"Szerokość obudowy","Rama rozł. listw. z analiz. do plomb. Wysokość, Pole 1,3",null,null,null,8,null,null,"Szerokość obudowy","Rama rozł. listw. z analiz. do plomb. Wysokość, Pole 2",null,null,null,8]
[null,"150+650+400",40680,50680,60680,70680,80680,90680,null,600,30726,30736,30746,30766,30786,null,null,600,41360,51360,61360,71360,81360,91360,null,null,null,null,null,null,null,null,null,null,null,null,null,null,null,null,null,null,null,null,null,null,null,null,null,null,null,null,null,null,null,null,null,null,null,null,null,null,null,null,null,null,null,null,null,null,null,null,null,null,null,null,null,null,null,null,{"$f":"IF(Selection!$Y$32=1,\"Zabudowa licznikowa\",\"kWh mounting plate\")","v":"kWh mounting plate"},null,null,{"$f":"IF(Selection!$Y$32=1,\"10 modułowa\",\"10 modules\")","v":"10 modules"},null,null,null,null,null,null,null,null,null,null,null,null,null,null,null,"Szyna stała TS35",32100,32100,32100,32100,32100,32100,32100,32100,32100,32100,32100,32100,null,1200,{"$f":"\"\"","v":""},20201,20211,20221,20231,20241,20251,20171,20181,33161,33181,{"$f":"\"\"","v":""},31951,{"$f":"\"\"","v":""},{"$f":"\"\"","v":""},31081,31971,{"$f":"\"\"","v":""},{"$f":"\"\"","v":""},{"$f":"\"\"","v":""},{"$f":"\"\"","v":""},{"$f":"\"\"","v":""},null,null,null,null,null,null,null,null,null,null,null,null,"H 1200","H 1400","H 1600","H 1800","H 2000","H 2200",null,null,"H 1200","H 1400","H 1600","H 1800","H 2000","H 2200"]
[null,null,null,null,null,null,null,null,null,650,30727,30737,30747,30767,30787,null,null,650,41365,51365,61365,71365,81365,91365,null,null,null,null,null,null,null,null,null,null,null,null,null,null,null,null,null,null,null,null,null,null,null,null,null,null,null,null,null,null,null,null,null,null,null,null,null,null,null,null,null,null,null,null,null,null,null,null,null,null,null,null,null,null,null,null,null,null,null,{"$f":"IF(Selection!$Y$32=1,\"11 modułowa\",\"11 modules\")","v":"11 modules"},null,null,null,null,null,null,null,null,null,null,null,null,null,null,null,"Szyna reg.TS35",32105,32105,32105,32105,32105,32105,32105,32105,32105,32105,32105,32105,null,1300,{"$f":"\"\"","v":""},20202,20212,20222,20232,20242,20252,20172,20182,33162,33182,{"$f":"\"\"","v":""},31952,{"$f":"\"\"","v":""},{"$f":"\"\"","v":""},31082,31972,{"$f":"\"\"","v":""},{"$f":"\"\"","v":""},{"$f":"\"\"","v":""},{"$f":"\"\"","v":""},{"$f":"\"\"","v":""},null,null,null,null,null,null,null,null,null,null,null,"Brak",{"$f":"\"\"","v":""},{"$f":"\"\"","v":""},{"$f":"\"\"","v":""},{"$f":"\"\"","v":""},{"$f":"\"\"","v":""},{"$f":"\"\"","v":""},null,"Brak",{"$f":"\"\"","v":""},{"$f":"\"\"","v":""},{"$f":"\"\"","v":""},{"$f":"\"\"","v":""},{"$f":"\"\"","v":""},{"$f":"\"\"","v":""}]
[null,null,null,null,null,null,null,null,null,800,30728,30738,30748,30768,30788,null,null,800,41380,51380,61380,71380,81380,91380,null,null,null,null,null,null,null,null,null,null,null,null,null,null,null,null,null,null,null,null,null,null,null,null,null,null,null,null,null,null,null,null,null,null,null,null,null,null,null,null,null,null,null,null,null,null,null,null,null,null,null,null,null,null,null,null,null,null,null,{"$f":"IF(Selection!$Y$32=1,\"12 modułowa\",\"12 modules\")","v":"12 modules"},null,null,null,null,null,null,null,null,null,null,null,null,null,null,null,"Płyta ocynk pełna",{"$f":"IF(CW132=0,\"\",\"\")","v":""},33012,33013,33014,33015,33016,{"$f":"IF(DC132=0,\"\",\"\")","v":""},33017,{"$f":"IF(DE132=0,\"\",\"\")","v":""},33018,{"$f":"IF(DG132=0,\"\",\"\")","v":""},33019,null,"650+650",{"$f":"\"\"","v":""},20207,20217,20227,20237,20247,20257,20177,20187,33167,33187,{"$f":"\"\"","v":""},{"$f":"IF(DW135=0,\"\",\"\")","v":""},30974,30970,31087,31972,{"$f":"\"\"","v":""},{"$f":"\"\"","v":""},{"$f":"\"\"","v":""},{"$f":"\"\"","v":""},{"$f":"\"\"","v":""},null,null,null,null,null,null,null,null,null,null,null,300,{"$f":"\"\"","v":""},{"$f":"\"\"","v":""},{"$f":"\"\"","v":""},{"$f":"\"\"","v":""},{"$f":"\"\"","v":""},{"$f":"\"\"","v":""},null,300,{"$f":"\"\"","v":""},{"$f":"\"\"","v":""},{"$f":"\"\"","v":""},{"$f":"\"\"","v":""},{"$f":"\"\"","v":""},{"$f":"\"\"","v":""}]
[null,null,null,null,null,null,null,null,null,"650+150",30728,30738,30748,30768,30788,null,null,"650+150",41380,51380,61380,71380,81380,91380,null,null,null,null,null,null,null,null,null,null,null,null,null,null,null,null,null,null,null,null,null,null,null,null,null,null,null,null,null,null,null,null,null,null,null,null,null,null,null,null,null,null,null,null,null,null,null,null,null,null,null,null,null,null,null,{"$f":"IF(CE142=14,14,IF(CP43=1,$BA$15,CB142))","v":1},null,null,{"$f":"IF(CP43=1,BD4,CE142)","v":1},{"$f":"IF(Selection!$Y$32=1,\"Płyta pełna ocynkowana\",\"Plain mounting plate\")","v":"Plain mounting plate"},null,null,null,null,null,null,null,null,null,null,null,null,null,null,null,"Płyta malow.otw.",{"$f":"IF(CW136=0,\"\",\"\")","v":""},33512,33513,33514,33515,33516,{"$f":"IF(DC133=0,\"\",\"\")","v":""},33517,{"$f":"IF(DE133=0,\"\",\"\")","v":""},33518,{"$f":"IF(DG133=0,\"\",\"\")","v":""},33519,null,"650+850",{"$f":"\"\"","v":""},20209,20219,20229,20239,20249,20259,20179,20189,33169,33189,{"$f":"\"\"","v":""},{"$f":"IF(DW136=0,\"\",\"\")","v":""},30995,30990,31089,{"$f":"\"\"","v":""},{"$f":"\"\"","v":""},{"$f":"\"\"","v":""},{"$f":"\"\"","v":""},{"$f":"\"\"","v":""},{"$f":"\"\"","v":""},null,null,null,null,null,null,null,null,null,null,null,400,{"$f":"\"\"","v":""},{"$f":"\"\"","v":""},{"$f":"\"\"","v":""},{"$f":"\"\"","v":""},{"$f":"\"\"","v":""},{"$f":"\"\"","v":""},null,400,{"$f":"\"\"","v":""},{"$f":"\"\"","v":""},{"$f":"\"\"","v":""},{"$f":"\"\"","v":""},{"$f":"\"\"","v":""},{"$f":"\"\"","v":""}]
[null,null,null,null,null,null,null,null,null,850,30729,30739,30749,30769,30789,null,null,850,41385,51385,61385,71385,81385,91385,null,null,null,null,null,null,null,null,null,null,null,null,null,null,null,null,null,null,null,null,null,null,null,null,null,null,null,null,null,null,null,null,null,null,null,null,null,null,null,null,null,null,null,null,null,null,null,null,null,null,null,null,null,null,null,{"$f":"IF(CE141=14,25,IF(CO43=1,$BA$12,CB141))","v":1},null,null,{"$f":"IF(CO43=1,BD4,CE141)","v":1},{"$f":"IF(Selection!$Y$32=1,\"Łącznik płyt pełnych\",\"Plates connector\")","v":"Plates connector"},null,null,null,null,null,null,null,null,null,null,null,null,null,null,null,"Płyta oc. pozioma",33711,33712,33713,33714,33715,33716,33717,33718,"",33719,"","",null,"850+850",{"$f":"\"\"","v":""},20209,20219,20229,20239,20249,20259,20179,20189,33169,33189,{"$f":"\"\"","v":""},{"$f":"IF(DW137=0,\"\",\"\")","v":""},30995,30990,31089,{"$f":"\"\"","v":""},{"$f":"\"\"","v":""},{"$f":"\"\"","v":""},{"$f":"\"\"","v":""},{"$f":"\"\"","v":""},{"$f":"\"\"","v":""},null,null,null,null,null,null,null,null,null,null,null,450,40746,50746,60746,70746,80746,90746,null,450,40746,50746,60746,70746,80746,90746]
[null,null,null,null,null,null,null,null,null,"650+200",30729,30739,30749,30769,30789,null,null,"650+200",41385,51385,61385,71385,81385,91385,null,null,null,null,null,null,null,null,null,null,null,null,null,null,null,null,null,null,null,null,null,null,null,null,null,null,null,null,null,null,null,null,null,null,null,null,null,null,null,null,null,null,null,null,null,null,null,null,null,null,null,null,null,null,null,{"$f":"IF(CE140=14,23,IF(CN43=1,$BA$13,CB140))","v":1},null,null,{"$f":"IF(CN43=1,BD4,CE140)","v":1},null,null,null,null,null,null,null,null,null,null,null,null,null,null,null,null,"Płyta licznikowa",33201,33201,33201,33201,33201,33201,33201,33201,33201,33201,33201,33201,null,"650+300",{"$f":"\"\"","v":""},{"$f":"\"\"","v":""},{"$f":"\"\"","v":""},{"$f":"\"\"","v":""},{"$f":"\"\"","v":""},{"$f":"\"\"","v":""},{"$f":"\"\"","v":""},{"$f":"\"\"","v":""},{"$f":"\"\"","v":""},33163,33183,{"$f":"\"\"","v":""},31953,{"$f":"\"\"","v":""},{"$f":"\"\"","v":""},31083,{"$f":"\"\"","v":""},{"$f":"\"\"","v":""},{"$f":"\"\"","v":""},{"$f":"\"\"","v":""},{"$f":"\"\"","v":""},{"$f":"\"\"","v":""},null,null,null,null,null,null,null,null,null,null,null,600,{"$f":"\"\"","v":""},{"$f":"\"\"","v":""},{"$f":"\"\"","v":""},{"$f":"\"\"","v":""},{"$f":"\"\"","v":""},{"$f":"\"\"","v":""},null,600,{"$f":"\"\"","v":""},{"$f":"\"\"","v":""},{"$f":"\"\"","v":""},{"$f":"\"\"","v":""},{"$f":"\"\"","v":""},{"$f":"\"\"","v":""}]
[null,"Szerokość obudowy","Drzwi pełne IP30   Wysokość",null,null,1,null,"Pole 2",null,1000,30720,30730,30740,30760,30780,null,null,1000,41310,51310,61310,71310,81310,91310,null,null,null,null,null,null,null,null,null,null,null,null,null,null,null,null,null,null,null,null,null,null,null,null,null,null,null,null,null,null,null,null,null,null,null,null,null,null,null,null,null,null,null,null,null,null,null,null,null,null,null,null,null,null,null,1,9,null,1,9,null,null,null,null,null,null,null,null,null,null,null,null,null,null,null,null,"","","","","","","","","","","","",null,"650+400",{"$f":"\"\"","v":""},20204,20214,20224,20234,20244,20254,20174,20184,33164,33184,33194,31954,30944,30940,31084,{"$f":"\"\"","v":""},{"$f":"\"\"","v":""},{"$f":"\"\"","v":""},{"$f":"\"\"","v":""},{"$f":"\"\"","v":""},{"$f":"\"\"","v":""},null,null,null,null,null,null,null,null,null,null,null,650,40766,50766,60766,70766,80766,90766,null,650,40766,50766,60766,70766,80766,90766]
[null,null,"H 1200","H 1400","H 1600","H 1800","H 2000","H 2200",null,1200,30721,30731,30741,30761,30781,null,null,1200,41312,51312,61312,71312,81312,91312,null,null,null,null,null,null,null,null,null,null,null,null,null,null,null,null,null,null,null,null,null,null,null,null,null,null,null,null,null,null,null,null,null,null,null,null,null,null,null,null,null,null,null,null,null,null,null,null,null,null,null,null,null,null,null,1,"Osłony",null,1,"Ilość mod.",null,null,null,null,null,null,null,null,null,null,null,null,null,null,null,null,"","","","","","","","","","","","",null,"850+300",{"$f":"\"\"","v":""},{"$f":"\"\"","v":""},{"$f":"\"\"","v":""},{"$f":"\"\"","v":""},{"$f":"\"\"","v":""},{"$f":"\"\"","v":""},{"$f":"\"\"","v":""},{"$f":"\"\"","v":""},{"$f":"\"\"","v":""},33163,33183,{"$f":"\"\"","v":""},31953,{"$f":"\"\"","v":""},{"$f":"\"\"","v":""},31083,{"$f":"\"\"","v":""},{"$f":"\"\"","v":""},{"$f":"\"\"","v":""},{"$f":"\"\"","v":""},{"$f":"\"\"","v":""},{"$f":"\"\"","v":""},null,null,null,null,null,null,null,null,null,null,null,800,{"$f":"\"\"","v":""},{"$f":"\"\"","v":""},{"$f":"\"\"","v":""},{"$f":"\"\"","v":""},{"$f":"\"\"","v":""},{"$f":"\"\"","v":""},null,800,{"$f":"\"\"","v":""},{"$f":"\"\"","v":""},{"$f":"\"\"","v":""},{"$f":"\"\"","v":""},{"$f":"\"\"","v":""},{"$f":"\"\"","v":""}]
[null,"Brak",{"$f":"IF(C141=0,\"\",\"\")","v":""},"","","","","",null,1300,30722,30732,30742,30762,30782,null,null,1300,41313,51313,61313,71313,81313,91313,null,null,null,null,null,null,null,null,null,null,null,null,null,null,null,null,null,null,null,null,null,null,null,null,null,null,null,null,null,null,null,null,null,null,null,null,null,null,null,null,null,null,null,null,null,null,null,null,null,null,null,null,null,null,null,1,{"$f":"IF(Selection!$Y$32=1,\"Brak\",\"None\")","v":"None"},null,1,{"$f":"IF(Selection!$Y$32=1,\"1 modułowa\",\"1 module\")","v":"1 module"},null,null,null,null,null,null,null,null,null,null,null,null,null,null,null,null,"","","","","","","","","","","","",null,"850+400",{"$f":"\"\"","v":""},20204,20214,20224,20234,20244,20254,20174,20184,33164,33184,33194,31954,30944,30940,31084,{"$f":"\"\"","v":""},{"$f":"\"\"","v":""},{"$f":"\"\"","v":""},{"$f":"\"\"","v":""},{"$f":"\"\"","v":""},{"$f":"\"\"","v":""},null,null,null,null,null,null,null,null,null,null,null,"650+150",40766,50766,60766,70766,80766,90766,null,"650+150",40165,50165,60165,70165,80165,90165]
[null,300,40330,50330,60330,70330,80330,90330,null,"650+650",30722,30732,30742,30762,30782,null,null,"650+650",41365,51365,61365,71365,81365,91365,null,null,null,null,null,null,null,null,null,null,null,null,null,null,null,null,null,null,null,null,null,null,null,null,null,null,null,null,null,null,null,null,null,null,null,null,null,null,null,null,null,null,null,null,null,null,null,null,null,null,null,null,null,null,null,null,{"$f":"IF(Selection!$Y$32=1,\"Panel osłonowy pełny\",\"Plain front plate\")","v":"Plain front plate"},null,{"$f":"IF($BA$12>1,0,IF(CE141<13,0,IF($BA$13>13,$BA$13-1,0)))","v":0},{"$f":"IF(Selection!$Y$32=1,\"2 modułowa\",\"2 modules\")","v":"2 modules"},null,null,null,null,null,null,null,null,null,null,null,null,null,null,null,null,"","","","","","","","","","","","",null,"150+650+300",{"$f":"\"\"","v":""},{"$f":"\"\"","v":""},{"$f":"\"\"","v":""},{"$f":"\"\"","v":""},{"$f":"\"\"","v":""},{"$f":"\"\"","v":""},{"$f":"\"\"","v":""},{"$f":"\"\"","v":""},{"$f":"\"\"","v":""},33163,33183,{"$f":"\"\"","v":""},31953,{"$f":"\"\"","v":""},{"$f":"\"\"","v":""},31083,{"$f":"\"\"","v":""},{"$f":"\"\"","v":""},{"$f":"\"\"","v":""},{"$f":"\"\"","v":""},{"$f":"\"\"","v":""},{"$f":"\"\"","v":""},null,null,null,null,null,null,null,null,null,null,null,850,40786,50786,60786,70786,80786,90786,null,850,40786,50786,60786,70786,80786,90786]
[null,400,40340,50340,60340,70340,80340,90340,null,"650+850",{"$f":"\"\"","v":""},{"$f":"\"\"","v":""},{"$f":"\"\"","v":""},{"$f":"\"\"","v":""},{"$f":"\"\"","v":""},null,null,"650+850",41385,51385,61385,71385,81385,91385,null,null,null,null,null,null,null,null,null,null,null,null,null,null,null,null,null,null,null,null,null,null,null,null,null,null,null,null,null,null,null,null,null,null,null,null,null,null,null,null,null,null,null,null,null,null,null,null,null,null,null,null,null,null,null,null,{"$f":"IF(Selection!$Y$32=1,\"Panel osłonowy modułowy\",\"Modular front plate\")","v":"Modular front plate"},null,null,{"$f":"IF(Selection!$Y$32=1,\"3 modułowa\",\"3 modules\")","v":"3 modules"},null,null,null,null,null,null,null,null,null,null,null,null,null,null,null,null,"","","","","","","","","","","","",null,"150+650+400",{"$f":"\"\"","v":""},20204,20214,20224,20234,20244,20254,20174,20184,33164,33184,33194,31954,30944,30940,31084,{"$f":"\"\"","v":""},{"$f":"\"\"","v":""},{"$f":"\"\"","v":""},{"$f":"\"\"","v":""},{"$f":"\"\"","v":""},{"$f":"\"\"","v":""},null,null,null,null,null,null,null,null,null,null,null,"650+200",40766,50766,60766,70766,80766,90766,null,"650+200",40165,50165,60165,70165,80165,90165]
[null,450,40345,50345,60345,70345,80345,90345,null,"850+850",{"$f":"\"\"","v":""},{"$f":"\"\"","v":""},{"$f":"\"\"","v":""},{"$f":"\"\"","v":""},{"$f":"\"\"","v":""},null,null,"850+850",41385,51385,61385,71385,81385,91385,null,null,null,null,null,null,null,null,null,null,null,null,null,null,null,null,null,null,null,null,null,null,null,null,null,null,null,null,null,null,null,null,null,null,null,null,null,null,null,null,null,null,null,null,null,null,null,null,null,null,null,null,null,null,null,null,{"$f":"IF(Selection!$Y$32=1,\"Panel osłonowy przeszklony\",\"Transparent front plate\")","v":"Transparent front plate"},null,null,{"$f":"IF(Selection!$Y$32=1,\"4 modułowa\",\"4 modules\")","v":"4 modules"},null,null,null,null,null,null,null,null,null,null,null,null,null,null,null,null,null,null,null,null,null,null,null,null,null,null,null,null,null,null,{"$f":"\"\"","v":""},{"$f":"\"\"","v":""},{"$f":"\"\"","v":""},{"$f":"\"\"","v":""},{"$f":"\"\"","v":""},{"$f":"\"\"","v":""},{"$f":"\"\"","v":""},{"$f":"\"\"","v":""},{"$f":"\"\"","v":""},{"$f":"\"\"","v":""},{"$f":"\"\"","v":""},{"$f":"\"\"","v":""},{"$f":"\"\"","v":""},{"$f":"\"\"","v":""},{"$f":"\"\"","v":""},{"$f":"\"\"","v":""},{"$f":"\"\"","v":""},{"$f":"\"\"","v":""},{"$f":"\"\"","v":""},{"$f":"\"\"","v":""},{"$f":"\"\"","v":""},{"$f":"\"\"","v":""},null,null,null,null,null,null,null,null,null,null,null,1000,{"$f":"\"\"","v":""},{"$f":"\"\"","v":""},{"$f":"\"\"","v":""},{"$f":"\"\"","v":""},{"$f":"\"\"","v":""},{"$f":"\"\"","v":""},null,1000,{"$f":"\"\"","v":""},{"$f":"\"\"","v":""},{"$f":"\"\"","v":""},{"$f":"\"\"","v":""},{"$f":"\"\"","v":""},{"$f":"\"\"","v":""}]
[null,600,40360,50360,60360,70360,80360,90360,null,"650+300",{"$f":"\"\"","v":""},{"$f":"\"\"","v":""},{"$f":"\"\"","v":""},{"$f":"\"\"","v":""},{"$f":"\"\"","v":""},null,null,"650+300",{"$f":"\"\"","v":""},{"$f":"\"\"","v":""},{"$f":"\"\"","v":""},{"$f":"\"\"","v":""},{"$f":"\"\"","v":""},{"$f":"\"\"","v":""},null,null,null,null,null,null,null,null,null,null,null,null,null,null,null,null,null,null,null,null,null,null,null,null,null,null,null,null,null,null,null,null,null,null,null,null,null,null,null,null,null,null,null,null,null,null,null,null,null,null,null,null,null,null,null,null,{"$f":"IF(Selection!$Y$32=1,\"Szyna montażowa TS35D stała\",\"Fixed TS35D rail\")","v":"Fixed TS35D rail"},null,null,{"$f":"IF(Selection!$Y$32=1,\"5 modułowa\",\"5 modules\")","v":"5 modules"},null,null,null,null,null,null,null,null,null,null,null,null,null,null,null,null,null,null,null,null,null,null,null,null,null,null,null,null,null,null,{"$f":"\"\"","v":""},{"$f":"\"\"","v":""},{"$f":"\"\"","v":""},{"$f":"\"\"","v":""},{"$f":"\"\"","v":""},{"$f":"\"\"","v":""},{"$f":"\"\"","v":""},{"$f":"\"\"","v":""},{"$f":"\"\"","v":""},{"$f":"\"\"","v":""},{"$f":"\"\"","v":""},{"$f":"\"\"","v":""},{"$f":"\"\"","v":""},{"$f":"\"\"","v":""},{"$f":"\"\"","v":""},{"$f":"\"\"","v":""},{"$f":"\"\"","v":""},{"$f":"\"\"","v":""},{"$f":"\"\"","v":""},{"$f":"\"\"","v":""},{"$f":"\"\"","v":""},{"$f":"\"\"","v":""},null,null,null,null,null,null,null,null,null,null,null,1200,{"$f":"\"\"","v":""},{"$f":"\"\"","v":""},{"$f":"\"\"","v":""},{"$f":"\"\"","v":""},{"$f":"\"\"","v":""},{"$f":"\"\"","v":""},null,1200,{"$f":"\"\"","v":""},{"$f":"\"\"","v":""},{"$f":"\"\"","v":""},{"$f":"\"\"","v":""},{"$f":"\"\"","v":""},{"$f":"\"\"","v":""}]
[null,650,40365,50365,60365,70365,80365,90365,null,"650+400",{"$f":"\"\"","v":""},{"$f":"\"\"","v":""},{"$f":"\"\"","v":""},{"$f":"\"\"","v":""},{"$f":"\"\"","v":""},null,null,"650+400",{"$f":"\"\"","v":""},{"$f":"\"\"","v":""},{"$f":"\"\"","v":""},{"$f":"\"\"","v":""},{"$f":"\"\"","v":""},{"$f":"\"\"","v":""},null,null,null,null,null,null,null,null,null,null,null,null,null,null,null,null,null,null,null,null,null,null,null,null,null,null,null,null,null,null,null,null,null,null,null,null,null,null,null,null,null,null,null,null,null,null,null,null,null,null,null,null,null,null,null,null,{"$f":"IF(Selection!$Y$32=1,\"Szyna montażowa TS35D regulowana\",\"Adjustable TS35D rail\")","v":"Adjustable TS35D rail"},null,null,{"$f":"IF(Selection!$Y$32=1,\"6 modułowa\",\"6 modules\")","v":"6 modules"},null,null,null,null,null,null,null,null,null,null,null,null,null,null,null,"W 1200 - 9","1 mod.","2 mod.","3 mod.","4 mod.","5 mod.","6 mod.","7 mod.","8 mod.","9 mod.","10 mod.","11 mod.","12 mod.",null,null,null,null,null,null,null,null,null,null,null,null,null,null,null,null,null,null,null,null,null,null,null,null,null,null,null,null,null,null,null,null,null,null,null,1300,{"$f":"\"\"","v":""},{"$f":"\"\"","v":""},{"$f":"\"\"","v":""},{"$f":"\"\"","v":""},{"$f":"\"\"","v":""},{"$f":"\"\"","v":""},null,1300,{"$f":"\"\"","v":""},{"$f":"\"\"","v":""},{"$f":"\"\"","v":""},{"$f":"\"\"","v":""},{"$f":"\"\"","v":""},{"$f":"\"\"","v":""}]
[null,800,40380,50380,60380,70380,80380,90380,null,"850+300",{"$f":"\"\"","v":""},{"$f":"\"\"","v":""},{"$f":"\"\"","v":""},{"$f":"\"\"","v":""},{"$f":"\"\"","v":""},null,null,"850+300",41330,51330,61330,71330,81330,91330,null,null,null,null,null,null,null,null,null,null,null,null,null,null,null,null,null,null,null,null,null,null,null,null,null,null,null,null,null,null,null,null,null,null,null,null,null,null,null,null,null,null,null,null,null,null,null,null,null,null,null,null,null,null,null,null,{"$f":"IF(Selection!$Y$32=1,\"Płyta montażowa pełna ocynkowana\",\"Plain mounting plate\")","v":"Plain mounting plate"},null,null,{"$f":"IF(Selection!$Y$32=1,\"7 modułowa\",\"7 modules\")","v":"7 modules"},null,null,null,null,null,null,null,null,null,null,null,null,null,null,null,"Brak",{"$f":"IF(CW147=0,\"\",\"\")","v":""},"","","","","","","","","","","",null,null,null,null,null,null,null,null,null,null,null,null,null,null,null,null,null,null,null,null,null,null,null,null,null,null,null,null,null,null,null,null,null,null,null,"650+650",40766,50766,60766,70766,80766,90766,null,"650+650",40766,50766,60766,70766,80766,90766]
[null,"650+150",40380,50380,60380,70380,80380,90380,null,"850+400",{"$f":"\"\"","v":""},{"$f":"\"\"","v":""},{"$f":"\"\"","v":""},{"$f":"\"\"","v":""},{"$f":"\"\"","v":""},null,null,"850+400",41340,51340,61340,71340,81340,91340,null,null,null,null,null,null,null,null,null,null,null,null,null,null,null,null,null,null,null,null,null,null,null,null,null,null,null,null,null,null,null,null,null,null,null,null,null,null,null,null,null,null,null,null,null,null,null,null,null,null,null,null,null,null,null,null,{"$f":"IF(Selection!$Y$32=1,\"Płyta montażowa otworowana ocynk\",\"Painted mounting plate\")","v":"Painted mounting plate"},null,null,{"$f":"IF(Selection!$Y$32=1,\"8 modułowa\",\"8 modules\")","v":"8 modules"},null,null,null,null,null,null,null,null,null,null,null,null,null,null,null,"Osłona pełna",{"$f":"IF(CW147=0,\"\",\"\")","v":""},"","","","","","","","","","","",null,null,null,null,null,null,null,null,null,null,null,null,null,null,null,null,null,null,null,null,null,null,null,null,null,null,null,null,null,null,null,null,null,null,null,"650+850",40766,50766,60766,70766,80766,90766,null,"650+850",40786,50786,60786,70786,80786,90786]
[null,850,40385,50385,60385,70385,80385,90385,null,"150+650+300",{"$f":"\"\"","v":""},{"$f":"\"\"","v":""},{"$f":"\"\"","v":""},{"$f":"\"\"","v":""},{"$f":"\"\"","v":""},null,null,"650+150+300",41330,51330,61330,71330,81330,91330,null,null,null,null,null,null,null,null,null,null,null,null,null,null,null,null,null,null,null,null,null,null,null,null,null,null,null,null,null,null,null,null,null,null,null,null,null,null,null,null,null,null,null,null,null,null,null,null,null,null,null,null,null,null,null,null,{"$f":"IF(Selection!$Y$32=1,\"Płyta montażowa pozioma ocynk\",\"Horizontal plain mounting plate\")","v":"Horizontal plain mounting plate"},null,null,{"$f":"IF(Selection!$Y$32=1,\"9 modułowa\",\"9 modules\")","v":"9 modules"},null,null,null,null,null,null,null,null,null,null,null,null,null,null,null,"Osł. modułowa",{"$f":"IF(CW147=0,\"\",\"\")","v":""},"","","","","","","","","","","",null,null,null,null,null,null,null,null,null,null,null,null,null,null,null,null,null,null,null,null,null,null,null,null,null,null,null,null,null,null,null,null,null,null,null,"850+850",40786,50786,60786,70786,80786,90786,null,"850+850",40786,50786,60786,70786,80786,90786]
[null,"650+200",40385,50385,60385,70385,80385,90385,null,"150+650+400",30721,30731,30741,30761,30781,null,null,"650+150+400",41340,51340,61340,71340,81340,91340,null,null,null,null,null,null,null,null,null,null,null,null,null,null,null,null,null,null,null,null,null,null,null,null,null,null,null,null,null,null,null,null,null,null,null,null,null,null,null,null,null,null,null,null,null,null,null,null,null,null,null,null,null,null,null,null,{"$f":"IF(Selection!$Y$32=1,\"Zabudowa licznikowa\",\"kWh mounting plate\")","v":"kWh mounting plate"},null,null,{"$f":"IF(Selection!$Y$32=1,\"10 modułowa\",\"10 modules\")","v":"10 modules"},null,null,null,null,null,null,null,null,null,null,null,null,null,null,null,"Osł. przeszklona",{"$f":"IF(CW147=0,\"\",\"\")","v":""},"","","","","","","","","","","",null,null,null,null,null,null,null,null,null,null,null,null,null,null,null,null,null,null,null,null,null,null,null,null,null,null,null,null,null,null,null,null,null,null,null,"650+300",40766,50766,60766,70766,80766,90766,null,"650+300",{"$f":"\"\"","v":""},{"$f":"\"\"","v":""},{"$f":"\"\"","v":""},{"$f":"\"\"","v":""},{"$f":"\"\"","v":""},{"$f":"\"\"","v":""}]
[null,1000,40310,50310,60310,70310,80310,90310,null,null,null,null,null,null,null,null,null,null,null,null,null,null,null,null,null,null,null,null,null,null,null,null,null,null,null,null,null,null,null,null,null,null,null,null,null,null,null,null,null,null,null,null,null,null,null,null,null,null,null,null,null,null,null,null,null,null,null,null,null,null,null,null,null,null,null,null,null,null,null,null,null,null,null,{"$f":"IF(Selection!$Y$32=1,\"11 modułowa\",\"11 modules\")","v":"11 modules"},null,null,null,null,null,null,null,null,null,null,null,null,null,null,null,"Szyna stała TS35",{"$f":"IF(CW147=0,\"\",\"\")","v":""},"","","","","","","","","","","",null,null,null,null,null,null,null,null,null,null,null,null,null,null,null,null,null,null,null,null,null,null,null,null,null,null,null,null,null,null,null,null,null,null,null,"650+400",40766,50766,60766,70766,80766,90766,null,"650+400",{"$f":"\"\"","v":""},{"$f":"\"\"","v":""},{"$f":"\"\"","v":""},{"$f":"\"\"","v":""},{"$f":"\"\"","v":""},{"$f":"\"\"","v":""}]
[null,1200,40312,50312,60312,70312,80312,90312,null,"Głębokość obudowy D","Boki wentylowane IP-30,  Wysokość obudowy H",null,null,null,null,2,null,"Szerokość obudowy","Osłona tylna pełna IP30   Wysokość",null,null,4,null,"Pole 2",null,null,null,null,null,null,null,null,null,null,null,null,null,null,null,null,null,null,null,null,null,null,null,null,null,null,null,null,null,null,null,null,null,null,null,null,null,null,null,null,null,null,null,null,null,null,null,null,null,null,null,null,null,null,null,null,null,null,null,{"$f":"IF(Selection!$Y$32=1,\"12 modułowa\",\"12 modules\")","v":"12 modules"},null,null,null,null,null,null,null,null,null,null,null,null,null,null,null,"Szyna reg.TS35",{"$f":"IF(CW147=0,\"\",\"\")","v":""},"","","","","","","","","","","",null,null,null,null,null,null,null,null,null,null,null,null,null,null,null,null,null,null,null,null,null,null,null,null,null,null,null,null,null,null,null,null,null,null,null,"850+300",40786,50786,60786,70786,80786,90786,null,"850+300",{"$f":"\"\"","v":""},{"$f":"\"\"","v":""},{"$f":"\"\"","v":""},{"$f":"\"\"","v":""},{"$f":"\"\"","v":""},{"$f":"\"\"","v":""}]
[null,1300,40313,50313,60313,70313,80313,90313,null,null,1200,1400,1600,1800,2000,2200,null,null,"H 1200","H 1400","H 1600","H 1800","H 2000","H 2200",null,null,null,null,null,null,null,null,null,null,null,null,null,null,null,null,null,null,null,null,null,null,null,null,null,null,null,null,null,null,null,null,null,null,null,null,null,null,null,null,null,null,null,null,null,null,null,null,null,null,null,null,null,null,null,{"$f":"IF(CE159=14,14,IF(CP44=1,$BA$15,CB159))","v":1},null,null,{"$f":"IF(CP44=1,BD4,CE159)","v":1},{"$f":"IF(Selection!$Y$32=1,\"Płyta pełna ocynkowana\",\"Plain mounting plate\")","v":"Plain mounting plate"},null,null,null,null,null,null,null,null,null,null,null,null,null,null,null,"Płyta ocynk pełna",{"$f":"IF(CW147=0,\"\",\"\")","v":""},"","","","","","","","","","","",null,null,null,null,null,null,null,null,null,null,null,null,null,null,null,null,null,null,null,null,null,null,null,null,null,null,null,null,null,null,null,null,null,null,null,"850+400",40786,50786,60786,70786,80786,90786,null,"850+400",{"$f":"\"\"","v":""},{"$f":"\"\"","v":""},{"$f":"\"\"","v":""},{"$f":"\"\"","v":""},{"$f":"\"\"","v":""},{"$f":"\"\"","v":""}]
[null,"650+612",40365,50365,60365,70365,80365,90365,null,230,49223,59223,69223,79223,89223,99223,null,"Brak",{"$f":"\"\"","v":""},{"$f":"\"\"","v":""},{"$f":"\"\"","v":""},{"$f":"\"\"","v":""},{"$f":"\"\"","v":""},{"$f":"\"\"","v":""},null,null,null,null,null,null,null,null,null,null,null,null,null,null,null,null,null,null,null,null,null,null,null,null,null,null,null,null,null,null,null,null,null,null,null,null,null,null,null,null,null,null,null,null,null,null,null,null,null,null,null,null,null,null,null,{"$f":"IF(CE158=14,25,IF(CO44=1,$BA$12,CB158))","v":1},null,null,{"$f":"IF(CO44=1,BD4,CE158)","v":1},{"$f":"IF(Selection!$Y$32=1,\"Łącznik płyt pełnych\",\"Plates connector\")","v":"Plates connector"},null,null,null,null,null,null,null,null,null,null,null,null,null,null,null,"Płyta malow.otw.",{"$f":"IF(CW147=0,\"\",\"\")","v":""},"","","","","","","","","","","",null,null,null,null,null,null,null,null,null,null,null,null,null,null,null,null,null,null,null,null,null,null,null,null,null,null,null,null,null,null,null,null,null,null,null,"150+650+300",40766,50766,60766,70766,80766,90766,null,"150+650+300",{"$f":"\"\"","v":""},{"$f":"\"\"","v":""},{"$f":"\"\"","v":""},{"$f":"\"\"","v":""},{"$f":"\"\"","v":""},{"$f":"\"\"","v":""}]
[null,"650+812",40385,50385,60385,70385,80385,90385,null,300,49230,59230,69230,79230,89230,99230,null,300,41230,51230,61230,71230,81230,91230,null,null,null,null,null,null,null,null,null,null,null,null,null,null,null,null,null,null,null,null,null,null,null,null,null,null,null,null,null,null,null,null,null,null,null,null,null,null,null,null,null,null,null,null,null,null,null,null,null,null,null,null,null,null,null,{"$f":"IF(CE157=14,23,IF(CN44=1,$BA$13,CB157))","v":1},null,null,{"$f":"IF(CN44=1,BD4,CE157)","v":1},null,null,null,null,null,null,null,null,null,null,null,null,null,null,null,null,"Płyta oc. pozioma",{"$f":"IF(CW411=0,\"\",\"\")","v":""},"","","","","","","","","","","",null,null,null,null,null,null,null,null,null,null,null,null,null,null,null,null,null,null,null,null,null,null,null,null,null,null,null,null,null,null,null,null,null,null,null,"150+650+400",40766,50766,60766,70766,80766,90766,null,"150+650+400",{"$f":"\"\"","v":""},{"$f":"\"\"","v":""},{"$f":"\"\"","v":""},{"$f":"\"\"","v":""},{"$f":"\"\"","v":""},{"$f":"\"\"","v":""}]
[null,"850+812",40385,50385,60385,70385,80385,90385,null,400,49240,59240,69240,79240,89240,99240,null,400,41240,51240,61240,71240,81240,91240,null,null,null,null,null,null,null,null,null,null,null,null,null,null,null,null,null,null,null,null,null,null,null,null,null,null,null,null,null,null,null,null,null,null,null,null,null,null,null,null,null,null,null,null,null,null,null,null,null,null,null,null,null,null,null,1,10,null,1,10,null,null,null,null,null,null,null,null,null,null,null,null,null,null,null,"Płyta licznikowa",{"$f":"IF(CW147=0,\"\",\"\")","v":""},"","","","","","","","","","",""]
[null,"650+300",40330,50330,60330,70330,80330,90330,null,600,49260,59260,69260,79260,89260,99260,null,450,41245,51245,61245,71245,81245,91245,null,null,null,null,null,null,null,null,null,null,null,null,null,null,null,null,null,null,null,null,null,null,null,null,null,null,null,null,null,null,null,null,null,null,null,null,null,null,null,null,null,null,null,null,null,null,null,null,null,null,null,null,null,null,null,1,"Osłony",null,1,"Ilość mod.",null,null,null,null,null,null,null,null,null,null,null,null,null,null,null,null,{"$f":"IF(CW147=0,\"\",\"\")","v":""},"","","","","","","","","","",""]
[null,"650+400",40340,50340,60340,70340,80340,90340,null,800,49280,59280,69280,79280,89280,99280,null,600,41260,51260,61260,71260,81260,91260,null,null,null,null,null,null,null,null,null,null,null,null,null,null,null,null,null,null,null,null,null,null,null,null,null,null,null,null,null,null,null,null,null,null,null,null,null,null,null,null,null,null,null,null,null,null,null,null,null,null,null,null,null,null,null,1,{"$f":"IF(Selection!$Y$32=1,\"Brak\",\"None\")","v":"None"},null,1,{"$f":"IF(Selection!$Y$32=1,\"1 modułowa\",\"1 module\")","v":"1 module"},null,null,null,null,null,null,null,null,null,null,null,null,null,null,null,null,{"$f":"IF(CW147=0,\"\",\"\")","v":""},"","","","","","","","","","","",null,null,null,null,null,null,null,null,null,null,null,null,null,null,null,null,null,null,null,null,null,null,null,null,null,null,null,null,null,null,null,null,null,null,null,"Szerokość obudowy","Pusty arkusz - formuły !!!!   Wysokość, Pole 1,2,3",null,null,null,1]
[null,"850+300",40330,50330,60330,70330,80330,90330,null,null,null,null,null,null,null,null,null,650,41265,51265,61265,71265,81265,91265,null,null,null,null,null,null,null,null,null,null,null,null,null,null,null,null,null,null,null,null,null,null,null,null,null,null,null,null,null,null,null,null,null,null,null,null,null,null,null,null,null,null,null,null,null,null,null,null,null,null,null,null,null,null,null,null,{"$f":"IF(Selection!$Y$32=1,\"Panel osłonowy pełny\",\"Plain front plate\")","v":"Plain front plate"},null,{"$f":"IF($BA$12>1,0,IF(CE158<13,0,IF($BA$13>13,$BA$13-1,0)))","v":0},{"$f":"IF(Selection!$Y$32=1,\"2 modułowa\",\"2 modules\")","v":"2 modules"},null,null,null,null,null,null,null,null,null,null,null,null,null,null,null,null,{"$f":"IF(CW147=0,\"\",\"\")","v":""},"","","","","","","","","","","",null,null,null,null,null,null,null,null,null,null,null,null,null,null,null,null,null,null,null,null,null,null,null,null,null,null,null,null,null,null,null,null,null,null,null,null,"H 1200","H 1400","H 1600","H 1800","H 2000","H 2200"]
[null,"850+400",40340,50340,60340,70340,80340,90340,null,"Głębokość obudowy D","Boki wentylowane IP-43/54,  Wysokość obudowy H",null,null,null,null,3,null,800,41280,51280,61280,71280,81280,91280,null,null,null,null,null,null,null,null,null,null,null,null,null,null,null,null,null,null,null,null,null,null,null,null,null,null,null,null,null,null,null,null,null,null,null,null,null,null,null,null,null,null,null,null,null,null,null,null,null,null,null,null,null,null,null,null,{"$f":"IF(Selection!$Y$32=1,\"Panel osłonowy modułowy\",\"Modular front plate\")","v":"Modular front plate"},null,null,{"$f":"IF(Selection!$Y$32=1,\"3 modułowa\",\"3 modules\")","v":"3 modules"},null,null,null,null,null,null,null,null,null,null,null,null,null,null,null,null,{"$f":"IF(CW147=0,\"\",\"\")","v":""},"","","","","","","","","","","",null,null,null,null,null,null,null,null,null,null,null,null,null,null,null,null,null,null,null,null,null,null,null,null,null,null,null,null,null,null,null,null,null,null,null,"Brak",{"$f":"\"\"","v":""},{"$f":"\"\"","v":""},{"$f":"\"\"","v":""},{"$f":"\"\"","v":""},{"$f":"\"\"","v":""},{"$f":"\"\"","v":""}]
[null,"150+650+300",40330,50330,60330,70330,80330,90330,null,null,1200,1400,1600,1800,2000,2200,null,"650+150",41280,51280,61280,71280,81280,91280,null,null,null,null,null,null,null,null,null,null,null,null,null,null,null,null,null,null,null,null,null,null,null,null,null,null,null,null,null,null,null,null,null,null,null,null,null,null,null,null,null,null,null,null,null,null,null,null,null,null,null,null,null,null,null,null,{"$f":"IF(Selection!$Y$32=1,\"Panel osłonowy przeszklony\",\"Transparent front plate\")","v":"Transparent front plate"},null,null,{"$f":"IF(Selection!$Y$32=1,\"4 modułowa\",\"4 modules\")","v":"4 modules"},null,null,null,null,null,null,null,null,null,null,null,null,null,null,null,null,{"$f":"IF(CW147=0,\"\",\"\")","v":""},"","","","","","","","","","","",null,null,null,null,null,null,null,null,null,null,null,null,null,null,null,null,null,null,null,null,null,null,null,null,null,null,null,null,null,null,null,null,null,null,null,300,{"$f":"\"\"","v":""},{"$f":"\"\"","v":""},{"$f":"\"\"","v":""},{"$f":"\"\"","v":""},{"$f":"\"\"","v":""},{"$f":"\"\"","v":""}]
[null,"150+650+400",40340,50340,60340,70340,80340,90340,null,230,49423,59423,69423,79423,89423,99423,null,850,41285,51285,61285,71285,81285,91285,null,null,null,null,null,null,null,null,null,null,null,null,null,null,null,null,null,null,null,null,null,null,null,null,null,null,null,null,null,null,null,null,null,null,null,null,null,null,null,null,null,null,null,null,null,null,null,null,null,null,null,null,null,null,null,null,{"$f":"IF(Selection!$Y$32=1,\"Szyna montażowa TS35D stała\",\"Fixed TS35D rail\")","v":"Fixed TS35D rail"},null,null,{"$f":"IF(Selection!$Y$32=1,\"5 modułowa\",\"5 modules\")","v":"5 modules"},null,null,null,null,null,null,null,null,null,null,null,null,null,null,null,null,null,null,null,null,null,null,null,null,null,null,null,null,null,null,null,null,null,null,null,null,null,null,null,null,null,null,null,null,null,null,null,null,null,null,null,null,null,null,null,null,null,null,null,null,null,null,null,400,{"$f":"\"\"","v":""},{"$f":"\"\"","v":""},{"$f":"\"\"","v":""},{"$f":"\"\"","v":""},{"$f":"\"\"","v":""},{"$f":"\"\"","v":""}]
[null,null,null,null,null,null,null,null,null,300,49430,59430,69430,79430,89430,99430,null,"650+200",41285,51285,61285,71285,81285,91285,null,null,null,null,null,null,null,null,null,null,null,null,null,null,null,null,null,null,null,null,null,null,null,null,null,null,null,null,null,null,null,null,null,null,null,null,null,null,null,null,null,null,null,null,null,null,null,null,null,null,null,null,null,null,null,null,{"$f":"IF(Selection!$Y$32=1,\"Szyna montażowa TS35D regulowana\",\"Adjustable TS35D rail\")","v":"Adjustable TS35D rail"},null,null,{"$f":"IF(Selection!$Y$32=1,\"6 modułowa\",\"6 modules\")","v":"6 modules"},null,null,null,null,null,null,null,null,null,null,null,null,null,null,null,null,null,null,null,null,null,null,null,null,null,null,null,null,null,null,null,null,null,null,null,null,null,null,null,null,null,null,null,null,null,null,null,null,null,null,null,null,null,null,null,null,null,null,null,null,null,null,null,450,{"$f":"\"\"","v":""},{"$f":"\"\"","v":""},{"$f":"\"\"","v":""},{"$f":"\"\"","v":""},{"$f":"\"\"","v":""},{"$f":"\"\"","v":""}]
[null,null,null,null,null,null,null,null,null,400,49440,59440,69440,79440,89440,99440,null,1000,41210,51210,61210,71210,81210,91210,null,null,null,null,null,null,null,null,null,null,null,null,null,null,null,null,null,null,null,null,null,null,null,null,null,null,null,null,null,null,null,null,null,null,null,null,null,null,null,null,null,null,null,null,null,null,null,null,null,null,null,null,null,null,null,null,{"$f":"IF(Selection!$Y$32=1,\"Płyta montażowa pełna ocynkowana\",\"Plain mounting plate\")","v":"Plain mounting plate"},null,null,{"$f":"IF(Selection!$Y$32=1,\"7 modułowa\",\"7 modules\")","v":"7 modules"},null,null,null,null,null,null,null,null,null,null,null,null,null,null,null,"W 1300 - 10","1 mod.","2 mod.","3 mod.","4 mod.","5 mod.","6 mod.","7 mod.","8 mod.","9 mod.","10 mod.","11 mod.","12 mod.",null,null,null,null,null,null,null,null,null,null,null,null,null,null,null,null,null,null,null,null,null,null,null,null,null,null,null,null,null,null,null,null,null,null,null,600,{"$f":"\"\"","v":""},{"$f":"\"\"","v":""},{"$f":"\"\"","v":""},{"$f":"\"\"","v":""},{"$f":"\"\"","v":""},{"$f":"\"\"","v":""}]
[null,null,null,null,null,null,null,null,null,600,49460,59460,69460,79460,89460,99460,null,1200,41212,51212,61212,71212,81212,91212,null,null,null,null,null,null,null,null,null,null,null,null,null,null,null,null,null,null,null,null,null,null,null,null,null,null,null,null,null,null,null,null,null,null,null,null,null,null,null,null,null,null,null,null,null,null,null,null,null,null,null,null,null,null,null,null,{"$f":"IF(Selection!$Y$32=1,\"Płyta montażowa otworowana ocynk\",\"Painted mounting plate\")","v":"Painted mounting plate"},null,null,{"$f":"IF(Selection!$Y$32=1,\"8 modułowa\",\"8 modules\")","v":"8 modules"},null,null,null,null,null,null,null,null,null,null,null,null,null,null,null,"Brak",{"$f":"IF(CW165=0,\"\",\"\")","v":""},"","","","","","","","","","","",null,null,null,null,null,null,null,null,null,null,null,null,null,null,null,null,null,null,null,null,null,null,null,null,null,null,null,null,null,null,null,null,null,null,null,650,{"$f":"\"\"","v":""},{"$f":"\"\"","v":""},{"$f":"\"\"","v":""},{"$f":"\"\"","v":""},{"$f":"\"\"","v":""},{"$f":"\"\"","v":""}]
[null,"Szerokość obudowy","Drzwi wentylowane IP30 Wysokość",null,null,2,null,"Pole 2",null,800,49480,59480,69480,79480,89480,99480,null,1300,41213,51213,61213,71213,81213,91213,null,null,null,null,null,null,null,null,null,null,null,null,null,null,null,null,null,null,null,null,null,null,null,null,null,null,null,null,null,null,null,null,null,null,null,null,null,null,null,null,null,null,null,null,null,null,null,null,null,null,null,null,null,null,null,null,{"$f":"IF(Selection!$Y$32=1,\"Płyta montażowa pozioma ocynk\",\"Horizontal plain mounting plate\")","v":"Horizontal plain mounting plate"},null,null,{"$f":"IF(Selection!$Y$32=1,\"9 modułowa\",\"9 modules\")","v":"9 modules"},null,null,null,null,null,null,null,null,null,null,null,null,null,null,null,"Osłona pełna",{"$f":"IF(CW165=0,\"\",\"\")","v":""},"","","","","","","","","","","",null,null,null,null,null,null,null,null,null,null,null,null,null,null,null,null,null,null,null,null,null,null,null,null,null,null,null,null,null,null,null,null,null,null,null,800,{"$f":"\"\"","v":""},{"$f":"\"\"","v":""},{"$f":"\"\"","v":""},{"$f":"\"\"","v":""},{"$f":"\"\"","v":""},{"$f":"\"\"","v":""}]
[null,null,"H 1200","H 1400","H 1600","H 1800","H 2000","H 2200",null,null,null,null,null,null,null,null,null,"650+612",41265,51265,61265,71265,81265,91265,null,null,null,null,null,null,null,null,null,null,null,null,null,null,null,null,null,null,null,null,null,null,null,null,null,null,null,null,null,null,null,null,null,null,null,null,null,null,null,null,null,null,null,null,null,null,null,null,null,null,null,null,null,null,null,null,{"$f":"IF(Selection!$Y$32=1,\"Zabudowa licznikowa\",\"kWh mounting plate\")","v":"kWh mounting plate"},null,null,{"$f":"IF(Selection!$Y$32=1,\"10 modułowa\",\"10 modules\")","v":"10 modules"},null,null,null,null,null,null,null,null,null,null,null,null,null,null,null,"Osł. modułowa",{"$f":"IF(CW165=0,\"\",\"\")","v":""},"","","","","","","","","","","",null,null,null,null,null,null,null,null,null,null,null,null,null,null,null,null,null,null,null,null,null,null,null,null,null,null,null,null,null,null,null,null,null,null,null,"650+150",{"$f":"\"\"","v":""},{"$f":"\"\"","v":""},{"$f":"\"\"","v":""},{"$f":"\"\"","v":""},{"$f":"\"\"","v":""},{"$f":"\"\"","v":""}]
[null,"Brak",{"$f":"IF(C168=0,\"\",\"\")","v":""},"","","","","",null,"Głębokość obudowy D","Boki pełne IP-30,  Wysokość obudowy H",null,null,null,null,1,null,"650+812",41285,51285,61285,71285,81285,91285,null,null,null,null,null,null,null,null,null,null,null,null,null,null,null,null,null,null,null,null,null,null,null,null,null,null,null,null,null,null,null,null,null,null,null,null,null,null,null,null,null,null,null,null,null,null,null,null,null,null,null,null,null,null,null,null,null,null,null,{"$f":"IF(Selection!$Y$32=1,\"11 modułowa\",\"11 modules\")","v":"11 modules"},null,null,null,null,null,null,null,null,null,null,null,null,null,null,null,"Osł. przeszklona",{"$f":"IF(CW165=0,\"\",\"\")","v":""},"","","","","","","","","","","",null,null,null,null,null,null,null,null,null,null,null,null,null,null,null,null,null,null,null,null,null,null,null,null,null,null,null,null,null,null,null,null,null,null,null,850,{"$f":"\"\"","v":""},{"$f":"\"\"","v":""},{"$f":"\"\"","v":""},{"$f":"\"\"","v":""},{"$f":"\"\"","v":""},{"$f":"\"\"","v":""}]
[null,300,40230,50230,60230,70230,80230,90230,null,null,1200,1400,1600,1800,2000,2200,null,"850+812",41285,51285,61285,71285,81285,91285,null,null,null,null,null,null,null,null,null,null,null,null,null,null,null,null,null,null,null,null,null,null,null,null,null,null,null,null,null,null,null,null,null,null,null,null,null,null,null,null,null,null,null,null,null,null,null,null,null,null,null,null,null,null,null,null,null,null,null,{"$f":"IF(Selection!$Y$32=1,\"12 modułowa\",\"12 modules\")","v":"12 modules"},null,null,null,null,null,null,null,null,null,null,null,null,null,null,null,"Szyna stała TS35",{"$f":"IF(CW165=0,\"\",\"\")","v":""},"","","","","","","","","","","",null,null,null,null,null,null,null,null,null,null,null,null,null,null,null,null,null,null,null,null,null,null,null,null,null,null,null,null,null,null,null,null,null,null,null,"650+200",{"$f":"\"\"","v":""},{"$f":"\"\"","v":""},{"$f":"\"\"","v":""},{"$f":"\"\"","v":""},{"$f":"\"\"","v":""},{"$f":"\"\"","v":""}]
[null,400,40240,50240,60240,70240,80240,90240,null,230,49323,59323,69323,79323,89323,99323,null,"650+300",{"$f":"\"\"","v":""},{"$f":"\"\"","v":""},{"$f":"\"\"","v":""},{"$f":"\"\"","v":""},{"$f":"\"\"","v":""},{"$f":"\"\"","v":""},null,null,null,null,null,null,null,null,null,null,null,null,null,null,null,null,null,null,null,null,null,null,null,null,null,null,null,null,null,null,null,null,null,null,null,null,null,null,null,null,null,null,null,null,null,null,null,null,null,null,null,null,null,null,null,{"$f":"IF(CE176=14,14,IF(CP45=1,$BA$15,CB176))","v":1},null,null,{"$f":"IF(CP45=1,BD4,CE176)","v":1},{"$f":"IF(Selection!$Y$32=1,\"Płyta pełna ocynkowana\",\"Plain mounting plate\")","v":"Plain mounting plate"},null,null,null,null,null,null,null,null,null,null,null,null,null,null,null,"Szyna reg.TS35",{"$f":"IF(CW165=0,\"\",\"\")","v":""},"","","","","","","","","","","",null,null,null,null,null,null,null,null,null,null,null,null,null,null,null,null,null,null,null,null,null,null,null,null,null,null,null,null,null,null,null,null,null,null,null,1000,{"$f":"\"\"","v":""},{"$f":"\"\"","v":""},{"$f":"\"\"","v":""},{"$f":"\"\"","v":""},{"$f":"\"\"","v":""},{"$f":"\"\"","v":""}]
[null,450,40245,50245,60245,70245,80245,90245,null,300,49330,59330,69330,79330,89330,99330,null,"650+400",{"$f":"\"\"","v":""},{"$f":"\"\"","v":""},{"$f":"\"\"","v":""},{"$f":"\"\"","v":""},{"$f":"\"\"","v":""},{"$f":"\"\"","v":""},null,null,null,null,null,null,null,null,null,null,null,null,null,null,null,null,null,null,null,null,null,null,null,null,null,null,null,null,null,null,null,null,null,null,null,null,null,null,null,null,null,null,null,null,null,null,null,null,null,null,null,null,null,null,null,{"$f":"IF(CE175=14,25,IF(CO45=1,$BA$12,CB175))","v":1},null,null,{"$f":"IF(CO45=1,BD4,CE175)","v":1},{"$f":"IF(Selection!$Y$32=1,\"Łącznik płyt pełnych\",\"Plates connector\")","v":"Plates connector"},null,null,null,null,null,null,null,null,null,null,null,null,null,null,null,"Płyta ocynk pełna",{"$f":"IF(CW165=0,\"\",\"\")","v":""},"","","","","","","","","","","",null,null,null,null,null,null,null,null,null,null,null,null,null,null,null,null,null,null,null,null,null,null,null,null,null,null,null,null,null,null,null,null,null,null,null,1200,{"$f":"\"\"","v":""},{"$f":"\"\"","v":""},{"$f":"\"\"","v":""},{"$f":"\"\"","v":""},{"$f":"\"\"","v":""},{"$f":"\"\"","v":""}]
[null,600,40260,50260,60260,70260,80260,90260,null,400,49340,59340,69340,79340,89340,99340,null,"850+300",41230,51230,61230,71230,81230,91230,null,null,null,null,null,null,null,null,null,null,null,null,null,null,null,null,null,null,null,null,null,null,null,null,null,null,null,null,null,null,null,null,null,null,null,null,null,null,null,null,null,null,null,null,null,null,null,null,null,null,null,null,null,null,null,{"$f":"IF(CE174=14,23,IF(CN45=1,$BA$13,CB174))","v":1},null,null,{"$f":"IF(CN45=1,BD4,CE174)","v":1},null,null,null,null,null,null,null,null,null,null,null,null,null,null,null,null,"Płyta malow.otw.",{"$f":"IF(CW165=0,\"\",\"\")","v":""},"","","","","","","","","","","",null,null,null,null,null,null,null,null,null,null,null,null,null,null,null,null,null,null,null,null,null,null,null,null,null,null,null,null,null,null,null,null,null,null,null,1300,{"$f":"\"\"","v":""},{"$f":"\"\"","v":""},{"$f":"\"\"","v":""},{"$f":"\"\"","v":""},{"$f":"\"\"","v":""},{"$f":"\"\"","v":""}]
[null,650,40265,50265,60265,70265,80265,90265,null,600,49360,59360,69360,79360,89360,99360,null,"850+400",41240,51240,61240,71240,81240,91240,null,null,null,null,null,null,null,null,null,null,null,null,null,null,null,null,null,null,null,null,null,null,null,null,null,null,null,null,null,null,null,null,null,null,null,null,null,null,null,null,null,null,null,null,null,null,null,null,null,null,null,null,null,null,null,1,11,null,1,11,null,null,null,null,null,null,null,null,null,null,null,null,null,null,null,"Płyta oc. pozioma",{"$f":"IF(CW162=0,\"\",\"\")","v":""},"","","","","","","","","","","",null,null,null,null,null,null,null,null,null,null,null,null,null,null,null,null,null,null,null,null,null,null,null,null,null,null,null,null,null,null,null,null,null,null,null,"650+650",{"$f":"\"\"","v":""},{"$f":"\"\"","v":""},{"$f":"\"\"","v":""},{"$f":"\"\"","v":""},{"$f":"\"\"","v":""},{"$f":"\"\"","v":""}]
[null,800,40280,50280,60280,70280,80280,90280,null,800,49380,59380,69380,79380,89380,99380,null,"650+150+300",41230,51230,61230,71230,81230,91230,null,null,null,null,null,null,null,null,null,null,null,null,null,null,null,null,null,null,null,null,null,null,null,null,null,null,null,null,null,null,null,null,null,null,null,null,null,null,null,null,null,null,null,null,null,null,null,null,null,null,null,null,null,null,null,1,"Osłony",null,1,"Ilość mod.",null,null,null,null,null,null,null,null,null,null,null,null,null,null,null,"Płyta licznikowa",{"$f":"IF(CW165=0,\"\",\"\")","v":""},"","","","","","","","","","","",null,null,null,null,null,null,null,null,null,null,null,null,null,null,null,null,null,null,null,null,null,null,null,null,null,null,null,null,null,null,null,null,null,null,null,"650+850",{"$f":"\"\"","v":""},{"$f":"\"\"","v":""},{"$f":"\"\"","v":""},{"$f":"\"\"","v":""},{"$f":"\"\"","v":""},{"$f":"\"\"","v":""}]
[null,"650+150",40280,50280,60280,70280,80280,90280,null,null,null,null,null,null,null,null,null,"650+150+400",41240,51240,61240,71240,81240,91240,null,null,null,null,null,null,null,null,null,null,null,null,null,null,null,null,null,null,null,null,null,null,null,null,null,null,null,null,null,null,null,null,null,null,null,null,null,null,null,null,null,null,null,null,null,null,null,null,null,null,null,null,null,null,null,1,{"$f":"IF(Selection!$Y$32=1,\"Brak\",\"None\")","v":"None"},null,1,{"$f":"IF(Selection!$Y$32=1,\"1 modułowa\",\"1 module\")","v":"1 module"},null,null,null,null,null,null,null,null,null,null,null,null,null,null,null,null,{"$f":"IF(CW165=0,\"\",\"\")","v":""},"","","","","","","","","","","",null,null,null,null,null,null,null,null,null,null,null,null,null,null,null,null,null,null,null,null,null,null,null,null,null,null,null,null,null,null,null,null,null,null,null,"850+850",{"$f":"\"\"","v":""},{"$f":"\"\"","v":""},{"$f":"\"\"","v":""},{"$f":"\"\"","v":""},{"$f":"\"\"","v":""},{"$f":"\"\"","v":""}]
[null,850,40285,50285,60285,70285,80285,90285,null,"Głębokość obudowy D","Boki pełne IP-43/55,  Wysokość obudowy H",null,null,null,null,4,null,null,null,null,null,null,null,null,null,null,null,null,null,null,null,null,null,null,null,null,null,null,null,null,null,null,null,null,null,null,null,null,null,null,null,null,null,null,null,null,null,null,null,null,null,null,null,null,null,null,null,null,null,null,null,null,null,null,null,null,null,null,null,null,{"$f":"IF(Selection!$Y$32=1,\"Panel osłonowy pełny\",\"Plain front plate\")","v":"Plain front plate"},null,{"$f":"IF($BA$12>1,0,IF(CE175<13,0,IF($BA$13>13,$BA$13-1,0)))","v":0},{"$f":"IF(Selection!$Y$32=1,\"2 modułowa\",\"2 modules\")","v":"2 modules"},null,null,null,null,null,null,null,null,null,null,null,null,null,null,null,null,{"$f":"IF(CW165=0,\"\",\"\")","v":""},"","","","","","","","","","","",null,null,null,null,null,null,null,null,null,null,null,null,null,null,null,null,null,null,null,null,null,null,null,null,null,null,null,null,null,null,null,null,null,null,null,"650+300",{"$f":"\"\"","v":""},{"$f":"\"\"","v":""},{"$f":"\"\"","v":""},{"$f":"\"\"","v":""},{"$f":"\"\"","v":""},{"$f":"\"\"","v":""}]
[null,"650+200",40285,50285,60285,70285,80285,90285,null,null,1200,1400,1600,1800,2000,2200,null,"Szerokość obudowy","Osłona tylna went. IP43   Wysokość",null,null,9,null,"Pole 2",null,null,null,null,null,null,null,null,null,null,null,null,null,null,null,null,null,null,null,null,null,null,null,null,null,null,null,null,null,null,null,null,null,null,null,null,null,null,null,null,null,null,null,null,null,null,null,null,null,null,null,null,null,null,null,null,{"$f":"IF(Selection!$Y$32=1,\"Panel osłonowy modułowy\",\"Modular front plate\")","v":"Modular front plate"},null,null,{"$f":"IF(Selection!$Y$32=1,\"3 modułowa\",\"3 modules\")","v":"3 modules"},null,null,null,null,null,null,null,null,null,null,null,null,null,null,null,null,{"$f":"IF(CW165=0,\"\",\"\")","v":""},"","","","","","","","","","","",null,null,null,null,null,null,null,null,null,null,null,null,null,null,null,null,null,null,null,null,null,null,null,null,null,null,null,null,null,null,null,null,null,null,null,"650+400",{"$f":"\"\"","v":""},{"$f":"\"\"","v":""},{"$f":"\"\"","v":""},{"$f":"\"\"","v":""},{"$f":"\"\"","v":""},{"$f":"\"\"","v":""}]
[null,1000,40210,50210,60210,70210,80210,90210,null,230,49523,59523,69523,79523,89523,99523,null,null,"H 1200","H 1400","H 1600","H 1800","H 2000","H 2200",null,null,null,null,null,null,null,null,null,null,null,null,null,null,null,null,null,null,null,null,null,null,null,null,null,null,null,null,null,null,null,null,null,null,null,null,null,null,null,null,null,null,null,null,null,null,null,null,null,null,null,null,null,null,null,null,{"$f":"IF(Selection!$Y$32=1,\"Panel osłonowy przeszklony\",\"Transparent front plate\")","v":"Transparent front plate"},null,null,{"$f":"IF(Selection!$Y$32=1,\"4 modułowa\",\"4 modules\")","v":"4 modules"},null,null,null,null,null,null,null,null,null,null,null,null,null,null,null,null,{"$f":"IF(CW165=0,\"\",\"\")","v":""},"","","","","","","","","","","",null,null,null,null,null,null,null,null,null,null,null,null,null,null,null,null,null,null,null,null,null,null,null,null,null,null,null,null,null,null,null,null,null,null,null,"850+300",{"$f":"\"\"","v":""},{"$f":"\"\"","v":""},{"$f":"\"\"","v":""},{"$f":"\"\"","v":""},{"$f":"\"\"","v":""},{"$f":"\"\"","v":""}]
[null,1200,40212,50212,60212,70212,80212,90212,null,300,49530,59530,69530,79530,89530,99530,null,"Brak",{"$f":"\"\"","v":""},{"$f":"\"\"","v":""},{"$f":"\"\"","v":""},{"$f":"\"\"","v":""},{"$f":"\"\"","v":""},{"$f":"\"\"","v":""},null,null,null,null,null,null,null,null,null,null,null,null,null,null,null,null,null,null,null,null,null,null,null,null,null,null,null,null,null,null,null,null,null,null,null,null,null,null,null,null,null,null,null,null,null,null,null,null,null,null,null,null,null,null,null,null,{"$f":"IF(Selection!$Y$32=1,\"Szyna montażowa TS35D stała\",\"Fixed TS35D rail\")","v":"Fixed TS35D rail"},null,null,{"$f":"IF(Selection!$Y$32=1,\"5 modułowa\",\"5 modules\")","v":"5 modules"},null,null,null,null,null,null,null,null,null,null,null,null,null,null,null,null,{"$f":"IF(CW165=0,\"\",\"\")","v":""},"","","","","","","","","","","",null,null,null,null,null,null,null,null,null,null,null,null,null,null,null,null,null,null,null,null,null,null,null,null,null,null,null,null,null,null,null,null,null,null,null,"850+400",{"$f":"\"\"","v":""},{"$f":"\"\"","v":""},{"$f":"\"\"","v":""},{"$f":"\"\"","v":""},{"$f":"\"\"","v":""},{"$f":"\"\"","v":""}]
[null,1300,40213,50213,60213,70213,80213,90213,null,400,49540,59540,69540,79540,89540,99540,null,300,41430,51430,61430,71430,81430,91430,null,null,null,null,null,null,null,null,null,null,null,null,null,null,null,null,null,null,null,null,null,null,null,null,null,null,null,null,null,null,null,null,null,null,null,null,null,null,null,null,null,null,null,null,null,null,null,null,null,null,null,null,null,null,null,null,{"$f":"IF(Selection!$Y$32=1,\"Szyna montażowa TS35D regulowana\",\"Adjustable TS35D rail\")","v":"Adjustable TS35D rail"},null,null,{"$f":"IF(Selection!$Y$32=1,\"6 modułowa\",\"6 modules\")","v":"6 modules"},null,null,null,null,null,null,null,null,null,null,null,null,null,null,null,null,null,null,null,null,null,null,null,null,null,null,null,null,null,null,null,null,null,null,null,null,null,null,null,null,null,null,null,null,null,null,null,null,null,null,null,null,null,null,null,null,null,null,null,null,null,null,null,"150+650+300",{"$f":"\"\"","v":""},{"$f":"\"\"","v":""},{"$f":"\"\"","v":""},{"$f":"\"\"","v":""},{"$f":"\"\"","v":""},{"$f":"\"\"","v":""}]
[null,"650+612",40265,50265,60265,70265,80265,90265,null,600,49560,59560,69560,79560,89560,99560,null,400,41440,51440,61440,71440,81440,91440,null,null,null,null,null,null,null,null,null,null,null,null,null,null,null,null,null,null,null,null,null,null,null,null,null,null,null,null,null,null,null,null,null,null,null,null,null,null,null,null,null,null,null,null,null,null,null,null,null,null,null,null,null,null,null,null,{"$f":"IF(Selection!$Y$32=1,\"Płyta montażowa pełna ocynkowana\",\"Plain mounting plate\")","v":"Plain mounting plate"},null,null,{"$f":"IF(Selection!$Y$32=1,\"7 modułowa\",\"7 modules\")","v":"7 modules"},null,null,null,null,null,null,null,null,null,null,null,null,null,null,null,null,null,null,null,null,null,null,null,null,null,null,null,null,null,null,null,null,null,null,null,null,null,null,null,null,null,null,null,null,null,null,null,null,null,null,null,null,null,null,null,null,null,null,null,null,null,null,null,"150+650+400",{"$f":"\"\"","v":""},{"$f":"\"\"","v":""},{"$f":"\"\"","v":""},{"$f":"\"\"","v":""},{"$f":"\"\"","v":""},{"$f":"\"\"","v":""}]
[null,"650+812",40285,50285,60285,70285,80285,90285,null,800,49580,59580,69580,79580,89580,99580,null,450,41445,51445,61445,71445,81445,91445,null,null,null,null,null,null,null,null,null,null,null,null,null,null,null,null,null,null,null,null,null,null,null,null,null,null,null,null,null,null,null,null,null,null,null,null,null,null,null,null,null,null,null,null,null,null,null,null,null,null,null,null,null,null,null,null,{"$f":"IF(Selection!$Y$32=1,\"Płyta montażowa otworowana ocynk\",\"Painted mounting plate\")","v":"Painted mounting plate"},null,null,{"$f":"IF(Selection!$Y$32=1,\"8 modułowa\",\"8 modules\")","v":"8 modules"},null,null,null,null,null,null,null,null,null,null,null,null,null,null,null,"Pusty - 11","1 mod.","2 mod.","3 mod.","4 mod.","5 mod.","6 mod.","7 mod.","8 mod.","9 mod.","10 mod.","11 mod.","12 mod."]
[null,"850+812",40285,50285,60285,70285,80285,90285,null,null,null,null,null,null,null,null,null,600,41460,51460,61460,71460,81460,91460,null,null,null,null,null,null,null,null,null,null,null,null,null,null,null,null,null,null,null,null,null,null,null,null,null,null,null,null,null,null,null,null,null,null,null,null,null,null,null,null,null,null,null,null,null,null,null,null,null,null,null,null,null,null,null,null,{"$f":"IF(Selection!$Y$32=1,\"Płyta montażowa pozioma ocynk\",\"Horizontal plain mounting plate\")","v":"Horizontal plain mounting plate"},null,null,{"$f":"IF(Selection!$Y$32=1,\"9 modułowa\",\"9 modules\")","v":"9 modules"},null,null,null,null,null,null,null,null,null,null,null,null,null,null,null,"Brak",{"$f":"IF(CW183=0,\"\",\"\")","v":""},"","","","","","","","","","",""]
[null,"650+300",40230,50230,60230,70230,80230,90230,null,"Głębokość obudowy D","Boki stałe pełne,  Wysokość obudowy H",null,null,null,null,5,null,650,41465,51465,61465,71465,81465,91465,null,null,null,null,null,null,null,null,null,null,null,null,null,null,null,null,null,null,null,null,null,null,null,null,null,null,null,null,null,null,null,null,null,null,null,null,null,null,null,null,null,null,null,null,null,null,null,null,null,null,null,null,null,null,null,null,{"$f":"IF(Selection!$Y$32=1,\"Zabudowa licznikowa\",\"kWh mounting plate\")","v":"kWh mounting plate"},null,null,{"$f":"IF(Selection!$Y$32=1,\"10 modułowa\",\"10 modules\")","v":"10 modules"},null,null,null,null,null,null,null,null,null,null,null,null,null,null,null,"Osłona pełna",{"$f":"IF(CW183=0,\"\",\"\")","v":""},"","","","","","","","","","","",null,null,null,null,null,null,null,null,null,null,null,null,null,null,null,null,null,null,null,null,null,null,null,null,null,null,null,null,null,null,null,null,null,null,null,"Szerokość obudowy","Drzwi wewnętrzne   Wysokość, Pole 1,3",null,null,null,4,null,null,"Szerokość obudowy","Drzwi wewnetrzne   Wysokość, Pole 2",null,null,null,4]
[null,"650+400",40240,50240,60240,70240,80240,90240,null,null,1200,1400,1600,1800,2000,2200,null,800,41480,51480,61480,71480,81480,91480,null,null,null,null,null,null,null,null,null,null,null,null,null,null,null,null,null,null,null,null,null,null,null,null,null,null,null,null,null,null,null,null,null,null,null,null,null,null,null,null,null,null,null,null,null,null,null,null,null,null,null,null,null,null,null,null,null,null,null,{"$f":"IF(Selection!$Y$32=1,\"11 modułowa\",\"11 modules\")","v":"11 modules"},null,null,null,null,null,null,null,null,null,null,null,null,null,null,null,"Osł. modułowa",{"$f":"IF(CW183=0,\"\",\"\")","v":""},"","","","","","","","","","","",null,null,null,null,null,null,null,null,null,null,null,null,null,null,null,null,null,null,null,null,null,null,null,null,null,null,null,null,null,null,null,null,null,null,null,null,"H 1200","H 1400","H 1600","H 1800","H 2000","H 2200",null,null,"H 1200","H 1400","H 1600","H 1800","H 2000","H 2200"]
[null,"850+300",40230,50230,60230,70230,80230,90230,null,230,49324,59324,69324,79324,89324,99324,null,"650+150",41480,51480,61480,71480,81480,91480,null,null,null,null,null,null,null,null,null,null,null,null,null,null,null,null,null,null,null,null,null,null,null,null,null,null,null,null,null,null,null,null,null,null,null,null,null,null,null,null,null,null,null,null,null,null,null,null,null,null,null,null,null,null,null,null,null,null,null,{"$f":"IF(Selection!$Y$32=1,\"12 modułowa\",\"12 modules\")","v":"12 modules"},null,null,null,null,null,null,null,null,null,null,null,null,null,null,null,"Osł. przeszklona",{"$f":"IF(CW183=0,\"\",\"\")","v":""},"","","","","","","","","","","",null,null,null,null,null,null,null,null,null,null,null,null,null,null,null,null,null,null,null,null,null,null,null,null,null,null,null,null,null,null,null,null,null,null,null,"Brak",{"$f":"\"\"","v":""},{"$f":"\"\"","v":""},{"$f":"\"\"","v":""},{"$f":"\"\"","v":""},{"$f":"\"\"","v":""},{"$f":"\"\"","v":""},null,"Brak",{"$f":"\"\"","v":""},{"$f":"\"\"","v":""},{"$f":"\"\"","v":""},{"$f":"\"\"","v":""},{"$f":"\"\"","v":""},{"$f":"\"\"","v":""}]
[null,"850+400",40240,50240,60240,70240,80240,90240,null,300,49331,59331,69331,79331,89331,99331,null,850,41485,51485,61485,71485,81485,91485,null,null,null,null,null,null,null,null,null,null,null,null,null,null,null,null,null,null,null,null,null,null,null,null,null,null,null,null,null,null,null,null,null,null,null,null,null,null,null,null,null,null,null,null,null,null,null,null,null,null,null,null,null,null,null,{"$f":"IF(CE193=14,14,IF(CP46=1,$BA$15,CB193))","v":1},null,null,{"$f":"IF(CP46=1,BD4,CE193)","v":1},{"$f":"IF(Selection!$Y$32=1,\"Płyta pełna ocynkowana\",\"Plain mounting plate\")","v":"Plain mounting plate"},null,null,null,null,null,null,null,null,null,null,null,null,null,null,null,"Szyna stała TS35",{"$f":"IF(CW183=0,\"\",\"\")","v":""},"","","","","","","","","","","",null,null,null,null,null,null,null,null,null,null,null,null,null,null,null,null,null,null,null,null,null,null,null,null,null,null,null,null,null,null,null,null,null,null,null,300,45330,55330,65330,75330,85330,95330,null,300,45330,55330,65330,75330,85330,95330]
[null,"150+650+300",40230,50230,60230,70230,80230,90230,null,400,49341,59341,69341,79341,89341,99341,null,"650+200",41485,51485,61485,71485,81485,91485,null,null,null,null,null,null,null,null,null,null,null,null,null,null,null,null,null,null,null,null,null,null,null,null,null,null,null,null,null,null,null,null,null,null,null,null,null,null,null,null,null,null,null,null,null,null,null,null,null,null,null,null,null,null,null,{"$f":"IF(CE192=14,25,IF(CO46=1,$BA$12,CB192))","v":1},null,null,{"$f":"IF(CO46=1,BD4,CE192)","v":1},{"$f":"IF(Selection!$Y$32=1,\"Łącznik płyt pełnych\",\"Plates connector\")","v":"Plates connector"},null,null,null,null,null,null,null,null,null,null,null,null,null,null,null,"Szyna reg.TS35",{"$f":"IF(CW183=0,\"\",\"\")","v":""},"","","","","","","","","","","",null,null,null,null,null,null,null,null,null,null,null,null,null,null,null,null,null,null,null,null,null,null,null,null,null,null,null,null,null,null,null,null,null,null,null,400,45340,55340,65340,75340,85340,95340,null,400,45340,55340,65340,75340,85340,95340]
[null,"150+650+400",40240,50240,60240,70240,80240,90240,null,600,49361,59361,69361,79361,89361,99361,null,1000,41410,51410,61410,71410,81410,91410,null,null,null,null,null,null,null,null,null,null,null,null,null,null,null,null,null,null,null,null,null,null,null,null,null,null,null,null,null,null,null,null,null,null,null,null,null,null,null,null,null,null,null,null,null,null,null,null,null,null,null,null,null,null,null,{"$f":"IF(CE191=14,23,IF(CN46=1,$BA$13,CB191))","v":1},null,null,{"$f":"IF(CN46=1,BD4,CE191)","v":1},null,null,null,null,null,null,null,null,null,null,null,null,null,null,null,null,"Płyta ocynk pełna",{"$f":"IF(CW183=0,\"\",\"\")","v":""},"","","","","","","","","","","",null,null,null,null,null,null,null,null,null,null,null,null,null,null,null,null,null,null,null,null,null,null,null,null,null,null,null,null,null,null,null,null,null,null,null,450,{"$f":"\"\"","v":""},{"$f":"\"\"","v":""},{"$f":"\"\"","v":""},{"$f":"\"\"","v":""},{"$f":"\"\"","v":""},{"$f":"\"\"","v":""},null,450,{"$f":"\"\"","v":""},{"$f":"\"\"","v":""},{"$f":"\"\"","v":""},{"$f":"\"\"","v":""},{"$f":"\"\"","v":""},{"$f":"\"\"","v":""}]
[null,null,null,null,null,null,null,null,null,800,49381,59381,69381,79381,89381,99381,null,1200,41412,51412,61412,71412,81412,91412,null,null,null,null,null,null,null,null,null,null,null,null,null,null,null,null,null,null,null,null,null,null,null,null,null,null,null,null,null,null,null,null,null,null,null,null,null,null,null,null,null,null,null,null,null,null,null,null,null,null,null,null,null,null,null,1,12,null,1,12,null,null,null,null,null,null,null,null,null,null,null,null,null,null,null,"Płyta malow.otw.",{"$f":"IF(CW183=0,\"\",\"\")","v":""},"","","","","","","","","","","",null,null,null,null,null,null,null,null,null,null,null,null,null,null,null,null,null,null,null,null,null,null,null,null,null,null,null,null,null,null,null,null,null,null,null,600,{"$f":"\"\"","v":""},{"$f":"\"\"","v":""},{"$f":"\"\"","v":""},{"$f":"\"\"","v":""},{"$f":"\"\"","v":""},{"$f":"\"\"","v":""},null,600,{"$f":"\"\"","v":""},{"$f":"\"\"","v":""},{"$f":"\"\"","v":""},{"$f":"\"\"","v":""},{"$f":"\"\"","v":""},{"$f":"\"\"","v":""}]
[null,null,null,null,null,null,null,null,null,null,null,null,null,null,null,null,null,1300,41413,51413,61413,71413,81413,91413,null,null,null,null,null,null,null,null,null,null,null,null,null,null,null,null,null,null,null,null,null,null,null,null,null,null,null,null,null,null,null,null,null,null,null,null,null,null,null,null,null,null,null,null,null,null,null,null,null,null,null,null,null,null,null,1,"Osłony",null,1,"Ilość mod.",null,null,null,null,null,null,null,null,null,null,null,null,null,null,null,"Płyta oc. pozioma",{"$f":"IF(CW183=0,\"\",\"\")","v":""},"","","","","","","","","","","",null,null,null,null,null,null,null,null,null,null,null,null,null,null,null,null,null,null,null,null,null,null,null,null,null,null,null,null,null,null,null,null,null,null,null,650,{"$f":"\"\"","v":""},{"$f":"\"\"","v":""},{"$f":"\"\"","v":""},{"$f":"\"\"","v":""},{"$f":"\"\"","v":""},{"$f":"\"\"","v":""},null,650,{"$f":"\"\"","v":""},{"$f":"\"\"","v":""},{"$f":"\"\"","v":""},{"$f":"\"\"","v":""},{"$f":"\"\"","v":""},{"$f":"\"\"","v":""}]
[null,null,null,null,null,null,null,null,null,"Głębokość obudowy D","Boki stałe wentylowane IP-30,  Wysokość obudowy H",null,null,null,null,6,null,"650+612",41465,51465,61465,71465,81465,91465,null,null,null,null,null,null,null,null,null,null,null,null,null,null,null,null,null,null,null,null,null,null,null,null,null,null,null,null,null,null,null,null,null,null,null,null,null,null,null,null,null,null,null,null,null,null,null,null,null,null,null,null,null,null,null,1,{"$f":"IF(Selection!$Y$32=1,\"Brak\",\"None\")","v":"None"},null,1,{"$f":"IF(Selection!$Y$32=1,\"1 modułowa\",\"1 module\")","v":"1 module"},null,null,null,null,null,null,null,null,null,null,null,null,null,null,null,"Płyta licznikowa",{"$f":"IF(CW183=0,\"\",\"\")","v":""},"","","","","","","","","","","",null,null,null,null,null,null,null,null,null,null,null,null,null,null,null,null,null,null,null,null,null,null,null,null,null,null,null,null,null,null,null,null,null,null,null,800,{"$f":"\"\"","v":""},{"$f":"\"\"","v":""},{"$f":"\"\"","v":""},{"$f":"\"\"","v":""},{"$f":"\"\"","v":""},{"$f":"\"\"","v":""},null,800,{"$f":"\"\"","v":""},{"$f":"\"\"","v":""},{"$f":"\"\"","v":""},{"$f":"\"\"","v":""},{"$f":"\"\"","v":""},{"$f":"\"\"","v":""}]
[null,"Szerokość obudowy","Drzwi wentyl. IP43   Wysokość",null,null,7,null,"Pole 2",null,null,1200,1400,1600,1800,2000,2200,null,"650+812",41485,51485,61485,71485,81485,91485,null,null,null,null,null,null,null,null,null,null,null,null,null,null,null,null,null,null,null,null,null,null,null,null,null,null,null,null,null,null,null,null,null,null,null,null,null,null,null,null,null,null,null,null,null,null,null,null,null,null,null,null,null,null,null,null,{"$f":"IF(Selection!$Y$32=1,\"Panel osłonowy pełny\",\"Plain front plate\")","v":"Plain front plate"},null,{"$f":"IF($BA$12>1,0,IF(CE192<13,0,IF($BA$13>13,$BA$13-1,0)))","v":0},{"$f":"IF(Selection!$Y$32=1,\"2 modułowa\",\"2 modules\")","v":"2 modules"},null,null,null,null,null,null,null,null,null,null,null,null,null,null,null,null,{"$f":"IF(CW183=0,\"\",\"\")","v":""},"","","","","","","","","","","",null,null,null,null,null,null,null,null,null,null,null,null,null,null,null,null,null,null,null,null,null,null,null,null,null,null,null,null,null,null,null,null,null,null,null,"650+150",{"$f":"\"\"","v":""},{"$f":"\"\"","v":""},{"$f":"\"\"","v":""},{"$f":"\"\"","v":""},{"$f":"\"\"","v":""},{"$f":"\"\"","v":""},null,"650+150",{"$f":"\"\"","v":""},{"$f":"\"\"","v":""},{"$f":"\"\"","v":""},{"$f":"\"\"","v":""},{"$f":"\"\"","v":""},{"$f":"\"\"","v":""}]
[null,null,"H 1200","H 1400","H 1600","H 1800","H 2000","H 2200",null,230,49224,59224,69224,79224,89224,99224,null,"850+812",41485,51485,61485,71485,81485,91485,null,null,null,null,null,null,null,null,null,null,null,null,null,null,null,null,null,null,null,null,null,null,null,null,null,null,null,null,null,null,null,null,null,null,null,null,null,null,null,null,null,null,null,null,null,null,null,null,null,null,null,null,null,null,null,null,{"$f":"IF(Selection!$Y$32=1,\"Panel osłonowy modułowy\",\"Modular front plate\")","v":"Modular front plate"},null,null,{"$f":"IF(Selection!$Y$32=1,\"3 modułowa\",\"3 modules\")","v":"3 modules"},null,null,null,null,null,null,null,null,null,null,null,null,null,null,null,null,{"$f":"IF(CW183=0,\"\",\"\")","v":""},"","","","","","","","","","","",null,null,null,null,null,null,null,null,null,null,null,null,null,null,null,null,null,null,null,null,null,null,null,null,null,null,null,null,null,null,null,null,null,null,null,850,{"$f":"\"\"","v":""},{"$f":"\"\"","v":""},{"$f":"\"\"","v":""},{"$f":"\"\"","v":""},{"$f":"\"\"","v":""},{"$f":"\"\"","v":""},null,850,{"$f":"\"\"","v":""},{"$f":"\"\"","v":""},{"$f":"\"\"","v":""},{"$f":"\"\"","v":""},{"$f":"\"\"","v":""},{"$f":"\"\"","v":""}]
[null,"Brak",{"$f":"IF(C195=0,\"\",\"\")","v":""},"","","","","",null,300,49231,59231,69231,79231,89231,99231,null,"650+300",{"$f":"\"\"","v":""},{"$f":"\"\"","v":""},{"$f":"\"\"","v":""},{"$f":"\"\"","v":""},{"$f":"\"\"","v":""},{"$f":"\"\"","v":""},null,null,null,null,null,null,null,null,null,null,null,null,null,null,null,null,null,null,null,null,null,null,null,null,null,null,null,null,null,null,null,null,null,null,null,null,null,null,null,null,null,null,null,null,null,null,null,null,null,null,null,null,null,null,null,null,{"$f":"IF(Selection!$Y$32=1,\"Panel osłonowy przeszklony\",\"Transparent front plate\")","v":"Transparent front plate"},null,null,{"$f":"IF(Selection!$Y$32=1,\"4 modułowa\",\"4 modules\")","v":"4 modules"},null,null,null,null,null,null,null,null,null,null,null,null,null,null,null,null,{"$f":"IF(CW183=0,\"\",\"\")","v":""},"","","","","","","","","","","",null,null,null,null,null,null,null,null,null,null,null,null,null,null,null,null,null,null,null,null,null,null,null,null,null,null,null,null,null,null,null,null,null,null,null,"650+200",{"$f":"\"\"","v":""},{"$f":"\"\"","v":""},{"$f":"\"\"","v":""},{"$f":"\"\"","v":""},{"$f":"\"\"","v":""},{"$f":"\"\"","v":""},null,"650+200",{"$f":"\"\"","v":""},{"$f":"\"\"","v":""},{"$f":"\"\"","v":""},{"$f":"\"\"","v":""},{"$f":"\"\"","v":""},{"$f":"\"\"","v":""}]
[null,300,40430,50430,60430,70430,80430,90430,null,400,49241,59241,69241,79241,89241,99241,null,"650+400",{"$f":"\"\"","v":""},{"$f":"\"\"","v":""},{"$f":"\"\"","v":""},{"$f":"\"\"","v":""},{"$f":"\"\"","v":""},{"$f":"\"\"","v":""},null,null,null,null,null,null,null,null,null,null,null,null,null,null,null,null,null,null,null,null,null,null,null,null,null,null,null,null,null,null,null,null,null,null,null,null,null,null,null,null,null,null,null,null,null,null,null,null,null,null,null,null,null,null,null,null,{"$f":"IF(Selection!$Y$32=1,\"Szyna montażowa TS35D stała\",\"Fixed TS35D rail\")","v":"Fixed TS35D rail"},null,null,{"$f":"IF(Selection!$Y$32=1,\"5 modułowa\",\"5 modules\")","v":"5 modules"},null,null,null,null,null,null,null,null,null,null,null,null,null,null,null,null,{"$f":"IF(CW183=0,\"\",\"\")","v":""},"","","","","","","","","","","",null,null,null,null,null,null,null,null,null,null,null,null,null,null,null,null,null,null,null,null,null,null,null,null,null,null,null,null,null,null,null,null,null,null,null,1000,{"$f":"\"\"","v":""},{"$f":"\"\"","v":""},{"$f":"\"\"","v":""},{"$f":"\"\"","v":""},{"$f":"\"\"","v":""},{"$f":"\"\"","v":""},null,1000,{"$f":"\"\"","v":""},{"$f":"\"\"","v":""},{"$f":"\"\"","v":""},{"$f":"\"\"","v":""},{"$f":"\"\"","v":""},{"$f":"\"\"","v":""}]
[null,400,40440,50440,60440,70440,80440,90440,null,600,49261,59261,69261,79261,89261,99261,null,"850+300",41430,51430,61430,71430,81430,91430,null,null,null,null,null,null,null,null,null,null,null,null,null,null,null,null,null,null,null,null,null,null,null,null,null,null,null,null,null,null,null,null,null,null,null,null,null,null,null,null,null,null,null,null,null,null,null,null,null,null,null,null,null,null,null,null,{"$f":"IF(Selection!$Y$32=1,\"Szyna montażowa TS35D regulowana\",\"Adjustable TS35D rail\")","v":"Adjustable TS35D rail"},null,null,{"$f":"IF(Selection!$Y$32=1,\"6 modułowa\",\"6 modules\")","v":"6 modules"},null,null,null,null,null,null,null,null,null,null,null,null,null,null,null,null,{"$f":"IF(CW183=0,\"\",\"\")","v":""},"","","","","","","","","","","",null,null,null,null,null,null,null,null,null,null,null,null,null,null,null,null,null,null,null,null,null,null,null,null,null,null,null,null,null,null,null,null,null,null,null,1200,{"$f":"\"\"","v":""},{"$f":"\"\"","v":""},{"$f":"\"\"","v":""},{"$f":"\"\"","v":""},{"$f":"\"\"","v":""},{"$f":"\"\"","v":""},null,1200,{"$f":"\"\"","v":""},{"$f":"\"\"","v":""},{"$f":"\"\"","v":""},{"$f":"\"\"","v":""},{"$f":"\"\"","v":""},{"$f":"\"\"","v":""}]
[null,450,40445,50445,60445,70445,80445,90445,null,800,49281,59281,69281,79281,89281,99281,null,"850+400",41440,51440,61440,71440,81440,91440,null,null,null,null,null,null,null,null,null,null,null,null,null,null,null,null,null,null,null,null,null,null,null,null,null,null,null,null,null,null,null,null,null,null,null,null,null,null,null,null,null,null,null,null,null,null,null,null,null,null,null,null,null,null,null,null,{"$f":"IF(Selection!$Y$32=1,\"Płyta montażowa pełna ocynkowana\",\"Plain mounting plate\")","v":"Plain mounting plate"},null,null,{"$f":"IF(Selection!$Y$32=1,\"7 modułowa\",\"7 modules\")","v":"7 modules"},null,null,null,null,null,null,null,null,null,null,null,null,null,null,null,null,null,null,null,null,null,null,null,null,null,null,null,null,null,null,null,null,null,null,null,null,null,null,null,null,null,null,null,null,null,null,null,null,null,null,null,null,null,null,null,null,null,null,null,null,null,null,null,1300,{"$f":"\"\"","v":""},{"$f":"\"\"","v":""},{"$f":"\"\"","v":""},{"$f":"\"\"","v":""},{"$f":"\"\"","v":""},{"$f":"\"\"","v":""},null,1300,{"$f":"\"\"","v":""},{"$f":"\"\"","v":""},{"$f":"\"\"","v":""},{"$f":"\"\"","v":""},{"$f":"\"\"","v":""},{"$f":"\"\"","v":""}]
[null,600,40460,50460,60460,70460,80460,90460,null,null,null,null,null,null,null,null,null,"650+150+300",41430,51430,61430,71430,81430,91430,null,null,null,null,null,null,null,null,null,null,null,null,null,null,null,null,null,null,null,null,null,null,null,null,null,null,null,null,null,null,null,null,null,null,null,null,null,null,null,null,null,null,null,null,null,null,null,null,null,null,null,null,null,null,null,null,{"$f":"IF(Selection!$Y$32=1,\"Płyta montażowa otworowana ocynk\",\"Painted mounting plate\")","v":"Painted mounting plate"},null,null,{"$f":"IF(Selection!$Y$32=1,\"8 modułowa\",\"8 modules\")","v":"8 modules"},null,null,null,null,null,null,null,null,null,null,null,null,null,null,null,null,null,null,null,null,null,null,null,null,null,null,null,null,null,null,null,null,null,null,null,null,null,null,null,null,null,null,null,null,null,null,null,null,null,null,null,null,null,null,null,null,null,null,null,null,null,null,null,"650+650",{"$f":"\"\"","v":""},{"$f":"\"\"","v":""},{"$f":"\"\"","v":""},{"$f":"\"\"","v":""},{"$f":"\"\"","v":""},{"$f":"\"\"","v":""},null,"650+650",{"$f":"\"\"","v":""},{"$f":"\"\"","v":""},{"$f":"\"\"","v":""},{"$f":"\"\"","v":""},{"$f":"\"\"","v":""},{"$f":"\"\"","v":""}]
[null,650,40465,50465,60465,70465,80465,90465,null,"Głębokość obudowy D","Boki stałe wentylowane IP-43/54,  Wysokość obudowy H",null,null,null,null,7,null,"650+150+400",41440,51440,61440,71440,81440,91440,null,null,null,null,null,null,null,null,null,null,null,null,null,null,null,null,null,null,null,null,null,null,null,null,null,null,null,null,null,null,null,null,null,null,null,null,null,null,null,null,null,null,null,null,null,null,null,null,null,null,null,null,null,null,null,null,{"$f":"IF(Selection!$Y$32=1,\"Płyta montażowa pozioma ocynk\",\"Horizontal plain mounting plate\")","v":"Horizontal plain mounting plate"},null,null,{"$f":"IF(Selection!$Y$32=1,\"9 modułowa\",\"9 modules\")","v":"9 modules"},null,null,null,null,null,null,null,null,null,null,null,null,null,null,null,null,null,null,null,null,null,null,null,null,null,null,null,null,null,null,null,null,null,null,null,null,null,null,null,null,null,null,null,null,null,null,null,null,null,null,null,null,null,null,null,null,null,null,null,null,null,null,null,"650+850",{"$f":"\"\"","v":""},{"$f":"\"\"","v":""},{"$f":"\"\"","v":""},{"$f":"\"\"","v":""},{"$f":"\"\"","v":""},{"$f":"\"\"","v":""},null,"650+850",{"$f":"\"\"","v":""},{"$f":"\"\"","v":""},{"$f":"\"\"","v":""},{"$f":"\"\"","v":""},{"$f":"\"\"","v":""},{"$f":"\"\"","v":""}]
[null,800,40480,50480,60480,70480,80480,90480,null,null,1200,1400,1600,1800,2000,2200,null,null,null,null,null,null,null,null,null,null,null,null,null,null,null,null,null,null,null,null,null,null,null,null,null,null,null,null,null,null,null,null,null,null,null,null,null,null,null,null,null,null,null,null,null,null,null,null,null,null,null,null,null,null,null,null,null,null,null,null,null,null,null,null,{"$f":"IF(Selection!$Y$32=1,\"Zabudowa licznikowa\",\"kWh mounting plate\")","v":"kWh mounting plate"},null,null,{"$f":"IF(Selection!$Y$32=1,\"10 modułowa\",\"10 modules\")","v":"10 modules"},null,null,null,null,null,null,null,null,null,null,null,null,null,null,null,null,null,null,null,null,null,null,null,null,null,null,null,null,null,null,null,null,null,null,null,null,null,null,null,null,null,null,null,null,null,null,null,null,null,null,null,null,null,null,null,null,null,null,null,null,null,null,null,"850+850",{"$f":"\"\"","v":""},{"$f":"\"\"","v":""},{"$f":"\"\"","v":""},{"$f":"\"\"","v":""},{"$f":"\"\"","v":""},{"$f":"\"\"","v":""},null,"850+850",{"$f":"\"\"","v":""},{"$f":"\"\"","v":""},{"$f":"\"\"","v":""},{"$f":"\"\"","v":""},{"$f":"\"\"","v":""},{"$f":"\"\"","v":""}]
[null,"650+150",40480,50480,60480,70480,80480,90480,null,230,49424,59424,69424,79424,89424,99424,null,"Szerokość obudowy","Osłona tylna pełna IP55   Wysokość",null,null,8,null,"Pole 2",null,null,null,null,null,null,null,null,null,null,null,null,null,null,null,null,null,null,null,null,null,null,null,null,null,null,null,null,null,null,null,null,null,null,null,null,null,null,null,null,null,null,null,null,null,null,null,null,null,null,null,null,null,null,null,null,null,null,null,{"$f":"IF(Selection!$Y$32=1,\"11 modułowa\",\"11 modules\")","v":"11 modules"},null,null,null,null,null,null,null,null,null,null,null,null,null,null,null,null,null,null,null,null,null,null,null,null,null,null,null,null,null,null,null,null,null,null,null,null,null,null,null,null,null,null,null,null,null,null,null,null,null,null,null,null,null,null,null,null,null,null,null,null,null,null,null,"650+300",{"$f":"\"\"","v":""},{"$f":"\"\"","v":""},{"$f":"\"\"","v":""},{"$f":"\"\"","v":""},{"$f":"\"\"","v":""},{"$f":"\"\"","v":""},null,"650+300",45330,55330,65330,75330,85330,95330]
[null,850,40485,50485,60485,70485,80485,90485,null,300,49431,59431,69431,79431,89431,99431,null,null,"H 1200","H 1400","H 1600","H 1800","H 2000","H 2200",null,null,null,null,null,null,null,null,null,null,null,null,null,null,null,null,null,null,null,null,null,null,null,null,null,null,null,null,null,null,null,null,null,null,null,null,null,null,null,null,null,null,null,null,null,null,null,null,null,null,null,null,null,null,null,null,null,null,null,{"$f":"IF(Selection!$Y$32=1,\"12 modułowa\",\"12 modules\")","v":"12 modules"},null,null,null,null,null,null,null,null,null,null,null,null,null,null,null,null,null,null,null,null,null,null,null,null,null,null,null,null,null,null,null,null,null,null,null,null,null,null,null,null,null,null,null,null,null,null,null,null,null,null,null,null,null,null,null,null,null,null,null,null,null,null,null,"650+400",{"$f":"\"\"","v":""},{"$f":"\"\"","v":""},{"$f":"\"\"","v":""},{"$f":"\"\"","v":""},{"$f":"\"\"","v":""},{"$f":"\"\"","v":""},null,"650+400",45340,55340,65340,75340,85340,95340]
[null,"650+200",40485,50485,60485,70485,80485,90485,null,400,49441,59441,69441,79441,89441,99441,null,"Brak",{"$f":"\"\"","v":""},{"$f":"\"\"","v":""},{"$f":"\"\"","v":""},{"$f":"\"\"","v":""},{"$f":"\"\"","v":""},{"$f":"\"\"","v":""},null,null,null,null,null,null,null,null,null,null,null,null,null,null,null,null,null,null,null,null,null,null,null,null,null,null,null,null,null,null,null,null,null,null,null,null,null,null,null,null,null,null,null,null,null,null,null,null,null,null,null,null,null,null,null,null,null,null,null,{"$f":"IF(Selection!$Y$32=1,\"Płyta pełna ocynkowana\",\"Plain mounting plate\")","v":"Plain mounting plate"},null,null,null,null,null,null,null,null,null,null,null,null,null,null,null,null,null,null,null,null,null,null,null,null,null,null,null,null,null,null,null,null,null,null,null,null,null,null,null,null,null,null,null,null,null,null,null,null,null,null,null,null,null,null,null,null,null,null,null,null,null,null,null,"850+300",{"$f":"\"\"","v":""},{"$f":"\"\"","v":""},{"$f":"\"\"","v":""},{"$f":"\"\"","v":""},{"$f":"\"\"","v":""},{"$f":"\"\"","v":""},null,"850+300",45330,55330,65330,75330,85330,95330]
[null,1000,40410,50410,60410,70410,80410,90410,null,600,49461,59461,69461,79461,89461,99461,null,300,41530,51530,61530,71530,81530,91530,null,null,null,null,null,null,null,null,null,null,null,null,null,null,null,null,null,null,null,null,null,null,null,null,null,null,null,null,null,null,null,null,null,null,null,null,null,null,null,null,null,null,null,null,null,null,null,null,null,null,null,null,null,null,null,null,null,null,null,{"$f":"IF(Selection!$Y$32=1,\"Łącznik płyt pełnych\",\"Plates connector\")","v":"Plates connector"},null,null,null,null,null,null,null,null,null,null,null,null,null,null,null,null,null,null,null,null,null,null,null,null,null,null,null,null,null,null,null,null,null,null,null,null,null,null,null,null,null,null,null,null,null,null,null,null,null,null,null,null,null,null,null,null,null,null,null,null,null,null,null,"850+400",{"$f":"\"\"","v":""},{"$f":"\"\"","v":""},{"$f":"\"\"","v":""},{"$f":"\"\"","v":""},{"$f":"\"\"","v":""},{"$f":"\"\"","v":""},null,"850+400",45340,55340,65340,75340,85340,95340]
[null,1200,40412,50412,60412,70412,80412,90412,null,800,49481,59481,69481,79481,89481,99481,null,400,41540,51540,61540,71540,81540,91540,null,null,null,null,null,null,null,null,null,null,null,null,null,null,null,null,null,null,null,null,null,null,null,null,null,null,null,null,null,null,null,null,null,null,null,null,null,null,null,null,null,null,null,null,null,null,null,null,null,null,null,null,null,null,null,null,null,null,null,null,null,null,null,null,null,null,null,null,null,null,null,null,null,null,null,null,null,null,null,null,null,null,null,null,null,null,null,null,null,null,null,null,null,null,null,null,null,null,null,null,null,null,null,null,null,null,null,null,null,null,null,null,null,null,null,null,null,null,null,null,null,null,null,"150+650+300",{"$f":"\"\"","v":""},{"$f":"\"\"","v":""},{"$f":"\"\"","v":""},{"$f":"\"\"","v":""},{"$f":"\"\"","v":""},{"$f":"\"\"","v":""},null,"150+650+300",45330,55330,65330,75330,85330,95330]
[null,1300,40413,50413,60413,70413,80413,90413,null,null,null,null,null,null,null,null,null,450,41545,51545,61545,71545,81545,91545,null,null,null,null,null,null,null,null,null,null,null,null,null,null,null,null,null,null,null,null,null,null,null,null,null,null,null,null,null,null,null,null,null,null,null,null,null,null,null,null,null,null,null,null,null,null,null,null,null,null,null,null,null,null,null,null,null,null,null,null,null,null,null,null,null,null,null,null,null,null,null,null,null,null,null,null,null,null,null,null,null,null,null,null,null,null,null,null,null,null,null,null,null,null,null,null,null,null,null,null,null,null,null,null,null,null,null,null,null,null,null,null,null,null,null,null,null,null,null,null,null,null,null,"150+650+400",{"$f":"\"\"","v":""},{"$f":"\"\"","v":""},{"$f":"\"\"","v":""},{"$f":"\"\"","v":""},{"$f":"\"\"","v":""},{"$f":"\"\"","v":""},null,"150+650+400",45340,55340,65340,75340,85340,95340]
[null,"650+612",40465,50465,60465,70465,80465,90465,null,"Głębokość obudowy D","Boki pusty,  Wysokość obudowy H",null,null,null,null,8,null,600,41560,51560,61560,71560,81560,91560]
[null,"650+812",40485,50485,60485,70485,80485,90485,null,null,1200,1400,1600,1800,2000,2200,null,650,41565,51565,61565,71565,81565,91565]
[null,"850+812",40485,50485,60485,70485,80485,90485,null,230,{"$f":"\"\"","v":""},{"$f":"\"\"","v":""},{"$f":"\"\"","v":""},{"$f":"\"\"","v":""},{"$f":"\"\"","v":""},{"$f":"\"\"","v":""},null,800,41580,51580,61580,71580,81580,91580]
[null,"650+300",40430,50430,60430,70430,80430,90430,null,300,{"$f":"\"\"","v":""},{"$f":"\"\"","v":""},{"$f":"\"\"","v":""},{"$f":"\"\"","v":""},{"$f":"\"\"","v":""},{"$f":"\"\"","v":""},null,"650+150",41580,51580,61580,71580,81580,91580]
[null,"650+400",40440,50440,60440,70440,80440,90440,null,400,{"$f":"\"\"","v":""},{"$f":"\"\"","v":""},{"$f":"\"\"","v":""},{"$f":"\"\"","v":""},{"$f":"\"\"","v":""},{"$f":"\"\"","v":""},null,850,41585,51585,61585,71585,81585,91585]
[null,"850+300",40430,50430,60430,70430,80430,90430,null,600,{"$f":"\"\"","v":""},{"$f":"\"\"","v":""},{"$f":"\"\"","v":""},{"$f":"\"\"","v":""},{"$f":"\"\"","v":""},{"$f":"\"\"","v":""},null,"650+200",41585,51585,61585,71585,81585,91585]
[null,"850+400",40440,50440,60440,70440,80440,90440,null,800,{"$f":"\"\"","v":""},{"$f":"\"\"","v":""},{"$f":"\"\"","v":""},{"$f":"\"\"","v":""},{"$f":"\"\"","v":""},{"$f":"\"\"","v":""},null,1000,41510,51510,61510,71510,81510,91510]
[null,"150+650+300",40430,50430,60430,70430,80430,90430,null,null,null,null,null,null,null,null,null,1200,41512,51512,61512,71512,81512,91512]
[null,"150+650+400",40440,50440,60440,70440,80440,90440,null,null,null,null,null,null,null,null,null,1300,41513,51513,61513,71513,81513,91513]
[null,null,null,null,null,null,null,null,null,null,null,null,null,null,null,null,null,"650+612",41565,51565,61565,71565,81565,91565]
[null,null,null,null,null,null,null,null,null,null,null,null,null,null,null,null,null,"650+812",41585,51585,61585,71585,81585,91585]
[null,null,null,null,null,null,null,null,null,null,null,null,null,null,null,null,null,"850+812",41585,51585,61585,71585,81585,91585]
[null,"Szerokość obudowy","Drzwi pełne IP43/55   Wysokość",null,null,6,null,"Pole 2",null,null,null,null,null,null,null,null,null,"650+300",{"$f":"\"\"","v":""},{"$f":"\"\"","v":""},{"$f":"\"\"","v":""},{"$f":"\"\"","v":""},{"$f":"\"\"","v":""},{"$f":"\"\"","v":""}]
[null,null,"H 1200","H 1400","H 1600","H 1800","H 2000","H 2200",null,null,null,null,null,null,null,null,null,"650+400",{"$f":"\"\"","v":""},{"$f":"\"\"","v":""},{"$f":"\"\"","v":""},{"$f":"\"\"","v":""},{"$f":"\"\"","v":""},{"$f":"\"\"","v":""}]
[null,"Brak",{"$f":"IF(C222=0,\"\",\"\")","v":""},"","","","","",null,null,null,null,null,null,null,null,null,"850+300",41530,51530,61530,71530,81530,91530]
[null,300,40530,50530,60530,70530,80530,90530,null,null,null,null,null,null,null,null,null,"850+400",41540,51540,61540,71540,81540,91540]
[null,400,40540,50540,60540,70540,80540,90540,null,"Szerokość obudowy","Pokrywa górna IP30 wentylacja",null,null,null,"Pole 1,3",null,null,"650+150+300",41530,51530,61530,71530,81530,91530]
[null,450,40545,50545,60545,70545,80545,90545,null,null,230,300,400,600,800,null,null,"650+150+400",41540,51540,61540,71540,81540,91540]
[null,600,40560,50560,60560,70560,80560,90560,null,"Brak",{"$f":"\"\"","v":""},{"$f":"\"\"","v":""},{"$f":"\"\"","v":""},{"$f":"\"\"","v":""},{"$f":"\"\"","v":""}]
[null,650,40565,50565,60565,70565,80565,90565,null,300,30230,30330,30430,30630,30830]
[null,800,40580,50580,60580,70580,80580,90580,null,400,30240,30340,30440,30640,30840,null,null,"Szerokość obudowy","Pokrywa górna IP30 wentylacja",null,null,null,"Pole 2"]
[null,"650+150",40580,50580,60580,70580,80580,90580,null,450,30245,30345,30445,30645,30845,null,null,null,230,300,400,600,800]
[null,850,40585,50585,60585,70585,80585,90585,null,600,30260,30360,30460,30660,30860,null,null,"Brak",{"$f":"\"\"","v":""},{"$f":"\"\"","v":""},{"$f":"\"\"","v":""},{"$f":"\"\"","v":""},{"$f":"\"\"","v":""}]
[null,"650+200",40585,50585,60585,70585,80585,90585,null,650,30265,30365,30465,30665,30865,null,null,300,30230,30330,30430,30630,30830]
[null,1000,40510,50510,60510,70510,80510,90510,null,800,30280,30380,30480,30680,30880,null,null,400,30240,30340,30440,30640,30840]
[null,1200,40512,50512,60512,70512,80512,90512,null,"650+150",30280,30380,30480,30680,30880,null,null,450,30245,30345,30445,30645,30845]
[null,1300,40513,50513,60513,70513,80513,90513,null,850,30285,30385,30485,30685,30885,null,null,600,30260,30360,30460,30660,30860]
[null,"650+612",40565,50565,60565,70565,80565,90565,null,"650+200",30285,30385,30485,30685,30885,null,null,650,30265,30365,30465,30665,30865]
[null,"650+812",40585,50585,60585,70585,80585,90585,null,1000,30210,30310,30410,30610,30810,null,null,800,30280,30380,30480,30680,30880]
[null,"850+812",40585,50585,60585,70585,80585,90585,null,1200,30212,30312,30412,30612,30812,null,null,"650+150",30280,30380,30480,30680,30880]
[null,"650+300",40530,50530,60530,70530,80530,90530,null,1300,30213,30313,30413,30613,30813,null,null,850,30285,30385,30485,30685,30885]
[null,"650+400",40540,50540,60540,70540,80540,90540,null,"650+612",30265,30365,30465,30665,30865,null,null,"650+200",30285,30385,30485,30685,30885]
[null,"850+300",40530,50530,60530,70530,80530,90530,null,"650+812",30265,30365,30465,30665,30865,null,null,1000,30210,30310,30410,30610,30810]
[null,"850+400",40540,50540,60540,70540,80540,90540,null,"850+812",30285,30385,30485,30685,30885,null,null,1200,30212,30312,30412,30612,30812]
[null,"150+650+300",40530,50530,60530,70530,80530,90530,null,"650+300",30295,30395,30495,30695,30895,null,null,1300,30213,30313,30413,30613,30813]
[null,"150+650+400",40540,50540,60540,70540,80540,90540,null,"650+400",30211,30311,30411,30611,30811,null,null,"650+612",30265,30365,30465,30665,30865]
[null,null,null,null,null,null,null,null,null,"850+300",30218,30318,30418,30618,30818,null,null,"650+812",30285,30385,30485,30685,30885]
[null,null,null,null,null,null,null,null,null,"850+400",30219,30319,30419,30619,30819,null,null,"850+812",30285,30385,30485,30685,30885]
[null,null,null,null,null,null,null,null,null,"150+650+300",30222,30322,30422,30622,30822,null,null,"650+300",{"$f":"\"\"","v":""},{"$f":"\"\"","v":""},{"$f":"\"\"","v":""},{"$f":"\"\"","v":""},{"$f":"\"\"","v":""}]
[null,"Szerokość obudowy","Drzwi przeszklone IP55   Wysokość",null,null,3,null,"Pole 2",null,"150+650+400",30223,30323,30423,30623,30823,null,null,"650+400",{"$f":"\"\"","v":""},{"$f":"\"\"","v":""},{"$f":"\"\"","v":""},{"$f":"\"\"","v":""},{"$f":"\"\"","v":""}]
[null,null,"H 1200","H 1400","H 1600","H 1800","H 2000","H 2200",null,null,null,null,null,null,null,null,null,"850+300",{"$f":"\"\"","v":""},{"$f":"\"\"","v":""},{"$f":"\"\"","v":""},{"$f":"\"\"","v":""},{"$f":"\"\"","v":""}]
[null,"Brak",{"$f":"IF(C249=0,\"\",\"\")","v":""},"","","","","",null,null,null,null,null,null,null,null,null,"850+400",{"$f":"\"\"","v":""},{"$f":"\"\"","v":""},{"$f":"\"\"","v":""},{"$f":"\"\"","v":""},{"$f":"\"\"","v":""}]
[null,300,"","","","","","",null,"Szerokość obudowy","Pokrywa górna IP30",null,null,null,"Pole 1,3",null,null,"150+650+300",{"$f":"\"\"","v":""},{"$f":"\"\"","v":""},{"$f":"\"\"","v":""},{"$f":"\"\"","v":""},{"$f":"\"\"","v":""}]
[null,400,40640,50640,60640,70640,80640,90640,"`",null,230,300,400,600,800,null,null,"150+650+400",{"$f":"\"\"","v":""},{"$f":"\"\"","v":""},{"$f":"\"\"","v":""},{"$f":"\"\"","v":""},{"$f":"\"\"","v":""}]
[null,450,40645,50645,60645,70645,80645,90645,null,"Brak",{"$f":"\"\"","v":""},{"$f":"\"\"","v":""},{"$f":"\"\"","v":""},{"$f":"\"\"","v":""},{"$f":"\"\"","v":""}]
[null,600,40660,50660,60660,70660,80660,90660,null,300,31230,31330,31430,31630,31830]
[null,650,40665,50665,60665,70665,80665,90665,null,400,31240,31340,31440,31640,31840,null,null,"Szerokość obudowy","Pokrywa górna IP30",null,null,null,"Pole 2"]
[null,800,40680,50680,60680,70680,80680,90680,null,450,31245,31345,31445,31645,31845,null,null,null,230,300,400,600,800]
[null,"650+150",40680,50680,60680,70680,80680,90680,null,600,31260,31360,31460,31660,31860,null,null,"Brak",{"$f":"\"\"","v":""},{"$f":"\"\"","v":""},{"$f":"\"\"","v":""},{"$f":"\"\"","v":""},{"$f":"\"\"","v":""}]
[null,850,40685,50685,60685,70685,80685,90685,null,650,31265,31365,31465,31665,31865,null,null,300,31230,31330,31430,31630,31830]
[null,"650+200",40685,50685,60685,70685,80685,90685,null,800,31280,31380,31480,31680,31880,null,null,400,31240,31340,31440,31640,31840]
[null,1000,40610,50610,60610,70610,80610,90610,null,"650+150",31280,31380,31480,31680,31880,null,null,450,31245,31345,31445,31645,31845]
[null,1200,40612,50612,60612,70612,80612,90612,null,850,31285,31385,31485,31685,31885,null,null,600,31260,31360,31460,31660,31860]
[null,1300,40613,50613,60613,70613,80613,90613,null,"650+200",31285,31385,31485,31685,31885,null,null,650,31265,31365,31465,31665,31865]
[null,"650+612",40665,50665,60665,70665,80665,90665,null,1000,31210,31310,31410,31610,31810,null,null,800,31280,31380,31480,31680,31880]
[null,"650+812",40685,50685,60685,70685,80685,90685,null,1200,31212,31312,31412,31612,31812,null,null,"650+150",31280,31380,31480,31680,31880]
[null,"850+812",40685,50685,60685,70685,80685,90685,null,1300,31213,31313,31413,31613,31813,null,null,850,31285,31385,31485,31685,31885]
[null,"650+300",{"$f":"\"\"","v":""},{"$f":"\"\"","v":""},{"$f":"\"\"","v":""},{"$f":"\"\"","v":""},{"$f":"\"\"","v":""},{"$f":"\"\"","v":""},null,"650+612",31265,31365,31465,31665,31865,null,null,"650+200",31285,31385,31485,31685,31885]
[null,"650+400",40640,50640,60640,70640,80640,90640,null,"650+812",31265,31365,31465,31665,31865,null,null,1000,31210,31310,31410,31610,31810]
[null,"850+300",{"$f":"\"\"","v":""},{"$f":"\"\"","v":""},{"$f":"\"\"","v":""},{"$f":"\"\"","v":""},{"$f":"\"\"","v":""},{"$f":"\"\"","v":""},null,"850+812",31285,31385,31485,31685,31885,null,null,1200,31212,31312,31412,31612,31812]
[null,"850+400",40640,50640,60640,70640,80640,90640,null,"650+300",31295,31395,31495,31695,31895,null,null,1300,31213,31313,31413,31613,31813]
[null,"150+650+300",{"$f":"\"\"","v":""},{"$f":"\"\"","v":""},{"$f":"\"\"","v":""},{"$f":"\"\"","v":""},{"$f":"\"\"","v":""},{"$f":"\"\"","v":""},null,"650+400",31211,31311,31411,31611,31811,null,null,"650+612",31265,31365,31465,31665,31865]
[null,"150+650+400",40640,50640,60640,70640,80640,90640,null,"850+300",31218,31318,31418,31618,31818,null,null,"650+812",31285,31385,31485,31685,31885]
[null,null,null,null,null,null,null,null,null,"850+400",31219,31319,31419,31619,31819,null,null,"850+812",31285,31385,31485,31685,31885]
[null,null,null,null,null,null,null,null,null,"150+650+300",31222,31322,31422,31622,31822,null,null,"650+300",{"$f":"\"\"","v":""},{"$f":"\"\"","v":""},{"$f":"\"\"","v":""},{"$f":"\"\"","v":""},{"$f":"\"\"","v":""}]
[null,null,null,null,null,null,null,null,null,"150+650+400",31223,31323,31423,31623,31823,null,null,"650+400",{"$f":"\"\"","v":""},{"$f":"\"\"","v":""},{"$f":"\"\"","v":""},{"$f":"\"\"","v":""},{"$f":"\"\"","v":""}]
[null,null,null,null,null,null,null,null,null,null,null,null,null,null,null,null,null,"850+300",{"$f":"\"\"","v":""},{"$f":"\"\"","v":""},{"$f":"\"\"","v":""},{"$f":"\"\"","v":""},{"$f":"\"\"","v":""}]
[null,null,null,null,null,null,null,null,null,null,null,null,null,null,null,null,null,"850+400",{"$f":"\"\"","v":""},{"$f":"\"\"","v":""},{"$f":"\"\"","v":""},{"$f":"\"\"","v":""},{"$f":"\"\"","v":""}]
[null,"Szerokość obudowy W","Rama o głębokości D 230 mm,  Wysokość obudowy H",null,null,null,null,null,null,"Szerokość obudowy","Pokrywa górna IP54/43 went.",null,null,null,"Pole 1,3",null,null,"150+650+300",{"$f":"\"\"","v":""},{"$f":"\"\"","v":""},{"$f":"\"\"","v":""},{"$f":"\"\"","v":""},{"$f":"\"\"","v":""}]
[null,null,1200,1400,1600,1800,2000,2200,null,null,230,300,400,600,800,null,null,"150+650+400",{"$f":"\"\"","v":""},{"$f":"\"\"","v":""},{"$f":"\"\"","v":""},{"$f":"\"\"","v":""},{"$f":"\"\"","v":""}]
[null,"Brak",{"$f":"IF(C278=0,\"\",\"\")","v":""},"","","","","",null,"Brak",{"$f":"\"\"","v":""},{"$f":"\"\"","v":""},{"$f":"\"\"","v":""},{"$f":"\"\"","v":""},{"$f":"\"\"","v":""}]
[null,300,42030,52030,62030,72030,82030,92030,null,300,32230,32330,32430,32630,32830]
[null,400,42040,52040,62040,72040,82040,92040,null,400,32240,32340,32440,32640,32840,null,null,"Szerokość obudowy","Pokrywa górna IP54/43 went.",null,null,null,"Pole 2"]
[null,450,42045,52045,62045,72045,82045,92045,null,450,32245,32345,32445,32645,32845,null,null,null,230,300,400,600,800]
[null,600,42060,52060,62060,72060,82060,92060,null,600,32260,32360,32460,32660,32860,null,null,"Brak",{"$f":"\"\"","v":""},{"$f":"\"\"","v":""},{"$f":"\"\"","v":""},{"$f":"\"\"","v":""},{"$f":"\"\"","v":""}]
[null,650,42065,52065,62065,72065,82065,92065,null,650,32265,32365,32465,32665,32865,null,null,300,32230,32330,32430,32630,32830]
[null,800,42080,52080,62080,72080,82080,92080,null,800,32280,32380,32480,32680,32880,null,null,400,32240,32340,32440,32640,32840]
[null,"650+150",42081,52081,62081,72081,82081,92081,null,"650+150",32280,32380,32480,32680,32880,null,null,450,32245,32345,32445,32645,32845]
[null,850,42085,52085,62085,72085,82085,92085,null,850,32285,32385,32485,32685,32885,null,null,600,32260,32360,32460,32660,32860]
[null,"650+200",42086,52086,62086,72086,82086,92086,null,"650+200",32285,32385,32485,32685,32885,null,null,650,32265,32365,32465,32665,32865]
[null,1000,42100,52100,62100,72100,82100,92100,null,1000,32210,32310,32410,32610,32810,null,null,800,32280,32380,32480,32680,32880]
[null,1200,42120,52120,62120,72120,82120,92120,null,1200,32212,32312,32412,32612,32812,null,null,"650+150",32280,32380,32480,32680,32880]
[null,1300,42130,52130,62130,72130,82130,92130,null,1300,32213,32313,32413,32613,32813,null,null,850,32285,32385,32485,32685,32885]
[null,"650+612",42131,52131,62131,72131,82131,92131,null,"650+612",32265,32365,32465,32665,32865,null,null,"650+200",32285,32385,32485,32685,32885]
[null,"650+812",42150,52150,62150,72150,82150,92150,null,"650+812",32265,32365,32465,32665,32865,null,null,1000,32210,32310,32410,32610,32810]
[null,"850+812",42170,52170,62170,72170,82170,92170,null,"850+812",32285,32385,32485,32685,32885,null,null,1200,32212,32312,32412,32612,32812]
[null,"650+300",42095,52095,62095,72095,82095,92095,null,"650+300",32295,32395,32495,32695,32895,null,null,1300,32213,32313,32413,32613,32813]
[null,"650+400",42105,52105,62105,72105,82105,92105,null,"650+400",32211,32311,32411,32611,32811,null,null,"650+612",32265,32365,32465,32665,32865]
[null,"850+300",42115,52115,62115,72115,82115,92115,null,"850+300",32218,32318,32418,32618,32818,null,null,"650+812",32285,32385,32485,32685,32885]
[null,"850+400",42125,52125,62125,72125,82125,92125,null,"850+400",32219,32319,32419,32619,32819,null,null,"850+812",32285,32385,32485,32685,32885]
[null,"150+650+300",42110,52110,62110,72110,82110,92110,null,"150+650+300",32222,32322,32422,32622,32822,null,null,"650+300",{"$f":"\"\"","v":""},{"$f":"\"\"","v":""},{"$f":"\"\"","v":""},{"$f":"\"\"","v":""},{"$f":"\"\"","v":""}]
[null,"150+650+400",42121,52121,62121,72121,82121,92121,null,"150+650+400",32223,32323,32423,32623,32823,null,null,"650+400",{"$f":"\"\"","v":""},{"$f":"\"\"","v":""},{"$f":"\"\"","v":""},{"$f":"\"\"","v":""},{"$f":"\"\"","v":""}]
[null,null,null,null,null,null,null,null,null,null,null,null,null,null,null,null,null,"850+300",{"$f":"\"\"","v":""},{"$f":"\"\"","v":""},{"$f":"\"\"","v":""},{"$f":"\"\"","v":""},{"$f":"\"\"","v":""}]
[null,null,null,null,null,null,null,null,null,null,null,null,null,null,null,null,null,"850+400",{"$f":"\"\"","v":""},{"$f":"\"\"","v":""},{"$f":"\"\"","v":""},{"$f":"\"\"","v":""},{"$f":"\"\"","v":""}]
[null,"Szerokość obudowy W","Rama o głębokości D 300 mm,  Wysokość obudowy H",null,null,null,null,null,null,"Szerokość obudowy","Pokrywa górna IP55",null,null,null,"Pole 1,3",null,null,"150+650+300",{"$f":"\"\"","v":""},{"$f":"\"\"","v":""},{"$f":"\"\"","v":""},{"$f":"\"\"","v":""},{"$f":"\"\"","v":""}]
[null,null,1200,1400,1600,1800,2000,2200,null,null,230,300,400,600,800,null,null,"150+650+400",{"$f":"\"\"","v":""},{"$f":"\"\"","v":""},{"$f":"\"\"","v":""},{"$f":"\"\"","v":""},{"$f":"\"\"","v":""}]
[null,"Brak",{"$f":"IF(C304=0,\"\",\"\")","v":""},"","","","","",null,"Brak",{"$f":"\"\"","v":""},{"$f":"\"\"","v":""},{"$f":"\"\"","v":""},{"$f":"\"\"","v":""},{"$f":"\"\"","v":""}]
[null,300,43030,53030,63030,73030,83030,93030,null,300,33230,33330,33430,33630,33830]
[null,400,43040,53040,63040,73040,83040,93040,null,400,33240,33340,33440,33640,33840,null,null,"Szerokość obudowy","Pokrywa górna IP55",null,null,null,"Pole 2"]
[null,450,43045,53045,63045,73045,83045,93045,null,450,33245,33345,33445,33645,33845,null,null,null,230,300,400,600,800]
[null,600,43060,53060,63060,73060,83060,93060,null,600,33260,33360,33460,33660,33860,null,null,"Brak",{"$f":"\"\"","v":""},{"$f":"\"\"","v":""},{"$f":"\"\"","v":""},{"$f":"\"\"","v":""},{"$f":"\"\"","v":""}]
[null,650,43065,53065,63065,73065,83065,93065,null,650,33265,33365,33465,33665,33865,null,null,300,33230,33330,33430,33630,33830]
[null,800,43080,53080,63080,73080,83080,93080,null,800,33280,33380,33480,33680,33880,null,null,400,33240,33340,33440,33640,33840]
[null,"650+150",43081,53081,63081,73081,83081,93081,null,"650+150",33280,33380,33480,33680,33880,null,null,450,33245,33345,33445,33645,33845]
[null,850,43085,53085,63085,73085,83085,93085,null,850,33285,33385,33485,33685,33885,null,null,600,33260,33360,33460,33660,33860]
[null,"650+200",43086,53086,63086,73086,83086,93086,null,"650+200",33285,33385,33485,33685,33885,null,null,650,33265,33365,33465,33665,33865]
[null,1000,43100,53100,63100,73100,83100,93100,null,1000,33210,33310,33410,33610,33810,null,null,800,33280,33380,33480,33680,33880]
[null,1200,43120,53120,63120,73120,83120,93120,null,1200,33212,33312,33412,33612,33812,null,null,"650+150",33280,33380,33480,33680,33880]
[null,1300,43130,53130,63130,73130,83130,93130,null,1300,33213,33313,33413,33613,33813,null,null,850,33285,33385,33485,33685,33885]
[null,"650+612",43131,53131,63131,73131,83131,93131,null,"650+612",33265,33365,33465,33665,33865,null,null,"650+200",33285,33385,33485,33685,33885]
[null,"650+812",43150,53150,63150,73150,83150,93150,null,"650+812",33265,33365,33465,33665,33865,null,null,1000,33210,33310,33410,33610,33810]
[null,"850+812",43170,53170,63170,73170,83170,93170,null,"850+812",33285,33385,33485,33685,33885,null,null,1200,33212,33312,33412,33612,33812]
[null,"650+300",43095,53095,63095,73095,83095,93095,null,"650+300",33295,33395,33495,33695,33895,null,null,1300,33213,33313,33413,33613,33813]
[null,"650+400",43105,53105,63105,73105,83105,93105,null,"650+400",33211,33311,33411,33611,33811,null,null,"650+612",33265,33365,33465,33665,33865]
[null,"850+300",43115,53115,63115,73115,83115,93115,null,"850+300",33218,33318,33418,33618,33818,null,null,"650+812",33285,33385,33485,33685,33885]
[null,"850+400",43125,53125,63125,73125,83125,93125,null,"850+400",33219,33319,33419,33619,33819,null,null,"850+812",33285,33385,33485,33685,33885]
[null,"150+650+300",43110,53110,63110,73110,83110,93110,null,"150+650+300",33222,33322,33422,33622,33822,null,null,"650+300",{"$f":"\"\"","v":""},{"$f":"\"\"","v":""},{"$f":"\"\"","v":""},{"$f":"\"\"","v":""},{"$f":"\"\"","v":""}]
[null,"150+650+400",43121,53121,63121,73121,83121,93121,null,"150+650+400",33223,33323,33423,33623,33823,null,null,"650+400",{"$f":"\"\"","v":""},{"$f":"\"\"","v":""},{"$f":"\"\"","v":""},{"$f":"\"\"","v":""},{"$f":"\"\"","v":""}]
[null,null,null,null,null,null,null,null,null,null,null,null,null,null,null,null,null,"850+300",{"$f":"\"\"","v":""},{"$f":"\"\"","v":""},{"$f":"\"\"","v":""},{"$f":"\"\"","v":""},{"$f":"\"\"","v":""}]
[null,null,null,null,null,null,null,null,null,null,null,null,null,null,null,null,null,"850+400",{"$f":"\"\"","v":""},{"$f":"\"\"","v":""},{"$f":"\"\"","v":""},{"$f":"\"\"","v":""},{"$f":"\"\"","v":""}]
[null,"Szerokość obudowy W","Rama o głębokości D 400 mm,  Wysokość obudowy H",null,null,null,null,null,null,"Szerokość obudowy","Cokół przód 100mm",null,null,null,"Pole 1,3",null,null,"150+650+300",{"$f":"\"\"","v":""},{"$f":"\"\"","v":""},{"$f":"\"\"","v":""},{"$f":"\"\"","v":""},{"$f":"\"\"","v":""}]
[null,null,1200,1400,1600,1800,2000,2200,null,null,230,300,400,600,800,null,null,"150+650+400",{"$f":"\"\"","v":""},{"$f":"\"\"","v":""},{"$f":"\"\"","v":""},{"$f":"\"\"","v":""},{"$f":"\"\"","v":""}]
[null,"Brak",{"$f":"IF(C330=0,\"\",\"\")","v":""},"","","","","",null,"Brak",{"$f":"\"\"","v":""},{"$f":"\"\"","v":""},{"$f":"\"\"","v":""},{"$f":"\"\"","v":""},{"$f":"\"\"","v":""}]
[null,300,44030,54030,64030,74030,84030,94030,null,300,30030,30030,30030,30030,30030]
[null,400,44040,54040,64040,74040,84040,94040,null,400,30040,30040,30040,30040,30040,null,null,"Szerokość obudowy","Płyta dławicowa IP-55, Pole 1, 3"]
[null,450,44045,54045,64045,74045,84045,94045,null,450,30045,30045,30045,30045,30045,null,null,null,230,300,400,600,800]
[null,600,44060,54060,64060,74060,84060,94060,null,600,30060,30060,30060,30060,30060,null,null,"Brak",{"$f":"\"\"","v":""},{"$f":"\"\"","v":""},{"$f":"\"\"","v":""},{"$f":"\"\"","v":""},{"$f":"\"\"","v":""}]
[null,650,44065,54065,64065,74065,84065,94065,null,650,30065,30065,30065,30065,30065,null,null,300,31523,31533,31543,31563,31583]
[null,800,44080,54080,64080,74080,84080,94080,null,800,30080,30080,30080,30080,30080,null,null,400,31524,31534,31544,31564,31584]
[null,"650+150",44081,54081,64081,74081,84081,94081,null,"650+150",30080,30080,30080,30080,30080,null,null,450,31525,31535,31545,31565,31585]
[null,850,44085,54085,64085,74085,84085,94085,null,850,30085,30085,30085,30085,30085,null,null,600,31526,31536,31546,31566,31586]
[null,"650+200",44086,54086,64086,74086,84086,94086,null,"650+200",30085,30085,30085,30085,30085,null,null,650,31527,31537,31547,31567,31587]
[null,1000,44100,54100,64100,74100,84100,94100,null,1000,30010,30010,30010,30010,30010,null,null,800,31528,31538,31548,31568,31588]
[null,1200,44120,54120,64120,74120,84120,94120,null,1200,30012,30012,30012,30012,30012,null,null,"650+150",31550,31552,31554,31556,31558]
[null,1300,44130,54130,64130,74130,84130,94130,null,1300,30013,30013,30013,30013,30013,null,null,850,31529,31539,31549,31569,31589]
[null,"650+612",44131,54131,64131,74131,84131,94131,null,"650+612",30065,30065,30065,30065,30065,null,null,"650+200",31551,31553,31555,31557,31559]
[null,"650+812",44150,54150,64150,74150,84150,94150,null,"650+812",30065,30065,30065,30065,30065,null,null,1000,31520,31530,31540,31560,31580]
[null,"850+812",44170,54170,64170,74170,84170,94170,null,"850+812",30085,30085,30085,30085,30085,null,null,1200,31521,31531,31541,31561,31581]
[null,"650+300",44095,54095,64095,74095,84095,94095,null,"650+300",30096,30096,30096,30096,30096,null,null,1300,31522,31532,31542,31562,31582]
[null,"650+400",44105,54105,64105,74105,84105,94105,null,"650+400",30006,30006,30006,30006,30006,null,null,"650+612",31527,31537,31547,31567,31587]
[null,"850+300",44115,54115,64115,74115,84115,94115,null,"850+300",30016,30016,30016,30016,30016,null,null,"650+812",31527,31537,31547,31567,31587]
[null,"850+400",44125,54125,64125,74125,84125,94125,null,"850+400",30026,30026,30026,30026,30026,null,null,"850+812",31529,31539,31549,31569,31589]
[null,"150+650+300",44110,54110,64110,74110,84110,94110,null,"150+650+300",30011,30011,30011,30011,30011,null,null,"650+300",31527,31537,31547,31567,31587]
[null,"150+650+400",44121,54121,64121,74121,84121,94121,null,"150+650+400",30021,30021,30021,30021,30021,null,null,"650+400",31527,31537,31547,31567,31587]
[null,null,null,null,null,null,null,null,null,null,null,null,null,null,null,null,null,"850+300",31529,31539,31549,31569,31589]
[null,null,null,null,null,null,null,null,null,null,null,null,null,null,null,null,null,"850+400",31529,31539,31549,31569,31589]
[null,"Szerokość obudowy W","Rama o głębokości D 600 mm,  Wysokość obudowy H",null,null,null,null,null,null,"Szerokość obudowy","Cokół przód 200mm",null,null,null,"Pole 1,3",null,null,"150+650+300",31550,31552,31554,31556,31558]
[null,null,1200,1400,1600,1800,2000,2200,null,null,230,300,400,600,800,null,null,"150+650+400",31550,31552,31554,31556,31558]
[null,"Brak",{"$f":"IF(C356=0,\"\",\"\")","v":""},"","","","","",null,"Brak",{"$f":"\"\"","v":""},{"$f":"\"\"","v":""},{"$f":"\"\"","v":""},{"$f":"\"\"","v":""},{"$f":"\"\"","v":""}]
[null,300,46030,56030,66030,76030,86030,96030,null,300,30130,30130,30130,30130,30130]
[null,400,46040,56040,66040,76040,86040,96040,null,400,30140,30140,30140,30140,30140]
[null,450,46045,56045,66045,76045,86045,96045,null,450,30145,30145,30145,30145,30145]
[null,600,46060,56060,66060,76060,86060,96060,null,600,30160,30160,30160,30160,30160]
[null,650,46065,56065,66065,76065,86065,96065,null,650,30165,30165,30165,30165,30165]
[null,800,46080,56080,66080,76080,86080,96080,null,800,30180,30180,30180,30180,30180]
[null,"650+150",46081,56081,66081,76081,86081,96081,null,"650+150",30180,30180,30180,30180,30180]
[null,850,46085,56085,66085,76085,86085,96085,null,850,30185,30185,30185,30185,30185]
[null,"650+200",46086,56086,66086,76086,86086,96086,null,"650+200",30185,30185,30185,30185,30185]
[null,1000,46100,56100,66100,76100,86100,96100,null,1000,30110,30110,30110,30110,30110]
[null,1200,46120,56120,66120,76120,86120,96120,null,1200,30112,30112,30112,30112,30112]
[null,1300,46130,56130,66130,76130,86130,96130,null,1300,30113,30113,30113,30113,30113]
[null,"650+650",46131,56131,66131,76131,86131,96131,null,"650+612",30165,30165,30165,30165,30165]
[null,"650+850",46150,56150,66150,76150,86150,96150,null,"650+812",30165,30165,30165,30165,30165]
[null,"850+850",46170,56170,66170,76170,86170,96170,null,"850+812",30185,30185,30185,30185,30185,null,null,"Szerokość obudowy","Płyta dławicowa IP-55, Pole 2"]
[null,"650+300",46095,56095,66095,76095,86095,96095,null,"650+300",30196,30196,30196,30196,30196,null,null,null,230,300,400,600,800]
[null,"650+400",46105,56105,66105,76105,86105,96105,null,"650+400",30106,30106,30106,30106,30106,null,null,"Brak",{"$f":"\"\"","v":""},{"$f":"\"\"","v":""},{"$f":"\"\"","v":""},{"$f":"\"\"","v":""},{"$f":"\"\"","v":""}]
[null,"850+300",46115,56115,66115,76115,86115,96115,null,"850+300",30116,30116,30116,30116,30116,null,null,300,31523,31533,31543,31563,31583]
[null,"850+400",46125,56125,66125,76125,86125,96125,null,"850+400",30126,30126,30126,30126,30126,null,null,400,31524,31534,31544,31564,31584]
[null,"150+650+300",46110,56110,66110,76110,86110,96110,null,"150+650+300",30111,30111,30111,30111,30111,null,null,450,31525,31535,31545,31565,31585]
[null,"150+650+400",46121,56121,66121,76121,86121,96121,null,"150+650+400",30121,30121,30121,30121,30121,null,null,600,31526,31536,31546,31566,31586]
[null,null,null,null,null,null,null,null,null,null,null,null,null,null,null,null,null,650,31527,31537,31547,31567,31587]
[null,null,null,null,null,null,null,null,null,null,null,null,null,null,null,null,null,800,31528,31538,31548,31568,31588]
[null,"Szerokość obudowy W","Rama o głębokości D 800 mm,  Wysokość obudowy H",null,null,null,null,null,null,"Szerokość obudowy","Cokół przód 100mm",null,null,null,"Pole 2",null,null,"650+150",31550,31552,31554,31556,31558]
[null,null,1200,1400,1600,1800,2000,2200,null,null,230,300,400,600,800,null,null,850,31529,31539,31549,31569,31589]
[null,"Brak",{"$f":"IF(C382=0,\"\",\"\")","v":""},"","","","","",null,"Brak",{"$f":"\"\"","v":""},{"$f":"\"\"","v":""},{"$f":"\"\"","v":""},{"$f":"\"\"","v":""},{"$f":"\"\"","v":""},null,null,"650+200",31551,31553,31555,31557,31559]
[null,300,48030,58030,68030,78030,88030,98030,null,300,30030,30030,30030,30030,30030,null,null,1000,31520,31530,31540,31560,31580]
[null,400,48040,58040,68040,78040,88040,98040,null,400,30040,30040,30040,30040,30040,null,null,1200,31521,31531,31541,31561,31581]
[null,450,48045,58045,68045,78045,88045,98045,null,450,30045,30045,30045,30045,30045,null,null,1300,31522,31532,31542,31562,31582]
[null,600,48060,58060,68060,78060,88060,98060,null,600,30060,30060,30060,30060,30060,null,null,"650+612",31527,31537,31547,31567,31587]
[null,650,48065,58065,68065,78065,88065,98065,null,650,30065,30065,30065,30065,30065,null,null,"650+812",31529,31539,31549,31569,31589]
[null,800,48080,58080,68080,78080,88080,98080,null,800,30080,30080,30080,30080,30080,null,null,"850+812",31529,31539,31549,31569,31589]
[null,"650+150",48081,58081,68081,78081,88081,98081,null,"650+150",30080,30080,30080,30080,30080,null,null,"650+300",31523,31533,31543,31563,31583]
[null,850,48085,58085,68085,78085,88085,98085,null,850,30085,30085,30085,30085,30085,null,null,"650+400",31524,31534,31544,31564,31584]
[null,"650+200",48086,58086,68086,78086,88086,98086,null,"650+200",30085,30085,30085,30085,30085,null,null,"850+300",31523,31533,31543,31563,31583]
[null,1000,48100,58100,68100,78100,88100,98100,null,1000,30010,30010,30010,30010,30010,null,null,"850+400",31524,31534,31544,31564,31584]
[null,1200,48120,58120,68120,78120,88120,98120,null,1200,30012,30012,30012,30012,30012,null,null,"150+650+300",31523,31533,31543,31563,31583]
[null,1300,48130,58130,68130,78130,88130,98130,null,1300,30013,30013,30013,30013,30013,null,null,"150+650+400",31524,31534,31544,31564,31584]
[null,"650+612",48131,58131,68131,78131,88131,98131,null,"650+612",30065,30065,30065,30065,30065]
[null,"650+812",48150,58150,68150,78150,88150,98150,null,"650+812",30085,30085,30085,30085,30085]
[null,"850+812",48170,58170,68170,78170,88170,98170,null,"850+812",30085,30085,30085,30085,30085]
[null,"650+300",48095,58095,68095,78095,88095,98095,null,"650+300",{"$f":"\"\"","v":""},{"$f":"\"\"","v":""},{"$f":"\"\"","v":""},{"$f":"\"\"","v":""},{"$f":"\"\"","v":""}]
[null,"650+400",48105,58105,68105,78105,88105,98105,null,"650+400",{"$f":"\"\"","v":""},{"$f":"\"\"","v":""},{"$f":"\"\"","v":""},{"$f":"\"\"","v":""},{"$f":"\"\"","v":""}]
[null,"850+300",48115,58115,68115,78115,88115,98115,null,"850+300",{"$f":"\"\"","v":""},{"$f":"\"\"","v":""},{"$f":"\"\"","v":""},{"$f":"\"\"","v":""},{"$f":"\"\"","v":""}]
[null,"850+400",48125,58125,68125,78125,88125,98125,null,"850+400",{"$f":"\"\"","v":""},{"$f":"\"\"","v":""},{"$f":"\"\"","v":""},{"$f":"\"\"","v":""},{"$f":"\"\"","v":""}]
[null,"150+650+300",48110,58110,68110,78110,88110,98110,null,"150+650+300",{"$f":"\"\"","v":""},{"$f":"\"\"","v":""},{"$f":"\"\"","v":""},{"$f":"\"\"","v":""},{"$f":"\"\"","v":""}]
[null,"150+650+400",48121,58121,68121,78121,88121,98121,null,"150+650+400",{"$f":"\"\"","v":""},{"$f":"\"\"","v":""},{"$f":"\"\"","v":""},{"$f":"\"\"","v":""},{"$f":"\"\"","v":""}]
[]
[]
[null,null,null,null,null,null,null,null,null,"Szerokość obudowy","Cokół przód 200mm",null,null,null,"Pole 2"]
[null,null,null,null,null,null,null,null,null,null,230,300,400,600,800]
[null,null,null,null,null,null,null,null,null,"Brak",{"$f":"\"\"","v":""},{"$f":"\"\"","v":""},{"$f":"\"\"","v":""},{"$f":"\"\"","v":""},{"$f":"\"\"","v":""}]
[null,null,null,null,null,null,null,null,null,300,30130,30130,30130,30130,30130]
[null,null,null,null,null,null,null,null,null,400,30140,30140,30140,30140,30140]
[null,null,null,null,null,null,null,null,null,450,30145,30145,30145,30145,30145]
[null,null,null,null,null,null,null,null,null,600,30160,30160,30160,30160,30160]
[null,null,null,null,null,null,null,null,null,650,30165,30165,30165,30165,30165]
[null,null,null,null,null,null,null,null,null,800,30180,30180,30180,30180,30180]
[null,null,null,null,null,null,null,null,null,"650+150",30180,30180,30180,30180,30180]
[null,null,null,null,null,null,null,null,null,850,30185,30185,30185,30185,30185]
[null,null,null,null,null,null,null,null,null,"650+200",30185,30185,30185,30185,30185]
[null,null,null,null,null,null,null,null,null,1000,30110,30110,30110,30110,30110]
[null,null,null,null,null,null,null,null,null,1200,30112,30112,30112,30112,30112]
[null,null,null,null,null,null,null,null,null,1300,30113,30113,30113,30113,30113]
[null,null,null,null,null,null,null,null,null,"650+612",30165,30165,30165,30165,30165]
[null,null,null,null,null,null,null,null,null,"650+812",30185,30185,30185,30185,30185]
[null,null,null,null,null,null,null,null,null,"850+812",30185,30185,30185,30185,30185]
[null,null,null,null,null,null,null,null,null,"650+300",{"$f":"\"\"","v":""},{"$f":"\"\"","v":""},{"$f":"\"\"","v":""},{"$f":"\"\"","v":""},{"$f":"\"\"","v":""}]
[null,null,null,null,null,null,null,null,null,"650+400",{"$f":"\"\"","v":""},{"$f":"\"\"","v":""},{"$f":"\"\"","v":""},{"$f":"\"\"","v":""},{"$f":"\"\"","v":""}]
[null,null,null,null,null,null,null,null,null,"850+300",{"$f":"\"\"","v":""},{"$f":"\"\"","v":""},{"$f":"\"\"","v":""},{"$f":"\"\"","v":""},{"$f":"\"\"","v":""}]
[null,null,null,null,null,null,null,null,null,"850+400",{"$f":"\"\"","v":""},{"$f":"\"\"","v":""},{"$f":"\"\"","v":""},{"$f":"\"\"","v":""},{"$f":"\"\"","v":""}]
[null,null,null,null,null,null,null,null,null,"150+650+300",{"$f":"\"\"","v":""},{"$f":"\"\"","v":""},{"$f":"\"\"","v":""},{"$f":"\"\"","v":""},{"$f":"\"\"","v":""}]
[null,null,null,null,null,null,null,null,null,"150+650+400",{"$f":"\"\"","v":""},{"$f":"\"\"","v":""},{"$f":"\"\"","v":""},{"$f":"\"\"","v":""},{"$f":"\"\"","v":""}]